{"text_format":"1","workbook":"xlsx","n_sheets":16,"sheets":["表紙 ","ご案内","新潟市","下越1","下越２","中越1","中越２","上越1","上越２","地区集計","ガタチラ(チラシ情報)掲載","更新履歴","ＥＤＩ朝刊","ＥＤＩくるみる","折込指示","ＭＡＰ反映"],"not_rendered":{"charts":0,"images":9,"macros":1,"external_links":0,"defined_names":24,"comments":1,"pivot_tables":0},"unopened":[],"bounds":{"document_bytes":16777216,"sheet_cells":100000,"rows_first":2000,"rows_last":500,"rows_between":2000,"halvings":0,"cell_chars":16384,"cell_head_chars":4096},"cells_cut":0,"cells_raw":0,"read":"whole","date_system":"1900"}

{"sheet":"表紙 ","index":0,"n_rows":31,"n_cols":19,"rows_kept":31,"cut":false,"hidden":false,"merged":[[5,3,5,8],[17,10,17,12],[23,4,24,7],[6,2,7,18]]}
[null,null,null,null,null,null,null,null,null,null,null,null,null,null,null,null,null,null,"２０２３年１１月１日 現在"]
[null,null,null,null,null,null,null,null,null,null,null,null,null,null,"　"]
[]
[]
[]
[]
[null,null,"折込広告部数表\n（新聞折込 / くるみる / Otona＋ / assh・n-assh・ミニックポスティング）"]
[]
[]
[]
[]
[]
[]
[]
[]
[]
[]
[null,null,null,null,null,null,null," "]
[]
[null,null,null,null,null,null,null,null,null,null,null," "]
[]
[]
[null,null,null,null,null,null,null,null,null,null,"【　納品先　】"]
[null,null,null,null,null,null,null,null,null,null,"＜下越地区＞","流通本社　　　　　  〒950-1125  新潟市西区流通3-1-1"]
[null,null,null,null,null,null,null,null,null,null,null,null,null,"TEL 025-233-3500  FAX 025-233-3600"]
[null,null,null,null,null,null,null,null,null,null,"＜中越地区＞","長岡折込センター  〒940-2117　長岡市石動南町10-2"]
[null,null,null,null,"【　お問合せ先　】",null,null,null,null,null,null,null,null,"TEL 0258-47-4646  FAX 0258-47-4648"]
[null,null,null,null,"黒埼本社","〒950-1179  新潟市西区善久772-2",null,null,null,null,null,"柏崎営業所          〒945-0026　柏崎市藤元町14-7"]
[null,null,null,null,null,null,"TEL　０２５-３８３-８００８",null,null,null,null,null,null,"TEL 0257-22-5212  FAX 0257-24-8590"]
[null,null,null,null,null,null,"FAX　０２５-３８３-８００７",null,null,null,"＜上越地区＞","高田営業所          〒943-0823　上越市高土町1-6-4"]
[null,null,null,null,null,null,null,null,null,null,null,null,null,"TEL 025-522-2220  FAX 025-523-2950"]

{"sheet":"ご案内","index":1,"n_rows":0,"n_cols":0,"rows_kept":0,"cut":false,"hidden":false,"merged":[[27,2,27,8],[29,1,29,8],[30,1,30,8],[32,1,32,8],[32,10,32,12],[26,2,26,8],[12,1,12,8],[14,1,14,8],[16,1,16,8],[17,1,17,8],[19,1,19,8],[20,2,20,8],[21,2,21,8],[22,2,22,8],[23,1,23,8],[24,2,24,8],[25,2,25,8],[10,1,10,8],[1,1,1,8],[3,1,3,8],[5,1,5,8],[7,1,7,8],[8,1,8,8]]}

{"sheet":"新潟市","index":2,"n_rows":43,"n_cols":87,"rows_kept":43,"cut":false,"hidden":false,"merged":[[22,60,22,70],[8,0,41,0],[38,16,38,18],[3,63,3,70],[4,63,4,70],[35,16,35,18],[35,25,35,27],[35,28,35,30],[29,37,29,48],[30,37,30,48],[27,37,27,48],[28,37,28,48],[25,37,25,48],[26,37,26,48],[20,49,20,51],[20,52,20,53],[21,16,21,18],[21,19,21,21],[36,37,36,48],[37,37,37,48],[37,25,37,27],[37,28,37,30],[37,31,37,33],[31,37,31,48],[32,37,32,48],[39,13,39,15],[38,1,38,3],[37,16,37,18],[37,1,37,3],[37,4,37,6],[37,7,37,9],[37,10,37,12],[37,13,37,15],[38,4,38,6],[38,7,38,9],[38,10,38,12],[38,13,38,15],[35,13,35,15],[36,28,36,30],[36,31,36,33],[35,19,35,21],[35,22,35,24],[36,22,36,24],[36,25,36,27],[36,1,36,3],[36,4,36,6],[36,7,36,9],[36,10,36,12],[2,63,2,70],[38,19,38,21],[38,22,38,24],[25,19,25,21],[25,22,25,24],[27,19,27,21],[27,22,27,24],[29,19,29,21],[29,22,29,24],[31,19,31,21],[31,22,31,24],[33,19,33,21],[37,34,37,36],[33,37,33,48],[34,37,34,48],[35,37,35,48],[37,19,37,21],[37,22,37,24],[35,31,35,33],[35,34,35,36],[36,34,36,36],[21,22,21,24],[22,25,22,27],[26,34,26,36],[36,16,36,18],[36,19,36,21],[41,60,41,70],[41,37,41,48],[40,22,40,24],[38,25,38,27],[38,28,38,30],[38,31,38,33],[38,34,38,36],[38,37,38,48],[39,37,39,48],[40,37,40,48],[41,57,41,59],[39,22,39,24],[39,25,39,27],[41,54,41,56],[41,51,41,53],[41,49,41,50],[40,16,40,18],[40,19,40,21],[41,16,41,18],[41,19,41,21],[41,22,41,24],[41,34,41,36],[39,34,39,36],[41,1,41,2],[41,3,41,6],[41,7,41,9],[40,28,40,30],[40,31,40,33],[40,34,40,36],[39,31,39,33],[39,28,39,30],[40,10,40,12],[40,13,40,15],[39,16,39,18],[39,19,39,21],[41,10,41,12],[41,13,41,15],[40,25,40,27],[40,1,40,3],[40,4,40,6],[40,7,40,9],[39,1,39,3],[39,4,39,6],[39,7,39,9],[39,10,39,12],[33,1,33,3],[33,4,33,6],[33,7,33,9],[33,10,33,12],[35,10,35,12],[33,13,33,15],[36,13,36,15],[35,1,35,3],[35,4,35,6],[35,7,35,9],[34,34,34,36],[34,19,34,21],[34,22,34,24],[34,25,34,27],[34,28,34,30],[34,31,34,33],[34,1,34,3],[34,4,34,6],[34,7,34,9],[34,10,34,12],[34,13,34,15],[33,25,33,27],[33,28,33,30],[33,31,33,33],[33,34,33,36],[33,22,33,24],[34,16,34,18],[33,16,33,18],[31,1,31,3],[31,4,31,6],[31,7,31,9],[31,10,31,12],[31,13,31,15],[32,34,32,36],[32,19,32,21],[32,22,32,24],[32,25,32,27],[32,28,32,30],[32,31,32,33],[32,1,32,3],[32,4,32,6],[32,7,32,9],[32,10,32,12],[32,13,32,15],[31,25,31,27],[31,28,31,30],[31,31,31,33],[31,34,31,36],[31,16,31,18],[32,16,32,18],[29,1,29,3],[29,4,29,6],[29,7,29,9],[29,10,29,12],[29,13,29,15],[30,34,30,36],[30,19,30,21],[30,22,30,24],[30,25,30,27],[30,28,30,30],[30,31,30,33],[30,1,30,3],[30,4,30,6],[30,7,30,9],[30,10,30,12],[30,13,30,15],[29,25,29,27],[29,28,29,30],[29,31,29,33],[29,34,29,36],[29,16,29,18],[30,16,30,18],[27,1,27,3],[27,4,27,6],[27,7,27,9],[27,10,27,12],[27,13,27,15],[28,34,28,36],[28,19,28,21],[28,22,28,24],[28,25,28,27],[28,28,28,30],[28,31,28,33],[28,1,28,3],[28,4,28,6],[28,7,28,9],[28,10,28,12],[28,13,28,15],[27,25,27,27],[27,28,27,30],[27,31,27,33],[27,34,27,36],[27,16,27,18],[28,16,28,18],[26,19,26,21],[26,22,26,24],[26,25,26,27],[26,28,26,30],[26,31,26,33],[26,1,26,3],[26,4,26,6],[26,7,26,9],[26,10,26,12],[26,13,26,15],[26,16,26,18],[23,28,23,30],[23,31,23,33],[23,34,23,36],[24,31,24,33],[23,16,23,18],[23,19,23,21],[23,22,23,24],[25,1,25,3],[25,4,25,6],[25,7,25,9],[25,10,25,12],[25,13,25,15],[25,25,25,27],[25,28,25,30],[25,31,25,33],[25,34,25,36],[25,16,25,18],[21,49,21,51],[22,16,22,18],[22,19,22,21],[22,22,22,24],[21,52,21,53],[23,37,23,48],[24,37,24,48],[23,1,23,3],[23,4,23,6],[23,7,23,9],[23,10,23,12],[23,13,23,15],[24,34,24,36],[24,16,24,18],[24,19,24,21],[24,22,24,24],[24,25,24,27],[24,28,24,30],[24,1,24,3],[24,4,24,6],[24,7,24,9],[24,10,24,12],[24,13,24,15],[23,25,23,27],[20,60,20,70],[22,1,22,3],[22,4,22,6],[22,7,22,9],[22,10,22,12],[22,13,22,15],[21,25,21,27],[21,28,21,30],[21,31,21,33],[21,34,21,36],[21,37,21,48],[21,60,21,70],[22,37,22,48],[21,1,21,3],[21,4,21,6],[21,7,21,9],[21,10,21,12],[21,13,21,15],[22,34,22,36],[20,7,20,9],[20,10,20,12],[20,13,20,15],[22,28,22,30],[22,31,22,33],[19,60,19,70],[20,37,20,48],[19,49,19,51],[19,52,19,53],[19,54,19,56],[19,1,19,3],[19,4,19,6],[19,7,19,9],[19,10,19,12],[19,13,19,15],[20,34,20,36],[20,16,20,18],[20,19,20,21],[20,22,20,24],[20,25,20,27],[20,28,20,30],[20,31,20,33],[19,16,19,18],[19,19,19,21],[19,22,19,24],[20,1,20,3],[20,4,20,6],[20,54,20,56],[20,57,20,59],[19,25,19,27],[19,28,19,30],[19,31,19,33],[19,34,19,36],[17,28,17,30],[17,31,17,33],[17,34,17,36],[17,37,17,48],[17,57,17,59],[19,37,19,48],[19,57,19,59],[17,60,17,70],[18,37,18,48],[17,49,17,51],[17,52,17,53],[17,54,17,56],[18,34,18,36],[18,28,18,30],[18,31,18,33],[18,54,18,56],[18,57,18,59],[18,60,18,70],[18,49,18,51],[18,52,18,53],[17,16,17,18],[17,19,17,21],[17,22,17,24],[18,1,18,3],[18,4,18,6],[18,7,18,9],[18,10,18,12],[18,13,18,15],[17,25,17,27],[17,1,17,3],[17,4,17,6],[17,7,17,9],[17,10,17,12],[17,13,17,15],[18,16,18,18],[18,19,18,21],[18,22,18,24],[18,25,18,27],[16,37,16,48],[15,49,15,51],[15,52,15,53],[15,54,15,56],[16,34,16,36],[16,16,16,18],[16,19,16,21],[16,22,16,24],[16,25,16,27],[16,28,16,30],[16,31,16,33],[16,49,16,51],[16,52,16,53],[16,1,16,3],[16,4,16,6],[16,7,16,9],[16,10,16,12],[16,13,16,15],[15,1,15,3],[15,4,15,6],[15,7,15,9],[15,10,15,12],[15,13,15,15],[12,34,12,36],[12,16,12,18],[12,19,12,21],[12,22,12,24],[12,25,12,27],[12,28,12,30],[13,60,13,70],[15,37,15,48],[13,49,13,51],[13,52,13,53],[13,54,13,56],[15,34,15,36],[15,16,15,18],[15,19,15,21],[15,22,15,24],[15,25,15,27],[15,28,15,30],[15,31,15,33],[13,37,13,48],[14,49,14,51],[14,52,14,53],[15,57,15,59],[15,60,15,70],[14,37,14,48],[14,34,14,36],[14,16,14,18],[14,19,14,21],[14,22,14,24],[14,25,14,27],[14,28,14,30],[14,31,14,33],[13,28,13,30],[13,31,13,33],[13,34,13,36],[12,31,12,33],[13,16,13,18],[13,19,13,21],[13,22,13,24],[14,1,14,3],[14,4,14,6],[14,7,14,9],[14,10,14,12],[14,13,14,15],[13,25,13,27],[13,1,13,3],[13,4,13,6],[13,7,13,9],[13,10,13,12],[13,13,13,15],[11,1,11,3],[11,4,11,6],[11,7,11,9],[11,10,11,12],[11,13,11,15],[12,1,12,3],[12,4,12,6],[12,7,12,9],[12,10,12,12],[12,13,12,15],[10,34,10,36],[10,16,10,18],[10,19,10,21],[10,22,10,24],[10,25,10,27],[10,28,10,30],[10,31,10,33],[11,25,11,27],[11,28,11,30],[11,31,11,33],[11,34,11,36],[11,16,11,18],[11,19,11,21],[11,22,11,24],[12,37,12,48],[10,49,10,51],[10,52,10,53],[10,54,10,56],[9,37,9,48],[8,57,8,59],[10,37,10,48],[8,49,8,51],[8,52,8,53],[8,54,8,56],[9,54,9,56],[11,37,11,48],[9,49,9,51],[9,52,9,53],[11,49,11,51],[11,52,11,53],[12,57,12,59],[8,37,8,48],[12,49,12,51],[12,52,12,53],[12,54,12,56],[9,1,9,3],[9,4,9,6],[9,7,9,9],[9,10,9,12],[9,13,9,15],[9,16,9,18],[9,19,9,21],[9,22,9,24],[8,34,8,36],[8,16,8,18],[8,19,8,21],[8,22,8,24],[9,31,9,33],[9,34,9,36],[4,29,4,33],[4,56,4,62],[4,49,4,55],[1,56,1,62],[6,37,7,48],[6,1,6,24],[6,49,6,59],[7,4,7,6],[7,1,7,3],[7,52,7,53],[7,54,7,56],[7,57,7,59],[3,56,3,62],[7,49,7,51],[7,10,7,12],[7,28,7,30],[7,31,7,33],[7,34,7,36],[7,16,7,18],[7,19,7,21],[7,22,7,24],[2,56,2,62],[10,13,10,15],[9,25,9,27],[9,28,9,30],[7,25,7,27],[0,22,0,23],[0,60,0,70],[1,0,1,11],[1,12,1,28],[1,29,1,33],[1,34,1,48],[2,34,4,48],[3,0,3,11],[3,12,3,28],[4,0,4,11],[2,27,2,28],[4,27,4,28],[2,12,2,26],[4,12,4,26],[2,0,2,11],[1,49,1,55],[2,49,2,55],[3,49,3,55],[3,29,3,33],[2,29,2,33],[16,60,16,70],[10,57,10,59],[12,60,12,70],[13,57,13,59],[6,0,7,0],[41,31,41,33],[41,28,41,30],[41,25,41,27],[8,13,8,15],[6,25,6,30],[6,31,6,36],[7,7,7,9],[7,13,7,15],[8,25,8,27],[8,28,8,30],[8,31,8,33],[8,1,8,3],[8,4,8,6],[8,7,8,9],[8,10,8,12],[10,1,10,3],[10,4,10,6],[10,7,10,9],[10,10,10,12],[22,57,22,59],[22,54,22,56],[22,52,22,53],[22,49,22,51],[21,54,21,56],[21,57,21,59],[6,72,6,77],[6,82,6,85],[1,63,1,70],[6,60,7,70],[3,72,3,73],[4,72,4,73],[10,60,10,70],[8,60,8,70],[9,57,9,59],[9,60,9,70],[11,54,11,56],[11,57,11,59],[11,60,11,70],[14,54,14,56],[14,57,14,59],[14,60,14,70],[16,54,16,56],[16,57,16,59]]}
[null,null,null,null,null,null,null,null,null,null,null,null,null,null,null,null,null,null,null,null,null,null,null,null,null,null,null,null,null,null,null,null,null,null,null,null,null,null,null,null,null,null,null,null,null,null,null,null,null,null,null,null,null,null,null,null,null,null,null,null,{"$f":"'表紙 '!S1","v":"２０２３年１１月１日 現在"}]
["折込日",null,null,null,null,null,null,null,null,null,null,null,"スポンサー名",null,null,null,null,null,null,null,null,null,null,null,null,null,null,null,null,"サイズ",null,null,null,null,"チラシ内容・タイトル詳細",null,null,null,null,null,null,null,null,null,null,null,null,null,null,"朝刊　小計",null,null,null,null,null,null,"Otona＋　小計",null,null,null,null,null,null,"ページ枚数"]
["2023/--/--",null,null,null,null,null,null,null,null,null,null,null,null,null,null,null,null,null,null,null,null,null,null,null,null,null,null,"様",null,null,null,null,null,null,null,null,null,null,null,null,null,null,null,null,null,null,null,null,null,{"$f":"BY42+CG42","v":0},null,null,null,null,null,null,{"$f":"AI42","v":0},null,null,null,null,null,null,{"$f":"AX3+AX5+BE3+BE5","v":0}]
["assh　ポスティング日",null,null,null,null,null,null,null,null,null,null,null,"ご請求先名",null,null,null,null,null,null,null,null,null,null,null,null,null,null,null,null,"ガタチラ 掲載",null,null,null,null,null,null,null,null,null,null,null,null,null,null,null,null,null,null,null,"くるみる　小計",null,null,null,null,null,null,"assh　小計",null,null,null,null,null,null,"総枚数",null,null,null,null,null,null,null,null,"チラシコード"]
["2023/--/--",null,null,null,null,null,null,null,null,null,null,null,null,null,null,null,null,null,null,null,null,null,null,null,null,null,null,"様",null,null,null,null,null,null,null,null,null,null,null,null,null,null,null,null,null,null,null,null,null,{"$f":"CA42","v":0},null,null,null,null,null,null,{"$f":"AC42","v":0},null,null,null,null,null,null,{"$f":"BL3+下越1!BL3+下越２!BL3+中越1!BP3+中越２!BL3+上越1!BL3+上越２!BL3","v":0},null,null,null,null,null,null,null,null,{"$f":"VLOOKUP(AD3,折込指示!$D$2:$E$23,2,FALSE)","v":{"$error":"#N/A"}}]
[]
["01","新潟日報　",null,null,null,null,null,null,null,null,null,null,null,null,null,null,null,null,null,null,null,null,null,null,null,"ポスティング（assh）",null,null,null,null,null,"Otona+",null,null,null,null,null,"備考",null,null,null,null,null,null,null,null,null,null,null,"中央紙",null,null,null,null,null,null,null,null,null,null,"備考",null,null,null,null,null,null,null,null,null,null,null,"朝刊",null,null,null,null,null,"くるみる","assh","otona",null,"中央紙　朝刊"]
[null,"販売店名",null,null,"取扱い紙",null,null,"朝刊＋くるみる",null,null,"配布数",null,null,"朝刊扱数",null,null,"配布数",null,null,"朝刊数",null,null,"くるみる数",null,null,"部数",null,null,"配布数",null,null,"部数",null,null,"配布数",null,null,null,null,null,null,null,null,null,null,null,null,null,null,"販売店名",null,null,"取扱い紙",null,"部数",null,null,"配布数",null,null,null,null,null,null,null,null,null,null,null,null,null,null,"販売店名","E","朝刊1","朝刊２","部","指示","部","部","部",null,"販売店名","E","部","指示"]
["新潟市","万代",null,null,"新アマ日",null,null,{"$f":"N9+W9","v":3860},null,null,null,null,null,3500,null,null,null,null,null,{"$f":"IF(K9=\"\",\"\",IF(K9<=W9,K9,K9-W9))","v":""},null,null,360,null,null,2700,null,null,null,null,null,520,null,null,null,null,null,null,null,null,null,null,null,null,null,null,null,null,null,"本町",null,null,"ヨサ日",null,850,null,null,null,null,null,null,null,null,null,null,null,null,null,null,null,null,null,"万代",10101,{"$f":"Q9","v":0},{"$f":"T9","v":""},{"$f":"SUM(BW9:BX9)","v":0},{"$f":"AL9","v":0},{"$f":"IF($K9>$W9,$W9,\"\")","v":""},{"$f":"AC9","v":0},{"$f":"AI9","v":0},null,"本町",210167,{"$f":"BF9","v":0},{"$f":"BI9","v":0}]
[null,"駅南",null,null,"新アマ日",null,null,5190,null,null,null,null,null,4600,null,null,null,null,null,{"$f":"IF(K10=\"\",\"\",IF(K10<=W10,K10,K10-W10))","v":""},null,null,590,null,null,7400,null,null,null,null,null,660,null,null,null,null,null,null,null,null,null,null,null,null,null,null,null,null,null,"中央",null,null,"ヨサ日",null,1530,null,null,null,null,null,null,null,null,null,null,null,null,null,null,null,null,null,"駅南",10102,0,"",{"$f":"SUM(BW10:BX10)","v":0},{"$f":"AL10","v":0},{"$f":"IF($K10>$W10,$W10,\"\")","v":""},0,0,null,"中央",210168,0,0]
[null,"木戸",null,null,"新アマ日",null,null,5570,null,null,null,null,null,4900,null,null,null,null,null,"",null,null,670,null,null,6050,null,null,null,null,null,670,null,null,null,null,null,null,null,null,null,null,null,null,null,null,null,null,null,"小針",null,null,"ヨサ日",null,1070,null,null,null,null,null,null,null,null,null,null,null,null,null,null,null,null,null,"木戸",10103,0,"",{"$f":"SUM(BW11:BX11)","v":0},{"$f":"AL11","v":0},"",0,0,null,"小針",210169,0,0]
[null,"石山東",null,null,"新アマ日",null,null,6850,null,null,null,null,null,5800,null,null,null,null,null,"",null,null,1050,null,null,5250,null,null,null,null,null,640,null,null,null,null,null,null,null,null,null,null,null,null,null,null,null,null,null,"寺尾",null,null,"ヨサ日",null,950,null,null,null,null,null,null,null,null,null,null,null,null,null,null,null,null,null,"石山東",10105,0,"",0,{"$f":"AL12","v":0},"",0,0,null,"寺尾",210170,0,0]
[null,"山ノ下",null,null,"新アマ日",null,null,4550,null,null,null,null,null,4000,null,null,null,null,null,"",null,null,550,null,null,3650,null,null,null,null,null,650,null,null,null,null,null,null,null,null,null,null,null,null,null,null,null,null,null,"内野",null,null,"ヨサ日",null,1000,null,null,null,null,null,null,null,null,null,null,null,null,null,null,null,null,null,"山ノ下",10107,0,"",0,{"$f":"AL13","v":0},"",0,0,null,"内野",210171,0,0]
[null,"物見山",null,null,"新アマ日",null,null,4180,null,null,null,null,null,3650,null,null,null,null,null,"",null,null,530,null,null,3500,null,null,null,null,null,430,null,null,null,null,null,null,null,null,null,null,null,null,null,null,null,null,null,"小新黒埼",null,null,"ヨサ日",null,850,null,null,null,null,null,null,null,null,null,null,null,null,null,null,null,null,null,"物見山",10108,0,"",0,{"$f":"AL14","v":0},"",0,0,null,"小新黒埼",210172,0,0]
[null,"とやの",null,null,"新アマ日",null,null,5550,null,null,null,null,null,5100,null,null,null,null,null,"",null,null,450,null,null,5800,null,null,null,null,null,650,null,null,null,null,null,null,null,null,null,null,null,null,null,null,null,null,null,"黒埼南",null,null,"ヨサ日",null,200,null,null,null,null,null,null,null,null,null,null,null,null,null,null,null,null,null,"とやの",10109,0,"",0,{"$f":"AL15","v":0},"",0,0,null,"黒埼南",210179,0,0]
[null,"県庁前",null,null,"新アマ日",null,null,4380,null,null,null,null,null,4300,null,null,null,null,null,"",null,null,80,null,null,4400,null,null,null,null,null,550,null,null,null,null,null,null,null,null,null,null,null,null,null,null,null,null,null,"万代",null,null,"ヨサ日",null,1000,null,null,null,null,null,null,null,null,null,null,null,null,null,null,null,null,null,"県庁前",10111,0,"",0,0,"",0,0,null,"万代",210158,0,0]
[null,"愛宕",null,null,"新アマ日",null,null,5350,null,null,null,null,null,4950,null,null,null,null,null,"",null,null,400,null,null,3990,null,null,null,null,null,690,null,null,null,null,null,null,null,null,null,null,null,null,null,null,null,null,null,"県庁前",null,null,"ヨサ日",null,2550,null,null,null,null,null,null,null,null,null,null,null,null,null,null,null,null,null,"愛宕",10113,0,"",0,{"$f":"AL17","v":0},"",0,0,null,"県庁前",210159,0,0]
[null,"河渡",null,null,"新アマ日",null,null,5000,null,null,null,null,null,4800,null,null,null,null,null,"",null,null,200,null,null,4450,null,null,null,null,null,450,null,null,null,null,null,null,null,null,null,null,null,null,null,null,null,null,null,"駅南東",null,null,"ヨサ日",null,1550,null,null,null,null,null,null,null,null,null,null,null,null,null,null,null,null,null,"河渡",10114,0,"",0,0,"",0,0,null,"駅南東",210160,0,0]
[null,"牡丹山",null,null,"新アマ日",null,null,2070,null,null,null,null,null,1870,null,null,null,null,null,"",null,null,200,null,null,1250,null,null,null,null,null,180,null,null,null,null,null,null,null,null,null,null,null,null,null,null,null,null,null,"山木戸",null,null,"ヨサ日",null,1230,null,null,null,null,null,null,null,null,null,null,null,null,null,null,null,null,null,"牡丹山",10115,0,"",0,0,"",0,0,null,"山木戸",210162,0,0]
[null,"大形",null,null,"新アマ日",null,null,3400,null,null,null,null,null,3300,null,null,null,null,null,"",null,null,100,null,null,2900,null,null,null,null,null,320,null,null,null,null,null,null,null,null,null,null,null,null,null,null,null,null,null,"山ノ下",null,null,"ヨサ日",null,1330,null,null,null,null,null,null,null,null,null,null,null,null,null,null,null,null,null,"大形",10116,0,"",0,0,"",0,0,null,"山ノ下",210163,0,0]
[null,"松浜",null,null,"新アマ日",null,null,7100,null,null,null,null,null,6800,null,null,null,null,null,"",null,null,300,null,null,5200,null,null,null,null,null,400,null,null,null,null,null,null,null,null,null,null,null,null,null,null,null,null,null,"松浜",null,null,"ヨサ日",null,470,null,null,null,null,null,null,null,null,null,null,null,null,null,null,null,null,null,"松浜",10117,0,"",0,0,"",0,0,null,"松浜",210164,0,0]
[null,"新潟南",null,null,"合",null,null,2930,null,null,null,null,null,2890,null,null,null,null,null,"",null,null,40,null,null,1460,null,null,null,null,null,140,null,null,null,null,null,null,null,null,null,null,null,null,null,null,null,null,null,"亀田",null,null,"ヨサ日",null,2050,null,null,null,null,null,null,null,null,null,null,null,null,null,null,null,null,null,"新潟南",10118,0,"",0,0,"",0,0,null,"亀田",210166,0,0]
[null,"姥ケ山",null,null,"新アマ日",null,null,2850,null,null,null,null,null,2650,null,null,null,null,null,"",null,null,200,null,null,2250,null,null,null,null,null,300,null,null,null,null,null,null,null,null,null,null,null,null,null,null,null,null,null,null,null,null,null,null,null,null,null,null,null,null,null,null,null,null,null,null,null,null,null,null,null,null,"姥ケ山",10119,0,"",0,0,"",0,0,null,null,null,0,0]
[null,"山二ツ",null,null,"新アマ日",null,null,2830,null,null,null,null,null,2750,null,null,null,null,null,"",null,null,80,null,null,850,null,null,null,null,null,250,null,null,null,null,null,null,null,null,null,null,null,null,null,null,null,null,null,null,null,null,null,null,null,null,null,null,null,null,null,null,null,null,null,null,null,null,null,null,null,null,"山二ツ",10120,0,"",0,0,"",0,0,null,null,null,0,0]
[null,"亀田西",null,null,"新アマ日",null,null,2810,null,null,null,null,null,2650,null,null,null,null,null,"",null,null,160,null,null,1600,null,null,null,null,null,200,null,null,null,null,null,null,null,null,null,null,null,null,null,null,null,null,null,null,null,null,null,null,null,null,null,null,null,null,null,null,null,null,null,null,null,null,null,null,null,null,"亀田西",10122,0,"",0,0,"",0,0,null,null,null,0,0]
[null,"亀田",null,null,"新アマ日",null,null,4300,null,null,null,null,null,3800,null,null,null,null,null,"",null,null,500,null,null,3550,null,null,null,null,null,280,null,null,null,null,null,null,null,null,null,null,null,null,null,null,null,null,null,null,null,null,null,null,null,null,null,null,null,null,null,null,null,null,null,null,null,null,null,null,null,null,"亀田",10123,0,"",0,0,"",0,0,null,null,null,0,0]
[null,"横越",null,null,"新アマ日",null,null,2280,null,null,null,null,null,2230,null,null,null,null,null,"",null,null,50,null,null,1200,null,null,null,null,null,120,null,null,null,null,null,null,null,null,null,null,null,null,null,null,null,null,null,null,null,null,null,null,null,null,null,null,null,null,null,null,null,null,null,null,null,null,null,null,null,null,"横越",10176,0,"",0,0,"",0,0,null,null,null,0,0]
[null,"有明",null,null,"新アマ日",null,null,6200,null,null,null,null,null,5600,null,null,null,null,null,"",null,null,600,null,null,5000,null,null,null,null,null,1100,null,null,null,null,null,null,null,null,null,null,null,null,null,null,null,null,null,null,"■くるみる",null,null,null,null,null,null,null,null,null,null,null,null,null,null,null,null,null,null,null,null,null,"有明",10177,0,"",0,0,"",0,0,null,null,null,0,0]
[null,"小針",null,null,"新アマ日",null,null,7940,null,null,null,null,null,7200,null,null,null,null,null,"",null,null,740,null,null,6800,null,null,null,null,null,1100,null,null,null,null,null,null,null,null,null,null,null,null,null,null,null,null,null,null,"　新聞無購読者向け、チラシ宅配サービスです。",null,null,null,null,null,null,null,null,null,null,null,null,null,null,null,null,null,null,null,null,null,"小針",10127,0,"",0,0,"",0,0,null,null,null,0,0]
[null,"中通",null,null,"新アマ日",null,null,2720,null,null,null,null,null,2700,null,null,null,null,null,"",null,null,20,null,null,2800,null,null,null,null,null,520,null,null,null,null,null,null,null,null,null,null,null,null,null,null,null,null,null,null,"　新潟日報販売店が朝刊配達時に、チラシをお届けします。",null,null,null,null,null,null,null,null,null,null,null,null,null,null,null,null,null,null,null,null,null,"中通",10128,0,"",0,0,"",0,0,null,null,null,0,0]
[null,"本町",null,null,"新アマ日",null,null,3100,null,null,null,null,null,2800,null,null,null,null,null,"",null,null,300,null,null,1500,null,null,null,null,null,480,null,null,null,null,null,null,null,null,null,null,null,null,null,null,null,null,null,null,"　新聞折込と合わせてご利用いただくことで、広告効果を高めることができます。",null,null,null,null,null,null,null,null,null,null,null,null,null,null,null,null,null,null,null,null,null,"本町",10130,0,"",0,0,"",0,0,null,null,null,0,0]
[null,"中央",null,null,"新アマ日",null,null,3150,null,null,null,null,null,3100,null,null,null,null,null,"",null,null,50,null,null,2000,null,null,null,null,null,480,null,null,null,null,null,null,null,null,null,null,null,null,null,null,null,null,null,null,null,null,null,null,null,null,null,null,null,null,null,null,null,null,null,null,null,null,null,null,null,null,"中央",10131,0,"",0,0,"",0,0,null,null,null,0,0]
[null,"真砂",null,null,"新アマ日",null,null,2300,null,null,null,null,null,2100,null,null,null,null,null,"",null,null,200,null,null,1650,null,null,null,null,null,420,null,null,null,null,null,null,null,null,null,null,null,null,null,null,null,null,null,null,null,null,null,null,null,null,null,null,null,null,null,null,null,null,null,null,null,null,null,null,null,null,"真砂",10133,0,"",0,0,"",0,0,null,null,null,0,0]
[null,"寺尾",null,null,"新アマ日",null,null,6550,null,null,null,null,null,6340,null,null,null,null,null,"",null,null,210,null,null,3000,null,null,null,null,null,950,null,null,null,null,null,null,null,null,null,null,null,null,null,null,null,null,null,null,"■ポスティング（assh,n-assh）",null,null,null,null,null,null,null,null,null,null,null,null,null,null,null,null,null,null,null,null,null,"寺尾",10134,0,"",0,0,"",0,0,null,null,null,0,0]
[null,"新大前",null,null,"新アマ日",null,null,3400,null,null,null,null,null,3000,null,null,null,null,null,"",null,null,400,null,null,3750,null,null,null,null,null,420,null,null,null,null,null,null,null,null,null,null,null,null,null,null,null,null,null,null,"　asshは新潟日報社が制作する生活情報誌です（毎月 第2・第4木曜日 発行）。",null,null,null,null,null,null,null,null,null,null,null,null,null,null,null,null,null,null,null,null,null,"新大前",10135,0,"",0,0,"",0,0,null,null,null,0,0]
[null,"内野",null,null,"新アマ日",null,null,4180,null,null,null,null,null,3730,null,null,null,null,null,"",null,null,450,null,null,2200,null,null,null,null,null,340,null,null,null,null,null,null,null,null,null,null,null,null,null,null,null,null,null,null,"　新聞無購読世帯へ配布する際に、asshにチラシを折り込みポスティングします。",null,null,null,null,null,null,null,null,null,null,null,null,null,null,null,null,null,null,null,null,null,"内野",10136,0,"",0,0,"",0,0,null,null,null,0,0]
[null,"西内野",null,null,"新アマ日",null,null,3310,null,null,null,null,null,3110,null,null,null,null,null,"",null,null,200,null,null,2300,null,null,null,null,null,300,null,null,null,null,null,null,null,null,null,null,null,null,null,null,null,null,null,null,"　asshポスティング単独でのご利用も可能ですが、新聞折込と合わせることで、",null,null,null,null,null,null,null,null,null,null,null,null,null,null,null,null,null,null,null,null,null,"西内野",10137,0,"",0,0,"",0,0,null,null,null,0,0]
[null,"小新",null,null,"新アマ日",null,null,4620,null,null,null,null,null,4100,null,null,null,null,null,"",null,null,520,null,null,3550,null,null,null,null,null,340,null,null,null,null,null,null,null,null,null,null,null,null,null,null,null,null,null,null,"　ほぼ全世帯をカバーすることができます。　※一部、配布不可世帯を除きます。",null,null,null,null,null,null,null,null,null,null,null,null,null,null,null,null,null,null,null,null,null,"小新",10140,0,"",0,0,"",0,0,null,null,null,0,0]
[null,"寺地",null,null,"新アマ日",null,null,2030,null,null,null,null,null,1780,null,null,null,null,null,"",null,null,250,null,null,1750,null,null,null,null,null,200,null,null,null,null,null,null,null,null,null,null,null,null,null,null,null,null,null,null,null,null,null,null,null,null,null,null,null,null,null,null,null,null,null,null,null,null,null,null,null,null,"寺地",10141,0,"",0,0,"",0,0,null,null,null,0,0]
[null,"黒埼",null,null,"新アマ日",null,null,3640,null,null,null,null,null,3200,null,null,null,null,null,"",null,null,440,null,null,2050,null,null,null,null,null,240,null,null,null,null,null,null,null,null,null,null,null,null,null,null,null,null,null,null,null,null,null,null,null,null,null,null,null,null,null,null,null,null,null,null,null,null,null,null,null,null,"黒埼",10178,0,"",0,0,"",0,0,null,null,null,0,0]
[null,"黒埼南",null,null,"新アマ日",null,null,3520,null,null,null,null,null,3200,null,null,null,null,null,"",null,null,320,null,null,1300,null,null,null,null,null,140,null,null,null,null,null,null,null,null,null,null,null,null,null,null,null,null,null,null,null,null,null,null,null,null,null,null,null,null,null,null,null,null,null,null,null,null,null,null,null,null,"黒埼南",10143,0,"",0,0,"",0,0,null,null,null,0,0]
[null,"010",null,"小計",null,null,null,{"$f":"SUM(H9:J41)","v":137710},null,null,{"$f":"SUM(K9:M41)","v":0},null,null,{"$f":"SUM(N9:P41)","v":126500},null,null,{"$f":"SUM(Q9:S41)","v":0},null,null,{"$f":"SUM(T9:V41)","v":0},null,null,{"$f":"CA42","v":0},null,null,{"$f":"SUM(Z9:AB41)","v":107100},null,null,{"$f":"SUM(AC9:AE41)","v":0},null,null,{"$f":"SUM(AF9:AH41)","v":15130},null,null,{"$f":"SUM(AI9:AK41)","v":0},null,null,null,null,null,null,null,null,null,null,null,null,null,null,"030",null,"小計",null,null,{"$f":"SUM(BC9:BE22)","v":16630},null,null,{"$f":"SUM(BF9:BH41)","v":0},null,null,null,null,null,null,null,null,null,null,null,null,null,null,null,null,{"$f":"SUM(BW9:BW41)","v":0},{"$f":"SUM(BX9:BX41)","v":0},0,null,{"$f":"SUM(CA9:CA41)","v":0},0,0,null,null,null,{"$f":"SUM(CG9:CG41)","v":0},null,{"$f":"SUM(BY42:CH42)","v":0}]
[null,null,null,null,null,null,null,null,null,null,null,null,null,null,null,null,null,null,null,null,null,null,null,null,null,null,null,null,null,null,null,null,null,null,null,null,null,null,null,null,null,null,null,null,null,null,null,null,null,null,null,null,null,null,null,null,null,null,null,null,null,null,null,null,null,null,null,null,null,null,null,null,null,null,null,null,{"$f":"SUM(BY42,CG42)","v":0}]

{"sheet":"下越1","index":3,"n_rows":50,"n_cols":87,"rows_kept":50,"cut":false,"hidden":false,"merged":[[10,49,15,59],[10,60,15,70],[29,22,29,24],[28,19,28,21],[28,22,28,24],[38,34,38,36],[38,31,38,33],[48,57,48,59],[45,57,45,59],[33,31,33,33],[31,19,31,21],[31,22,31,24],[32,25,33,30],[30,19,30,21],[30,22,30,24],[38,37,38,48],[38,25,38,30],[36,37,36,48],[37,37,37,48],[47,22,47,24],[47,25,47,27],[47,28,47,30],[47,31,47,33],[46,22,46,24],[48,60,48,70],[47,60,47,70],[47,34,47,36],[47,37,47,48],[47,54,47,56],[47,57,47,59],[47,49,47,53],[48,28,48,30],[48,31,48,33],[48,34,48,36],[48,37,48,48],[48,49,48,53],[48,54,48,56],[48,4,48,6],[48,7,48,9],[48,10,48,12],[48,13,48,15],[48,16,48,18],[48,19,48,21],[48,22,48,24],[48,25,48,27],[47,7,47,9],[47,10,47,12],[47,13,47,15],[47,16,47,18],[47,19,47,21],[47,4,47,6],[48,0,48,3],[17,0,27,0],[6,25,6,30],[2,56,2,62],[2,63,2,70],[6,31,6,36],[6,37,7,48],[7,1,7,3],[7,4,7,6],[7,7,7,9],[8,1,8,3],[8,4,8,6],[8,13,8,15],[8,16,8,18],[7,28,7,30],[7,10,7,12],[7,13,7,15],[7,16,7,18],[3,63,3,70],[4,49,4,55],[4,56,4,62],[4,63,4,70],[16,57,16,59],[32,60,32,70],[33,60,33,70],[45,52,45,53],[38,49,38,51],[38,52,38,53],[38,54,38,56],[38,57,38,59],[38,60,38,70],[37,60,37,70],[32,49,32,51],[32,52,32,53],[36,60,36,70],[35,60,35,70],[44,60,44,70],[34,60,34,70],[36,49,36,59],[37,57,37,59],[35,57,35,59],[40,49,43,59],[33,49,33,59],[32,54,32,56],[39,60,39,70],[40,60,43,70],[39,57,39,59],[45,54,45,56],[17,49,19,59],[19,31,19,33],[19,34,19,36],[18,31,18,33],[18,34,18,36],[17,34,17,36],[17,31,17,33],[20,16,20,18],[19,19,19,24],[18,19,18,21],[18,22,18,24],[17,25,19,30],[20,25,20,27],[20,28,20,30],[32,0,39,0],[0,22,0,23],[10,1,10,3],[10,4,10,6],[10,13,10,15],[10,16,10,18],[12,1,12,3],[12,4,12,6],[12,7,12,9],[12,10,12,12],[12,13,12,15],[12,16,12,18],[11,1,11,3],[11,4,11,6],[14,1,14,3],[14,4,14,6],[14,13,14,15],[9,1,9,3],[9,4,9,6],[9,13,9,15],[17,19,17,24],[16,19,16,21],[16,13,16,15],[19,1,19,3],[6,1,6,24],[15,1,15,3],[16,31,16,33],[16,34,16,36],[16,37,16,48],[7,25,7,27],[15,13,15,15],[15,7,15,9],[15,10,15,12],[7,22,7,24],[7,19,7,21],[16,4,16,6],[16,7,16,9],[16,10,16,12],[16,22,16,24],[11,10,11,12],[8,7,10,12],[13,13,13,15],[16,25,16,27],[16,28,16,30],[15,4,15,6],[8,25,15,30],[11,7,11,9],[16,16,16,18],[16,2,16,3],[12,37,12,48],[8,19,10,24],[14,31,15,36],[14,37,14,48],[13,16,13,18],[11,37,11,48],[12,31,12,33],[11,31,11,33],[12,34,12,36],[15,37,15,48],[9,16,9,18],[15,16,15,18],[8,37,8,48],[15,19,15,21],[15,22,15,24],[13,31,13,33],[13,34,13,36],[14,16,14,18],[13,19,13,21],[11,34,11,36],[13,1,13,3],[13,4,13,6],[13,7,13,9],[0,60,0,70],[1,34,1,48],[7,57,7,59],[1,63,1,70],[10,31,10,36],[8,31,8,36],[8,52,8,53],[9,31,9,33],[9,34,9,36],[7,31,7,33],[7,34,7,36],[7,49,7,51],[7,52,7,53],[7,54,7,56],[1,49,1,55],[1,56,1,62],[3,29,3,33],[9,37,9,48],[3,56,3,62],[2,49,2,55],[3,49,3,55],[8,49,8,51],[9,49,9,51],[9,57,9,59],[13,10,13,12],[14,19,14,24],[14,7,14,12],[11,13,11,15],[11,16,11,18],[11,19,11,21],[11,22,11,24],[12,19,12,21],[12,22,12,24],[13,22,13,24],[19,4,19,6],[19,13,19,15],[19,16,19,18],[19,7,19,12],[17,1,17,3],[18,1,18,3],[18,4,18,6],[18,7,18,9],[17,4,17,6],[17,13,17,15],[17,16,17,18],[18,16,18,18],[18,10,18,12],[18,13,18,15],[17,7,17,12],[20,10,20,12],[22,7,22,9],[22,10,22,12],[22,13,22,15],[22,16,22,18],[20,13,20,15],[20,7,20,9],[20,60,20,70],[20,19,20,21],[20,22,20,24],[20,31,20,33],[20,34,20,36],[21,34,21,36],[21,60,22,70],[22,19,22,21],[22,22,22,24],[22,31,22,33],[22,34,22,36],[21,37,21,48],[20,54,20,56],[20,57,20,59],[20,37,20,48],[21,7,21,9],[21,10,21,12],[27,19,27,21],[27,22,27,24],[27,31,27,33],[27,34,27,36],[23,34,23,36],[24,19,26,24],[28,34,28,36],[23,25,23,27],[21,13,21,15],[21,16,21,18],[21,31,21,33],[21,19,21,21],[21,22,21,24],[23,19,23,21],[23,22,23,24],[23,31,23,33],[21,25,22,30],[23,28,23,30],[27,25,27,27],[27,28,27,30],[25,37,25,48],[24,25,26,30],[23,7,23,9],[23,10,23,12],[23,13,23,15],[23,16,23,18],[24,13,24,15],[24,16,24,18],[26,37,26,48],[24,7,26,12],[24,31,26,36],[23,37,23,48],[45,7,45,9],[45,10,45,12],[45,13,45,15],[36,1,36,3],[36,4,36,6],[37,7,37,9],[37,10,37,12],[37,13,37,15],[37,16,37,18],[36,13,36,15],[36,16,36,18],[37,4,37,6],[37,2,37,3],[42,4,42,6],[42,13,42,15],[44,4,44,6],[40,0,44,0],[41,13,41,15],[41,16,41,18],[45,16,45,18],[45,19,45,21],[45,22,45,24],[45,25,45,27],[45,28,45,30],[45,31,45,33],[45,0,47,0],[45,1,45,3],[45,4,45,6],[46,1,46,3],[46,19,46,21],[46,16,46,18],[46,13,46,15],[46,10,46,12],[46,7,46,9],[46,4,46,6],[46,25,46,27],[46,28,46,30],[47,2,47,3],[44,37,44,48],[41,37,41,48],[42,37,42,48],[43,37,43,48],[39,49,39,53],[39,7,39,9],[39,10,39,12],[39,13,39,15],[39,16,39,18],[44,13,44,15],[44,16,44,18],[40,13,40,15],[40,16,40,18],[43,13,43,15],[43,16,43,18],[44,2,44,3],[44,7,44,9],[44,10,44,12],[44,19,44,21],[39,37,39,48],[46,49,46,59],[46,34,46,36],[46,60,46,70],[46,37,46,48],[44,34,44,36],[39,34,39,36],[40,31,43,36],[46,31,46,33],[45,60,45,70],[40,37,40,48],[45,34,45,36],[45,37,45,48],[45,49,45,51],[44,49,44,53],[44,54,44,56],[44,57,44,59],[37,54,37,56],[42,16,42,18],[41,1,41,3],[41,4,41,6],[40,1,40,3],[40,4,40,6],[43,1,43,3],[43,4,43,6],[38,1,38,3],[39,19,39,21],[39,54,39,56],[37,49,37,53],[39,4,39,6],[37,19,37,21],[37,22,37,24],[40,19,43,24],[40,7,43,12],[39,2,39,3],[42,1,42,3],[38,4,38,6],[38,7,38,9],[38,10,38,12],[38,13,38,15],[38,16,38,18],[1,0,1,11],[1,12,1,28],[1,29,1,33],[2,34,4,48],[3,0,3,11],[3,12,3,28],[4,27,4,28],[2,27,2,28],[4,12,4,26],[2,12,2,26],[2,0,2,11],[4,29,4,33],[4,0,4,11],[2,29,2,33],[28,0,31,0],[35,4,35,6],[10,37,10,48],[16,54,16,56],[35,13,35,15],[35,16,35,18],[35,19,35,21],[34,37,34,48],[31,37,31,48],[28,49,28,51],[28,52,28,53],[18,37,18,48],[35,54,35,56],[13,37,13,48],[17,37,17,48],[20,4,20,6],[23,4,23,6],[27,4,27,6],[8,0,16,0],[35,1,35,3],[35,22,35,24],[31,54,31,56],[19,37,19,48],[34,54,34,56],[34,57,34,59],[35,37,35,48],[35,49,35,51],[35,52,35,53],[32,37,32,48],[22,37,22,48],[31,49,31,53],[27,37,27,48],[30,37,30,48],[28,37,28,48],[21,49,22,59],[29,49,30,59],[24,49,26,59],[33,37,33,48],[32,57,32,59],[34,49,34,53],[29,37,29,48],[23,49,23,53],[23,54,23,56],[23,57,23,59],[27,49,27,53],[27,54,27,56],[24,37,24,48],[6,72,6,77],[6,82,6,85],[31,57,31,59],[31,60,31,70],[28,54,28,56],[28,57,28,59],[27,60,27,70],[28,60,28,70],[23,60,23,70],[16,60,16,70],[8,54,8,56],[9,54,9,56],[6,49,6,59],[6,60,7,70],[8,60,8,70],[8,57,8,59],[9,60,9,70],[29,60,30,70],[24,60,26,70],[17,60,19,70],[16,49,16,53],[20,49,20,53],[27,57,27,59],[9,52,9,53],[38,19,38,21],[38,22,38,24],[31,7,31,9],[31,10,31,12],[31,13,31,15],[31,16,31,18],[35,7,35,9],[35,10,35,12],[32,13,32,15],[32,16,32,18],[32,7,33,12],[32,19,33,24],[33,13,33,15],[34,19,34,21],[34,22,34,24],[33,16,33,18],[36,19,36,24],[33,34,33,36],[39,22,39,24],[39,31,39,33],[44,31,44,33],[40,25,43,30],[31,34,31,36],[34,34,34,36],[37,34,37,36],[36,34,36,36],[35,34,35,36],[37,31,37,33],[44,22,44,24],[34,25,34,27],[34,28,34,30],[37,25,37,27],[37,28,37,30],[39,25,39,27],[39,28,39,30],[44,25,44,27],[44,28,44,30],[31,25,31,27],[31,28,31,30],[29,31,30,36],[32,31,32,33],[35,25,36,30],[28,25,30,30],[32,34,32,36],[20,2,20,3],[23,2,23,3],[27,2,27,3],[31,2,31,3],[34,2,34,3],[34,31,34,33],[36,31,36,33],[35,31,35,33],[31,31,31,33],[28,31,28,33],[36,7,36,12],[34,13,34,15],[34,16,34,18],[29,19,29,21],[34,7,34,9],[34,10,34,12],[29,7,29,9],[29,10,29,12],[29,13,29,15],[21,1,21,3],[21,4,21,6],[32,1,32,3],[32,4,32,6],[33,1,33,3],[33,4,33,6],[29,1,29,3],[29,4,29,6],[30,1,30,3],[30,4,30,6],[25,1,25,3],[25,4,25,6],[26,1,26,3],[26,4,26,6],[22,1,22,3],[22,4,22,6],[31,4,31,6],[34,4,34,6],[28,1,28,3],[28,4,28,6],[24,1,24,3],[24,4,24,6],[28,10,28,12],[28,13,28,15],[28,16,28,18],[30,7,30,9],[30,10,30,12],[26,13,26,15],[26,16,26,18],[27,13,27,15],[27,16,27,18],[27,10,27,12],[27,7,27,9],[29,16,29,18],[30,13,30,15],[30,16,30,18],[28,7,28,9],[25,13,25,15],[25,16,25,18]]}
[null,null,null,null,null,null,null,null,null,null,null,null,null,null,null,null,null,null,null,null,null,null,null,null,null,null,null,null,null,null,null,null,null,null,null,null,null,null,null,null,null,null,null,null,null,null,null,null,null,null,null,null,null,null,null,null,null,null,null,null,{"$f":"新潟市!BI1","v":"２０２３年１１月１日 現在"}]
["折込日",null,null,null,null,null,null,null,null,null,null,null,"スポンサー名",null,null,null,null,null,null,null,null,null,null,null,null,null,null,null,null,"サイズ",null,null,null,null,"チラシ内容・タイトル詳細",null,null,null,null,null,null,null,null,null,null,null,null,null,null,"朝刊　小計",null,null,null,null,null,null,"Otona＋　小計",null,null,null,null,null,null,"ページ枚数"]
[{"$f":"新潟市!A3","v":"2023/--/--"},null,null,null,null,null,null,null,null,null,null,null,{"$f":"新潟市!M3","v":0},null,null,null,null,null,null,null,null,null,null,null,null,null,null,"様",null,{"$f":"新潟市!AD3","v":0},null,null,null,null,{"$f":"新潟市!AI3","v":0},null,null,null,null,null,null,null,null,null,null,null,null,null,null,{"$f":"BY49+CG49","v":0},null,null,null,null,null,null,{"$f":"CC49","v":0},null,null,null,null,null,null,{"$f":"AX3+AX5+BE3+BE5","v":0}]
["assh　ポスティング日",null,null,null,null,null,null,null,null,null,null,null,"ご請求先名",null,null,null,null,null,null,null,null,null,null,null,null,null,null,null,null,"ガタチラ 掲載",null,null,null,null,null,null,null,null,null,null,null,null,null,null,null,null,null,null,null,"くるみる　小計",null,null,null,null,null,null,"assh　小計",null,null,null,null,null,null,"総枚数"]
[{"$f":"新潟市!A5","v":"2023/--/--"},null,null,null,null,null,null,null,null,null,null,null,{"$f":"新潟市!M5","v":0},null,null,null,null,null,null,null,null,null,null,null,null,null,null,"様",null,{"$f":"新潟市!AD5","v":0},null,null,null,null,null,null,null,null,null,null,null,null,null,null,null,null,null,null,null,{"$f":"CA49","v":0},null,null,null,null,null,null,{"$f":"CB49","v":0},null,null,null,null,null,null,{"$f":"新潟市!BL5","v":0}]
[]
[null,"新潟日報　",null,null,null,null,null,null,null,null,null,null,null,null,null,null,null,null,null,null,null,null,null,null,null,"ポスティング（assh）",null,null,null,null,null,"Otona+",null,null,null,null,null,"備考",null,null,null,null,null,null,null,null,null,null,null,"中央紙",null,null,null,null,null,null,null,null,null,null,"備考",null,null,null,null,null,null,null,null,null,null,null,"朝刊",null,null,null,null,null,"くるみる","assh","otona",null,"中央紙　朝刊"]
["02","販売店名",null,null,"取扱い紙",null,null,"朝刊＋くるみる",null,null,"配布数",null,null,"朝刊扱数",null,null,"配布数",null,null,"朝刊数",null,null,"くるみる数",null,null,"部数",null,null,"配布数",null,null,"部数",null,null,"配布数",null,null,null,null,null,null,null,null,null,null,null,null,null,null,"販売店名",null,null,"取扱い紙",null,"部数",null,null,"配布数",null,null,null,null,null,null,null,null,null,null,null,null,null,null,"販売店名","E","朝刊1","朝刊２","部","指示","部","部","部",null,"販売店名","E","部","指示"]
["旧西蒲原郡","分水",null,null,"合",null,null,null,null,null,null,null,null,3350,null,null,null,null,null,null,null,null,null,null,null,null,null,null,null,null,null,null,null,null,null,null,null,null,null,null,null,null,null,null,null,null,null,null,null,"巻",null,null,"アサ",null,650,null,null,null,null,null,null,null,null,null,null,null,null,null,null,null,null,null,"分水",20101,{"$f":"Q9","v":0},{"$f":"T9","v":0},{"$f":"SUM(BW9:BX9)","v":0},{"$f":"AL9","v":0},{"$f":"IF($K9>$W9,$W9,\"\")","v":""},{"$f":"AC9","v":0},{"$f":"AI9","v":0},null,"巻",20106,{"$f":"BF9","v":0},{"$f":"BI9","v":0}]
[null,"吉田",null,null,"合",null,null,null,null,null,null,null,null,4600,null,null,null,null,null,null,null,null,null,null,null,null,null,null,null,null,null,70,null,null,null,null,null,null,null,null,null,null,null,null,null,null,null,null,null,"巻",null,null,"ヨ",null,700,null,null,null,null,null,null,null,null,null,null,null,null,null,null,null,null,null,"吉田",20102,0,0,0,0,"",0,0,null,"巻",220107,0,{"$f":"BI10","v":0}]
[null,"粟生津",null,null,"合",null,null,null,null,null,null,null,null,700,null,null,null,null,null,null,null,null,null,null,null,null,null,null,null,null,null,null,null,null,null,null,null,null,null,null,null,null,null,null,null,null,null,null,null,null,null,null,null,null,null,null,null,null,null,null,null,null,null,null,null,null,null,null,null,null,null,null,"粟生津",20104,0,0,0,0,"",0,0,null,null,null,{"$f":"BF11","v":0},0]
[null,"巻",null,null,"新マ日",null,null,{"$f":"N12+W12","v":6700},null,null,null,null,null,6350,null,null,null,null,null,{"$f":"IF(K12=\"\",\"\",IF(K12<=W12,K12,K12-W12))","v":""},null,null,350,null,null,null,null,null,null,null,null,380,null,null,null,null,null,null,null,null,null,null,null,null,null,null,null,null,null,null,null,null,null,null,null,null,null,null,null,null,null,null,null,null,null,null,null,null,null,null,null,null,"巻",20105,0,"",0,0,"",0,0,null,null,null,0,0]
[null,"岩室",null,null,"新マ日",null,null,{"$f":"N13+W13","v":740},null,null,null,null,null,710,null,null,null,null,null,{"$f":"IF(K13=\"\",\"\",IF(K13<=W13,K13,K13-W13))","v":""},null,null,30,null,null,null,null,null,null,null,null,40,null,null,null,null,null,null,null,null,null,null,null,null,null,null,null,null,null,null,null,null,null,null,null,null,null,null,null,null,null,null,null,null,null,null,null,null,null,null,null,null,"岩室",20108,0,"",0,0,"",0,0,null,null,null,0,0]
[null,"西川",null,null,"合",null,null,4250,null,null,null,null,null,4050,null,null,null,null,null,"",null,null,200,null,null,null,null,null,null,null,null,200,null,null,null,null,null,null,null,null,null,null,null,null,null,null,null,null,null,null,null,null,null,null,null,null,null,null,null,null,null,null,null,null,null,null,null,null,null,null,null,null,"西川",20109,0,"",0,0,"",0,0,null,null,null,0,0]
[null,"中之口",null,null,"合",null,null,null,null,null,null,null,null,1100,null,null,null,null,null,null,null,null,null,null,null,null,null,null,null,null,null,null,null,null,null,null,null,null,null,null,null,null,null,null,null,null,null,null,null,null,null,null,null,null,null,null,null,null,null,null,null,null,null,null,null,null,null,null,null,null,null,null,"中之口",20110,0,0,0,0,"",0,0,null,null,null,0,0]
[null,"弥彦",null,null,"合",null,null,{"$f":"N16+W16","v":2040},null,null,null,null,null,1940,null,null,null,null,null,{"$f":"IF(K16=\"\",\"\",IF(K16<=W16,K16,K16-W16))","v":""},null,null,100,null,null,null,null,null,null,null,null,null,null,null,null,null,null,null,null,null,null,null,null,null,null,null,null,null,null,null,null,null,null,null,null,null,null,null,null,null,null,null,null,null,null,null,null,null,null,null,null,null,"弥彦",20111,0,"",0,0,"",0,0,null,null,null,0,0]
[null,"010","小計",null,{"$f":"Q17+T17+W17+AC17+AI17+BF17","v":0},null,null,{"$f":"SUM(H9:J16)","v":13730},null,null,{"$f":"SUM(K9:M16)","v":0},null,null,{"$f":"SUM(N9:P16)","v":22800},null,null,{"$f":"SUM(Q9:S16)","v":0},null,null,{"$f":"SUM(T9:V16)","v":0},null,null,{"$f":"CA17","v":0},null,null,null,null,null,null,null,null,{"$f":"SUM(AF9:AH16)","v":690},null,null,{"$f":"SUM(AI9:AK16)","v":0},null,null,null,null,null,null,null,null,null,null,null,null,null,null,"小計",null,null,null,null,{"$f":"SUM(BC9:BE16)","v":1350},null,null,{"$f":"SUM(BF9:BH16)","v":0},null,null,null,null,null,null,null,null,null,null,null,null,null,null,{"$f":"SUM(BY9:CC16,CG9:CG16)","v":0},null,{"$f":"SUM(BW9:BW16)","v":0},{"$f":"SUM(BX9:BX16)","v":0},0,null,{"$f":"SUM(CA9:CA16)","v":0},{"$f":"SUM(CB9:CB16)","v":0},0,null,null,null,{"$f":"SUM(CG9:CG16)","v":0}]
["旧中蒲原郡・旧新津・五泉市","小須戸",null,null,"合",null,null,null,null,null,null,null,null,3240,null,null,null,null,null,null,null,null,null,null,null,null,null,null,null,null,null,70,null,null,null,null,null,null,null,null,null,null,null,null,null,null,null,null,null,null,null,null,null,null,null,null,null,null,null,null,null,null,null,null,null,null,null,null,null,null,null,null,"小須戸",20112,0,0,0,0,"",0,0,null,null,null,0,0]
[null,"矢代田",null,null,"合",null,null,{"$f":"N19+W19","v":990},null,null,null,null,null,980,null,null,null,null,null,{"$f":"IF(K19=\"\",\"\",IF(K19<=W19,K19,K19-W19))","v":""},null,null,10,null,null,null,null,null,null,null,null,20,null,null,null,null,null,null,null,null,null,null,null,null,null,null,null,null,null,null,null,null,null,null,null,null,null,null,null,null,null,null,null,null,null,null,null,null,null,null,null,null,"矢代田",20113,0,"",0,0,"",0,0,null,null,null,0,0]
[null,"村松",null,null,"合",null,null,null,null,null,null,null,null,3750,null,null,null,null,null,null,null,null,null,null,null,null,null,null,null,null,null,180,null,null,null,null,null,null,null,null,null,null,null,null,null,null,null,null,null,null,null,null,null,null,null,null,null,null,null,null,null,null,null,null,null,null,null,null,null,null,null,null,"村松",20114,0,0,0,0,"",0,0,null,null,null,0,0]
[null,"020","小計",null,{"$f":"Q21+T21+W21+AC21+AI21+BF21","v":0},null,null,{"$f":"SUM(H18:J20)","v":990},null,null,{"$f":"SUM(K18:M20)","v":0},null,null,{"$f":"SUM(N18:P20)","v":7970},null,null,{"$f":"SUM(Q18:S20)","v":0},null,null,{"$f":"SUM(T18:V20)","v":0},null,null,{"$f":"CA21","v":0},null,null,null,null,null,null,null,null,{"$f":"SUM(AF18:AH20)","v":270},null,null,{"$f":"SUM(AI18:AK20)","v":0},null,null,null,null,null,null,null,null,null,null,null,null,null,null,"小計",null,null,null,null,null,null,null,null,null,null,null,null,null,null,null,null,null,null,null,null,null,null,{"$f":"SUM(BY18:CC20,CG18:CG20)","v":0},null,{"$f":"SUM(BW18:BW20)","v":0},{"$f":"SUM(BX18:BX20)","v":0},0,null,{"$f":"SUM(CA18:CA20)","v":0},{"$f":"SUM(CB18:CB20)","v":0},0,null,null,null,{"$f":"SUM(CG18:CG20)","v":0}]
[null,"新津",null,null,"合",null,null,{"$f":"N22+W22","v":10950},null,null,null,null,null,10900,null,null,null,null,null,{"$f":"IF(K22=\"\",\"\",IF(K22<=W22,K22,K22-W22))","v":""},null,null,50,null,null,null,null,null,null,null,null,340,null,null,null,null,null,null,null,null,null,null,null,null,null,null,null,null,null,null,null,null,null,null,null,null,null,null,null,null,null,null,null,null,null,null,null,null,null,null,null,null,"新津",20116,0,"",0,0,"",0,0,null,null,null,0,0]
[null,"新津・荻川",null,null,"合",null,null,{"$f":"N23+W23","v":4650},null,null,null,null,null,4600,null,null,null,null,null,"",null,null,50,null,null,null,null,null,null,null,null,160,null,null,null,null,null,null,null,null,null,null,null,null,null,null,null,null,null,null,null,null,null,null,null,null,null,null,null,null,null,null,null,null,null,null,null,null,null,null,null,null,"新津・荻川",20181,0,"",0,0,"",0,0,null,null,null,0,0]
[null,"030","小計",null,{"$f":"Q24+T24+W24+AC24+AI24+BF24","v":0},null,null,{"$f":"SUM(H22:J23)","v":15600},null,null,{"$f":"SUM(K22:M23)","v":0},null,null,{"$f":"SUM(N22:P23)","v":15500},null,null,{"$f":"SUM(Q22:S23)","v":0},null,null,{"$f":"SUM(T22:V23)","v":0},null,null,{"$f":"CA24","v":0},null,null,null,null,null,null,null,null,{"$f":"SUM(AF22:AH23)","v":500},null,null,{"$f":"SUM(AI22:AK23)","v":0},null,null,null,null,null,null,null,null,null,null,null,null,null,null,"小計",null,null,null,null,null,null,null,null,null,null,null,null,null,null,null,null,null,null,null,null,null,null,{"$f":"SUM(BY22:CC23,CG22:CG23)","v":0},null,{"$f":"SUM(BW22:BW23)","v":0},{"$f":"SUM(BX22:BX23)","v":0},0,null,{"$f":"SUM(CA22:CA23)","v":0},{"$f":"SUM(CB22:CB23)","v":0},0,null,null,null,{"$f":"SUM(CG22:CG23)","v":0}]
[null,"五泉",null,null,"合",null,null,null,null,null,null,null,null,7480,null,null,null,null,null,null,null,null,null,null,null,null,null,null,null,null,null,null,null,null,null,null,null,null,null,null,null,null,null,null,null,null,null,null,null,null,null,null,null,null,null,null,null,null,null,null,null,null,null,null,null,null,null,null,null,null,null,null,"五泉",20117,0,0,0,0,"",0,0,null,null,null,0,0]
[null,"五泉・馬下",null,null,"合",null,null,null,null,null,null,null,null,240,null,null,null,null,null,null,null,null,null,null,null,null,null,null,null,null,null,null,null,null,null,null,null,null,null,null,null,null,null,null,null,null,null,null,null,null,null,null,null,null,null,null,null,null,null,null,null,null,null,null,null,null,null,null,null,null,null,null,"五泉・馬下",20119,0,0,0,0,"",0,0,null,null,null,0,0]
[null,"保田・馬下",null,null,"合",null,null,null,null,null,null,null,null,150,null,null,null,null,null,null,null,null,null,null,null,null,null,null,null,null,null,null,null,null,null,null,null,null,null,null,null,null,null,null,null,null,null,null,null,null,null,null,null,null,null,null,null,null,null,null,null,null,null,null,null,null,null,null,null,null,null,null,"保田・馬下",20183,0,0,0,0,"",0,0,null,null,null,0,0]
[null,"040","小計",null,{"$f":"Q28+T28+W28+AC28+AI28+BF28","v":0},null,null,null,null,null,null,null,null,{"$f":"SUM(N25:P27)","v":7870},null,null,{"$f":"SUM(Q25:S27)","v":0},null,null,null,null,null,null,null,null,null,null,null,null,null,null,null,null,null,null,null,null,null,null,null,null,null,null,null,null,null,null,null,null,"小計",null,null,null,null,null,null,null,null,null,null,null,null,null,null,null,null,null,null,null,null,null,null,{"$f":"SUM(BY25:CC27,CG25:CG27)","v":0},null,{"$f":"SUM(BW25:BW27)","v":0},{"$f":"SUM(BX25:BX27)","v":0},0,null,{"$f":"SUM(CA25:CA27)","v":0},{"$f":"SUM(CB25:CB27)","v":0},0,null,null,null,{"$f":"SUM(CG25:CG27)","v":0}]
["旧白根市","白根",null,null,"新アマ日",null,null,{"$f":"N29+W29","v":3470},null,null,null,null,null,3270,null,null,null,null,null,{"$f":"IF(K29=\"\",\"\",IF(K29<=W29,K29,K29-W29))","v":""},null,null,200,null,null,null,null,null,null,null,null,120,null,null,null,null,null,null,null,null,null,null,null,null,null,null,null,null,null,"白根",null,null,"ヨサ",null,700,null,null,null,null,null,null,null,null,null,null,null,null,null,null,null,null,null,"白根",20120,0,"",0,0,"",0,0,null,"白根",220121,0,0]
[null,"月潟",null,null,"新アマ日",null,null,{"$f":"N30+W30","v":1650},null,null,null,null,null,1620,null,null,null,null,null,"",null,null,30,null,null,null,null,null,null,null,null,null,null,null,null,null,null,null,null,null,null,null,null,null,null,null,null,null,null,null,null,null,null,null,null,null,null,null,null,null,null,null,null,null,null,null,null,null,null,null,null,null,"月潟",20122,0,"",0,0,"",0,0,null,null,null,0,0]
[null,"新飯田",null,null,"合",null,null,960,null,null,null,null,null,950,null,null,null,null,null,"",null,null,10,null,null,null,null,null,null,null,null,null,null,null,null,null,null,null,null,null,null,null,null,null,null,null,null,null,null,null,null,null,null,null,null,null,null,null,null,null,null,null,null,null,null,null,null,null,null,null,null,null,"新飯田",20123,0,"",0,0,"",0,0,null,null,null,0,0]
[null,"050","小計",null,{"$f":"Q32+T32+W32+AC32+AI32+BF32","v":0},null,null,{"$f":"SUM(H29:J31)","v":6080},null,null,{"$f":"SUM(K29:M31)","v":0},null,null,{"$f":"SUM(N29:P31)","v":5840},null,null,{"$f":"SUM(Q29:S31)","v":0},null,null,{"$f":"SUM(T29:V31)","v":0},null,null,{"$f":"CA32","v":0},null,null,null,null,null,null,null,null,{"$f":"SUM(AF29:AH31)","v":120},null,null,{"$f":"SUM(AI29:AK31)","v":0},null,null,null,null,null,null,null,null,null,null,null,null,null,null,"小計",null,null,null,null,{"$f":"SUM(BC29:BE31)","v":700},null,null,{"$f":"SUM(BF29:BH31)","v":0},null,null,null,null,null,null,null,null,null,null,null,null,null,null,{"$f":"SUM(BY29:CC31,CG29:CG31)","v":0},null,{"$f":"SUM(BW29:BW31)","v":0},{"$f":"SUM(BX29:BX31)","v":0},0,null,{"$f":"SUM(CA29:CA31)","v":0},{"$f":"SUM(CB29:CB31)","v":0},0,null,null,null,{"$f":"SUM(CG29:CG31)","v":0}]
["三条市・燕市・加茂市","三条北",null,null,"新アマサ日",null,null,null,null,null,null,null,null,10000,null,null,null,null,null,null,null,null,null,null,null,null,null,null,null,null,null,310,null,null,null,null,null,null,null,null,null,null,null,null,null,null,null,null,null,"三条",null,null,"ヨ",null,5200,null,null,null,null,null,null,null,null,null,null,null,null,null,null,null,null,null,"三条北",20124,0,0,0,0,"",0,0,null,"三条",220129,0,0]
[null,"三条南",null,null,"新アマサ日",null,null,null,null,null,null,null,null,2400,null,null,null,null,null,null,null,null,null,null,null,null,null,null,null,null,null,60,null,null,null,null,null,null,null,null,null,null,null,null,null,null,null,null,null,null,null,null,null,null,null,null,null,null,null,null,null,null,null,null,null,null,null,null,null,null,null,null,"三条南",20125,0,0,0,0,"",0,0,null,null,null,0,0]
[null,"060","小計",null,{"$f":"Q35+T35+W35+AC35+AI35+BF35","v":0},null,null,null,null,null,null,null,null,{"$f":"SUM(N33:P34)","v":12400},null,null,{"$f":"SUM(Q33:S34)","v":0},null,null,null,null,null,null,null,null,null,null,null,null,null,null,{"$f":"SUM(AF33:AH34)","v":370},null,null,{"$f":"SUM(AI33:AK34)","v":0},null,null,null,null,null,null,null,null,null,null,null,null,null,null,"小計",null,null,null,null,{"$f":"SUM(BC33:BE34)","v":5200},null,null,{"$f":"SUM(BF33:BH34)","v":0},null,null,null,null,null,null,null,null,null,null,null,null,null,null,{"$f":"SUM(BY33:CC34,CG33:CG34)","v":0},null,{"$f":"SUM(BW33:BW34)","v":0},{"$f":"SUM(BX33:BX34)","v":0},{"$f":"SUM(BY33:BY34)","v":0},null,{"$f":"SUM(CA33:CA34)","v":0},{"$f":"SUM(CB33:CB34)","v":0},{"$f":"SUM(CC33:CC34)","v":0},null,null,null,{"$f":"SUM(CG33:CG34)","v":0}]
[null,"燕",null,null,"新アマサ日",null,null,{"$f":"N36+W36","v":5850},null,null,null,null,null,5800,null,null,null,null,null,{"$f":"IF(K36=\"\",\"\",IF(K36<=W36,K36,K36-W36))","v":""},null,null,50,null,null,null,null,null,null,null,null,150,null,null,null,null,null,null,null,null,null,null,null,null,null,null,null,null,null,"燕",null,null,"ヨ",null,3300,null,null,null,null,null,null,null,null,null,null,null,null,null,null,null,null,null,"燕",20130,0,"",0,0,"",0,0,null,"燕",220134,0,0]
[null,"燕南",null,null,"新アマサ日",null,null,null,null,null,null,null,null,1050,null,null,null,null,null,null,null,null,null,null,null,null,null,null,null,null,null,30,null,null,null,null,null,null,null,null,null,null,null,null,null,null,null,null,null,null,null,null,null,null,null,null,null,null,null,null,null,null,null,null,null,null,null,null,null,null,null,null,"燕南",20131,0,0,0,0,"",0,0,null,null,null,0,0]
[null,"070","小計",null,{"$f":"Q38+T38+W38+AC38+AI38+BF38","v":0},null,null,{"$f":"SUM(H36:J37)","v":5850},null,null,{"$f":"SUM(K36:M37)","v":0},null,null,{"$f":"SUM(N36:P37)","v":6850},null,null,{"$f":"SUM(Q36:S37)","v":0},null,null,{"$f":"SUM(T36:V37)","v":0},null,null,{"$f":"CA38","v":0},null,null,null,null,null,null,null,null,{"$f":"SUM(AF36:AH37)","v":180},null,null,{"$f":"SUM(AI36:AK37)","v":0},null,null,null,null,null,null,null,null,null,null,null,null,null,null,"小計",null,null,null,null,{"$f":"SUM(BC36:BE37)","v":3300},null,null,{"$f":"SUM(BF36:BH37)","v":0},null,null,null,null,null,null,null,null,null,null,null,null,null,null,{"$f":"SUM(BY36:CC37,CG36:CG37)","v":0},null,{"$f":"SUM(BW36:BW37)","v":0},{"$f":"SUM(BX36:BX37)","v":0},0,null,{"$f":"SUM(CA36:CA37)","v":0},{"$f":"SUM(CB36:CB37)","v":0},0,null,null,null,{"$f":"SUM(CG36:CG37)","v":0}]
[null,"加茂",null,null,"新アマサ日",null,null,{"$f":"N39+W39","v":7750},null,null,null,null,null,7670,null,null,null,null,null,{"$f":"IF(K39=\"\",\"\",IF(K39<=W39,K39,K39-W39))","v":""},null,null,80,null,null,null,null,null,null,null,null,260,null,null,null,null,null,null,null,null,null,null,null,null,null,null,null,null,null,"加茂",null,null,"ヨ",null,1700,null,null,null,null,null,null,null,null,null,null,null,null,null,null,null,null,null,"加茂",20135,0,"",0,0,"",0,0,null,"加茂",220137,0,0]
[null,"080","小計",null,{"$f":"Q40+T40+W40+AC40+AI40+BF40","v":0},null,null,{"$f":"SUM(H39)","v":7750},null,null,{"$f":"SUM(K39)","v":0},null,null,{"$f":"SUM(N39)","v":7670},null,null,{"$f":"SUM(Q39)","v":0},null,null,{"$f":"SUM(T39)","v":0},null,null,{"$f":"CA40","v":0},null,null,null,null,null,null,null,null,{"$f":"SUM(AF39)","v":260},null,null,{"$f":"SUM(AI39)","v":0},null,null,null,null,null,null,null,null,null,null,null,null,null,null,"小計",null,null,null,null,{"$f":"SUM(BC39)","v":1700},null,null,{"$f":"SUM(BF39)","v":0},null,null,null,null,null,null,null,null,null,null,null,null,null,null,{"$f":"SUM(BY39:CC39,CG39)","v":0},null,{"$f":"SUM(BW39)","v":0},{"$f":"SUM(BX39)","v":0},0,null,{"$f":"SUM(CA39)","v":0},{"$f":"SUM(CB39)","v":0},0,null,null,null,{"$f":"SUM(CG39)","v":0}]
["旧南蒲原郡","下田",null,null,"合",null,null,null,null,null,null,null,null,2050,null,null,null,null,null,null,null,null,null,null,null,null,null,null,null,null,null,null,null,null,null,null,null,null,null,null,null,null,null,null,null,null,null,null,null,null,null,null,null,null,null,null,null,null,null,null,null,null,null,null,null,null,null,null,null,null,null,null,"下田",20139,0,0,0,0,"",0,0,null,null,null,0,0]
[null,"栄山嵜",null,null,"合",null,null,null,null,null,null,null,null,1150,null,null,null,null,null,null,null,null,null,null,null,null,null,null,null,null,null,null,null,null,null,null,null,null,null,null,null,null,null,null,null,null,null,null,null,null,null,null,null,null,null,null,null,null,null,null,null,null,null,null,null,null,null,null,null,null,null,null,"栄山嵜",20140,0,0,0,0,"",0,0,null,null,null,0,0]
[null,"栄吉田",null,null,"合",null,null,null,null,null,null,null,null,300,null,null,null,null,null,null,null,null,null,null,null,null,null,null,null,null,null,null,null,null,null,null,null,null,null,null,null,null,null,null,null,null,null,null,null,null,null,null,null,null,null,null,null,null,null,null,null,null,null,null,null,null,null,null,null,null,null,null,"栄吉田",20141,0,0,0,0,"",0,0,null,null,null,0,0]
[null,"帯織",null,null,"合",null,null,null,null,null,null,null,null,350,null,null,null,null,null,null,null,null,null,null,null,null,null,null,null,null,null,null,null,null,null,null,null,null,null,null,null,null,null,null,null,null,null,null,null,null,null,null,null,null,null,null,null,null,null,null,null,null,null,null,null,null,null,null,null,null,null,null,"帯織",20143,0,0,0,0,"",0,0,null,null,null,0,0]
[null,"090","小計",null,{"$f":"Q45+T45+W45+AC45+AI45+BF45","v":0},null,null,null,null,null,null,null,null,{"$f":"SUM(N41:P44)","v":3850},null,null,{"$f":"SUM(Q41:S44)","v":0},null,null,null,null,null,null,null,null,null,null,null,null,null,null,null,null,null,null,null,null,null,null,null,null,null,null,null,null,null,null,null,null,"小計",null,null,null,null,null,null,null,null,null,null,null,null,null,null,null,null,null,null,null,null,null,null,{"$f":"SUM(BY41:CC44,CG41:CG44)","v":0},null,{"$f":"SUM(BW41:BW44)","v":0},{"$f":"SUM(BX41:BX44)","v":0},0,null,{"$f":"SUM(CA41:CA44)","v":0},{"$f":"SUM(CB41:CB44)","v":0},0,null,null,null,{"$f":"SUM(CG41:CG44)","v":0}]
["旧豊栄市","豊栄",null,null,"新アマ日",null,null,{"$f":"N46+W46","v":6010},null,null,null,null,null,5590,null,null,null,null,null,{"$f":"IF(K46=\"\",\"\",IF(K46<=W46,K46,K46-W46))","v":""},null,null,420,null,null,5720,null,null,null,null,null,260,null,null,null,null,null,null,null,null,null,null,null,null,null,null,null,null,null,"豊栄",null,null,"ヨサ日",null,880,null,null,null,null,null,null,null,null,null,null,null,null,null,null,null,null,null,"豊栄",20179,{"$f":"Q46","v":0},{"$f":"T46","v":""},{"$f":"SUM(BW46:BX46)","v":0},{"$f":"AL46","v":0},"",{"$f":"AC46","v":0},{"$f":"AI46","v":0},null,"豊栄",220145,0,0]
[null,"木崎",null,null,"合",null,null,{"$f":"N47+W47","v":2390},null,null,null,null,null,2340,null,null,null,null,null,"",null,null,50,null,null,1200,null,null,null,null,null,70,null,null,null,null,null,null,null,null,null,null,null,null,null,null,null,null,null,null,null,null,null,null,null,null,null,null,null,null,null,null,null,null,null,null,null,null,null,null,null,null,"木崎",20146,{"$f":"Q47","v":0},{"$f":"T47","v":""},{"$f":"SUM(BW47:BX47)","v":0},{"$f":"AL47","v":0},{"$f":"IF($K47>$W47,$W47,\"\")","v":""},{"$f":"AC47","v":0},{"$f":"AI47","v":0},null,null,null,0,0]
[null,"100","小計",null,{"$f":"Q48+T48+W48+AC48+AI48+BF48","v":0},null,null,{"$f":"SUM(H46:J47)","v":8400},null,null,{"$f":"SUM(K46:M47)","v":0},null,null,{"$f":"SUM(N46:P47)","v":7930},null,null,{"$f":"SUM(Q46:S47)","v":0},null,null,{"$f":"SUM(T46:V47)","v":0},null,null,{"$f":"CA48","v":0},null,null,{"$f":"SUM(Z46:AB47)","v":6920},null,null,{"$f":"SUM(AC46:AE47)","v":0},null,null,{"$f":"SUM(AF46:AH47)","v":330},null,null,{"$f":"SUM(AI46:AK47)","v":0},null,null,null,null,null,null,null,null,null,null,null,null,null,null,"小計",null,null,null,null,{"$f":"SUM(BC46:BE47)","v":880},null,null,{"$f":"SUM(BF46:BH47)","v":0},null,null,null,null,null,null,null,null,null,null,null,null,null,null,{"$f":"SUM(BY46:CC47,CG46:CG47)","v":0},null,{"$f":"SUM(BW46:BW47)","v":0},{"$f":"SUM(BX46:BX47)","v":0},{"$f":"SUM(BY46:BY47)","v":0},null,{"$f":"SUM(CA46:CA47)","v":0},{"$f":"SUM(CB46:CB47)","v":0},{"$f":"SUM(CC46:CC47)","v":0},null,null,null,{"$f":"SUM(CG46:CG47)","v":0}]
["合計",null,null,null,{"$f":"SUM(E48,E45,E40,E38,E35,E32,E28,E24,E21,E17)","v":0},null,null,{"$f":"SUM(H48,H45,H40,H38,H35,H32,H28,H24,H21,H17)","v":58400},null,null,{"$f":"SUM(K48,K45,K40,K38,K35,K32,K28,K24,K21,K17)","v":0},null,null,{"$f":"SUM(N48,N45,N40,N38,N35,N32,N28,N24,N21,N17)","v":98680},null,null,{"$f":"SUM(Q48,Q45,Q40,Q38,Q35,Q32,Q28,Q24,Q21,Q17)","v":0},null,null,{"$f":"SUM(T48,T45,T40,T38,T35,T32,T28,T24,T21,T17)","v":0},null,null,{"$f":"SUM(W48,W45,W40,W38,W35,W32,W28,W24,W21,W17)","v":0},null,null,{"$f":"SUM(Z48,Z45,Z40,Z38,Z35,Z32,Z28,Z24,Z21,Z17)","v":6920},null,null,{"$f":"SUM(AC48,AC45,AC40,AC38,AC35,AC32,AC28,AC24,AC21,AC17)","v":0},null,null,{"$f":"SUM(AF48,AF45,AF40,AF38,AF35,AF32,AF28,AF24,AF21,AF17)","v":2720},null,null,{"$f":"SUM(AI48,AI45,AI40,AI38,AI35,AI32,AI28,AI24,AI21,AI17)","v":0},null,null,null,null,null,null,null,null,null,null,null,null,null,null,"合計",null,null,null,null,{"$f":"SUM(BC48,BC45,BC40,BC38,BC35,BC32,BC28,BC24,BC21,BC17)","v":13130},null,null,{"$f":"SUM(BF48,BF45,BF40,BF38,BF35,BF32,BF28,BF24,BF21,BF17)","v":0},null,null,null,null,null,null,null,null,null,null,null,null,null,null,{"$f":"SUM(BU48,BU45,BU40,BU38,BU35,BU32,BU28,BU24,BU21,BU17)","v":0},null,{"$f":"SUM(BW48,BW45,BW40,BW38,BW35,BW32,BW28,BW24,BW21,BW17)","v":0},{"$f":"SUM(BX48,BX45,BX40,BX38,BX35,BX32,BX28,BX24,BX21,BX17)","v":0},{"$f":"SUM(BY48,BY45,BY40,BY38,BY35,BY32,BY28,BY24,BY21,BY17)","v":0},null,{"$f":"SUM(CA48,CA45,CA40,CA38,CA35,CA32,CA28,CA24,CA21,CA17)","v":0},{"$f":"SUM(CB48,CB45,CB40,CB38,CB35,CB32,CB28,CB24,CB21,CB17)","v":0},{"$f":"SUM(CC48,CC45,CC40,CC38,CC35,CC32,CC28,CC24,CC21,CC17)","v":0},null,null,null,{"$f":"SUM(CG48,CG45,CG40,CG38,CG35,CG32,CG28,CG24,CG21,CG17)","v":0},null,{"$f":"SUM(BY49:CH49)","v":0}]
[null,null,null,null,null,null,null,null,null,null,null,null,null,null,null,null,null,null,null,null,null,null,null,null,null,null,null,null,null,null,null,"■Otona+ ※ がある販売店は一部朝刊宅配エリアがございます。",null,null,null,null,null,null,null,null,null,null,null,null,null,null,null,null,null,null,null,null,null,null,null,null,null,null,null,null,null,null,null,null,null,null,null,null,null,null,null,null,null,null,null,null,{"$f":"SUM(BY49,CG49)","v":0}]

{"sheet":"下越２","index":4,"n_rows":54,"n_cols":87,"rows_kept":54,"cut":false,"hidden":false,"merged":[[52,19,52,21],[52,22,52,24],[52,25,52,27],[4,27,4,28],[2,27,2,28],[4,12,4,26],[25,13,25,15],[24,16,24,18],[37,16,37,18],[32,16,32,18],[34,16,34,18],[35,16,35,18],[7,25,7,27],[7,28,7,30],[10,16,10,18],[11,7,11,12],[12,10,12,12],[12,13,12,15],[12,16,12,18],[10,13,10,15],[16,7,16,9],[12,28,12,30],[8,25,8,27],[8,19,8,21],[3,63,3,70],[4,49,4,55],[4,56,4,62],[4,63,4,70],[2,29,2,33],[3,29,3,33],[4,29,4,33],[2,63,2,70],[2,56,2,62],[3,49,3,55],[3,56,3,62],[52,0,52,3],[10,31,11,36],[9,60,11,70],[12,54,12,56],[12,57,12,59],[12,49,12,53],[7,49,7,51],[7,52,7,53],[9,28,9,30],[8,1,8,3],[8,4,8,6],[52,28,52,30],[52,31,52,33],[52,34,52,36],[52,37,52,48],[52,49,52,53],[52,54,52,56],[52,57,52,59],[52,60,52,70],[52,4,52,6],[52,7,52,9],[52,10,52,12],[52,13,52,15],[52,16,52,18],[12,60,12,70],[8,57,8,59],[8,54,8,56],[15,37,15,48],[13,37,13,48],[10,25,10,30],[7,34,7,36],[13,57,13,59],[13,52,13,53],[8,52,8,53],[8,37,8,48],[11,37,11,48],[13,54,13,56],[7,31,7,33],[13,60,13,70],[13,49,13,51],[8,49,8,51],[8,34,8,36],[11,28,11,30],[39,37,39,48],[27,37,27,48],[28,37,28,48],[12,19,12,21],[12,31,12,33],[12,34,12,36],[16,19,16,21],[16,34,16,36],[36,37,36,48],[23,37,23,48],[26,37,26,48],[14,37,14,48],[38,31,39,36],[28,31,34,36],[38,37,38,48],[13,19,15,24],[16,37,16,48],[29,37,29,48],[28,19,34,24],[22,19,22,21],[12,25,12,27],[25,37,25,48],[24,37,24,48],[27,19,27,21],[2,0,2,11],[14,13,14,15],[14,16,14,18],[13,1,13,3],[13,4,13,6],[15,13,15,15],[15,16,15,18],[13,13,13,15],[13,16,13,18],[10,10,10,12],[9,1,9,3],[9,4,9,6],[9,7,9,9],[10,4,10,6],[4,0,4,11],[6,1,6,24],[6,0,7,0],[3,0,3,11],[3,12,3,28],[11,1,11,3],[8,22,8,24],[11,4,11,6],[11,25,11,27],[11,13,11,18],[46,60,46,70],[47,60,47,70],[45,57,45,59],[51,13,51,15],[51,16,51,18],[50,13,50,15],[49,13,49,15],[50,16,50,18],[49,16,49,18],[49,37,49,48],[46,13,46,15],[45,52,45,53],[45,49,45,51],[51,25,51,27],[51,28,51,30],[51,31,51,33],[51,34,51,36],[51,37,51,48],[48,57,48,59],[48,49,48,51],[51,19,51,21],[51,22,51,24],[51,60,51,70],[41,25,50,30],[40,37,40,48],[41,37,41,48],[50,60,50,70],[18,10,18,12],[24,1,24,3],[43,57,43,59],[23,60,26,70],[27,60,27,70],[40,60,40,70],[42,60,42,70],[40,54,40,56],[40,57,40,59],[22,37,22,48],[18,57,18,59],[23,31,26,36],[28,49,34,59],[23,49,26,59],[36,49,36,59],[35,37,35,48],[38,57,38,59],[22,22,22,24],[42,13,42,15],[40,4,40,6],[36,19,36,24],[17,7,17,12],[49,52,49,53],[49,49,49,51],[41,54,41,56],[49,54,49,56],[48,60,48,70],[46,57,46,59],[48,54,48,56],[45,54,45,56],[44,49,44,51],[49,60,49,70],[41,49,41,51],[42,54,42,56],[42,57,42,59],[46,54,46,56],[43,52,43,53],[43,60,43,70],[44,60,44,70],[47,52,47,53],[41,57,41,59],[45,60,45,70],[41,60,41,70],[41,52,41,53],[40,49,40,53],[1,56,1,62],[2,49,2,55],[7,54,7,56],[7,57,7,59],[38,49,38,51],[38,60,38,70],[38,52,38,53],[38,54,38,56],[39,60,39,70],[14,52,14,53],[37,60,37,70],[39,52,39,53],[39,49,39,51],[39,54,39,56],[39,57,39,59],[19,60,21,70],[28,60,34,70],[15,60,17,70],[36,60,36,70],[35,60,35,70],[18,60,18,70],[22,60,22,70],[14,57,14,59],[14,54,14,56],[0,22,0,23],[0,60,0,70],[6,37,7,48],[6,49,6,59],[6,60,7,70],[10,37,10,48],[9,22,9,24],[9,31,9,33],[9,34,9,36],[8,31,8,33],[8,60,8,70],[1,63,1,70],[2,12,2,26],[9,25,9,27],[8,28,8,30],[9,37,9,48],[1,49,1,55],[7,10,7,12],[7,13,7,15],[1,0,1,11],[1,12,1,28],[1,29,1,33],[1,34,1,48],[2,34,4,48],[8,0,12,0],[12,37,12,48],[12,7,12,9],[6,25,6,30],[6,31,6,36],[38,25,39,30],[7,1,7,3],[7,4,7,6],[7,16,7,18],[7,19,7,21],[7,22,7,24],[9,13,9,15],[9,16,9,18],[9,19,9,21],[8,7,8,9],[8,10,8,12],[8,13,8,15],[8,16,8,18],[9,10,9,12],[7,7,7,9],[13,25,15,30],[17,19,17,24],[10,22,10,24],[10,1,10,3],[10,7,10,9],[12,22,12,24],[10,19,10,21],[11,19,11,24],[16,31,16,33],[16,22,16,24],[17,13,17,15],[17,16,17,18],[19,37,19,48],[18,28,18,30],[18,25,18,27],[18,16,18,18],[19,31,21,36],[17,37,17,48],[17,31,17,33],[17,34,17,36],[13,7,15,12],[18,13,18,15],[16,10,16,12],[16,13,16,15],[16,16,16,18],[17,25,17,30],[16,25,16,27],[16,28,16,30],[48,13,48,15],[48,16,48,18],[47,16,47,18],[46,16,46,18],[42,37,42,48],[45,13,45,15],[44,37,44,48],[45,37,45,48],[41,16,41,18],[42,16,42,18],[43,16,43,18],[44,16,44,18],[47,13,47,15],[44,13,44,15],[43,13,43,15],[37,37,37,48],[35,4,35,6],[30,1,30,3],[30,4,30,6],[33,1,33,3],[33,4,33,6],[34,4,34,6],[32,4,32,6],[28,25,34,30],[32,37,32,48],[31,37,31,48],[34,37,34,48],[30,37,30,48],[33,37,33,48],[28,16,28,18],[30,16,30,18],[37,19,37,21],[37,22,37,24],[37,7,37,9],[37,10,37,12],[39,4,39,6],[38,1,38,3],[38,4,38,6],[41,13,41,15],[21,13,21,15],[21,16,21,18],[18,7,18,9],[26,1,26,3],[23,16,23,18],[36,7,36,12],[30,13,30,15],[32,1,32,3],[19,7,21,12],[28,13,28,15],[27,13,27,15],[24,13,24,15],[29,13,29,15],[29,16,29,18],[31,13,31,15],[31,16,31,18],[32,13,32,15],[34,13,34,15],[33,16,33,18],[37,13,37,15],[18,54,18,56],[19,13,19,15],[19,16,19,18],[18,49,18,53],[18,31,18,33],[18,34,18,36],[18,37,18,48],[20,37,20,48],[20,13,20,15],[20,16,20,18],[19,25,21,30],[21,37,21,48],[18,19,18,21],[18,22,18,24],[19,19,21,24],[6,72,6,77],[6,82,6,85],[29,1,29,3],[29,4,29,6],[31,1,31,3],[31,4,31,6],[17,1,17,3],[17,4,17,6],[19,49,21,59],[15,49,17,59],[14,60,14,70],[14,49,14,51],[13,31,15,36],[12,4,12,6],[18,4,18,6],[22,4,22,6],[9,49,11,59],[19,1,19,3],[19,4,19,6],[22,13,22,15],[22,16,22,18],[21,1,21,3],[21,4,21,6],[27,16,27,18],[42,52,42,53],[43,54,43,56],[42,49,42,51],[46,52,46,53],[46,49,46,51],[43,49,43,51],[47,37,47,48],[48,37,48,48],[41,19,50,24],[41,31,50,36],[46,37,46,48],[43,37,43,48],[50,37,50,48],[51,57,51,59],[50,49,50,51],[50,52,50,53],[50,54,50,56],[50,57,50,59],[51,49,51,53],[47,57,47,59],[47,49,47,51],[44,52,44,53],[44,54,44,56],[44,57,44,59],[49,57,49,59],[47,54,47,56],[48,52,48,53],[51,54,51,56],[22,7,22,9],[22,10,22,12],[23,19,26,24],[23,7,26,12],[26,13,26,15],[27,7,27,9],[27,22,27,24],[35,22,35,24],[27,10,27,12],[35,7,35,9],[35,10,35,12],[40,13,40,15],[40,16,40,18],[38,13,38,15],[39,13,39,15],[35,13,35,15],[39,16,39,18],[36,16,36,18],[38,16,38,18],[23,13,23,15],[26,16,26,18],[25,16,25,18],[33,13,33,15],[36,13,36,15],[20,4,20,6],[12,2,12,3],[25,1,25,3],[25,4,25,6],[28,1,28,3],[28,4,28,6],[23,4,23,6],[26,4,26,6],[27,4,27,6],[14,1,14,3],[14,4,14,6],[24,4,24,6],[23,1,23,3],[15,4,15,6],[16,1,16,3],[16,4,16,6],[20,1,20,3],[51,4,51,6],[36,1,36,3],[36,4,36,6],[37,4,37,6],[45,1,45,3],[45,4,45,6],[41,1,41,3],[41,4,41,6],[49,1,49,3],[49,4,49,6],[48,1,48,3],[46,4,46,6],[50,4,50,6],[44,1,44,3],[48,4,48,6],[47,1,47,3],[47,4,47,6],[46,1,46,3],[44,4,44,6],[43,1,43,3],[43,4,43,6],[42,1,42,3],[42,4,42,6],[39,1,39,3],[23,0,27,0],[18,2,18,3],[22,2,22,3],[27,2,27,3],[35,2,35,3],[37,2,37,3],[40,2,40,3],[51,2,51,3],[19,0,22,0],[50,1,50,3],[13,0,18,0],[15,1,15,3],[39,0,51,0],[28,0,37,0],[34,1,34,3],[40,7,40,9],[40,10,40,12],[51,7,51,9],[51,10,51,12],[28,7,34,12],[38,7,39,12],[41,7,50,12],[22,25,22,27],[22,28,22,30],[27,25,27,27],[27,28,27,30],[35,25,35,27],[35,28,35,30],[37,25,37,27],[37,28,37,30],[40,25,40,27],[40,28,40,30],[36,25,36,30],[23,25,26,30],[40,19,40,21],[40,22,40,24],[38,19,39,24],[35,19,35,21],[45,16,45,18],[22,34,22,36],[22,31,22,33],[27,31,27,33],[27,34,27,36],[35,31,35,33],[35,34,35,36],[37,31,37,33],[37,34,37,36],[40,31,40,33],[40,34,40,36],[36,31,36,36],[37,57,37,59],[22,49,22,53],[22,54,22,56],[22,57,22,59],[27,49,27,53],[27,54,27,56],[27,57,27,59],[35,49,35,53],[35,54,35,56],[35,57,35,59],[37,49,37,53],[37,54,37,56]]}
[null,null,null,null,null,null,null,null,null,null,null,null,null,null,null,null,null,null,null,null,null,null,null,null,null,null,null,null,null,null,null,null,null,null,null,null,null,null,null,null,null,null,null,null,null,null,null,null,null,null,null,null,null,null,null,null,null,null,null,null,{"$f":"新潟市!BI1","v":"２０２３年１１月１日 現在"}]
["折込日",null,null,null,null,null,null,null,null,null,null,null,"スポンサー名",null,null,null,null,null,null,null,null,null,null,null,null,null,null,null,null,"サイズ",null,null,null,null,"チラシ内容・タイトル詳細",null,null,null,null,null,null,null,null,null,null,null,null,null,null,"朝刊　小計",null,null,null,null,null,null,"Otona＋　小計",null,null,null,null,null,null,"ページ枚数"]
[{"$f":"新潟市!A3","v":"2023/--/--"},null,null,null,null,null,null,null,null,null,null,null,{"$f":"新潟市!M3","v":0},null,null,null,null,null,null,null,null,null,null,null,null,null,null,"様",null,{"$f":"新潟市!AD3","v":0},null,null,null,null,{"$f":"新潟市!AI3","v":0},null,null,null,null,null,null,null,null,null,null,null,null,null,null,{"$f":"BY53+CG53","v":0},null,null,null,null,null,null,{"$f":"CC53","v":0},null,null,null,null,null,null,{"$f":"SUM(AX3,BE3,AX5,BE5)","v":0}]
["assh　ポスティング日",null,null,null,null,null,null,null,null,null,null,null,"ご請求先名",null,null,null,null,null,null,null,null,null,null,null,null,null,null,null,null,"ガタチラ 掲載",null,null,null,null,null,null,null,null,null,null,null,null,null,null,null,null,null,null,null,"くるみる　小計",null,null,null,null,null,null,"assh　小計",null,null,null,null,null,null,"総枚数"]
[{"$f":"新潟市!A5","v":"2023/--/--"},null,null,null,null,null,null,null,null,null,null,null,{"$f":"新潟市!M5","v":0},null,null,null,null,null,null,null,null,null,null,null,null,null,null,"様",null,{"$f":"新潟市!AD5","v":0},null,null,null,null,null,null,null,null,null,null,null,null,null,null,null,null,null,null,null,{"$f":"CA53","v":0},null,null,null,null,null,null,{"$f":"CB53","v":0},null,null,null,null,null,null,{"$f":"新潟市!BL5","v":0}]
[]
["02","新潟日報　",null,null,null,null,null,null,null,null,null,null,null,null,null,null,null,null,null,null,null,null,null,null,null,"ポスティング（ミニック）",null,null,null,null,null,"Otona+",null,null,null,null,null,"備考",null,null,null,null,null,null,null,null,null,null,null,"中央紙",null,null,null,null,null,null,null,null,null,null,"備考",null,null,null,null,null,null,null,null,null,null,null,"朝刊",null,null,null,null,null,"くるみる","assh","otona",null,"中央紙　朝刊"]
[null,"販売店名",null,null,"取扱い紙",null,null,"朝刊＋くるみる",null,null,"配布数",null,null,"朝刊扱数",null,null,"配布数",null,null,"朝刊数",null,null,"くるみる数",null,null,"部数",null,null,"配布数",null,null,"部数",null,null,"配布数",null,null,null,null,null,null,null,null,null,null,null,null,null,null,"販売店名",null,null,"取扱い紙",null,"部数",null,null,"配布数",null,null,null,null,null,null,null,null,null,null,null,null,null,null,"販売店名","E","朝刊1","朝刊２","部","指示","部","部","部",null,"販売店名","E","部","指示"]
["新発田市","新発田西",null,null,"新アマ日",null,null,{"$f":"N9+W9","v":10630},null,null,null,null,null,9900,null,null,null,null,null,{"$f":"IF(K9=\"\",\"\",IF(K9<=W9,K9,K9-W9))","v":""},null,null,730,null,null,10800,null,null,null,null,null,360,null,null,null,null,null,null,null,null,null,null,null,null,null,null,null,null,null,"新発田",null,null,"ヨサ",null,3200,null,null,null,null,null,null,null,null,null,null,null,null,null,null,null,null,null,"新発田西",20148,{"$f":"Q9","v":0},{"$f":"T9","v":""},{"$f":"SUM(BW9:BX9)","v":0},{"$f":"AL9","v":0},{"$f":"IF($K9>$W9,$W9,\"\")","v":""},{"$f":"AC9","v":0},{"$f":"AI9","v":0},null,"新発田",220152,{"$f":"BF9","v":0},{"$f":"BI9","v":0}]
[null,"新発田東",null,null,"新アマ日",null,null,{"$f":"N10+W10","v":10140},null,null,null,null,null,9600,null,null,null,null,null,{"$f":"IF(K10=\"\",\"\",IF(K10<=W10,K10,K10-W10))","v":""},null,null,540,null,null,7250,null,null,null,null,null,310,null,null,null,null,null,null,null,null,null,null,null,null,null,null,null,null,null,null,null,null,null,null,null,null,null,null,null,null,null,null,null,null,null,null,null,null,null,null,null,null,"新発田東",20149,{"$f":"Q10","v":0},{"$f":"T10","v":""},{"$f":"SUM(BW10:BX10)","v":0},{"$f":"AL10","v":0},{"$f":"IF($K10>$W10,$W10,\"\")","v":""},{"$f":"AC10","v":0},{"$f":"AI10","v":0},null,null,null,{"$f":"BF10","v":0}]
[null,"月岡",null,null,"合",null,null,2030,null,null,null,null,null,2000,null,null,null,null,null,{"$f":"IF(K11=\"\",\"\",IF(K11<=W11,K11,K11-W11))","v":""},null,null,30,null,null,null,null,null,null,null,null,null,null,null,null,null,null,null,null,null,null,null,null,null,null,null,null,null,null,null,null,null,null,null,null,null,null,null,null,null,null,null,null,null,null,null,null,null,null,null,null,null,"月岡",20153,0,"",0,0,"",0,0,null,null,null,0]
[null,"※木崎ミニック",null,null,null,null,null,null,null,null,null,null,null,null,null,null,null,null,null,null,null,null,null,null,null,120,null,null,null,null,null,null,null,null,null,null,null,null,null,null,null,null,null,null,null,null,null,null,null,null,null,null,null,null,null,null,null,null,null,null,null,null,null,null,null,null,null,null,null,null,null,null,"※木崎ミニック",20180,0,0,0,0,"",0,0,null,null,null,0]
[null,110,"小計",null,{"$f":"Q13+T13+W13+AC13+AI13+BF13","v":0},null,null,{"$f":"SUM(H9:J12)","v":22800},null,null,{"$f":"SUM(K9:M12)","v":0},null,null,{"$f":"SUM(N9:P12)","v":21500},null,null,{"$f":"SUM(Q9:S12)","v":0},null,null,{"$f":"SUM(T9:V12)","v":0},null,null,{"$f":"CA13","v":0},null,null,{"$f":"SUM(Z9:AB12)","v":18170},null,null,{"$f":"SUM(AC9:AE12)","v":0},null,null,{"$f":"SUM(AF9:AH12)","v":670},null,null,{"$f":"SUM(AI9:AK12)","v":0},null,null,null,null,null,null,null,null,null,null,null,null,null,null,"小計",null,null,null,null,{"$f":"SUM(BC9:BE12)","v":3200},null,null,{"$f":"SUM(BF9:BH12)","v":0},null,null,null,null,null,null,null,null,null,null,null,null,null,null,{"$f":"SUM(BY13,CA13:CC13,CG13)","v":0},null,{"$f":"SUM(BW9:BW12)","v":0},{"$f":"SUM(BX9:BX12)","v":0},0,0,{"$f":"SUM(CA9:CA12)","v":0},0,0,null,null,null,{"$f":"SUM(CG9:CG12)","v":0}]
["旧北蒲原郡","中条東",null,null,"新アマ日",null,null,null,null,null,null,null,null,1900,null,null,null,null,null,null,null,null,null,null,null,null,null,null,null,null,null,null,null,null,null,null,null,null,null,null,null,null,null,null,null,null,null,null,null,"中条",null,null,"ヨ",null,1000,null,null,null,null,null,null,null,null,null,null,null,null,null,null,null,null,null,"中条東",20154,0,0,0,0,"",0,0,null,"中条",220156,0,{"$f":"BI14","v":0}]
[null,"西中条",null,null,"新アマ日",null,null,null,null,null,null,null,null,1480,null,null,null,null,null,null,null,null,null,null,null,null,null,null,null,null,null,null,null,null,null,null,null,null,null,null,null,null,null,null,null,null,null,null,null,"水原",null,null,"ヨサ",null,1180,null,null,null,null,null,null,null,null,null,null,null,null,null,null,null,null,null,"西中条",20155,0,0,0,0,"",0,0,null,"水原",220160,0,0]
[null,"黒川",null,null,"合",null,null,null,null,null,null,null,null,2180,null,null,null,null,null,null,null,null,null,null,null,null,null,null,null,null,null,null,null,null,null,null,null,null,null,null,null,null,null,null,null,null,null,null,null,null,null,null,null,null,null,null,null,null,null,null,null,null,null,null,null,null,null,null,null,null,null,null,"黒川",20157,0,0,0,0,"",0,0,null,null,null,0]
[null,"水原",null,null,"新アマ日",null,null,{"$f":"N17+W17","v":6000},null,null,null,null,null,5800,null,null,null,null,null,{"$f":"IF(K17=\"\",\"\",IF(K17<=W17,K17,K17-W17))","v":""},null,null,200,null,null,100,null,null,null,null,null,120,null,null,null,null,null,null,null,null,null,null,null,null,null,null,null,null,null,null,null,null,null,null,null,null,null,null,null,null,null,null,null,null,null,null,null,null,null,null,null,null,"水原",20158,0,"",0,0,"",0,0,null,null,null,0]
[null,"保田",null,null,"合",null,null,null,null,null,null,null,null,2450,null,null,null,null,null,null,null,null,null,null,null,null,null,null,null,null,null,110,null,null,null,null,null,null,null,null,null,null,null,null,null,null,null,null,null,null,null,null,null,null,null,null,null,null,null,null,null,null,null,null,null,null,null,null,null,null,null,null,"保田",20161,0,0,0,0,"",0,0,null,null,null,0]
[null,"120","小計",null,{"$f":"Q19+T19+W19+AC19+AI19+BF19","v":0},null,null,{"$f":"SUM(H14:J18)","v":6000},null,null,{"$f":"SUM(K14:M18)","v":0},null,null,{"$f":"SUM(N14:P18)","v":13810},null,null,{"$f":"SUM(Q14:S18)","v":0},null,null,{"$f":"SUM(T14:V18)","v":0},null,null,{"$f":"CA19","v":0},null,null,{"$f":"SUM(Z14:AB18)","v":100},null,null,{"$f":"SUM(AC14:AE18)","v":0},null,null,{"$f":"SUM(AF14:AH18)","v":230},null,null,{"$f":"SUM(AI14:AK18)","v":0},null,null,null,null,null,null,null,null,null,null,null,null,null,null,"小計",null,null,null,null,{"$f":"SUM(BC14:BE18)","v":2180},null,null,{"$f":"SUM(BF14:BH18)","v":0},null,null,null,null,null,null,null,null,null,null,null,null,null,null,{"$f":"SUM(BY19,CA19:CC19,CG19)","v":0},null,{"$f":"SUM(BW14:BW18)","v":0},{"$f":"SUM(BX14:BX18)","v":0},0,null,{"$f":"SUM(CA14:CA18)","v":0},{"$f":"SUM(CB14:CB18)","v":0},0,null,null,null,{"$f":"SUM(CG14:CG18)","v":0}]
["村上市","村上",null,null,"合",null,null,null,null,null,null,null,null,7400,null,null,null,null,null,null,null,null,null,null,null,null,null,null,null,null,null,null,null,null,null,null,null,null,null,null,null,null,null,null,null,null,null,null,null,null,null,null,null,null,null,null,null,null,null,null,null,null,null,null,null,null,null,null,null,null,null,null,"村上",20162,0,0,0,0,"",0,0,null,null,null,0]
[null,"岩船",null,null,"合",null,null,null,null,null,null,null,null,2280,null,null,null,null,null,null,null,null,null,null,null,null,null,null,null,null,null,null,null,null,null,null,null,null,null,null,null,null,null,null,null,null,null,null,null,null,null,null,null,null,null,null,null,null,null,null,null,null,null,null,null,null,null,null,null,null,null,null,"岩船",20163,0,0,0,0,"",0,0,null,null,null,0]
[null,"越後早川",null,null,"合",null,null,null,null,null,null,null,null,320,null,null,null,null,null,null,null,null,null,null,null,null,null,null,null,null,null,null,null,null,null,null,null,null,null,null,null,null,null,null,null,null,null,null,null,null,null,null,null,null,null,null,null,null,null,null,null,null,null,null,null,null,null,null,null,null,null,null,"越後早川",20164,0,0,0,0,"",0,0,null,null,null,0]
[null,"130","小計",null,{"$f":"Q23+T23+W23+AC23+AI23+BF23","v":0},null,null,null,null,null,null,null,null,{"$f":"SUM(N20:P22)","v":10000},null,null,{"$f":"SUM(Q20:S22)","v":0},null,null,null,null,null,null,null,null,null,null,null,null,null,null,null,null,null,null,null,null,null,null,null,null,null,null,null,null,null,null,null,null,"小計",null,null,null,null,null,null,null,null,null,null,null,null,null,null,null,null,null,null,null,null,null,null,{"$f":"SUM(BY23,CA23:CC23,CG23)","v":0},null,{"$f":"SUM(BW20:BW22)","v":0},{"$f":"SUM(BX20:BX22)","v":0},0,null,{"$f":"SUM(CA20:CA22)","v":0},{"$f":"SUM(CB20:CB22)","v":0},0,null,null,null,{"$f":"SUM(CG20:CG22)","v":0}]
["岩船郡","坂町",null,null,"合",null,null,null,null,null,null,null,null,1920,null,null,null,null,null,null,null,null,null,null,null,null,null,null,null,null,null,null,null,null,null,null,null,null,null,null,null,null,null,null,null,null,null,null,null,null,null,null,null,null,null,null,null,null,null,null,null,null,null,null,null,null,null,null,null,null,null,null,"坂町",20165,0,0,0,0,"",0,0,null,null,null,0,{"$f":"BI51","v":0}]
[null,"関川",null,null,"合",null,null,null,null,null,null,null,null,1200,null,null,null,null,null,null,null,null,null,null,null,null,null,null,null,null,null,null,null,null,null,null,null,null,null,null,null,null,null,null,null,null,null,null,null,null,null,null,null,null,null,null,null,null,null,null,null,null,null,null,null,null,null,null,null,null,null,null,"関川",20167,0,0,0,0,"",0,0,null,null,null,0,0]
[null,"府屋",null,null,"合",null,null,null,null,null,null,null,null,960,null,null,null,null,null,null,null,null,null,null,null,null,null,null,null,null,null,null,null,null,null,null,null,null,null,null,null,null,null,null,null,null,null,null,null,null,null,null,null,null,null,null,null,null,null,null,null,null,null,null,null,null,null,null,null,null,null,null,"府屋",20170,0,0,0,0,"",0,0,null,null,null,0,{"$f":"BI54","v":0}]
[null,"黒川俣",null,null,"合",null,null,null,null,null,null,null,null,200,null,null,null,null,null,null,null,null,null,null,null,null,null,null,null,null,null,null,null,null,null,null,null,null,null,null,null,null,null,null,null,null,null,null,null,null,null,null,null,null,null,null,null,null,null,null,null,null,null,null,null,null,null,null,null,null,null,null,"黒川俣",20172,0,0,0,0,"",0,0,null,null,null,0,{"$f":"BI53","v":0}]
[null,"140","小計",null,{"$f":"Q28+T28+W28+AC28+AI28+BF28","v":0},null,null,null,null,null,null,null,null,{"$f":"SUM(N24:P27)","v":4280},null,null,{"$f":"SUM(Q24:S27)","v":0},null,null,null,null,null,null,null,null,null,null,null,null,null,null,null,null,null,null,null,null,null,null,null,null,null,null,null,null,null,null,null,null,"小計",null,null,null,null,null,null,null,null,null,null,null,null,null,null,null,null,null,null,null,null,null,null,{"$f":"SUM(BY28,CA28:CC28,CG28)","v":0},null,{"$f":"SUM(BW24:BW27)","v":0},{"$f":"SUM(BX24:BX27)","v":0},0,null,{"$f":"SUM(CA24:CA27)","v":0},{"$f":"SUM(CB24:CB27)","v":0},0,null,null,null,{"$f":"SUM(CG24:CG27)","v":0}]
["旧東蒲原郡・※山形県","津川",null,null,"合",null,null,null,null,null,null,null,null,1650,null,null,null,null,null,null,null,null,null,null,null,null,null,null,null,null,null,null,null,null,null,null,null,null,null,null,null,null,null,null,null,null,null,null,null,null,null,null,null,null,null,null,null,null,null,null,null,null,null,null,null,null,null,null,null,null,null,null,"津川",20173,0,0,0,0,"",0,0,null,null,null,0]
[null,"豊実",null,null,"合",null,null,null,null,null,null,null,null,60,null,null,null,null,null,null,null,null,null,null,null,null,null,null,null,null,null,null,null,null,null,null,null,null,null,null,null,null,null,null,null,null,null,null,null,null,null,null,null,null,null,null,null,null,null,null,null,null,null,null,null,null,null,null,null,null,null,null,"豊実",20174,0,0,0,0,"",0,0,null,null,null,0]
[null,"日出谷",null,null,"合",null,null,null,null,null,null,null,null,190,null,null,null,null,null,null,null,null,null,null,null,null,null,null,null,null,null,null,null,null,null,null,null,null,null,null,null,null,null,null,null,null,null,null,null,null,null,null,null,null,null,null,null,null,null,null,null,null,null,null,null,null,null,null,null,null,null,null,"日出谷",20175,0,0,0,0,"",0,0,null,null,null,0]
[null,"鹿瀬",null,null,"合",null,null,null,null,null,null,null,null,300,null,null,null,null,null,null,null,null,null,null,null,null,null,null,null,null,null,null,null,null,null,null,null,null,null,null,null,null,null,null,null,null,null,null,null,null,null,null,null,null,null,null,null,null,null,null,null,null,null,null,null,null,null,null,null,null,null,null,"鹿瀬",20176,0,0,0,0,"",0,0,null,null,null,0]
[null,"白崎",null,null,"合",null,null,null,null,null,null,null,null,600,null,null,null,null,null,null,null,null,null,null,null,null,null,null,null,null,null,null,null,null,null,null,null,null,null,null,null,null,null,null,null,null,null,null,null,null,null,null,null,null,null,null,null,null,null,null,null,null,null,null,null,null,null,null,null,null,null,null,"白崎",20177,0,0,0,0,"",0,0,null,null,null,0]
[null,"白崎・五十島",null,null,"合",null,null,null,null,null,null,null,null,60,null,null,null,null,null,null,null,null,null,null,null,null,null,null,null,null,null,null,null,null,null,null,null,null,null,null,null,null,null,null,null,null,null,null,null,null,null,null,null,null,null,null,null,null,null,null,null,null,null,null,null,null,null,null,null,null,null,null,"白崎・五十島",20178,0,0,0,0,"",0,0,null,null,null,0]
[null,"保田・五十島",null,null,"合",null,null,null,null,null,null,null,null,90,null,null,null,null,null,null,null,null,null,null,null,null,null,null,null,null,null,null,null,null,null,null,null,null,null,null,null,null,null,null,null,null,null,null,null,null,null,null,null,null,null,null,null,null,null,null,null,null,null,null,null,null,null,null,null,null,null,null,"保田・五十島",20182,0,0,0,0,"",0,0,null,null,null,0]
[null,"150","小計",null,{"$f":"Q36+T36+W36+AC36+AI36+BF36","v":0},null,null,null,null,null,null,null,null,{"$f":"SUM(N29:P35)","v":2950},null,null,{"$f":"SUM(Q29:S35)","v":0},null,null,null,null,null,null,null,null,null,null,null,null,null,null,null,null,null,null,null,null,null,null,null,null,null,null,null,null,null,null,null,null,"小計",null,null,null,null,null,null,null,null,null,null,null,null,null,null,null,null,null,null,null,null,null,null,{"$f":"SUM(BY36,CA36:CC36,CG36)","v":0},null,{"$f":"SUM(BW29:BW35)","v":0},{"$f":"SUM(BX29:BX35)","v":0},0,null,{"$f":"SUM(CA29:CA35)","v":0},null,null,null,null,null,{"$f":"SUM(CG29:CG35)","v":0}]
[null,"小国",null,null,"合",null,null,null,null,null,null,null,null,2800,null,null,null,null,null,null,null,null,null,null,null,null,null,null,null,null,null,null,null,null,null,null,null,null,null,null,null,null,null,null,null,null,null,null,null,null,null,null,null,null,null,null,null,null,null,null,null,null,null,null,null,null,null,null,null,null,null,null,"小国",20201,0,0,0,0,"",0,0,null,null,null,0]
[null,"160","小計",null,{"$f":"Q38+T38+W38+AC38+AI38+BF38","v":0},null,null,null,null,null,null,null,null,{"$f":"SUM(N37)","v":2800},null,null,{"$f":"SUM(Q37)","v":0},null,null,null,null,null,null,null,null,null,null,null,null,null,null,null,null,null,null,null,null,null,null,null,null,null,null,null,null,null,null,null,null,"小計",null,null,null,null,null,null,null,null,null,null,null,null,null,null,null,null,null,null,null,null,null,null,{"$f":"SUM(BY38,CA38:CC38,CG38)","v":0},null,{"$f":"SUM(BW37)","v":0},{"$f":"SUM(BX37)","v":0},0,null,{"$f":"SUM(CA37)","v":0},null,null,null,null,null,{"$f":"SUM(CG37)","v":0}]
["03","両津",null,null,"新マ日",null,null,null,null,null,null,null,null,2280,null,null,null,null,null,null,null,null,null,null,null,null,null,null,null,null,null,null,null,null,null,null,null,null,null,null,null,null,null,null,null,null,null,null,null,"両津",null,null,"ア",null,680,null,null,null,null,null,null,null,null,null,null,null,null,null,null,null,null,null,"両津",30101,0,0,0,0,"",0,0,null,"両津",30102,0,{"$f":"BI39","v":0}]
["旧両津市・旧佐渡郡","吉井",null,null,"新マ日",null,null,null,null,null,null,null,null,180,null,null,null,null,null,null,null,null,null,null,null,null,null,null,null,null,null,null,null,null,null,null,null,null,null,null,null,null,null,null,null,null,null,null,null,"両津",null,null,"ヨサ",null,860,null,null,null,null,null,null,null,null,null,null,null,null,null,null,null,null,null,"吉井",30105,0,0,0,0,"",0,0,null,"両津",230103,0,0]
[null,"010","小計",null,{"$f":"Q41+T41+W41+AC41+AI41+BF41","v":0},null,null,null,null,null,null,null,null,{"$f":"SUM(N39:P40)","v":2460},null,null,{"$f":"SUM(Q39:S40)","v":0},null,null,null,null,null,null,null,null,null,null,null,null,null,null,null,null,null,null,null,null,null,null,null,null,null,null,null,null,null,null,null,null,"小計",null,null,null,null,{"$f":"SUM(BC39:BE40)","v":1540},null,null,{"$f":"SUM(BF39:BH40)","v":0},null,null,null,null,null,null,null,null,null,null,null,null,null,null,{"$f":"SUM(BY41,CA41:CC41,CG41)","v":0},null,{"$f":"SUM(BW39:BW40)","v":0},{"$f":"SUM(BX39:BX40)","v":0},0,null,{"$f":"SUM(CA39:CA40)","v":0},null,null,null,null,null,{"$f":"SUM(CG39:CG40)","v":0}]
[null,"真野",null,null,"新サ",null,null,null,null,null,null,null,null,730,null,null,null,null,null,null,null,null,null,null,null,null,null,null,null,null,null,null,null,null,null,null,null,null,null,null,null,null,null,null,null,null,null,null,null,"真野",null,null,"アマヨサ日",null,280,null,null,null,null,null,null,null,null,null,null,null,null,null,null,null,null,null,"真野",30106,0,0,0,0,"",0,0,null,"真野",30107,0,{"$f":"BI42","v":0}]
[null,"新穂",null,null,"新マサ日",null,null,null,null,null,null,null,null,700,null,null,null,null,null,null,null,null,null,null,null,null,null,null,null,null,null,null,null,null,null,null,null,null,null,null,null,null,null,null,null,null,null,null,null,"新穂",null,null,"ア",null,70,null,null,null,null,null,null,null,null,null,null,null,null,null,null,null,null,null,"新穂",30108,0,0,0,0,"",0,0,null,"新穂",30109,0,0]
[null,"畑野",null,null,"新",null,null,null,null,null,null,null,null,700,null,null,null,null,null,null,null,null,null,null,null,null,null,null,null,null,null,null,null,null,null,null,null,null,null,null,null,null,null,null,null,null,null,null,null,"畑野",null,null,"アマヨサ日",null,280,null,null,null,null,null,null,null,null,null,null,null,null,null,null,null,null,null,"畑野",30111,0,0,0,0,"",0,0,null,"畑野",30112,0,0]
[null,"佐和田",null,null,"新アマ日",null,null,null,null,null,null,null,null,1500,null,null,null,null,null,null,null,null,null,null,null,null,null,null,null,null,null,null,null,null,null,null,null,null,null,null,null,null,null,null,null,null,null,null,null,"佐和田",null,null,"ヨサ",null,270,null,null,null,null,null,null,null,null,null,null,null,null,null,null,null,null,null,"佐和田",30114,0,0,0,0,"",0,0,null,"佐和田",230115,0,0]
[null,"相川",null,null,"合",null,null,null,null,null,null,null,null,1000,null,null,null,null,null,null,null,null,null,null,null,null,null,null,null,null,null,null,null,null,null,null,null,null,null,null,null,null,null,null,null,null,null,null,null,"沢根",null,null,"ヨア",null,50,null,null,null,null,null,null,null,null,null,null,null,null,null,null,null,null,null,"相川",30110,0,0,0,0,"",0,0,null,"沢根",230116,0,0]
[null,"金井",null,null,"合",null,null,null,null,null,null,null,null,870,null,null,null,null,null,null,null,null,null,null,null,null,null,null,null,null,null,null,null,null,null,null,null,null,null,null,null,null,null,null,null,null,null,null,null,"相川",null,null,"ア",null,130,null,null,null,null,null,null,null,null,null,null,null,null,null,null,null,null,null,"金井",30121,0,0,0,0,"",0,0,null,"相川",30118,0,0]
[null,"羽茂",null,null,"合",null,null,null,null,null,null,null,null,820,null,null,null,null,null,null,null,null,null,null,null,null,null,null,null,null,null,null,null,null,null,null,null,null,null,null,null,null,null,null,null,null,null,null,null,"相川",null,null,"ヨサ",null,120,null,null,null,null,null,null,null,null,null,null,null,null,null,null,null,null,null,"羽茂",30122,0,0,0,0,"",0,0,null,"相川",230120,0,0]
[null,"小木",null,null,"新",null,null,null,null,null,null,null,null,500,null,null,null,null,null,null,null,null,null,null,null,null,null,null,null,null,null,null,null,null,null,null,null,null,null,null,null,null,null,null,null,null,null,null,null,"小木",null,null,"アマサ日",null,160,null,null,null,null,null,null,null,null,null,null,null,null,null,null,null,null,null,"小木",30124,0,0,0,0,"",0,0,null,"小木",30125,0,0]
[null,"赤泊",null,null,"合",null,null,null,null,null,null,null,null,450,null,null,null,null,null,null,null,null,null,null,null,null,null,null,null,null,null,null,null,null,null,null,null,null,null,null,null,null,null,null,null,null,null,null,null,"小木",null,null,"ヨ",null,150,null,null,null,null,null,null,null,null,null,null,null,null,null,null,null,null,null,"赤泊",30127,0,0,0,0,"",0,0,null,"小木",230126,0,0]
[null,"多田",null,null,"合",null,null,null,null,null,null,null,null,130,null,null,null,null,null,null,null,null,null,null,null,null,null,null,null,null,null,null,null,null,null,null,null,null,null,null,null,null,null,null,null,null,null,null,null,null,null,null,null,null,null,null,null,null,null,null,null,null,null,null,null,null,null,null,null,null,null,null,"多田",30130,0,0,0,0,"",0,0,null,null,null,0]
[null,"020","小計",null,{"$f":"Q52+T52+W52+AC52+AI52+BF52","v":0},null,null,null,null,null,null,null,null,{"$f":"SUM(N42:P51)","v":7400},null,null,{"$f":"SUM(Q42:S51)","v":0},null,null,null,null,null,null,null,null,null,null,null,null,null,null,null,null,null,null,null,null,null,null,null,null,null,null,null,null,null,null,null,null,"小計",null,null,null,null,{"$f":"SUM(BC42:BE51)","v":1510},null,null,{"$f":"SUM(BF42:BH51)","v":0},null,null,null,null,null,null,null,null,null,null,null,null,null,null,{"$f":"SUM(BY52,CA52:CC52,CG52)","v":0},null,{"$f":"SUM(BW42:BW51)","v":0},{"$f":"SUM(BX42:BX51)","v":0},0,null,{"$f":"SUM(CA42:CA51)","v":0},{"$f":"SUM(CB42:CB51)","v":0},0,null,null,null,{"$f":"SUM(CG42:CG51)","v":0}]
["合計",null,null,null,{"$f":"SUM(E52,E41,E38,E36,E28,E23,E19,E13)","v":0},null,null,{"$f":"SUM(H52,H41,H38,H36,H28,H23,H19,H13)","v":28800},null,null,{"$f":"SUM(K52,K41,K38,K36,K28,K23,K19,K13)","v":0},null,null,{"$f":"SUM(N52,N41,N38,N36,N28,N23,N19,N13)","v":65200},null,null,{"$f":"SUM(Q52,Q41,Q38,Q36,Q28,Q23,Q19,Q13)","v":0},null,null,{"$f":"SUM(T52,T41,T38,T36,T28,T23,T19,T13)","v":0},null,null,{"$f":"SUM(W52,W41,W38,W36,W28,W23,W19,W13)","v":0},null,null,{"$f":"SUM(Z52,Z41,Z38,Z36,Z28,Z23,Z19,Z13)","v":18270},null,null,{"$f":"SUM(AC52,AC41,AC38,AC36,AC28,AC23,AC19,AC13)","v":0},null,null,{"$f":"SUM(AF52,AF41,AF38,AF36,AF28,AF23,AF19,AF13)","v":900},null,null,{"$f":"SUM(AI52,AI41,AI38,AI36,AI28,AI23,AI19,AI13)","v":0},null,null,null,null,null,null,null,null,null,null,null,null,null,null,"合計",null,null,null,null,{"$f":"SUM(BC52,BC41,BC38,BC36,BC28,BC23,BC19,BC13)","v":8430},null,null,{"$f":"SUM(BF52,BF41,BF38,BF36,BF28,BF23,BF19,BF13)","v":0},null,null,null,null,null,null,null,null,null,null,null,null,null,null,{"$f":"SUM(BU52,BU41,BU38,BU36,BU28,BU23,BU19,BU13)","v":0},null,{"$f":"SUM(BW52,BW41,BW38,BW36,BW28,BW23,BW19,BW13)","v":0},{"$f":"SUM(BX52,BX41,BX38,BX36,BX28,BX23,BX19,BX13)","v":0},0,null,{"$f":"SUM(CA52,CA41,CA38,CA36,CA28,CA23,CA19,CA13)","v":0},{"$f":"SUM(CB52,CB41,CB38,CB36,CB28,CB23,CB19,CB13)","v":0},0,null,null,null,{"$f":"SUM(CG52,CG41,CG38,CG36,CG28,CG23,CG19,CG13)","v":0},null,{"$f":"SUM(BY53:CH53)","v":0}]
[null,null,null,null,null,null,null,null,null,null,null,null,null,null,null,null,null,"■ ポスティング（ミニック） ※ がある販売店はミニックではなくasshとなります。　■Otona+ ※ がある販売店は一部朝刊宅配エリアがございます。",null,null,null,null,null,null,null,null,null,null,null,null,null,null,null,null,null,null,null,null,null,null,null,null,null,null,null,null,null,null,null,null,null,null,null,null,null,null,null,null,null,null,null,null,null,null,null,null,null,null,null,null,null,null,null,null,null,null,{"$f":"SUM(BY53,CG53)","v":0}]

{"sheet":"中越1","index":5,"n_rows":40,"n_cols":93,"rows_kept":40,"cut":false,"hidden":false,"merged":[[8,0,23,0],[12,54,22,64],[12,65,22,75],[8,62,8,64],[8,59,8,61],[8,57,8,58],[8,54,8,56],[16,25,16,27],[30,0,36,0],[26,65,26,75],[27,65,27,75],[28,65,28,75],[38,65,38,75],[38,4,38,6],[38,7,38,9],[38,10,38,12],[38,13,38,15],[38,16,38,18],[38,19,38,21],[38,22,38,24],[38,25,38,27],[38,28,38,30],[38,31,38,33],[38,34,38,36],[38,37,38,39],[38,40,38,42],[38,43,38,53],[38,54,38,58],[38,59,38,61],[38,62,38,64],[37,59,37,61],[6,0,7,0],[8,4,8,6],[8,1,8,3],[7,4,7,6],[7,28,7,30],[7,7,7,9],[7,10,7,12],[7,16,7,18],[7,19,7,21],[7,22,7,24],[7,13,7,15],[7,25,7,27],[8,7,8,9],[8,10,8,12],[8,16,8,18],[7,1,7,3],[38,0,38,3],[23,22,23,24],[28,13,28,15],[37,31,37,33],[37,25,37,27],[24,0,29,0],[19,25,19,27],[24,4,24,6],[24,16,24,18],[24,13,24,15],[24,7,24,12],[30,1,30,3],[30,13,30,15],[28,1,28,3],[28,4,28,6],[26,7,28,12],[32,1,32,3],[27,1,27,3],[37,16,37,18],[37,13,37,15],[32,7,32,9],[32,10,32,12],[30,7,30,9],[30,10,30,12],[37,62,37,64],[37,37,37,39],[18,37,18,39],[23,37,23,39],[18,31,18,33],[19,31,19,33],[22,31,22,33],[20,37,22,42],[22,34,22,36],[37,54,37,58],[37,34,37,36],[27,31,27,36],[37,40,37,42],[31,54,36,64],[32,34,32,36],[32,31,32,33],[29,62,29,64],[23,54,23,58],[26,57,26,58],[26,62,26,64],[23,62,23,64],[23,59,23,61],[23,31,23,33],[23,40,23,42],[32,25,32,27],[31,13,31,15],[30,62,30,64],[30,28,30,30],[30,59,30,61],[30,54,30,56],[29,37,29,39],[30,37,36,42],[31,43,31,53],[30,43,30,53],[29,43,29,53],[13,10,13,12],[15,7,15,9],[15,10,15,12],[15,13,15,15],[13,13,13,15],[16,1,16,3],[15,1,15,3],[19,4,19,6],[22,4,22,6],[18,1,18,3],[18,4,18,6],[14,7,14,12],[16,7,16,9],[16,10,16,12],[17,7,17,9],[17,10,17,12],[16,4,16,6],[22,1,22,3],[19,7,19,9],[20,7,22,12],[18,13,18,15],[21,13,21,15],[21,4,21,6],[21,1,21,3],[1,67,1,75],[1,51,1,58],[13,4,13,6],[14,13,14,15],[14,1,14,3],[12,4,12,6],[16,22,16,24],[17,22,17,24],[4,30,4,34],[3,30,3,34],[2,30,2,34],[1,30,1,34],[8,19,8,21],[8,22,8,24],[9,37,9,39],[10,25,10,27],[16,13,16,15],[19,1,19,3],[22,13,22,15],[13,7,13,9],[0,22,0,23],[0,66,0,75],[7,62,7,64],[7,37,7,39],[8,28,8,30],[7,31,7,33],[7,34,7,36],[8,34,8,36],[8,37,8,39],[8,31,8,33],[8,40,8,42],[6,25,6,30],[6,31,6,36],[2,67,2,75],[2,59,2,66],[3,59,3,66],[4,59,4,66],[4,67,4,75],[3,67,3,75],[1,59,1,66],[9,7,9,9],[9,10,9,12],[9,19,9,21],[9,22,9,24],[11,19,11,21],[11,22,11,24],[12,19,12,21],[10,16,10,18],[11,34,11,36],[11,7,11,9],[11,10,11,12],[12,7,12,9],[12,10,12,12],[12,25,12,27],[12,28,12,30],[9,16,9,18],[9,13,9,15],[11,28,11,30],[12,22,12,24],[10,31,10,33],[10,28,10,30],[10,34,10,36],[9,31,9,33],[9,34,9,36],[11,4,11,6],[11,31,11,33],[11,25,11,27],[18,40,18,42],[18,34,18,36],[19,40,19,42],[12,34,12,36],[13,40,13,42],[13,34,13,36],[15,31,15,33],[19,37,19,39],[15,37,15,42],[16,37,16,39],[17,40,17,42],[12,40,12,42],[13,31,13,33],[14,37,14,39],[14,31,14,33],[13,37,13,39],[16,40,16,42],[15,25,15,27],[17,25,17,27],[16,19,16,21],[15,19,15,21],[26,40,26,42],[26,34,26,36],[25,62,25,64],[25,28,25,30],[25,34,25,36],[26,59,26,61],[26,54,26,56],[25,59,25,61],[25,31,25,33],[26,31,26,33],[24,34,24,36],[23,43,23,53],[23,28,23,30],[24,28,24,30],[27,59,27,61],[24,62,24,64],[24,57,24,58],[28,62,28,64],[28,28,28,30],[28,40,28,42],[28,34,28,36],[27,62,27,64],[27,54,27,56],[27,57,27,58],[27,28,27,30],[28,59,28,61],[28,54,28,56],[28,57,28,58],[28,31,28,33],[28,43,28,53],[27,43,27,53],[25,43,25,53],[24,43,24,53],[26,28,26,30],[24,59,24,61],[12,1,12,3],[11,1,11,3],[9,1,9,3],[9,4,9,6],[6,1,6,24],[8,13,8,15],[10,4,10,6],[10,7,10,9],[10,10,10,12],[17,1,17,3],[17,4,17,6],[17,16,17,18],[17,13,17,15],[10,1,10,3],[13,1,13,3],[20,1,20,3],[20,4,20,6],[14,4,14,6],[14,16,14,18],[15,4,15,6],[15,16,15,18],[18,7,18,9],[18,10,18,12],[25,13,25,15],[29,28,29,30],[31,34,31,36],[28,37,28,39],[27,37,27,39],[22,28,22,30],[27,40,27,42],[31,31,31,33],[29,31,29,33],[30,31,30,33],[31,28,31,30],[31,25,31,27],[18,16,18,18],[21,28,21,30],[20,25,20,27],[18,25,18,27],[22,25,22,27],[21,25,21,27],[21,16,21,18],[19,22,19,24],[19,16,19,18],[20,16,20,18],[16,31,16,33],[20,28,20,30],[20,34,20,36],[16,28,16,30],[19,28,19,30],[15,28,15,30],[17,28,17,30],[18,28,18,30],[16,34,16,36],[17,34,17,36],[20,31,20,33],[19,10,19,12],[20,13,20,15],[19,13,19,15],[22,16,22,18],[23,25,23,27],[19,34,19,36],[21,34,21,36],[21,31,21,33],[19,19,19,21],[23,19,23,21],[20,19,22,24],[23,10,23,12],[23,34,23,36],[36,4,36,6],[24,37,24,42],[25,16,25,18],[27,16,27,18],[29,40,29,42],[29,34,29,36],[26,1,26,3],[28,16,28,18],[26,19,28,24],[28,25,28,27],[27,25,27,27],[26,25,26,27],[25,25,25,27],[24,25,24,27],[30,19,30,21],[30,22,30,24],[31,7,31,12],[33,7,36,12],[31,19,31,24],[33,19,36,24],[24,19,24,24],[26,37,26,39],[24,31,24,33],[32,28,32,30],[35,1,35,3],[35,4,35,6],[30,4,30,6],[30,16,30,18],[27,4,27,6],[23,13,23,15],[23,16,23,18],[35,16,35,18],[34,1,34,3],[34,4,34,6],[33,1,33,3],[26,4,26,6],[26,16,26,18],[31,16,31,18],[24,1,24,3],[32,4,32,6],[27,13,27,15],[31,1,31,3],[31,4,31,6],[35,13,35,15],[34,13,34,15],[33,13,33,15],[29,13,29,15],[23,7,23,9],[25,4,25,6],[29,4,29,6],[37,4,37,6],[30,57,30,58],[33,16,33,18],[36,13,36,15],[23,2,23,3],[29,2,29,3],[37,2,37,3],[25,2,25,3],[32,16,32,18],[33,4,33,6],[25,54,25,58],[29,54,29,58],[24,54,24,56],[36,1,36,3],[32,43,32,53],[33,43,33,53],[34,43,34,53],[35,43,35,53],[36,43,36,53],[37,43,37,53],[23,4,23,6],[26,43,26,53],[6,88,6,91],[6,54,6,64],[6,37,6,42],[7,40,7,42],[7,54,7,56],[7,57,7,58],[6,77,6,82],[7,59,7,61],[10,13,10,15],[14,28,14,30],[8,25,8,27],[17,19,17,21],[12,31,12,33],[11,37,11,39],[12,37,12,39],[15,22,15,24],[9,28,9,30],[12,13,12,15],[11,16,11,18],[11,13,11,15],[10,22,10,24],[10,19,10,21],[14,25,14,27],[13,25,13,27],[13,19,13,21],[13,22,13,24],[13,28,13,30],[12,16,12,18],[9,25,9,27],[16,16,16,18],[15,34,15,36],[17,37,17,39],[31,65,36,75],[37,65,37,75],[8,43,8,53],[9,43,9,53],[10,43,10,53],[11,43,11,53],[12,43,12,53],[13,43,13,53],[14,43,14,53],[15,43,15,53],[16,43,16,53],[17,43,17,53],[18,43,18,53],[19,43,19,53],[20,43,20,53],[21,43,21,53],[22,43,22,53],[29,59,29,61],[11,62,11,64],[9,54,9,56],[9,62,9,64],[10,62,10,64],[11,40,11,42],[14,19,14,24],[6,65,7,75],[6,43,7,53],[8,65,8,75],[11,65,11,75],[10,65,10,75],[9,65,9,75],[30,65,30,75],[29,65,29,75],[14,34,14,36],[14,40,14,42],[9,40,9,42],[11,54,11,56],[11,59,11,61],[11,57,11,58],[10,40,10,42],[10,37,10,39],[10,54,10,56],[10,57,10,58],[10,59,10,61],[18,19,18,21],[18,22,18,24],[17,31,17,33],[24,65,24,75],[25,65,25,75],[9,57,9,58],[9,59,9,61],[13,16,13,18],[4,0,4,12],[3,0,3,12],[2,0,2,12],[1,0,1,12],[3,51,3,58],[2,51,2,58],[4,51,4,58],[2,35,4,50],[1,35,1,50],[25,40,25,42],[25,10,25,12],[25,7,25,9],[23,65,23,75],[2,28,2,29],[4,28,4,29],[1,13,1,29],[2,13,2,27],[3,13,3,29],[4,13,4,27],[29,7,29,9],[29,10,29,12],[25,19,25,21],[25,22,25,24],[29,19,29,21],[29,22,29,24],[25,37,25,39],[36,16,36,18],[37,28,37,30],[33,31,36,36],[33,25,36,30],[34,16,34,18],[32,13,32,15],[30,34,30,36],[26,13,26,15],[30,25,30,27],[29,25,29,27],[37,19,37,21],[37,22,37,24],[37,7,37,9],[37,10,37,12],[29,16,29,18],[32,19,32,21],[32,22,32,24]]}
[null,null,null,null,null,null,null,null,null,null,null,null,null,null,null,null,null,null,null,null,null,null,null,null,null,null,null,null,null,null,null,null,null,null,null,null,null,null,null,null,null,null,null,null,null,null,null,null,null,null,null,null,null,null,null,null,null,null,null,null,null,null,null,null,null,null,{"$f":"新潟市!BI1","v":"２０２３年１１月１日 現在"}]
["折込日",null,null,null,null,null,null,null,null,null,null,null,null,"スポンサー名",null,null,null,null,null,null,null,null,null,null,null,null,null,null,null,null,"サイズ",null,null,null,null,"チラシ内容・タイトル詳細",null,null,null,null,null,null,null,null,null,null,null,null,null,null,null,"朝刊　小計",null,null,null,null,null,null,null,"Otona＋　小計",null,null,null,null,null,null,null,"ページ枚数"]
[{"$f":"新潟市!A3","v":"2023/--/--"},null,null,null,null,null,null,null,null,null,null,null,null,{"$f":"新潟市!M3","v":0},null,null,null,null,null,null,null,null,null,null,null,null,null,null,"様",null,{"$f":"新潟市!AD3","v":0},null,null,null,null,{"$f":"新潟市!AI3","v":0},null,null,null,null,null,null,null,null,null,null,null,null,null,null,null,{"$f":"CD39+CM39","v":0},null,null,null,null,null,null,null,{"$f":"CI39","v":0},null,null,null,null,null,null,null,{"$f":"SUM(AZ3,BH3,AZ5,BH5)","v":0}]
["assh　ポスティング日",null,null,null,null,null,null,null,null,null,null,null,null,"ご請求先名",null,null,null,null,null,null,null,null,null,null,null,null,null,null,null,null,"ガタチラ 掲載",null,null,null,null,null,null,null,null,null,null,null,null,null,null,null,null,null,null,null,null,"くるみる　小計",null,null,null,null,null,null,null,"assh　小計",null,null,null,null,null,null,null,"総枚数"]
[{"$f":"新潟市!A5","v":"2023/--/--"},null,null,null,null,null,null,null,null,null,null,null,null,{"$f":"新潟市!M5","v":0},null,null,null,null,null,null,null,null,null,null,null,null,null,null,"様",null,{"$f":"新潟市!AD5","v":0},null,null,null,null,null,null,null,null,null,null,null,null,null,null,null,null,null,null,null,null,{"$f":"CF39","v":0},null,null,null,null,null,null,null,{"$f":"CG39+CH39","v":0},null,null,null,null,null,null,null,{"$f":"新潟市!BL5","v":0}]
[]
["04","新潟日報　",null,null,null,null,null,null,null,null,null,null,null,null,null,null,null,null,null,null,null,null,null,null,null,"ポスティング\n（ｎ-assh）2週目",null,null,null,null,null,"ポスティング\n（ｎ-assh）4週目",null,null,null,null,null,"Otona+",null,null,null,null,null,"備考",null,null,null,null,null,null,null,null,null,null,"中央紙",null,null,null,null,null,null,null,null,null,null,"備考",null,null,null,null,null,null,null,null,null,null,null,"朝刊",null,null,null,null,null,"くるみる","assh","assh","otona",null,"中央紙　朝刊"]
[null,"販売店名",null,null,"取扱い紙",null,null,"朝刊＋くるみる",null,null,"配布数",null,null,"朝刊扱数",null,null,"配布数",null,null,"朝刊数",null,null,"くるみる数",null,null,"部数",null,null,"配布数",null,null,"部数",null,null,"配布数",null,null,"部数",null,null,"配布数",null,null,null,null,null,null,null,null,null,null,null,null,null,"販売店名",null,null,"取扱い紙",null,"部数",null,null,"配布数",null,null,null,null,null,null,null,null,null,null,null,null,null,null,"販売店名","E","朝刊1","朝刊２","部","指示","部","部","部","部",null,"販売店名","E","部","指示"]
["旧長岡市","長岡中央",null,null,"新アマサ日",null,null,{"$f":"N9+W9","v":5910},null,null,null,null,null,5330,null,null,null,null,null,{"$f":"IF(K9=\"\",\"\",IF(K9<=W9,K9,K9-W9))","v":""},null,null,580,null,null,4760,null,null,null,null,null,4760,null,null,null,null,null,500,null,null,null,null,null,null,null,null,null,null,null,null,null,null,null,null,"長岡",null,null,"ヨ",null,3440,null,null,null,null,null,null,null,null,null,null,null,null,null,null,null,null,null,"長岡中央",40102,{"$f":"Q9","v":0},{"$f":"T9","v":""},{"$f":"SUM(CB9:CC9)","v":0},{"$f":"AR9","v":0},{"$f":"IF($K9>$W9,$W9,\"\")","v":""},{"$f":"AC9","v":0},{"$f":"AI9","v":0},{"$f":"AO9","v":0},null,"長岡",240109,{"$f":"BK9","v":0},{"$f":"BN9","v":0}]
[null,"長岡南",null,null,"新アマサ日",null,null,{"$f":"N10+W10","v":1630},null,null,null,null,null,1600,null,null,null,null,null,{"$f":"IF(K10=\"\",\"\",IF(K10<=W10,K10,K10-W10))","v":""},null,null,30,null,null,1490,null,null,null,null,null,1490,null,null,null,null,null,110,null,null,null,null,null,null,null,null,null,null,null,null,null,null,null,null,"長岡南部",null,null,"ヨ",null,1220,null,null,null,null,null,null,null,null,null,null,null,null,null,null,null,null,null,"長岡南",40300,{"$f":"Q10","v":0},{"$f":"T10","v":""},{"$f":"SUM(CB10:CC10)","v":0},{"$f":"AR10","v":0},{"$f":"IF($K10>$W10,$W10,\"\")","v":""},{"$f":"AC10","v":0},{"$f":"AI10","v":0},{"$f":"AO10","v":0},null,"長岡南部",240110,{"$f":"BK10","v":0},{"$f":"BN10","v":0}]
[null,"長岡東",null,null,"新アマサ日",null,null,{"$f":"N11+W11","v":6160},null,null,null,null,null,5460,null,null,null,null,null,{"$f":"IF(K11=\"\",\"\",IF(K11<=W11,K11,K11-W11))","v":""},null,null,700,null,null,5640,null,null,null,null,null,5640,null,null,null,null,null,340,null,null,null,null,null,null,null,null,null,null,null,null,null,null,null,null,"長岡西部",null,null,"ヨ",null,2600,null,null,null,null,null,null,null,null,null,null,null,null,null,null,null,null,null,"長岡東",40104,{"$f":"Q11","v":0},{"$f":"T11","v":""},{"$f":"SUM(CB11:CC11)","v":0},{"$f":"AR11","v":0},{"$f":"IF($K11>$W11,$W11,\"\")","v":""},{"$f":"AC11","v":0},{"$f":"AI11","v":0},{"$f":"AO11","v":0},null,"長岡西部",240112,{"$f":"BK11","v":0},{"$f":"BN11","v":0}]
[null,"長岡新保",null,null,"新アマサ日",null,null,{"$f":"N12+W12","v":3250},null,null,null,null,null,3180,null,null,null,null,null,{"$f":"IF(K12=\"\",\"\",IF(K12<=W12,K12,K12-W12))","v":""},null,null,70,null,null,2360,null,null,null,null,null,2360,null,null,null,null,null,90,null,null,null,null,null,null,null,null,null,null,null,null,null,null,null,null,"長岡宮内",null,null,"ヨ",null,1200,null,null,null,null,null,null,null,null,null,null,null,null,null,null,null,null,null,"長岡新保",40105,{"$f":"Q12","v":0},{"$f":"T12","v":""},{"$f":"SUM(CB12:CC12)","v":0},{"$f":"AR12","v":0},{"$f":"IF($K12>$W12,$W12,\"\")","v":""},{"$f":"AC12","v":0},{"$f":"AI12","v":0},{"$f":"AO12","v":0},null,"長岡宮内",240123,{"$f":"BK12","v":0},{"$f":"BN12","v":0}]
[null,"長岡悠久",null,null,"新アマサ日",null,null,3500,null,null,null,null,null,3400,null,null,null,null,null,"",null,null,100,null,null,3680,null,null,null,null,null,3680,null,null,null,null,null,130,null,null,null,null,null,null,null,null,null,null,null,null,null,null,null,null,null,null,null,null,null,null,null,null,null,null,null,null,null,null,null,null,null,null,null,null,null,null,null,"長岡悠久",40106,{"$f":"Q13","v":0},{"$f":"T13","v":""},0,{"$f":"AR13","v":0},{"$f":"IF($K13>$W13,$W13,\"\")","v":""},{"$f":"AC13","v":0},{"$f":"AI13","v":0},{"$f":"AO13","v":0},null,null,null,{"$f":"BK13","v":0}]
[null,"西長岡",null,null,"新アマサ日",null,null,4200,null,null,null,null,null,4000,null,null,null,null,null,"",null,null,200,null,null,4900,null,null,null,null,null,4900,null,null,null,null,null,170,null,null,null,null,null,null,null,null,null,null,null,null,null,null,null,null,null,null,null,null,null,null,null,null,null,null,null,null,null,null,null,null,null,null,null,null,null,null,null,"西長岡",40111,{"$f":"Q14","v":0},{"$f":"T14","v":""},0,{"$f":"AR14","v":0},{"$f":"IF($K14>$W14,$W14,\"\")","v":""},{"$f":"AC14","v":0},{"$f":"AI14","v":0},{"$f":"AO14","v":0},null,null,null,{"$f":"BK14","v":0}]
[null,"関原",null,null,"新アマサ日",null,null,null,null,null,null,null,null,4600,null,null,null,null,null,null,null,null,null,null,null,5150,null,null,null,null,null,5150,null,null,null,null,null,200,null,null,null,null,null,null,null,null,null,null,null,null,null,null,null,null,null,null,null,null,null,null,null,null,null,null,null,null,null,null,null,null,null,null,null,null,null,null,null,"関原",40113,{"$f":"Q15","v":0},{"$f":"T15","v":0},0,{"$f":"AR15","v":0},{"$f":"IF($K15>$W15,$W15,\"\")","v":""},{"$f":"AC15","v":0},{"$f":"AI15","v":0},{"$f":"AO15","v":0},null,null,null,{"$f":"BK15","v":0}]
[null,"王寺川",null,null,"合",null,null,{"$f":"N16+W16","v":460},null,null,null,null,null,410,null,null,null,null,null,{"$f":"IF(K16=\"\",\"\",IF(K16<=W16,K16,K16-W16))","v":""},null,null,50,null,null,170,null,null,null,null,null,170,null,null,null,null,null,null,null,null,null,null,null,null,null,null,null,null,null,null,null,null,null,null,null,null,null,null,null,null,null,null,null,null,null,null,null,null,null,null,null,null,null,null,null,null,null,"王寺川",40114,{"$f":"Q16","v":0},{"$f":"T16","v":""},0,{"$f":"AR16","v":0},{"$f":"IF($K16>$W16,$W16,\"\")","v":""},{"$f":"AC16","v":0},{"$f":"AI16","v":0},{"$f":"AO16","v":0},null,null,null,{"$f":"BK16","v":0}]
[null,"長岡江陽",null,null,"新アマサ日",null,null,{"$f":"N17+W17","v":2030},null,null,null,null,null,2000,null,null,null,null,null,{"$f":"IF(K17=\"\",\"\",IF(K17<=W17,K17,K17-W17))","v":""},null,null,30,null,null,2500,null,null,null,null,null,2500,null,null,null,null,null,80,null,null,null,null,null,null,null,null,null,null,null,null,null,null,null,null,null,null,null,null,null,null,null,null,null,null,null,null,null,null,null,null,null,null,null,null,null,null,null,"長岡江陽",40115,{"$f":"Q17","v":0},{"$f":"T17","v":""},0,{"$f":"AR17","v":0},{"$f":"IF($K17>$W17,$W17,\"\")","v":""},{"$f":"AC17","v":0},{"$f":"AI17","v":0},{"$f":"AO17","v":0},null,null,null,{"$f":"BK17","v":0}]
[null,"黒条",null,null,"合",null,null,{"$f":"N18+W18","v":1830},null,null,null,null,null,1680,null,null,null,null,null,"",null,null,150,null,null,1370,null,null,null,null,null,1370,null,null,null,null,null,40,null,null,null,null,null,null,null,null,null,null,null,null,null,null,null,null,null,null,null,null,null,null,null,null,null,null,null,null,null,null,null,null,null,null,null,null,null,null,null,"黒条",40116,{"$f":"Q18","v":0},{"$f":"T18","v":""},0,{"$f":"AR18","v":0},{"$f":"IF($K18>$W18,$W18,\"\")","v":""},{"$f":"AC18","v":0},{"$f":"AI18","v":0},{"$f":"AO18","v":0},null,null,null,{"$f":"BK18","v":0}]
[null,"新組",null,null,"合",null,null,{"$f":"N19+W19","v":1430},null,null,null,null,null,1400,null,null,null,null,null,"",null,null,30,null,null,600,null,null,null,null,null,500,null,null,null,null,null,20,null,null,null,null,null,null,null,null,null,null,null,null,null,null,null,null,null,null,null,null,null,null,null,null,null,null,null,null,null,null,null,null,null,null,null,null,null,null,null,"新組",40117,{"$f":"Q19","v":0},{"$f":"T19","v":""},0,{"$f":"AR19","v":0},{"$f":"IF($K19>$W19,$W19,\"\")","v":""},{"$f":"AC19","v":0},{"$f":"AI19","v":0},{"$f":"AO19","v":0},null,null,null,{"$f":"BK19","v":0}]
[null,"長岡宮内",null,null,"新アマサ日",null,null,{"$f":"N20+W20","v":4340},null,null,null,null,null,4200,null,null,null,null,null,"",null,null,140,null,null,5270,null,null,null,null,null,5270,null,null,null,null,null,210,null,null,null,null,null,null,null,null,null,null,null,null,null,null,null,null,null,null,null,null,null,null,null,null,null,null,null,null,null,null,null,null,null,null,null,null,null,null,null,"長岡宮内",40121,{"$f":"Q20","v":0},{"$f":"T20","v":""},0,{"$f":"AR20","v":0},{"$f":"IF($K20>$W20,$W20,\"\")","v":""},{"$f":"AC20","v":0},{"$f":"AI20","v":0},{"$f":"AO20","v":0},null,null,null,{"$f":"BK20","v":0}]
[null,"濁沢",null,null,"合",null,null,null,null,null,null,null,null,280,null,null,null,null,null,null,null,null,null,null,null,200,null,null,null,null,null,200,null,null,null,null,null,null,null,null,null,null,null,null,null,null,null,null,null,null,null,null,null,null,null,null,null,null,null,null,null,null,null,null,null,null,null,null,null,null,null,null,null,null,null,null,null,"濁沢",40124,{"$f":"Q21","v":0},{"$f":"T21","v":0},0,{"$f":"AR21","v":0},{"$f":"IF($K21>$W21,$W21,\"\")","v":""},{"$f":"AC21","v":0},{"$f":"AI21","v":0},{"$f":"AO21","v":0},null,null,null,{"$f":"BK21","v":0}]
[null,"岡南",null,null,"合",null,null,null,null,null,null,null,null,780,null,null,null,null,null,null,null,null,null,null,null,80,null,null,null,null,null,80,null,null,null,null,null,null,null,null,null,null,null,null,null,null,null,null,null,null,null,null,null,null,null,null,null,null,null,null,null,null,null,null,null,null,null,null,null,null,null,null,null,null,null,null,null,"岡南",40125,{"$f":"Q22","v":0},{"$f":"T22","v":0},0,{"$f":"AR22","v":0},{"$f":"IF($K22>$W22,$W22,\"\")","v":""},{"$f":"AC22","v":0},{"$f":"AI22","v":0},{"$f":"AO22","v":0},null,null,null,{"$f":"BK22","v":0}]
[null,"六日市",null,null,"合",null,null,null,null,null,null,null,null,360,null,null,null,null,null,null,null,null,null,null,null,20,null,null,null,null,null,20,null,null,null,null,null,null,null,null,null,null,null,null,null,null,null,null,null,null,null,null,null,null,null,null,null,null,null,null,null,null,null,null,null,null,null,null,null,null,null,null,null,null,null,null,null,"六日市",40126,{"$f":"Q23","v":0},{"$f":"T23","v":0},0,{"$f":"AR23","v":0},{"$f":"IF($K23>$W23,$W23,\"\")","v":""},{"$f":"AC23","v":0},{"$f":"AI23","v":0},{"$f":"AO23","v":0},null,null,null,{"$f":"BK23","v":0}]
[null,"010","小計",null,{"$f":"Q24+T24+W24+AC24+AI24+AO24+BK24","v":0},null,null,{"$f":"SUM(H9:J23)","v":34740},null,null,{"$f":"SUM(K9:M23)","v":0},null,null,{"$f":"SUM(N9:P23)","v":38680},null,null,{"$f":"SUM(Q9:S23)","v":0},null,null,{"$f":"SUM(T9:V23)","v":0},null,null,{"$f":"CF24","v":0},null,null,{"$f":"SUM(Z9:AB23)","v":38190},null,null,{"$f":"SUM(AC9:AE23)","v":0},null,null,{"$f":"SUM(AF9:AH23)","v":38090},null,null,{"$f":"SUM(AI9:AK23)","v":0},null,null,{"$f":"SUM(AL9:AN23)","v":1890},null,null,{"$f":"SUM(AO9:AQ15,AO17:AQ20)","v":0},null,null,null,null,null,null,null,null,null,null,null,null,null,"小計",null,null,null,null,{"$f":"SUM(BH9:BJ23)","v":8460},null,null,{"$f":"SUM(BK9:BM23)","v":0},null,null,null,null,null,null,null,null,null,null,null,null,null,null,{"$f":"SUM(CD24,CF24:CI24,CM24)","v":0},null,{"$f":"SUM(CB9:CB23)","v":0},{"$f":"SUM(CC9:CC23)","v":0},{"$f":"SUM(CD9:CD23)","v":0},null,{"$f":"SUM(CF9:CF23)","v":0},{"$f":"SUM(CG9:CG23)","v":0},{"$f":"SUM(CH9:CH23)","v":0},{"$f":"SUM(CI9:CI23)","v":0},null,null,null,{"$f":"SUM(CM9:CM23)","v":0}]
["旧栃尾市・見附市","栃尾",null,null,"新アマサ",null,null,null,null,null,null,null,null,2960,null,null,null,null,null,null,null,null,null,null,null,900,null,null,null,null,null,900,null,null,null,null,null,null,null,null,null,null,null,null,null,null,null,null,null,null,null,null,null,null,"栃尾",null,null,"ヨ日",null,2100,null,null,null,null,null,null,null,null,null,null,null,null,null,null,null,null,null,"栃尾",40127,{"$f":"Q25","v":0},{"$f":"T25","v":0},0,{"$f":"AR25","v":0},{"$f":"IF($K25>$W25,$W25,\"\")","v":""},{"$f":"AC25","v":0},{"$f":"AI25","v":0},{"$f":"AO25","v":0},null,"栃尾",240129,{"$f":"BK25","v":0},{"$f":"BN25","v":0}]
[null,"020","小計",null,{"$f":"Q26+T26+W26+AC26+AI26+AO26+BK26","v":0},null,null,null,null,null,null,null,null,{"$f":"SUM(N25)","v":2960},null,null,{"$f":"SUM(Q25)","v":0},null,null,null,null,null,{"$f":"CF26","v":0},null,null,{"$f":"SUM(Z25)","v":900},null,null,{"$f":"SUM(AC25)","v":0},null,null,{"$f":"SUM(AF25)","v":900},null,null,{"$f":"SUM(AI25)","v":0},null,null,null,null,null,null,null,null,null,null,null,null,null,null,null,null,null,null,null,"小計",null,null,null,null,{"$f":"SUM(BH25)","v":2100},null,null,{"$f":"SUM(BK25)","v":0},null,null,null,null,null,null,null,null,null,null,null,null,null,null,{"$f":"SUM(CD26,CF26:CI26,CM26)","v":0},null,{"$f":"SUM(CB25)","v":0},{"$f":"SUM(CC25)","v":0},0,null,{"$f":"SUM(CF25)","v":0},{"$f":"SUM(CG25)","v":0},0,0,null,null,null,{"$f":"SUM(CM25)","v":0}]
[null,"見附南",null,null,"新アマサ日",null,null,null,null,null,null,null,null,2650,null,null,null,null,null,null,null,null,null,null,null,1500,null,null,null,null,null,20,null,null,null,null,null,90,null,null,null,null,null,null,null,null,null,null,null,null,null,null,null,null,"見附",null,null,"ヨ",null,1400,null,null,null,null,null,null,null,null,null,null,null,null,null,null,null,null,null,"見附南",40130,{"$f":"Q27","v":0},{"$f":"T27","v":0},0,{"$f":"AR27","v":0},{"$f":"IF($K27>$W27,$W27,\"\")","v":""},{"$f":"AC27","v":0},{"$f":"AI27","v":0},{"$f":"AO27","v":0},null,"見附",240133,{"$f":"BK27","v":0},{"$f":"BN27","v":0}]
[null,"見附北",null,null,"新アマ日",null,null,null,null,null,null,null,null,3400,null,null,null,null,null,null,null,null,null,null,null,3200,null,null,null,null,null,0,null,null,null,null,null,140,null,null,null,null,null,null,null,null,null,null,null,null,null,null,null,null,"見附",null,null,"サ",null,680,null,null,null,null,null,null,null,null,null,null,null,null,null,null,null,null,null,"見附北",40131,{"$f":"Q28","v":0},{"$f":"T28","v":0},0,{"$f":"AR28","v":0},{"$f":"IF($K28>$W28,$W28,\"\")","v":""},{"$f":"AC28","v":0},{"$f":"AI28","v":0},{"$f":"AO28","v":0},null,"見附",40134,{"$f":"BK28","v":0},{"$f":"BN28","v":0}]
[null,"今町",null,null,"新アマサ日",null,null,null,null,null,null,null,null,3350,null,null,null,null,null,null,null,null,null,null,null,1610,null,null,null,null,null,460,null,null,null,null,null,130,null,null,null,null,null,null,null,null,null,null,null,null,null,null,null,null,"今町",null,null,"ヨ",null,600,null,null,null,null,null,null,null,null,null,null,null,null,null,null,null,null,null,"今町",40135,{"$f":"Q29","v":0},{"$f":"T29","v":0},0,{"$f":"AR29","v":0},{"$f":"IF($K29>$W29,$W29,\"\")","v":""},{"$f":"AC29","v":0},{"$f":"AI29","v":0},{"$f":"AO29","v":0},null,"今町",240136,{"$f":"BK29","v":0},{"$f":"BN29","v":0}]
[null,"030","小計",null,{"$f":"Q30+T30+W30+AC30+AI30+AO30+BK30","v":0},null,null,null,null,null,null,null,null,{"$f":"SUM(N27:P29)","v":9400},null,null,{"$f":"SUM(Q27:S29)","v":0},null,null,null,null,null,{"$f":"CF30","v":0},null,null,{"$f":"SUM(Z27:AA29)","v":6310},null,null,{"$f":"SUM(AC27:AE29)","v":0},null,null,{"$f":"SUM(AF27:AH29)","v":480},null,null,{"$f":"SUM(AI27:AK29)","v":0},null,null,{"$f":"SUM(AL27:AN29)","v":360},null,null,{"$f":"SUM(AO27:AQ29)","v":0},null,null,null,null,null,null,null,null,null,null,null,null,null,"小計",null,null,null,null,{"$f":"SUM(BH27:BI29)","v":2680},null,null,{"$f":"SUM(BK27:BM29)","v":0},null,null,null,null,null,null,null,null,null,null,null,null,null,null,{"$f":"SUM(CD30,CF30:CI30,CM30)","v":0},null,{"$f":"SUM(CB27:CB29)","v":0},{"$f":"SUM(CC27:CC29)","v":0},0,null,{"$f":"SUM(CF27:CF29)","v":0},{"$f":"SUM(CG27:CG29)","v":0},0,0,null,null,null,{"$f":"SUM(CM27:CM29)","v":0}]
["旧三島郡","越路",null,null,"新アマサ日",null,null,{"$f":"N31+W31","v":2860},null,null,null,null,null,2810,null,null,null,null,null,{"$f":"IF(K31=\"\",\"\",IF(K31<=W31,K31,K31-W31))","v":""},null,null,50,null,null,2470,null,null,null,null,null,2470,null,null,null,null,null,0,null,null,null,null,null,null,null,null,null,null,null,null,null,null,null,null,"来迎寺",null,null,"ヨ",null,620,null,null,null,null,null,null,null,null,null,null,null,null,null,null,null,null,null,"越路",40139,{"$f":"Q31","v":0},{"$f":"T31","v":""},0,{"$f":"AR31","v":0},{"$f":"IF($K31>$W31,$W31,\"\")","v":""},{"$f":"AC31","v":0},{"$f":"AI31","v":0},{"$f":"AO31","v":0},null,"来迎寺",240140,{"$f":"BK31","v":0},{"$f":"BN31","v":0}]
[null,"塚山",null,null,"合",null,null,null,null,null,null,null,null,810,null,null,null,null,null,null,null,null,null,null,null,130,null,null,null,null,null,130,null,null,null,null,null,null,null,null,null,null,null,null,null,null,null,null,null,null,null,null,null,null,null,null,null,null,null,null,null,null,null,null,null,null,null,null,null,null,null,null,null,null,null,null,null,"塚山",40141,{"$f":"Q32","v":0},{"$f":"T32","v":0},0,{"$f":"AR32","v":0},{"$f":"IF($K32>$W32,$W32,\"\")","v":""},{"$f":"AC32","v":0},{"$f":"AI32","v":0},{"$f":"AO32","v":0},null,null,null,{"$f":"BK32","v":0}]
[null,"与板",null,null,"合",null,null,{"$f":"N33+W33","v":2830},null,null,null,null,null,2680,null,null,null,null,null,{"$f":"IF(K33=\"\",\"\",IF(K33<=W33,K33,K33-W33))","v":""},null,null,150,null,null,900,null,null,null,null,null,900,null,null,null,null,null,null,null,null,null,null,null,null,null,null,null,null,null,null,null,null,null,null,null,null,null,null,null,null,null,null,null,null,null,null,null,null,null,null,null,null,null,null,null,null,null,"与板",40144,{"$f":"Q33","v":0},{"$f":"T33","v":""},0,{"$f":"AR33","v":0},{"$f":"IF($K33>$W33,$W33,\"\")","v":""},{"$f":"AC33","v":0},{"$f":"AI33","v":0},{"$f":"AO33","v":0},null,null,null,{"$f":"BK33","v":0}]
[null,"大河津",null,null,"合",null,null,null,null,null,null,null,null,1080,null,null,null,null,null,null,null,null,null,null,null,null,null,null,null,null,null,null,null,null,null,null,null,null,null,null,null,null,null,null,null,null,null,null,null,null,null,null,null,null,null,null,null,null,null,null,null,null,null,null,null,null,null,null,null,null,null,null,null,null,null,null,null,"大河津",40145,{"$f":"Q34","v":0},{"$f":"T34","v":0},0,{"$f":"AR34","v":0},{"$f":"IF($K34>$W34,$W34,\"\")","v":""},{"$f":"AC34","v":0},{"$f":"AI34","v":0},{"$f":"AO34","v":0},null,null,null,{"$f":"BK34","v":0}]
[null,"寺泊",null,null,"合",null,null,null,null,null,null,null,null,1090,null,null,null,null,null,null,null,null,null,null,null,null,null,null,null,null,null,null,null,null,null,null,null,null,null,null,null,null,null,null,null,null,null,null,null,null,null,null,null,null,null,null,null,null,null,null,null,null,null,null,null,null,null,null,null,null,null,null,null,null,null,null,null,"寺泊",40146,{"$f":"Q35","v":0},{"$f":"T35","v":0},0,{"$f":"AR35","v":0},{"$f":"IF($K35>$W35,$W35,\"\")","v":""},{"$f":"AC35","v":0},{"$f":"AI35","v":0},{"$f":"AO35","v":0},null,null,null,{"$f":"BK35","v":0}]
[null,"和島",null,null,"合",null,null,null,null,null,null,null,null,940,null,null,null,null,null,null,null,null,null,null,null,null,null,null,null,null,null,null,null,null,null,null,null,null,null,null,null,null,null,null,null,null,null,null,null,null,null,null,null,null,null,null,null,null,null,null,null,null,null,null,null,null,null,null,null,null,null,null,null,null,null,null,null,"和島",40147,{"$f":"Q36","v":0},{"$f":"T36","v":0},0,{"$f":"AR36","v":0},{"$f":"IF($K36>$W36,$W36,\"\")","v":""},{"$f":"AC36","v":0},{"$f":"AI36","v":0},{"$f":"AO36","v":0},null,null,null,{"$f":"BK36","v":0}]
[null,"西越",null,null,"合",null,null,null,null,null,null,null,null,1200,null,null,null,null,null,null,null,null,null,null,null,null,null,null,null,null,null,null,null,null,null,null,null,null,null,null,null,null,null,null,null,null,null,null,null,null,null,null,null,null,null,null,null,null,null,null,null,null,null,null,null,null,null,null,null,null,null,null,null,null,null,null,null,"西越",40148,{"$f":"Q37","v":0},{"$f":"T37","v":0},0,{"$f":"AR37","v":0},{"$f":"IF($K37>$W37,$W37,\"\")","v":""},{"$f":"AC37","v":0},{"$f":"AI37","v":0},{"$f":"AO37","v":0},null,null,null,{"$f":"BK37","v":0}]
[null,"040","小計",null,{"$f":"Q38+T38+W38+AC38+AI38+AO38+BK38","v":0},null,null,{"$f":"SUM(H31:J37)","v":5690},null,null,{"$f":"SUM(K31:M37)","v":0},null,null,{"$f":"SUM(N31:P37)","v":10610},null,null,{"$f":"SUM(Q31:S37)","v":0},null,null,{"$f":"SUM(T31:V37)","v":0},null,null,{"$f":"CF38","v":0},null,null,{"$f":"SUM(Z31:AB37)","v":3500},null,null,{"$f":"SUM(AC31:AE37)","v":0},null,null,{"$f":"SUM(AF31:AH37)","v":3500},null,null,{"$f":"SUM(AI31:AK37)","v":0},null,null,null,null,null,null,null,null,null,null,null,null,null,null,null,null,null,null,null,"小計",null,null,null,null,{"$f":"SUM(BH31:BJ37)","v":620},null,null,{"$f":"SUM(BK31:BM37)","v":0},null,null,null,null,null,null,null,null,null,null,null,null,null,null,{"$f":"SUM(CD38,CF38:CI38,CM38)","v":0},null,{"$f":"SUM(CB31:CB37)","v":0},{"$f":"SUM(CC31:CC37)","v":0},{"$f":"SUM(CD31:CD37)","v":0},{"$f":"SUM(CE8:CE37)","v":0},{"$f":"SUM(CF31:CF37)","v":0},{"$f":"SUM(CG31:CG37)","v":0},0,0,null,null,null,{"$f":"SUM(CM31:CM37)","v":0}]
["合計",null,null,null,{"$f":"SUM(E38,E30,E26,E24)","v":0},null,null,{"$f":"SUM(H38,H30,H26,H24)","v":40430},null,null,{"$f":"SUM(K38,K30,K26,K24)","v":0},null,null,{"$f":"SUM(N38,N30,N26,N24)","v":61650},null,null,{"$f":"SUM(Q38,Q30,Q26,Q24)","v":0},null,null,{"$f":"SUM(T38,T30,T26,T24)","v":0},null,null,{"$f":"SUM(W38,W30,W26,W24)","v":0},null,null,{"$f":"SUM(Z38,Z30,Z26,Z24)","v":48900},null,null,{"$f":"SUM(AC38,AC30,AC26,AC24)","v":0},null,null,{"$f":"SUM(AF38,AF30,AF26,AF24)","v":42970},null,null,{"$f":"SUM(AI38,AI30,AI26,AI24)","v":0},null,null,{"$f":"SUM(AL38,AL30,AL26,AL24)","v":2250},null,null,{"$f":"SUM(AO38,AO30,AO26,AO24)","v":0},null,null,null,null,null,null,null,null,null,null,null,null,null,"合計",null,null,null,null,{"$f":"SUM(BH38,BH30,BH26,BH24)","v":13860},null,null,{"$f":"SUM(BK38,BK30,BK26,BK24)","v":0},null,null,null,null,null,null,null,null,null,null,null,null,null,null,{"$f":"SUM(BZ38,BZ30,BZ26,BZ24)","v":0},null,{"$f":"SUM(CB38,CB30,CB26,CB24)","v":0},{"$f":"SUM(CC38,CC30,CC26,CC24)","v":0},0,null,{"$f":"SUM(CF24,CF26,CF30,CF38)","v":0},{"$f":"SUM(CG38,CG30,CG26,CG24)","v":0},0,{"$f":"SUM(CI38,CI30,CI26,CI24)","v":0},null,null,null,{"$f":"SUM(CM38,CM30,CM26,CM24)","v":0},null,{"$f":"SUM(CD39:CN39)","v":0}]
[null,null,null,null,null,null,null,null,null,null,null,null,null,null,null,null,null,null,null,null,null,null,null,null,null,null,null,null,null,null,null,null,null,null,null,null,null,"■Otona+ ※ がある販売店は一部朝刊宅配エリアがございます。",null,null,null,null,null,null,null,null,null,null,null,null,null,null,null,null,null,null,null,null,null,null,null,null,null,null,null,null,null,null,null,null,null,null,null,null,null,null,null,null,null,null,null,{"$f":"SUM(CD39,CM39)","v":0}]

{"sheet":"中越２","index":6,"n_rows":43,"n_cols":87,"rows_kept":43,"cut":false,"hidden":false,"merged":[[41,57,41,59],[41,60,41,70],[41,31,41,36],[41,25,41,30],[41,4,41,6],[41,13,41,15],[41,16,41,18],[41,0,41,3],[25,52,25,53],[25,49,25,51],[30,13,30,15],[26,13,26,15],[34,60,39,70],[38,13,38,15],[38,16,38,18],[36,16,36,18],[34,16,34,18],[37,13,37,15],[39,13,39,15],[40,31,40,36],[40,25,40,30],[40,13,40,15],[40,16,40,18],[36,13,36,15],[3,63,3,70],[4,49,4,55],[4,56,4,62],[4,63,4,70],[2,63,2,70],[2,56,2,62],[19,54,19,56],[19,57,19,59],[13,54,13,56],[13,57,13,59],[12,49,12,53],[14,60,18,70],[6,60,7,70],[9,60,11,70],[9,49,11,59],[7,54,7,56],[36,1,36,3],[36,4,36,6],[34,4,34,6],[4,29,4,33],[34,13,34,15],[25,7,32,12],[32,13,32,15],[31,1,31,3],[31,4,31,6],[27,1,27,3],[27,4,27,6],[27,13,27,15],[31,13,31,15],[30,1,30,3],[30,4,30,6],[26,1,26,3],[26,4,26,6],[28,13,28,15],[34,19,39,24],[6,31,6,36],[8,7,11,12],[7,13,7,15],[9,1,9,3],[9,4,9,6],[1,49,1,55],[1,56,1,62],[2,49,2,55],[3,49,3,55],[3,56,3,62],[40,60,40,70],[36,37,36,48],[39,37,39,48],[37,37,37,48],[38,37,38,48],[40,37,40,48],[33,54,33,56],[33,57,33,59],[33,60,33,70],[33,37,33,48],[33,49,33,53],[25,54,25,56],[25,57,25,59],[25,60,25,70],[26,54,26,56],[26,57,26,59],[29,37,29,48],[31,37,31,48],[19,37,19,48],[35,37,35,48],[34,37,34,48],[34,25,39,30],[34,49,39,59],[34,31,39,36],[19,60,19,70],[19,49,19,53],[27,16,27,18],[27,37,27,48],[26,49,26,51],[25,31,32,36],[25,25,32,30],[25,37,25,48],[27,57,27,59],[24,37,24,48],[26,37,26,48],[26,60,26,70],[27,54,27,56],[27,60,27,70],[32,37,32,48],[27,49,27,51],[27,52,27,53],[30,37,30,48],[28,49,32,59],[28,60,32,70],[25,19,32,24],[30,16,30,18],[28,16,28,18],[20,60,20,70],[20,37,20,48],[20,49,20,51],[20,52,20,53],[21,37,21,48],[20,54,20,56],[20,57,20,59],[20,31,23,36],[24,31,24,36],[21,60,23,70],[22,37,22,48],[21,49,23,59],[24,54,24,56],[24,57,24,59],[24,60,24,70],[16,37,16,48],[12,60,12,70],[12,54,12,56],[12,31,12,36],[12,57,12,59],[14,37,14,48],[13,52,13,53],[13,49,13,51],[13,37,13,48],[14,49,18,59],[8,37,8,48],[8,49,8,51],[8,52,8,53],[8,54,8,56],[12,37,12,48],[8,57,8,59],[7,49,7,51],[7,52,7,53],[12,4,12,6],[8,19,11,24],[7,34,7,36],[11,37,11,48],[10,37,10,48],[9,37,9,48],[7,19,7,21],[8,13,8,15],[6,37,7,48],[12,2,12,3],[12,10,12,12],[12,7,12,9],[12,22,12,24],[4,0,4,11],[8,0,12,0],[12,16,12,18],[2,29,2,33],[3,29,3,33],[10,1,10,3],[7,16,7,18],[11,4,11,6],[11,1,11,3],[7,1,7,3],[7,4,7,6],[10,4,10,6],[8,1,8,3],[8,4,8,6],[7,25,7,27],[7,28,7,30],[7,31,7,33],[6,25,6,30],[8,16,8,18],[6,1,6,24],[13,0,19,0],[19,13,19,15],[19,16,19,18],[0,60,0,70],[1,0,1,11],[1,12,1,28],[1,29,1,33],[1,34,1,48],[7,57,7,59],[2,12,2,26],[3,12,3,28],[4,12,4,26],[2,34,4,48],[0,22,0,23],[7,10,7,12],[6,0,7,0],[1,63,1,70],[7,7,7,9],[7,22,7,24],[4,27,4,28],[2,27,2,28],[2,0,2,11],[6,49,6,59],[3,0,3,11],[34,0,40,0],[25,0,32,0],[25,16,25,18],[23,4,23,6],[20,1,20,3],[20,4,20,6],[20,0,24,0],[21,16,21,18],[20,13,20,15],[25,1,25,3],[25,4,25,6],[25,13,25,15],[29,13,29,15],[29,16,29,18],[29,1,29,3],[29,4,29,6],[28,4,28,6],[21,1,21,3],[22,1,22,3],[23,1,23,3],[20,7,23,12],[26,16,26,18],[32,4,32,6],[24,13,24,15],[6,72,6,77],[6,82,6,85],[22,13,22,15],[21,13,21,15],[17,13,17,15],[18,13,18,15],[18,16,18,18],[13,16,13,18],[15,37,15,48],[13,60,13,70],[9,13,9,15],[9,16,9,18],[10,13,10,15],[10,16,10,18],[11,13,11,15],[11,16,11,18],[15,16,15,18],[14,13,14,15],[14,16,14,18],[15,13,15,15],[8,31,11,36],[8,25,11,30],[12,13,12,15],[8,60,8,70],[19,2,19,3],[24,2,24,3],[33,2,33,3],[39,16,39,18],[37,16,37,18],[13,19,18,24],[18,1,18,3],[18,4,18,6],[17,1,17,3],[17,4,17,6],[22,4,22,6],[21,4,21,6],[15,4,15,6],[13,1,13,3],[13,4,13,6],[16,1,16,3],[16,4,16,6],[15,1,15,3],[14,1,14,3],[14,4,14,6],[19,4,19,6],[22,16,22,18],[13,7,18,12],[17,16,17,18],[40,2,40,3],[24,4,24,6],[33,4,33,6],[40,4,40,6],[31,16,31,18],[32,16,32,18],[35,13,35,15],[35,16,35,18],[33,16,33,18],[28,1,28,3],[38,4,38,6],[35,4,35,6],[37,4,37,6],[39,1,39,3],[39,4,39,6],[32,1,32,3],[34,1,34,3],[33,13,33,15],[38,1,38,3],[35,1,35,3],[37,1,37,3],[24,16,24,18],[24,7,24,9],[24,10,24,12],[40,7,40,9],[40,10,40,12],[41,7,41,9],[41,10,41,12],[33,7,33,9],[33,10,33,12],[12,19,12,21],[19,19,19,21],[24,19,24,21],[33,19,33,21],[16,16,16,18],[16,13,16,15],[13,13,13,15],[20,19,23,24],[23,13,23,15],[19,7,19,9],[19,10,19,12],[19,22,19,24],[23,16,23,18],[20,16,20,18],[24,22,24,24],[34,7,39,12],[33,22,33,24],[40,19,40,21],[40,22,40,24],[41,19,41,21],[41,22,41,24],[12,25,12,30],[40,49,40,53],[40,54,40,56],[40,57,40,59],[19,31,19,36],[19,25,19,30],[13,31,18,36],[13,25,18,30],[24,49,24,53],[23,37,23,48],[20,25,23,30],[24,25,24,30],[26,52,26,53],[28,37,28,48],[33,31,33,36],[33,25,33,30],[41,37,41,48],[41,49,41,53],[41,54,41,56],[18,37,18,48],[17,37,17,48]]}
[null,null,null,null,null,null,null,null,null,null,null,null,null,null,null,null,null,null,null,null,null,null,null,null,null,null,null,null,null,null,null,null,null,null,null,null,null,null,null,null,null,null,null,null,null,null,null,null,null,null,null,null,null,null,null,null,null,null,null,null,{"$f":"新潟市!BI1","v":"２０２３年１１月１日 現在"}]
["折込日",null,null,null,null,null,null,null,null,null,null,null,"スポンサー名",null,null,null,null,null,null,null,null,null,null,null,null,null,null,null,null,"サイズ",null,null,null,null,"チラシ内容・タイトル詳細",null,null,null,null,null,null,null,null,null,null,null,null,null,null,"朝刊　小計",null,null,null,null,null,null,"Otona＋　小計",null,null,null,null,null,null,"ページ枚数"]
[{"$f":"新潟市!A3","v":"2023/--/--"},null,null,null,null,null,null,null,null,null,null,null,{"$f":"新潟市!M3","v":0},null,null,null,null,null,null,null,null,null,null,null,null,null,null,"様",null,{"$f":"新潟市!AD3","v":0},null,null,null,null,{"$f":"新潟市!AI3","v":0},null,null,null,null,null,null,null,null,null,null,null,null,null,null,{"$f":"BY42+CG42","v":0},null,null,null,null,null,null,null,null,null,null,null,null,null,{"$f":"SUM(AX3,BE3,BE5,AX5)","v":0}]
["assh　ポスティング日",null,null,null,null,null,null,null,null,null,null,null,"ご請求先名",null,null,null,null,null,null,null,null,null,null,null,null,null,null,null,null,"ガタチラ 掲載",null,null,null,null,null,null,null,null,null,null,null,null,null,null,null,null,null,null,null,"くるみる　小計",null,null,null,null,null,null,"assh　小計",null,null,null,null,null,null,"総枚数"]
[{"$f":"新潟市!A5","v":"2023/--/--"},null,null,null,null,null,null,null,null,null,null,null,{"$f":"新潟市!M5","v":0},null,null,null,null,null,null,null,null,null,null,null,null,null,null,"様",null,{"$f":"新潟市!AD5","v":0},null,null,null,null,null,null,null,null,null,null,null,null,null,null,null,null,null,null,null,{"$f":"CA42","v":0},null,null,null,null,null,null,null,null,null,null,null,null,null,{"$f":"新潟市!BL5","v":0}]
[]
["04","新潟日報　",null,null,null,null,null,null,null,null,null,null,null,null,null,null,null,null,null,null,null,null,null,null,null,"ポスティング",null,null,null,null,null,"Otona+",null,null,null,null,null,"備考",null,null,null,null,null,null,null,null,null,null,null,"中央紙",null,null,null,null,null,null,null,null,null,null,"備考",null,null,null,null,null,null,null,null,null,null,null,"朝刊",null,null,null,null,null,"くるみる","assh","otona",null,"中央紙　朝刊"]
[null,"販売店名",null,null,"取扱い紙",null,null,"朝刊＋くるみる",null,null,"配布数",null,null,"朝刊扱数",null,null,"配布数",null,null,"朝刊数",null,null,"くるみる数",null,null,"部数",null,null,"配布数",null,null,"部数",null,null,"配布数",null,null,null,null,null,null,null,null,null,null,null,null,null,null,"販売店名",null,null,"取扱い紙",null,"部数",null,null,"配布数",null,null,null,null,null,null,null,null,null,null,null,null,null,null,"販売店名","E","朝刊1","朝刊２","部","指示","部","部","部",null,"販売店名","E","部","指示"]
["小千谷市","小千谷中央",null,null,"新アマサ日",null,null,null,null,null,null,null,null,3760,null,null,null,null,null,null,null,null,null,null,null,null,null,null,null,null,null,null,null,null,null,null,null,null,null,null,null,null,null,null,null,null,null,null,null,"小千谷",null,null,"ヨ",null,1340,null,null,null,null,null,null,null,null,null,null,null,null,null,null,null,null,null,"小千谷中央",40151,{"$f":"Q9","v":0},{"$f":"W9","v":0},{"$f":"SUM(BW9:BX9)","v":0},{"$f":"AL9","v":0},null,null,null,null,"小千谷",240153,{"$f":"BF9","v":0},{"$f":"BI9","v":0}]
[null,"小千谷東",null,null,"新アマサ日",null,null,null,null,null,null,null,null,1500,null,null,null,null,null,null,null,null,null,null,null,null,null,null,null,null,null,null,null,null,null,null,null,null,null,null,null,null,null,null,null,null,null,null,null,null,null,null,null,null,null,null,null,null,null,null,null,null,null,null,null,null,null,null,null,null,null,null,"小千谷東",40152,{"$f":"Q10","v":0},{"$f":"W10","v":0},{"$f":"SUM(BW10:BX10)","v":0},{"$f":"AL10","v":0},null,null,null,null,null,null,{"$f":"BF10","v":0},{"$f":"BI10","v":0}]
[null,"片貝",null,null,"合",null,null,null,null,null,null,null,null,1460,null,null,null,null,null,null,null,null,null,null,null,null,null,null,null,null,null,null,null,null,null,null,null,null,null,null,null,null,null,null,null,null,null,null,null,null,null,null,null,null,null,null,null,null,null,null,null,null,null,null,null,null,null,null,null,null,null,null,"片貝",40154,0,0,0,0,null,null,null,null,null,null,0,0]
[null,"岩沢",null,null,"合",null,null,null,null,null,null,null,null,640,null,null,null,null,null,null,null,null,null,null,null,null,null,null,null,null,null,null,null,null,null,null,null,null,null,null,null,null,null,null,null,null,null,null,null,null,null,null,null,null,null,null,null,null,null,null,null,null,null,null,null,null,null,null,null,null,null,null,"岩沢",40155,0,0,0,0,null,null,null,null,null,null,0,0]
[null,"050","小計",null,{"$f":"Q13+T13+W13+BF13","v":0},null,null,null,null,null,null,null,null,{"$f":"SUM(N9:P12)","v":7360},null,null,{"$f":"SUM(Q9:S12)","v":0},null,null,null,null,null,null,null,null,null,null,null,null,null,null,null,null,null,null,null,null,null,null,null,null,null,null,null,null,null,null,null,null,"小計",null,null,null,null,{"$f":"SUM(BC9:BE12)","v":1340},null,null,{"$f":"SUM(BF9:BH12)","v":0},null,null,null,null,null,null,null,null,null,null,null,null,null,null,{"$f":"SUM(BY13,CA13:CC13,CG13)","v":0},null,{"$f":"SUM(BW9:BW12)","v":0},{"$f":"SUM(BX9:BX12)","v":0},0,null,{"$f":"SUM(CA9:CA12)","v":0},0,0,null,null,null,{"$f":"SUM(CG9:CG12)","v":0}]
["十日町市","十日町西部",null,null,"新アマサ日",null,null,null,null,null,null,null,null,2780,null,null,null,null,null,null,null,null,null,null,null,null,null,null,null,null,null,null,null,null,null,null,null,null,null,null,null,null,null,null,null,null,null,null,null,"十日町",null,null,"ヨ日",null,1460,null,null,null,null,null,null,null,null,null,null,null,null,null,null,null,null,null,"十日町西部",40156,0,0,0,0,null,null,null,null,"十日町",240159,0,0]
[null,"十日町東部",null,null,"新アマサ日",null,null,null,null,null,null,null,null,1100,null,null,null,null,null,null,null,null,null,null,null,null,null,null,null,null,null,null,null,null,null,null,null,null,null,null,null,null,null,null,null,null,null,null,null,null,null,null,null,null,null,null,null,null,null,null,null,null,null,null,null,null,null,null,null,null,null,null,"十日町東部",40157,0,0,0,0,null,null,null,null,null,null,0,0]
[null,"下条",null,null,"合",null,null,null,null,null,null,null,null,1050,null,null,null,null,null,null,null,null,null,null,null,null,null,null,null,null,null,null,null,null,null,null,null,null,null,null,null,null,null,null,null,null,null,null,null,null,null,null,null,null,null,null,null,null,null,null,null,null,null,null,null,null,null,null,null,null,null,null,"下条",40162,0,0,0,0,null,null,null,null,null,null,0,0]
[null,"魚沼中条",null,null,"合",null,null,null,null,null,null,null,null,890,null,null,null,null,null,null,null,null,null,null,null,null,null,null,null,null,null,null,null,null,null,null,null,null,null,null,null,null,null,null,null,null,null,null,null,null,null,null,null,null,null,null,null,null,null,null,null,null,null,null,null,null,null,null,null,null,null,null,"魚沼中条",40163,0,0,0,0,null,null,null,null,null,null,0,0]
[null,"水沢",null,null,"合",null,null,null,null,null,null,null,null,730,null,null,null,null,null,null,null,null,null,null,null,null,null,null,null,null,null,null,null,null,null,null,null,null,null,null,null,null,null,null,null,null,null,null,null,null,null,null,null,null,null,null,null,null,null,null,null,null,null,null,null,null,null,null,null,null,null,null,"水沢",40164,0,0,0,0,null,null,null,null,null,null,0,0]
[null,"伊達",null,null,"合",null,null,null,null,null,null,null,null,320,null,null,null,null,null,null,null,null,null,null,null,null,null,null,null,null,null,null,null,null,null,null,null,null,null,null,null,null,null,null,null,null,null,null,null,null,null,null,null,null,null,null,null,null,null,null,null,null,null,null,null,null,null,null,null,null,null,null,"伊達",40165,0,0,0,0,null,null,null,null,null,null,0,0]
[null,"060","小計",null,{"$f":"Q20+T20+W20+BF20","v":0},null,null,null,null,null,null,null,null,{"$f":"SUM(N14:P19)","v":6870},null,null,{"$f":"SUM(Q14:S19)","v":0},null,null,null,null,null,null,null,null,null,null,null,null,null,null,null,null,null,null,null,null,null,null,null,null,null,null,null,null,null,null,null,null,"小計",null,null,null,null,{"$f":"SUM(BC14:BE19)","v":1460},null,null,{"$f":"SUM(BF14:BH19)","v":0},null,null,null,null,null,null,null,null,null,null,null,null,null,null,{"$f":"SUM(BY20,CA20:CC20,CG20)","v":0},null,{"$f":"SUM(BW14:BW19)","v":0},{"$f":"SUM(BX14:BX19)","v":0},0,null,{"$f":"SUM(CA14:CA19)","v":0},0,0,null,null,null,{"$f":"SUM(CG14:CG19)","v":0}]
["旧北魚沼郡","川口",null,null,"合",null,null,null,null,null,null,null,null,1050,null,null,null,null,null,null,null,null,null,null,null,null,null,null,null,null,null,null,null,null,null,null,null,null,null,null,null,null,null,null,null,null,null,null,null,"小出",null,null,"ヨ",null,1250,null,null,null,null,null,null,null,null,null,null,null,null,null,null,null,null,null,"川口",40166,0,0,0,0,null,null,null,null,"小出",240170,0,0]
[null,"堀之内",null,null,"合",null,null,null,null,null,null,null,null,1720,null,null,null,null,null,null,null,null,null,null,null,null,null,null,null,null,null,null,null,null,null,null,null,null,null,null,null,null,null,null,null,null,null,null,null,null,null,null,null,null,null,null,null,null,null,null,null,null,null,null,null,null,null,null,null,null,null,null,"堀之内",40167,0,0,0,0,null,null,null,null,null,null,0,0]
[null,"小出",null,null,"新アマサ日",null,null,null,null,null,null,null,null,4320,null,null,null,null,null,null,null,null,null,null,null,null,null,null,null,null,null,null,null,null,null,null,null,null,null,null,null,null,null,null,null,null,null,null,null,null,null,null,null,null,null,null,null,null,null,null,null,null,null,null,null,null,null,null,null,null,null,null,"小出",40168,0,0,0,0,null,null,null,null,null,null,0,0]
[null,"魚沼北",null,null,"合",null,null,null,null,null,null,null,null,2030,null,null,null,null,null,null,null,null,null,null,null,null,null,null,null,null,null,null,null,null,null,null,null,null,null,null,null,null,null,null,null,null,null,null,null,null,null,null,null,null,null,null,null,null,null,null,null,null,null,null,null,null,null,null,null,null,null,null,"魚沼北",40172,0,0,0,0,null,null,null,null,null,null,0,0]
[null,"070","小計",null,{"$f":"Q25+T25+W25+BF25","v":0},null,null,null,null,null,null,null,null,{"$f":"SUM(N21:P24)","v":9120},null,null,{"$f":"SUM(Q21:S24)","v":0},null,null,null,null,null,null,null,null,null,null,null,null,null,null,null,null,null,null,null,null,null,null,null,null,null,null,null,null,null,null,null,null,"小計",null,null,null,null,{"$f":"SUM(BC21:BE24)","v":1250},null,null,{"$f":"SUM(BF21:BH24)","v":0},null,null,null,null,null,null,null,null,null,null,null,null,null,null,{"$f":"SUM(BY25,CA25:CC25,CG25)","v":0},null,{"$f":"SUM(BW21:BW24)","v":0},{"$f":"SUM(BX21:BX24)","v":0},0,null,{"$f":"SUM(CA21:CA24)","v":0},0,0,null,null,null,{"$f":"SUM(CG21:CG24)","v":0}]
["旧南魚沼郡","浦佐",null,null,"合",null,null,null,null,null,null,null,null,1490,null,null,null,null,null,null,null,null,null,null,null,null,null,null,null,null,null,null,null,null,null,null,null,null,null,null,null,null,null,null,null,null,null,null,null,"六日町",null,null,"ヨ",null,1770,null,null,null,null,null,null,null,null,null,null,null,null,null,null,null,null,null,"浦佐",40176,0,0,0,0,null,null,null,null,"六日町",240183,0,0]
[null,"大崎",null,null,"合",null,null,null,null,null,null,null,null,620,null,null,null,null,null,null,null,null,null,null,null,null,null,null,null,null,null,null,null,null,null,null,null,null,null,null,null,null,null,null,null,null,null,null,null,"塩沢石打",null,null,"ヨ",null,1400,null,null,null,null,null,null,null,null,null,null,null,null,null,null,null,null,null,"大崎",40178,0,0,0,0,null,null,null,null,"塩沢石打",240185,0,0]
[null,"五日町",null,null,"合",null,null,null,null,null,null,null,null,990,null,null,null,null,null,null,null,null,null,null,null,null,null,null,null,null,null,null,null,null,null,null,null,null,null,null,null,null,null,null,null,null,null,null,null,"湯沢",null,null,"ヨ",null,700,null,null,null,null,null,null,null,null,null,null,null,null,null,null,null,null,null,"五日町",40179,0,0,0,0,null,null,null,null,"湯沢",240190,0,0]
[null,"城内",null,null,"合",null,null,null,null,null,null,null,null,850,null,null,null,null,null,null,null,null,null,null,null,null,null,null,null,null,null,null,null,null,null,null,null,null,null,null,null,null,null,null,null,null,null,null,null,null,null,null,null,null,null,null,null,null,null,null,null,null,null,null,null,null,null,null,null,null,null,null,"城内",40180,0,0,0,0,null,null,null,null,null,null,0,0]
[null,"六日町",null,null,"新アマサ日",null,null,null,null,null,null,null,null,2700,null,null,null,null,null,null,null,null,null,null,null,null,null,null,null,null,null,null,null,null,null,null,null,null,null,null,null,null,null,null,null,null,null,null,null,null,null,null,null,null,null,null,null,null,null,null,null,null,null,null,null,null,null,null,null,null,null,null,"六日町",40181,0,0,0,0,null,null,null,null,null,null,0,0]
[null,"塩沢",null,null,"新アマサ日",null,null,null,null,null,null,null,null,1990,null,null,null,null,null,null,null,null,null,null,null,null,null,null,null,null,null,null,null,null,null,null,null,null,null,null,null,null,null,null,null,null,null,null,null,null,null,null,null,null,null,null,null,null,null,null,null,null,null,null,null,null,null,null,null,null,null,null,"塩沢",40184,{"$f":"Q31","v":0},0,0,0,null,null,null,null,null,null,0,0]
[null,"上田",null,null,"合",null,null,null,null,null,null,null,null,650,null,null,null,null,null,null,null,null,null,null,null,null,null,null,null,null,null,null,null,null,null,null,null,null,null,null,null,null,null,null,null,null,null,null,null,null,null,null,null,null,null,null,null,null,null,null,null,null,null,null,null,null,null,null,null,null,null,null,"上田",40186,0,0,0,0,null,null,null,null,null,null,0,0]
[null,"湯沢",null,null,"新アマサ日",null,null,null,null,null,null,null,null,1400,null,null,null,null,null,null,null,null,null,null,null,null,null,null,null,null,null,null,null,null,null,null,null,null,null,null,null,null,null,null,null,null,null,null,null,null,null,null,null,null,null,null,null,null,null,null,null,null,null,null,null,null,null,null,null,null,null,null,"湯沢",40189,0,0,0,0,null,null,null,null,null,null,0,0]
[null,"080","小計",null,{"$f":"Q34+T34+W34+BF34","v":0},null,null,null,null,null,null,null,null,{"$f":"SUM(N26:P33)","v":10690},null,null,{"$f":"SUM(Q26:S33)","v":0},null,null,null,null,null,null,null,null,null,null,null,null,null,null,null,null,null,null,null,null,null,null,null,null,null,null,null,null,null,null,null,null,"小計",null,null,null,null,{"$f":"SUM(BC26:BE33)","v":3870},null,null,{"$f":"SUM(BF26:BH33)","v":0},null,null,null,null,null,null,null,null,null,null,null,null,null,null,{"$f":"SUM(BY34,CA34:CC34,CG34)","v":0},null,{"$f":"SUM(BW26:BW33)","v":0},{"$f":"SUM(BX26:BX33)","v":0},{"$f":"SUM(BY26:BY33)","v":0},null,{"$f":"SUM(CA26:CA33)","v":0},{"$f":"SUM(CB26:CB33)","v":0},{"$f":"SUM(CC26:CC33)","v":0},null,null,null,{"$f":"SUM(CG26:CG33)","v":0}]
["旧中魚沼郡","十日町川西",null,null,"合",null,null,null,null,null,null,null,null,1440,null,null,null,null,null,null,null,null,null,null,null,null,null,null,null,null,null,null,null,null,null,null,null,null,null,null,null,null,null,null,null,null,null,null,null,null,null,null,null,null,null,null,null,null,null,null,null,null,null,null,null,null,null,null,null,null,null,null,"十日町川西",40192,0,0,0,0,null,null,null,null,null,null,0,0]
[null,"仙田",null,null,"合",null,null,null,null,null,null,null,null,160,null,null,null,null,null,null,null,null,null,null,null,null,null,null,null,null,null,null,null,null,null,null,null,null,null,null,null,null,null,null,null,null,null,null,null,null,null,null,null,null,null,null,null,null,null,null,null,null,null,null,null,null,null,null,null,null,null,null,"仙田",40193,0,0,0,0,null,null,null,null,null,null,0,0]
[null,"田沢",null,null,"合",null,null,null,null,null,null,null,null,1060,null,null,null,null,null,null,null,null,null,null,null,null,null,null,null,null,null,null,null,null,null,null,null,null,null,null,null,null,null,null,null,null,null,null,null,null,null,null,null,null,null,null,null,null,null,null,null,null,null,null,null,null,null,null,null,null,null,null,"田沢",40194,0,0,0,0,null,null,null,null,null,null,0,0]
[null,"津南",null,null,"合",null,null,null,null,null,null,null,null,1740,null,null,null,null,null,null,null,null,null,null,null,null,null,null,null,null,null,null,null,null,null,null,null,null,null,null,null,null,null,null,null,null,null,null,null,null,null,null,null,null,null,null,null,null,null,null,null,null,null,null,null,null,null,null,null,null,null,null,"津南",340197,0,0,0,0,null,null,null,null,null,null,0,0]
[null,"上郷",null,null,"合",null,null,null,null,null,null,null,null,330,null,null,null,null,null,null,null,null,null,null,null,null,null,null,null,null,null,null,null,null,null,null,null,null,null,null,null,null,null,null,null,null,null,null,null,null,null,null,null,null,null,null,null,null,null,null,null,null,null,null,null,null,null,null,null,null,null,null,"上郷",40199,0,0,0,0,null,null,null,null,null,null,0,0]
[null,"森宮野原",null,null,"合",null,null,null,null,null,null,null,null,40,null,null,null,null,null,null,null,null,null,null,null,null,null,null,null,null,null,null,null,null,null,null,null,null,null,null,null,null,null,null,null,null,null,null,null,null,null,null,null,null,null,null,null,null,null,null,null,null,null,null,null,null,null,null,null,null,null,null,"森宮野原",40200,0,0,0,0,null,null,null,null,null,null,0,0]
[null,"090","小計",null,{"$f":"Q41+T41+W41+BF41","v":0},null,null,null,null,null,null,null,null,{"$f":"SUM(N35:P40)","v":4770},null,null,{"$f":"SUM(Q35:S40)","v":0},null,null,null,null,null,null,null,null,null,null,null,null,null,null,null,null,null,null,null,null,null,null,null,null,null,null,null,null,null,null,null,null,"小計",null,null,null,null,null,null,null,null,null,null,null,null,null,null,null,null,null,null,null,null,null,null,{"$f":"SUM(BY41,CA41:CC41,CG41)","v":0},null,{"$f":"SUM(BW35:BW40)","v":0},{"$f":"SUM(BX35:BX40)","v":0},0,null,{"$f":"SUM(CA35:CA40)","v":0},0,0,null,null,null,{"$f":"SUM(CG35:CG40)","v":0}]
["合計",null,null,null,{"$f":"SUM(E41,E34,E25,E20,E13)","v":0},null,null,null,null,null,null,null,null,{"$f":"SUM(N41,N34,N25,N20,N13)","v":38810},null,null,{"$f":"SUM(Q41,Q34,Q25,Q20,Q13)","v":0},null,null,null,null,null,null,null,null,{"$f":"SUM(Z40)","v":0},null,null,null,null,null,{"$f":"SUM(AF40,AF32,AF30,AF27,AF23,AF15,AF12,AF8)","v":0},null,null,null,null,null,null,null,null,null,null,null,null,null,null,null,null,null,"合計",null,null,null,null,{"$f":"SUM(BC41,BC34,BC25,BC20,BC13)","v":7920},null,null,{"$f":"SUM(BF41,BF34,BF25,BF20,BF13)","v":0},null,null,null,null,null,null,null,null,null,null,null,null,null,null,{"$f":"SUM(BU41,BU34,BU25,BU20,BU13)","v":0},null,{"$f":"SUM(BW41,BW34,BW25,BW20,BW13)","v":0},{"$f":"SUM(BX41,BX34,BX25,BX20,BX13)","v":0},{"$f":"SUM(BY41,BY34,BY25,BY20,BY13)","v":0},null,{"$f":"SUM(CA41,CA34,CA25,CA20,CA13)","v":0},{"$f":"SUM(CB41,CB34,CB25,CB20,CB13)","v":0},{"$f":"SUM(CC41,CC34,CC25,CC20,CC13)","v":0},null,null,null,{"$f":"SUM(CG41,CG34,CG25,CG20,CG13)","v":0},null,{"$f":"SUM(BY42:CH42)","v":0}]
[null,null,null,null,null,null,null,null,null,null,null,null,null,null,null,null,null,null,null,null,null,null,null,null,null,null,null,null,null,null,null,null,null,null,null,null,null,null,null,null,null,null,null,null,null,null,null,null,null,null,null,null,null,null,null,null,null,null,null,null,null,null,null,null,null,null,null,null,null,null,null,null,null,null,null,null,{"$f":"SUM(BY42,CG42)","v":0}]

{"sheet":"上越1","index":7,"n_rows":44,"n_cols":87,"rows_kept":44,"cut":false,"hidden":false,"merged":[[42,25,42,30],[42,0,42,3],[42,22,42,24],[42,37,42,48],[42,49,42,53],[42,54,42,56],[42,57,42,59],[42,4,42,6],[42,7,42,9],[42,10,42,12],[42,13,42,15],[42,16,42,18],[42,19,42,21],[12,60,16,70],[17,60,17,70],[12,49,16,59],[25,54,25,56],[25,57,25,59],[32,19,33,24],[32,7,33,12],[29,19,29,24],[24,7,24,9],[24,10,24,12],[24,19,24,21],[24,22,24,24],[25,10,25,12],[25,19,25,21],[25,22,25,24],[23,60,23,70],[23,54,23,56],[23,57,23,59],[22,60,22,70],[18,49,21,59],[18,60,21,70],[29,49,33,59],[28,52,28,53],[17,25,17,30],[42,60,42,70],[42,31,42,36],[26,19,26,21],[26,22,26,24],[27,7,27,9],[27,10,27,12],[27,19,27,21],[27,22,27,24],[24,60,24,70],[25,13,25,15],[25,7,25,9],[25,49,25,51],[34,60,34,70],[34,54,34,56],[34,57,34,59],[25,52,25,53],[29,60,33,70],[26,60,26,70],[25,60,25,70],[28,60,28,70],[27,60,27,70],[28,54,28,56],[28,57,28,59],[28,49,28,51],[34,49,34,53],[27,57,27,59],[11,31,11,36],[27,37,27,48],[26,49,26,51],[26,52,26,53],[27,54,27,56],[17,31,17,36],[26,57,26,59],[27,49,27,51],[27,52,27,53],[17,49,17,53],[17,54,17,56],[17,57,17,59],[22,49,22,53],[22,54,22,56],[22,57,22,59],[11,37,11,48],[11,49,11,53],[12,31,16,36],[17,13,17,15],[17,16,17,18],[23,13,23,15],[23,16,23,18],[18,37,18,48],[17,37,17,48],[20,37,20,48],[21,37,21,48],[23,25,33,30],[24,13,24,15],[24,16,24,18],[23,19,23,21],[23,22,23,24],[28,19,28,21],[28,22,28,24],[30,13,30,15],[30,16,30,18],[29,13,29,15],[29,16,29,18],[23,31,33,36],[25,16,25,18],[29,37,29,48],[20,16,20,18],[21,13,21,15],[0,60,0,70],[6,60,7,70],[16,37,16,48],[15,37,15,48],[12,37,12,48],[14,37,14,48],[13,37,13,48],[30,37,30,48],[2,56,2,62],[2,63,2,70],[7,52,7,53],[8,52,8,53],[26,54,26,56],[24,37,24,48],[24,49,24,51],[24,52,24,53],[24,54,24,56],[24,57,24,59],[11,60,11,70],[23,37,23,48],[23,49,23,51],[23,52,23,53],[26,37,26,48],[25,37,25,48],[1,0,1,11],[1,12,1,28],[1,29,1,33],[1,34,1,48],[6,1,6,24],[6,25,6,30],[6,31,6,36],[6,37,7,48],[6,49,6,59],[7,1,7,3],[7,4,7,6],[2,34,4,48],[3,0,3,11],[3,12,3,28],[7,54,7,56],[7,57,7,59],[7,7,7,9],[7,10,7,12],[7,13,7,15],[7,16,7,18],[7,19,7,21],[3,56,3,62],[4,49,4,55],[4,56,4,62],[0,22,0,23],[1,63,1,70],[2,29,2,33],[3,29,3,33],[4,29,4,33],[1,56,1,62],[11,54,11,56],[11,57,11,59],[7,22,7,24],[2,27,2,28],[4,12,4,26],[2,12,2,26],[3,63,3,70],[4,63,4,70],[8,60,8,70],[8,57,8,59],[9,57,9,59],[9,60,9,70],[10,60,10,70],[1,49,1,55],[2,49,2,55],[3,49,3,55],[7,25,7,27],[10,49,10,59],[9,52,9,53],[9,37,9,48],[7,28,7,30],[7,31,7,33],[7,34,7,36],[7,49,7,51],[8,37,8,48],[8,49,8,51],[8,54,8,56],[8,31,10,36],[9,54,9,56],[9,49,9,51],[10,37,10,48],[10,4,10,6],[10,13,10,15],[10,16,10,18],[11,7,11,9],[10,7,10,12],[11,4,11,6],[11,25,11,30],[12,25,16,30],[12,19,16,24],[14,4,14,6],[14,13,14,15],[14,16,14,18],[16,13,16,15],[16,16,16,18],[8,25,10,30],[16,4,16,6],[8,4,8,6],[8,19,8,24],[8,7,8,12],[9,19,9,21],[9,22,9,24],[11,2,11,3],[8,13,8,15],[8,16,8,18],[11,19,11,21],[11,22,11,24],[11,10,11,12],[11,13,11,15],[11,16,11,18],[10,19,10,24],[9,1,9,3],[9,4,9,6],[9,7,9,9],[9,10,9,12],[9,13,9,15],[9,16,9,18],[10,1,10,3],[12,7,16,12],[8,1,8,3],[12,1,12,3],[12,4,12,6],[12,13,12,15],[12,16,12,18],[15,1,15,3],[15,4,15,6],[15,13,15,15],[15,16,15,18],[13,16,13,18],[13,1,13,3],[13,4,13,6],[13,13,13,15],[14,1,14,3],[23,7,23,9],[23,10,23,12],[23,1,23,3],[21,4,21,6],[18,7,21,12],[18,1,18,3],[18,4,18,6],[28,37,28,48],[31,1,31,3],[30,19,30,21],[30,22,30,24],[26,1,26,3],[26,4,26,6],[26,13,26,15],[26,16,26,18],[27,1,27,3],[27,4,27,6],[27,13,27,15],[27,16,27,18],[30,10,30,12],[28,16,28,18],[30,7,30,9],[28,13,28,15],[26,7,26,9],[6,82,6,85],[4,27,4,28],[6,72,6,77],[19,1,19,3],[19,4,19,6],[19,13,19,15],[19,16,19,18],[22,13,22,15],[22,16,22,18],[22,31,22,36],[22,25,22,30],[18,31,21,36],[18,25,21,30],[22,37,22,48],[19,37,19,48],[4,0,4,11],[17,2,17,3],[22,2,22,3],[21,1,21,3],[18,16,18,18],[20,1,20,3],[20,4,20,6],[20,13,20,15],[16,1,16,3],[21,16,21,18],[28,1,28,3],[28,4,28,6],[2,0,2,11],[8,0,17,0],[6,0,7,0],[37,13,37,15],[18,0,22,0],[35,0,41,0],[38,1,38,3],[17,4,17,6],[22,4,22,6],[34,4,34,6],[41,4,41,6],[33,1,33,3],[37,4,37,6],[23,4,23,6],[37,1,37,3],[36,1,36,3],[36,4,36,6],[38,4,38,6],[35,1,35,3],[35,4,35,6],[36,13,36,15],[35,19,40,24],[35,31,40,36],[35,25,40,30],[40,13,40,15],[40,16,40,18],[39,13,39,15],[41,2,41,3],[24,0,34,0],[40,1,40,3],[40,4,40,6],[39,1,39,3],[39,4,39,6],[31,4,31,6],[29,1,29,3],[29,4,29,6],[32,1,32,3],[32,4,32,6],[30,4,30,6],[24,1,24,3],[24,4,24,6],[25,1,25,3],[25,4,25,6],[30,1,30,3],[26,10,26,12],[34,2,34,3],[32,37,32,48],[32,13,32,15],[32,16,32,18],[31,37,31,48],[34,25,34,30],[31,7,31,9],[34,31,34,36],[34,37,34,48],[34,19,34,21],[34,22,34,24],[33,37,33,48],[33,16,33,18],[31,10,31,12],[31,19,31,21],[31,22,31,24],[33,13,33,15],[33,4,33,6],[41,60,41,70],[41,37,41,48],[41,13,41,15],[41,16,41,18],[41,31,41,36],[41,25,41,30],[39,37,39,48],[40,37,40,48],[35,60,40,70],[35,49,40,59],[36,37,36,48],[36,16,36,18],[35,37,35,48],[35,16,35,18],[38,37,38,48],[35,13,35,15],[39,16,39,18],[37,16,37,18],[38,13,38,15],[38,16,38,18],[41,49,41,53],[41,54,41,56],[41,57,41,59],[37,37,37,48],[17,10,17,12],[17,7,17,9],[22,7,22,9],[22,10,22,12],[41,7,41,9],[41,10,41,12],[17,19,17,21],[17,22,17,24],[22,19,22,21],[22,22,22,24],[41,19,41,21],[41,22,41,24],[18,19,21,24],[28,7,28,9],[28,10,28,12],[29,7,29,12],[18,13,18,15],[34,7,34,9],[34,10,34,12],[34,13,34,15],[34,16,34,18],[31,13,31,15],[31,16,31,18],[35,7,40,12]]}
[null,null,null,null,null,null,null,null,null,null,null,null,null,null,null,null,null,null,null,null,null,null,null,null,null,null,null,null,null,null,null,null,null,null,null,null,null,null,null,null,null,null,null,null,null,null,null,null,null,null,null,null,null,null,null,null,null,null,null,null,{"$f":"新潟市!BI1","v":"２０２３年１１月１日 現在"}]
["折込日",null,null,null,null,null,null,null,null,null,null,null,"スポンサー名",null,null,null,null,null,null,null,null,null,null,null,null,null,null,null,null,"サイズ",null,null,null,null,"チラシ内容・タイトル詳細",null,null,null,null,null,null,null,null,null,null,null,null,null,null,"朝刊　小計",null,null,null,null,null,null,"Otona＋　小計",null,null,null,null,null,null,"ページ枚数"]
[{"$f":"新潟市!A3","v":"2023/--/--"},null,null,null,null,null,null,null,null,null,null,null,{"$f":"新潟市!M3","v":0},null,null,null,null,null,null,null,null,null,null,null,null,null,null,"様",null,{"$f":"新潟市!AD3","v":0},null,null,null,null,{"$f":"新潟市!AI3","v":0},null,null,null,null,null,null,null,null,null,null,null,null,null,null,{"$f":"BY43+CG43","v":0},null,null,null,null,null,null,null,null,null,null,null,null,null,{"$f":"SUM(AX3,BE3,AX5,BE5)","v":0}]
["assh　ポスティング日",null,null,null,null,null,null,null,null,null,null,null,"ご請求先名",null,null,null,null,null,null,null,null,null,null,null,null,null,null,null,null,"ガタチラ 掲載",null,null,null,null,null,null,null,null,null,null,null,null,null,null,null,null,null,null,null,"くるみる　小計",null,null,null,null,null,null,"assh　小計",null,null,null,null,null,null,"総枚数"]
[{"$f":"新潟市!A5","v":"2023/--/--"},null,null,null,null,null,null,null,null,null,null,null,{"$f":"新潟市!M5","v":0},null,null,null,null,null,null,null,null,null,null,null,null,null,null,"様",null,{"$f":"新潟市!AD5","v":0},null,null,null,null,null,null,null,null,null,null,null,null,null,null,null,null,null,null,null,{"$f":"CA43","v":0},null,null,null,null,null,null,null,null,null,null,null,null,null,{"$f":"新潟市!BL5","v":0}]
[]
["04","新潟日報　",null,null,null,null,null,null,null,null,null,null,null,null,null,null,null,null,null,null,null,null,null,null,null,"ポスティング",null,null,null,null,null,"Otona+",null,null,null,null,null,"備考",null,null,null,null,null,null,null,null,null,null,null,"中央紙",null,null,null,null,null,null,null,null,null,null,"備考",null,null,null,null,null,null,null,null,null,null,null,"朝刊",null,null,null,null,null,"くるみる","assh","otona",null,"中央紙　朝刊"]
[null,"販売店名",null,null,"取扱い紙",null,null,"朝刊＋くるみる",null,null,"配布数",null,null,"朝刊扱数",null,null,"配布数",null,null,"朝刊数",null,null,"くるみる数",null,null,"部数",null,null,"配布数",null,null,"部数",null,null,"配布数",null,null,null,null,null,null,null,null,null,null,null,null,null,null,"販売店名",null,null,"取扱い紙",null,"部数",null,null,"配布数",null,null,null,null,null,null,null,null,null,null,null,null,null,null,"販売店名","E","朝刊1","朝刊２","部","指示","部","部","部",null,"販売店名","E","部","指示"]
["柏崎市","柏崎中央",null,null,"新アマサ日",null,null,null,null,null,null,null,null,2220,null,null,null,null,null,null,null,null,null,null,null,null,null,null,null,null,null,null,null,null,null,null,null,null,null,null,null,null,null,null,null,null,null,null,null,"柏崎西部",null,null,"ヨ",null,2320,null,null,null,null,null,null,null,null,null,null,null,null,null,null,null,null,null,"柏崎中央",40229,{"$f":"Q9","v":0},{"$f":"T9","v":0},{"$f":"SUM(BW9:BX9)","v":0},{"$f":"AL9","v":0},{"$f":"IF($K9>$W9,$W9,\"\")","v":""},null,null,null,"柏崎西部",240205,{"$f":"BF9","v":0},{"$f":"BI9","v":0}]
[null,"柏崎",null,null,"新アマサ日",null,null,{"$f":"N10+W10","v":3930},null,null,null,null,null,3530,null,null,null,null,null,{"$f":"IF(K10=\"\",\"\",IF(K10<=W10,K10,K10-W10))","v":""},null,null,400,null,null,null,null,null,null,null,null,null,null,null,null,null,null,null,null,null,null,null,null,null,null,null,null,null,null,"柏崎東部",null,null,"ヨ",null,2100,null,null,null,null,null,null,null,null,null,null,null,null,null,null,null,null,null,"柏崎",40202,{"$f":"Q10","v":0},{"$f":"T10","v":""},{"$f":"SUM(BW10:BX10)","v":0},{"$f":"AL10","v":0},{"$f":"IF($K10>$W10,$W10,\"\")","v":""},null,null,null,"柏崎東部",240206,{"$f":"BF10","v":0},{"$f":"BI10","v":0}]
[null,"柏崎南",null,null,"新アマサ日",null,null,null,null,null,null,null,null,2760,null,null,null,null,null,null,null,null,null,null,null,null,null,null,null,null,null,null,null,null,null,null,null,null,null,null,null,null,null,null,null,null,null,null,null,null,null,null,null,null,null,null,null,null,null,null,null,null,null,null,null,null,null,null,null,null,null,null,"柏崎南",40203,{"$f":"Q11","v":0},{"$f":"T11","v":0},{"$f":"SUM(BW11:BX11)","v":0},{"$f":"AL11","v":0},"",null,null,null,null,null,0,0]
[null,"100","小計",null,{"$f":"Q12+T12+W12+BF12","v":0},null,null,{"$f":"SUM(H10)","v":3930},null,null,{"$f":"SUM(K10)","v":0},null,null,{"$f":"SUM(N9:P11)","v":8510},null,null,{"$f":"SUM(Q9:S11)","v":0},null,null,{"$f":"SUM(T9:V11)","v":0},null,null,{"$f":"CA12","v":0},null,null,null,null,null,null,null,null,null,null,null,null,null,null,null,null,null,null,null,null,null,null,null,null,null,null,"小計",null,null,null,null,{"$f":"SUM(BC9:BE11)","v":4420},null,null,{"$f":"SUM(BF9:BH11)","v":0},null,null,null,null,null,null,null,null,null,null,null,null,null,null,{"$f":"SUM(BY12,CA12:CC12,CG12)","v":0},null,{"$f":"SUM(BW9:BW11)","v":0},{"$f":"SUM(BX9:BX11)","v":0},0,null,{"$f":"SUM(CA9:CA11)","v":0},{"$f":"SUM(CB9:CB11)","v":0},0,null,null,null,{"$f":"SUM(CG9:CG11)","v":0}]
[null,"安田",null,null,"合",null,null,null,null,null,null,null,null,2450,null,null,null,null,null,null,null,null,null,null,null,null,null,null,null,null,null,null,null,null,null,null,null,null,null,null,null,null,null,null,null,null,null,null,null,null,null,null,null,null,null,null,null,null,null,null,null,null,null,null,null,null,null,null,null,null,null,null,"安田",40211,0,0,0,0,"",null,null,null,null,null,0,0]
[null,"北条",null,null,"合",null,null,null,null,null,null,null,null,300,null,null,null,null,null,null,null,null,null,null,null,null,null,null,null,null,null,null,null,null,null,null,null,null,null,null,null,null,null,null,null,null,null,null,null,null,null,null,null,null,null,null,null,null,null,null,null,null,null,null,null,null,null,null,null,null,null,null,"北条",40212,0,0,0,0,"",null,null,null,null,null,0,0]
[null,"広田",null,null,"合",null,null,null,null,null,null,null,null,390,null,null,null,null,null,null,null,null,null,null,null,null,null,null,null,null,null,null,null,null,null,null,null,null,null,null,null,null,null,null,null,null,null,null,null,null,null,null,null,null,null,null,null,null,null,null,null,null,null,null,null,null,null,null,null,null,null,null,"広田",40213,0,0,0,0,"",null,null,null,null,null,0,0]
[null,"米山",null,null,"合",null,null,null,null,null,null,null,null,320,null,null,null,null,null,null,null,null,null,null,null,null,null,null,null,null,null,null,null,null,null,null,null,null,null,null,null,null,null,null,null,null,null,null,null,null,null,null,null,null,null,null,null,null,null,null,null,null,null,null,null,null,null,null,null,null,null,null,"米山",40228,0,0,0,0,"",null,null,null,null,null,0,0]
[null,"笠島",null,null,"合",null,null,null,null,null,null,null,null,60,null,null,null,null,null,null,null,null,null,null,null,null,null,null,null,null,null,null,null,null,null,null,null,null,null,null,null,null,null,null,null,null,null,null,null,null,null,null,null,null,null,null,null,null,null,null,null,null,null,null,null,null,null,null,null,null,null,null,"笠島",40216,0,0,0,0,"",null,null,null,null,null,0,0]
[null,"110","小計",null,{"$f":"Q18+T18+W18+BF18","v":0},null,null,null,null,null,null,null,null,{"$f":"SUM(N13:P17)","v":3520},null,null,{"$f":"SUM(Q13:S17)","v":0},null,null,null,null,null,null,null,null,null,null,null,null,null,null,null,null,null,null,null,null,null,null,null,null,null,null,null,null,null,null,null,null,"小計",null,null,null,null,null,null,null,null,null,null,null,null,null,null,null,null,null,null,null,null,null,null,{"$f":"SUM(BY18,CA18:CC18,CG18)","v":0},null,{"$f":"SUM(BW13:BW17)","v":0},{"$f":"SUM(BX13:BX17)","v":0},{"$f":"SUM(BY13:BY17)","v":0},null,{"$f":"SUM(CA13:CA17)","v":0},{"$f":"SUM(CB13:CB17)","v":0},{"$f":"SUM(CC13:CC17)","v":0},null,null,null,{"$f":"SUM(CG13:CG17)","v":0}]
["旧刈羽郡","高柳",null,null,"合",null,null,null,null,null,null,null,null,330,null,null,null,null,null,null,null,null,null,null,null,null,null,null,null,null,null,null,null,null,null,null,null,null,null,null,null,null,null,null,null,null,null,null,null,null,null,null,null,null,null,null,null,null,null,null,null,null,null,null,null,null,null,null,null,null,null,null,"高柳",40217,0,0,0,0,"",null,null,null,null,null,0,0]
[null,"上小国",null,null,"合",null,null,null,null,null,null,null,null,870,null,null,null,null,null,null,null,null,null,null,null,null,null,null,null,null,null,null,null,null,null,null,null,null,null,null,null,null,null,null,null,null,null,null,null,null,null,null,null,null,null,null,null,null,null,null,null,null,null,null,null,null,null,null,null,null,null,null,"上小国",40219,0,0,0,0,"",null,null,null,null,null,0,0]
[null,"荒浜",null,null,"合",null,null,null,null,null,null,null,null,1900,null,null,null,null,null,null,null,null,null,null,null,null,null,null,null,null,null,null,null,null,null,null,null,null,null,null,null,null,null,null,null,null,null,null,null,null,null,null,null,null,null,null,null,null,null,null,null,null,null,null,null,null,null,null,null,null,null,null,"荒浜",40220,0,0,0,0,"",null,null,null,null,null,0,0]
[null,"西山",null,null,"合",null,null,null,null,null,null,null,null,1000,null,null,null,null,null,null,null,null,null,null,null,null,null,null,null,null,null,null,null,null,null,null,null,null,null,null,null,null,null,null,null,null,null,null,null,null,null,null,null,null,null,null,null,null,null,null,null,null,null,null,null,null,null,null,null,null,null,null,"西山",40221,0,0,0,0,"",null,null,null,null,null,0,0]
[null,"120","小計",null,{"$f":"Q23+T23+W23+BF23","v":0},null,null,null,null,null,null,null,null,{"$f":"SUM(N19:P22)","v":4100},null,null,{"$f":"SUM(Q19:S22)","v":0},null,null,null,null,null,null,null,null,null,null,null,null,null,null,null,null,null,null,null,null,null,null,null,null,null,null,null,null,null,null,null,null,"小計",null,null,null,null,null,null,null,null,null,null,null,null,null,null,null,null,null,null,null,null,null,null,{"$f":"SUM(BY23,CA23:CC23,CG23)","v":0},null,{"$f":"SUM(BW19:BW22)","v":0},{"$f":"SUM(BX19:BX22)","v":0},0,null,{"$f":"SUM(CA19:CA22)","v":0},{"$f":"SUM(CB19:CB22)","v":0},0,null,null,null,{"$f":"SUM(CG19:CG22)","v":0}]
["05","高田",null,null,"新マサ日",null,null,{"$f":"N24+W24","v":2790},null,null,null,null,null,2450,null,null,null,null,null,{"$f":"IF(K24=\"\",\"\",IF(K24<=W24,K24,K24-W24))","v":""},null,null,340,null,null,null,null,null,null,null,null,null,null,null,null,null,null,null,null,null,null,null,null,null,null,null,null,null,null,"高田",null,null,"ア",null,2500,null,null,null,null,null,null,null,null,null,null,null,null,null,null,null,null,null,"高田",50101,0,"",0,0,"",null,null,null,"高田",50104,0,0]
["上越市","高田南",null,null,"新マサ日",null,null,2650,null,null,null,null,null,2350,null,null,null,null,null,{"$f":"IF(K25=\"\",\"\",IF(K25<=W25,K25,K25-W25))","v":""},null,null,300,null,null,null,null,null,null,null,null,null,null,null,null,null,null,null,null,null,null,null,null,null,null,null,null,null,null,"高田",null,null,"ヨ",null,3300,null,null,null,null,null,null,null,null,null,null,null,null,null,null,null,null,null,"高田南",50102,0,"",0,0,"",null,null,null,"高田",250105,0,0]
[null,"木田",null,null,"新マサ日",null,null,1670,null,null,null,null,null,1600,null,null,null,null,null,"",null,null,70,null,null,null,null,null,null,null,null,null,null,null,null,null,null,null,null,null,null,null,null,null,null,null,null,null,null,"上越中央",null,null,"ヨ",null,2270,null,null,null,null,null,null,null,null,null,null,null,null,null,null,null,null,null,"木田",50103,0,"",0,0,"",null,null,null,"上越中央",250107,0,0]
[null,"春日山",null,null,"新マサ日",null,null,2590,null,null,null,null,null,2440,null,null,null,null,null,"",null,null,150,null,null,null,null,null,null,null,null,null,null,null,null,null,null,null,null,null,null,null,null,null,null,null,null,null,null,"脇野田",null,null,"ヨ",null,400,null,null,null,null,null,null,null,null,null,null,null,null,null,null,null,null,null,"春日山",50106,0,"",0,0,"",null,null,null,"脇野田",250106,0,0]
[null,"脇野田",null,null,"新アマサ日",null,null,1880,null,null,null,null,null,1680,null,null,null,null,null,"",null,null,200,null,null,null,null,null,null,null,null,null,null,null,null,null,null,null,null,null,null,null,null,null,null,null,null,null,null,"直江津",null,null,"ヨ",null,3900,null,null,null,null,null,null,null,null,null,null,null,null,null,null,null,null,null,"脇野田",50108,0,"",0,0,"",null,null,null,"直江津",250115,0,0]
[null,"上越東",null,null,"合",null,null,3120,null,null,null,null,null,3110,null,null,null,null,null,"",null,null,10,null,null,null,null,null,null,null,null,null,null,null,null,null,null,null,null,null,null,null,null,null,null,null,null,null,null,"直江津",null,null,"ア",null,1800,null,null,null,null,null,null,null,null,null,null,null,null,null,null,null,null,null,"上越東",50109,0,"",0,0,"",null,null,null,"直江津",50116,0,0]
[null,"上越三和",null,null,"合",null,null,null,null,null,null,null,null,1550,null,null,null,null,null,null,null,null,null,null,null,null,null,null,null,null,null,null,null,null,null,null,null,null,null,null,null,null,null,null,null,null,null,null,null,null,null,null,null,null,null,null,null,null,null,null,null,null,null,null,null,null,null,null,null,null,null,null,"上越三和",50112,0,0,0,0,"",null,null,null,null,null,0,0]
[null,"直江津",null,null,"新マサ日",null,null,{"$f":"N31+W31","v":2490},null,null,null,null,null,2340,null,null,null,null,null,{"$f":"IF(K31=\"\",\"\",IF(K31<=W31,K31,K31-W31))","v":""},null,null,150,null,null,null,null,null,null,null,null,null,null,null,null,null,null,null,null,null,null,null,null,null,null,null,null,null,null,null,null,null,null,null,null,null,null,null,null,null,null,null,null,null,null,null,null,null,null,null,null,null,"直江津",50113,0,"",0,0,"",null,null,null,null,null,0,0]
[null,"直江津東",null,null,"新マサ日",null,null,{"$f":"N32+W32","v":2690},null,null,null,null,null,2600,null,null,null,null,null,{"$f":"IF(K32=\"\",\"\",IF(K32<=W32,K32,K32-W32))","v":""},null,null,90,null,null,null,null,null,null,null,null,null,null,null,null,null,null,null,null,null,null,null,null,null,null,null,null,null,null,null,null,null,null,null,null,null,null,null,null,null,null,null,null,null,null,null,null,null,null,null,null,null,"直江津東",50114,0,"",0,0,"",null,null,null,null,null,0,0]
[null,"黒井",null,null,"合",null,null,null,null,null,null,null,null,820,null,null,null,null,null,null,null,null,null,null,null,null,null,null,null,null,null,null,null,null,null,null,null,null,null,null,null,null,null,null,null,null,null,null,null,null,null,null,null,null,null,null,null,null,null,null,null,null,null,null,null,null,null,null,null,null,null,null,"黒井",50117,0,0,0,0,"",null,null,null,null,null,0,0]
[null,"名立谷浜",null,null,"合",null,null,null,null,null,null,null,null,960,null,null,null,null,null,null,null,null,null,null,null,null,null,null,null,null,null,null,null,null,null,null,null,null,null,null,null,null,null,null,null,null,null,null,null,null,null,null,null,null,null,null,null,null,null,null,null,null,null,null,null,null,null,null,null,null,null,null,"名立谷浜",50152,0,0,0,0,"",null,null,null,null,null,0,0]
[null,"010","小計",null,{"$f":"Q35+T35+W35+BF35","v":0},null,null,{"$f":"SUM(H24:J34)","v":19880},null,null,{"$f":"SUM(K24:M34)","v":0},null,null,{"$f":"SUM(N24:P34)","v":21900},null,null,{"$f":"SUM(Q24:S34)","v":0},null,null,{"$f":"SUM(T24:V34)","v":0},null,null,{"$f":"CA35","v":0},null,null,{"$f":"SUM(Z24:AB34)","v":0},null,null,null,null,null,null,null,null,null,null,null,null,null,null,null,null,null,null,null,null,null,null,null,"小計",null,null,null,null,{"$f":"SUM(BC24:BE34)","v":14170},null,null,{"$f":"SUM(BF24:BH34)","v":0},null,null,null,null,null,null,null,null,null,null,null,null,null,null,{"$f":"SUM(BY35,CA35:CC35,CG35)","v":0},null,{"$f":"SUM(BW24:BW34)","v":0},{"$f":"SUM(BX24:BX34)","v":0},0,null,{"$f":"SUM(CA24:CA34)","v":0},{"$f":"SUM(CB24:CB34)","v":0},0,null,null,null,{"$f":"SUM(CG24:CG34)","v":0}]
["旧新井市","新井",null,null,"合",null,null,null,null,null,null,null,null,5400,null,null,null,null,null,null,null,null,null,null,null,null,null,null,null,null,null,null,null,null,null,null,null,null,null,null,null,null,null,null,null,null,null,null,null,null,null,null,null,null,null,null,null,null,null,null,null,null,null,null,null,null,null,null,null,null,null,null,"新井",50119,0,0,0,0,"",null,null,null,null,null,0,0]
[null,"新井学校町",null,null,"合",null,null,null,null,null,null,null,null,1290,null,null,null,null,null,null,null,null,null,null,null,null,null,null,null,null,null,null,null,null,null,null,null,null,null,null,null,null,null,null,null,null,null,null,null,null,null,null,null,null,null,null,null,null,null,null,null,null,null,null,null,null,null,null,null,null,null,null,"新井学校町",50120,0,0,0,0,"",null,null,null,null,null,0,0]
[null,"新井南",null,null,"合",null,null,null,null,null,null,null,null,890,null,null,null,null,null,null,null,null,null,null,null,null,null,null,null,null,null,null,null,null,null,null,null,null,null,null,null,null,null,null,null,null,null,null,null,null,null,null,null,null,null,null,null,null,null,null,null,null,null,null,null,null,null,null,null,null,null,null,"新井南",50121,0,0,0,0,"",null,null,null,null,null,0,0]
[null,"関山",null,null,"合",null,null,null,null,null,null,null,null,870,null,null,null,null,null,null,null,null,null,null,null,null,null,null,null,null,null,null,null,null,null,null,null,null,null,null,null,null,null,null,null,null,null,null,null,null,null,null,null,null,null,null,null,null,null,null,null,null,null,null,null,null,null,null,null,null,null,null,"関山",50122,0,0,0,0,"",null,null,null,null,null,0,0]
[null,"妙高",null,null,"合",null,null,null,null,null,null,null,null,530,null,null,null,null,null,null,null,null,null,null,null,null,null,null,null,null,null,null,null,null,null,null,null,null,null,null,null,null,null,null,null,null,null,null,null,null,null,null,null,null,null,null,null,null,null,null,null,null,null,null,null,null,null,null,null,null,null,null,"妙高",50123,0,0,0,0,"",null,null,null,null,null,0,0]
[null,"赤倉",null,null,"合",null,null,null,null,null,null,null,null,650,null,null,null,null,null,null,null,null,null,null,null,null,null,null,null,null,null,null,null,null,null,null,null,null,null,null,null,null,null,null,null,null,null,null,null,null,null,null,null,null,null,null,null,null,null,null,null,null,null,null,null,null,null,null,null,null,null,null,"赤倉",50124,0,0,0,0,"",null,null,null,null,null,0,0]
[null,"020","小計",null,{"$f":"Q42+T42+W42+BF42","v":0},null,null,null,null,null,null,null,null,{"$f":"SUM(N36:P41)","v":9630},null,null,{"$f":"SUM(Q36:S41)","v":0},null,null,null,null,null,null,null,null,null,null,null,null,null,null,null,null,null,null,null,null,null,null,null,null,null,null,null,null,null,null,null,null,"小計",null,null,null,null,null,null,null,null,null,null,null,null,null,null,null,null,null,null,null,null,null,null,{"$f":"SUM(BY42,CA42:CC42,CG42)","v":0},null,{"$f":"SUM(BW36:BW41)","v":0},{"$f":"SUM(BX36:BX41)","v":0},0,null,{"$f":"SUM(CA36:CA41)","v":0},{"$f":"SUM(CB36:CB41)","v":0},0,null,null,null,{"$f":"SUM(CG36:CG41)","v":0}]
["合計",null,null,null,{"$f":"SUM(E42,E35,E23,E18,E12)","v":0},null,null,{"$f":"SUM(H42,H35,H23,H18,H12)","v":23810},null,null,{"$f":"SUM(K42,K35,K23,K18,K12)","v":0},null,null,{"$f":"SUM(N42,N35,N23,N18,N12)","v":47660},null,null,{"$f":"SUM(Q42,Q35,Q23,Q18,Q12)","v":0},null,null,{"$f":"SUM(T42,T35,T23,T18,T12)","v":0},null,null,{"$f":"SUM(W42,W35,W23,W18,W12)","v":0},null,null,{"$f":"SUM(Z41)","v":0},null,null,null,null,null,{"$f":"SUM(AF41,AF32,AF30,AF27,AF23,AF15,#REF!,AF9)","v":{"$error":"#REF!"}},null,null,null,null,null,null,null,null,null,null,null,null,null,null,null,null,null,"合計",null,null,null,null,{"$f":"SUM(BC42,BC35,BC23,BC18,BC12)","v":18590},null,null,{"$f":"SUM(BF42,BF35,BF23,BF18,BF12)","v":0},null,null,null,null,null,null,null,null,null,null,null,null,null,null,{"$f":"SUM(BU42,BU35,BU23,BU18,BU12)","v":0},null,{"$f":"SUM(BW42,BW35,BW23,BW18,BW12)","v":0},{"$f":"SUM(BX42,BX35,BX23,BX18,BX12)","v":0},{"$f":"SUM(BY42,BY35,BY23,BY18,BY12)","v":0},null,{"$f":"SUM(CA42,CA35,CA23,CA18,CA12)","v":0},{"$f":"SUM(CB42,CB35,CB23,CB18,CB12)","v":0},{"$f":"SUM(CC42,CC35,CC23,CC18,CC12)","v":0},null,null,null,{"$f":"SUM(CG42,CG35,CG23,CG18,CG12)","v":0},null,{"$f":"SUM(BY43:CH43)","v":0}]
[null,null,null,null,null,null,null,null,null,null,null,null,null,null,null,null,null,null,null,null,null,null,null,null,null,null,null,null,null,null,null,null,null,null,null,null,null,null,null,null,null,null,null,null,null,null,null,null,null,null,null,null,null,null,null,null,null,null,null,null,null,null,null,null,null,null,null,null,null,null,null,null,null,null,null,null,{"$f":"SUM(BY43,CG43)","v":0}]

{"sheet":"上越２","index":8,"n_rows":31,"n_cols":87,"rows_kept":31,"cut":false,"hidden":false,"merged":[[29,49,29,53],[29,54,29,56],[29,57,29,59],[29,60,29,70],[29,31,29,36],[29,25,29,30],[29,4,29,6],[29,13,29,15],[29,16,29,18],[29,19,29,21],[29,22,29,24],[29,0,29,3],[21,0,28,0],[21,31,23,36],[21,25,23,30],[21,19,23,24],[21,7,23,12],[15,49,19,59],[7,25,7,27],[7,28,7,30],[27,1,27,3],[26,1,26,3],[26,4,26,6],[26,13,26,15],[23,54,23,56],[22,57,22,59],[28,16,28,18],[28,13,28,15],[24,13,24,15],[23,16,23,18],[23,13,23,15],[25,13,25,15],[26,16,26,18],[25,16,25,18],[29,37,29,48],[20,31,20,36],[15,31,19,36],[14,31,14,36],[15,25,19,30],[20,25,20,30],[14,19,14,21],[14,22,14,24],[20,19,20,21],[20,22,20,24],[14,60,14,70],[8,49,13,59],[13,37,13,48],[8,37,8,48],[15,60,19,70],[8,60,13,70],[21,37,21,48],[20,60,20,70],[10,37,10,48],[12,37,12,48],[21,54,21,56],[15,37,15,48],[21,49,21,51],[21,52,21,53],[14,49,14,53],[14,54,14,56],[14,57,14,59],[20,57,20,59],[24,60,24,70],[21,57,21,59],[20,37,20,48],[24,54,24,56],[24,37,24,48],[21,60,21,70],[22,60,22,70],[23,60,23,70],[28,60,28,70],[28,37,28,48],[23,57,23,59],[27,37,27,48],[24,57,24,59],[23,37,23,48],[25,60,27,70],[23,49,23,51],[23,52,23,53],[26,37,26,48],[25,37,25,48],[22,49,22,51],[22,52,22,53],[22,54,22,56],[20,49,20,53],[20,54,20,56],[27,13,27,15],[27,16,27,18],[24,16,24,18],[25,49,27,59],[24,49,24,53],[25,19,27,24],[24,19,24,21],[24,22,24,24],[28,19,28,21],[28,22,28,24],[28,49,28,53],[28,54,28,56],[28,57,28,59],[28,31,28,36],[28,25,28,30],[25,31,27,36],[25,25,27,30],[24,31,24,36],[24,25,24,30],[28,2,28,3],[24,4,24,6],[28,4,28,6],[24,2,24,3],[25,1,25,3],[25,4,25,6],[27,4,27,6],[25,7,27,12],[16,37,16,48],[19,13,19,15],[19,16,19,18],[18,37,18,48],[18,1,18,3],[18,4,18,6],[18,13,18,15],[18,16,18,18],[19,37,19,48],[17,1,17,3],[17,4,17,6],[17,13,17,15],[16,1,16,3],[16,4,16,6],[16,13,16,15],[16,16,16,18],[15,16,15,18],[15,1,15,3],[14,37,14,48],[15,7,19,12],[23,1,23,3],[22,1,22,3],[20,13,20,15],[20,4,20,6],[20,2,20,3],[15,4,15,6],[15,13,15,15],[17,37,17,48],[17,16,17,18],[20,16,20,18],[22,4,22,6],[22,13,22,15],[22,16,22,18],[22,37,22,48],[23,4,23,6],[21,16,21,18],[19,1,19,3],[19,4,19,6],[15,19,19,24],[14,25,14,30],[0,60,0,70],[1,0,1,11],[1,12,1,28],[1,29,1,33],[1,34,1,48],[1,63,1,70],[4,0,4,11],[2,0,2,11],[1,49,1,55],[1,56,1,62],[2,49,2,55],[3,49,3,55],[3,56,3,62],[3,63,3,70],[4,49,4,55],[4,56,4,62],[4,63,4,70],[2,29,2,33],[3,29,3,33],[4,29,4,33],[2,56,2,62],[2,63,2,70],[3,0,3,11],[3,12,3,28],[0,22,0,23],[8,4,8,6],[8,13,8,15],[8,0,14,0],[13,1,13,3],[11,1,11,3],[13,16,13,18],[10,1,10,3],[10,4,10,6],[12,1,12,3],[12,4,12,6],[12,13,12,15],[11,4,11,6],[13,4,13,6],[13,13,13,15],[7,4,7,6],[9,4,9,6],[10,13,10,15],[8,7,13,12],[11,13,11,15],[11,16,11,18],[12,16,12,18],[10,16,10,18],[8,19,13,24],[14,13,14,15],[14,16,14,18],[14,4,14,6],[14,2,14,3],[6,49,6,59],[7,54,7,56],[15,0,20,0],[21,1,21,3],[21,4,21,6],[21,13,21,15],[7,52,7,53],[8,1,8,3],[9,16,9,18],[6,31,6,36],[6,0,7,0],[6,1,6,24],[6,25,6,30],[6,37,7,48],[7,1,7,3],[8,16,8,18],[8,31,13,36],[9,37,9,48],[11,37,11,48],[8,25,13,30],[6,72,6,77],[6,82,6,85],[9,13,9,15],[9,1,9,3],[2,34,4,48],[4,27,4,28],[2,27,2,28],[4,12,4,26],[2,12,2,26],[6,60,7,70],[7,7,7,9],[7,10,7,12],[7,13,7,15],[7,16,7,18],[7,19,7,21],[7,22,7,24],[7,57,7,59],[7,31,7,33],[7,34,7,36],[7,49,7,51],[14,10,14,12],[14,7,14,9],[20,7,20,9],[20,10,20,12],[24,7,24,9],[24,10,24,12],[28,7,28,9],[28,10,28,12],[29,7,29,9],[29,10,29,12]]}
[null,null,null,null,null,null,null,null,null,null,null,null,null,null,null,null,null,null,null,null,null,null,null,null,null,null,null,null,null,null,null,null,null,null,null,null,null,null,null,null,null,null,null,null,null,null,null,null,null,null,null,null,null,null,null,null,null,null,null,null,{"$f":"新潟市!BI1","v":"２０２３年１１月１日 現在"}]
["折込日",null,null,null,null,null,null,null,null,null,null,null,"スポンサー名",null,null,null,null,null,null,null,null,null,null,null,null,null,null,null,null,"サイズ",null,null,null,null,"チラシ内容・タイトル詳細",null,null,null,null,null,null,null,null,null,null,null,null,null,null,"朝刊　小計",null,null,null,null,null,null,"Otona＋　小計",null,null,null,null,null,null,"ページ枚数"]
[{"$f":"新潟市!A3","v":"2023/--/--"},null,null,null,null,null,null,null,null,null,null,null,{"$f":"新潟市!M3","v":0},null,null,null,null,null,null,null,null,null,null,null,null,null,null,"様",null,{"$f":"新潟市!AD3","v":0},null,null,null,null,{"$f":"新潟市!AI3","v":0},null,null,null,null,null,null,null,null,null,null,null,null,null,null,{"$f":"BY30+CG30","v":0},null,null,null,null,null,null,null,null,null,null,null,null,null,{"$f":"SUM(AX3,BE3,AX5,BE5)","v":0}]
["assh　ポスティング日",null,null,null,null,null,null,null,null,null,null,null,"ご請求先名",null,null,null,null,null,null,null,null,null,null,null,null,null,null,null,null,"ガタチラ 掲載",null,null,null,null,null,null,null,null,null,null,null,null,null,null,null,null,null,null,null,"くるみる　小計",null,null,null,null,null,null,"assh　小計",null,null,null,null,null,null,"総枚数"]
[{"$f":"新潟市!A5","v":"2023/--/--"},null,null,null,null,null,null,null,null,null,null,null,{"$f":"新潟市!M5","v":0},null,null,null,null,null,null,null,null,null,null,null,null,null,null,"様",null,{"$f":"新潟市!AD5","v":0},null,null,null,null,null,null,null,null,null,null,null,null,null,null,null,null,null,null,null,{"$f":"CA30","v":0},null,null,null,null,null,null,null,null,null,null,null,null,null,{"$f":"新潟市!BL5","v":0}]
[]
["05","新潟日報　",null,null,null,null,null,null,null,null,null,null,null,null,null,null,null,null,null,null,null,null,null,null,null,"ポスティング",null,null,null,null,null,"Otona+",null,null,null,null,null,"備考",null,null,null,null,null,null,null,null,null,null,null,"中央紙",null,null,null,null,null,null,null,null,null,null,"備考",null,null,null,null,null,null,null,null,null,null,null,"朝刊",null,null,null,null,null,"くるみる","assh","otona",null,"中央紙　朝刊"]
[null,"販売店名",null,null,"取扱い紙",null,null,"朝刊＋くるみる",null,null,"配布数",null,null,"朝刊扱数",null,null,"配布数",null,null,"朝刊数",null,null,"くるみる数",null,null,"部数",null,null,"配布数",null,null,"部数",null,null,"配布数",null,null,null,null,null,null,null,null,null,null,null,null,null,null,"販売店名",null,null,"取扱い紙",null,"部数",null,null,"配布数",null,null,null,null,null,null,null,null,null,null,null,null,null,null,"販売店名","E","朝刊1","朝刊２","部","指示","部","部","部",null,"販売店名","E","部","指示"]
["旧中頸城郡","柿崎",null,null,"合",null,null,null,null,null,null,null,null,2300,null,null,null,null,null,null,null,null,null,null,null,null,null,null,null,null,null,null,null,null,null,null,null,null,null,null,null,null,null,null,null,null,null,null,null,null,null,null,null,null,null,null,null,null,null,null,null,null,null,null,null,null,null,null,null,null,null,null,"柿崎",50125,{"$f":"Q9","v":0},{"$f":"W9","v":0},{"$f":"SUM(BW9:BX9)","v":0},{"$f":"AL9","v":0},null,null,null,null,null,null,{"$f":"BF9","v":0}]
[null,"吉川",null,null,"合",null,null,null,null,null,null,null,null,800,null,null,null,null,null,null,null,null,null,null,null,null,null,null,null,null,null,null,null,null,null,null,null,null,null,null,null,null,null,null,null,null,null,null,null,null,null,null,null,null,null,null,null,null,null,null,null,null,null,null,null,null,null,null,null,null,null,null,"吉川",50126,{"$f":"Q10","v":0},{"$f":"W10","v":0},{"$f":"SUM(BW10:BX10)","v":0},{"$f":"AL10","v":0},null,null,null,null,null,null,0]
[null,"大潟",null,null,"合",null,null,null,null,null,null,null,null,1600,null,null,null,null,null,null,null,null,null,null,null,null,null,null,null,null,null,null,null,null,null,null,null,null,null,null,null,null,null,null,null,null,null,null,null,null,null,null,null,null,null,null,null,null,null,null,null,null,null,null,null,null,null,null,null,null,null,null,"大潟",50127,0,0,0,0,null,null,null,null,null,null,0]
[null,"犀潟",null,null,"合",null,null,null,null,null,null,null,null,820,null,null,null,null,null,null,null,null,null,null,null,null,null,null,null,null,null,null,null,null,null,null,null,null,null,null,null,null,null,null,null,null,null,null,null,null,null,null,null,null,null,null,null,null,null,null,null,null,null,null,null,null,null,null,null,null,null,null,"犀潟",50128,0,0,0,0,null,null,null,null,null,null,0]
[null,"百間町",null,null,"合",null,null,null,null,null,null,null,null,790,null,null,null,null,null,null,null,null,null,null,null,null,null,null,null,null,null,null,null,null,null,null,null,null,null,null,null,null,null,null,null,null,null,null,null,null,null,null,null,null,null,null,null,null,null,null,null,null,null,null,null,null,null,null,null,null,null,null,"百閒町",50129,0,0,0,0,null,null,null,null,null,null,0]
[null,"明治",null,null,"合",null,null,null,null,null,null,null,null,350,null,null,null,null,null,null,null,null,null,null,null,null,null,null,null,null,null,null,null,null,null,null,null,null,null,null,null,null,null,null,null,null,null,null,null,null,null,null,null,null,null,null,null,null,null,null,null,null,null,null,null,null,null,null,null,null,null,null,"明治",50130,0,0,0,0,null,null,null,null,null,null,0]
[null,"030","小計",null,{"$f":"Q15+T15+W15+BF15","v":0},null,null,null,null,null,null,null,null,{"$f":"SUM(N9:P14)","v":6660},null,null,{"$f":"SUM(Q9:S14)","v":0},null,null,null,null,null,null,null,null,null,null,null,null,null,null,null,null,null,null,null,null,null,null,null,null,null,null,null,null,null,null,null,null,"小計",null,null,null,null,null,null,null,null,null,null,null,null,null,null,null,null,null,null,null,null,null,null,{"$f":"SUM(BY15:CC15,CG15)","v":0},null,{"$f":"SUM(BW9:BW14)","v":0},{"$f":"SUM(BX9:BX14)","v":0},0,null,{"$f":"SUM(CA9:CA14)","v":0},0,{"$f":"SUM(CC9:CC14)","v":0},null,null,null,{"$f":"SUM(CG9:CG14)","v":0}]
["旧東頚城郡","浦川原",null,null,"合",null,null,null,null,null,null,null,null,750,null,null,null,null,null,null,null,null,null,null,null,null,null,null,null,null,null,null,null,null,null,null,null,null,null,null,null,null,null,null,null,null,null,null,null,null,null,null,null,null,null,null,null,null,null,null,null,null,null,null,null,null,null,null,null,null,null,null,"浦川原",50131,{"$f":"Q16","v":0},{"$f":"W16","v":0},{"$f":"SUM(BW16:BX16)","v":0},{"$f":"AL16","v":0},null,null,null,null,null,null,{"$f":"BF16","v":0}]
[null,"上越安塚",null,null,"合",null,null,null,null,null,null,null,null,570,null,null,null,null,null,null,null,null,null,null,null,null,null,null,null,null,null,null,null,null,null,null,null,null,null,null,null,null,null,null,null,null,null,null,null,null,null,null,null,null,null,null,null,null,null,null,null,null,null,null,null,null,null,null,null,null,null,null,"上越安塚",50133,0,0,0,0,null,null,null,null,null,null,0]
[null,"大島",null,null,"合",null,null,null,null,null,null,null,null,360,null,null,null,null,null,null,null,null,null,null,null,null,null,null,null,null,null,null,null,null,null,null,null,null,null,null,null,null,null,null,null,null,null,null,null,null,null,null,null,null,null,null,null,null,null,null,null,null,null,null,null,null,null,null,null,null,null,null,"大島",50134,0,0,0,0,null,null,null,null,null,null,0]
[null,"松代",null,null,"合",null,null,null,null,null,null,null,null,700,null,null,null,null,null,null,null,null,null,null,null,null,null,null,null,null,null,null,null,null,null,null,null,null,null,null,null,null,null,null,null,null,null,null,null,null,null,null,null,null,null,null,null,null,null,null,null,null,null,null,null,null,null,null,null,null,null,null,"松代",50135,0,0,0,0,null,null,null,null,null,null,0]
[null,"松之山",null,null,"合",null,null,null,null,null,null,null,null,460,null,null,null,null,null,null,null,null,null,null,null,null,null,null,null,null,null,null,null,null,null,null,null,null,null,null,null,null,null,null,null,null,null,null,null,null,null,null,null,null,null,null,null,null,null,null,null,null,null,null,null,null,null,null,null,null,null,null,"松之山",50136,0,0,0,0,null,null,null,null,null,null,0]
[null,"040","小計",null,{"$f":"Q21+T21+W21+BF21","v":0},null,null,null,null,null,null,null,null,{"$f":"SUM(N16:P20)","v":2840},null,null,{"$f":"SUM(Q16:S20)","v":0},null,null,null,null,null,null,null,null,null,null,null,null,null,null,null,null,null,null,null,null,null,null,null,null,null,null,null,null,null,null,null,null,"小計",null,null,null,null,null,null,null,null,null,null,null,null,null,null,null,null,null,null,null,null,null,null,{"$f":"SUM(BY21:CC21,CG21)","v":0},null,{"$f":"SUM(BW16:BW20)","v":0},{"$f":"SUM(BX16:BX20)","v":0},0,null,{"$f":"SUM(CA16:CA20)","v":0},0,0,null,null,null,{"$f":"SUM(CG16:CG20)","v":0}]
["糸魚川市・旧西頸城郡","糸魚川",null,null,"新マ",null,null,null,null,null,null,null,null,2900,null,null,null,null,null,null,null,null,null,null,null,null,null,null,null,null,null,null,null,null,null,null,null,null,null,null,null,null,null,null,null,null,null,null,null,"糸魚川綱島",null,null,"ヨアサ日",null,3300,null,null,null,null,null,null,null,null,null,null,null,null,null,null,null,null,null,"糸魚川",50137,{"$f":"Q22","v":0},{"$f":"W22","v":0},{"$f":"SUM(BW22:BX22)","v":0},{"$f":"AL22","v":0},null,null,null,null,"糸魚川綱島",50138,{"$f":"BF22","v":0},{"$f":"BI22","v":0}]
[null,"糸魚川東",null,null,"新マ",null,null,null,null,null,null,null,null,1750,null,null,null,null,null,null,null,null,null,null,null,null,null,null,null,null,null,null,null,null,null,null,null,null,null,null,null,null,null,null,null,null,null,null,null,"大和川吉岡",null,null,"ヨア",null,460,null,null,null,null,null,null,null,null,null,null,null,null,null,null,null,null,null,"糸魚川東",50142,0,0,0,0,null,null,null,null,"大和川吉岡",50140,{"$f":"BF23","v":0},{"$f":"BI23","v":0}]
[null,"根知",null,null,"合",null,null,null,null,null,null,null,null,320,null,null,null,null,null,null,null,null,null,null,null,null,null,null,null,null,null,null,null,null,null,null,null,null,null,null,null,null,null,null,null,null,null,null,null,"浦本田代",null,null,"ヨア",null,40,null,null,null,null,null,null,null,null,null,null,null,null,null,null,null,null,null,"根知",50144,0,0,0,0,null,null,null,null,"浦本田代",50143,0,0]
[null,"050","小計",null,{"$f":"Q25+T25+W25+BF25","v":0},null,null,null,null,null,null,null,null,{"$f":"SUM(N22:P24)","v":4970},null,null,{"$f":"SUM(Q22:S24)","v":0},null,null,null,null,null,null,null,null,null,null,null,null,null,null,null,null,null,null,null,null,null,null,null,null,null,null,null,null,null,null,null,null,"小計",null,null,null,null,{"$f":"SUM(BC22:BE24)","v":3800},null,null,{"$f":"SUM(BF22:BH24)","v":0},null,null,null,null,null,null,null,null,null,null,null,null,null,null,{"$f":"SUM(BY25:CC25,CG25)","v":0},null,{"$f":"SUM(BW22:BW24)","v":0},{"$f":"SUM(BX22:BX24)","v":0},0,null,{"$f":"SUM(CA22:CA24)","v":0},0,0,null,null,null,{"$f":"SUM(CG22:CG24)","v":0}]
[null,"筒石",null,null,"合",null,null,null,null,null,null,null,null,390,null,null,null,null,null,null,null,null,null,null,null,null,null,null,null,null,null,null,null,null,null,null,null,null,null,null,null,null,null,null,null,null,null,null,null,null,null,null,null,null,null,null,null,null,null,null,null,null,null,null,null,null,null,null,null,null,null,null,"筒石",50148,{"$f":"Q26","v":0},{"$f":"W26","v":0},{"$f":"SUM(BW26:BX26)","v":0},{"$f":"AL26","v":0},null,null,null,null,null,null,{"$f":"BF26","v":0}]
[null,"能生",null,null,"合",null,null,null,null,null,null,null,null,1690,null,null,null,null,null,null,null,null,null,null,null,null,null,null,null,null,null,null,null,null,null,null,null,null,null,null,null,null,null,null,null,null,null,null,null,null,null,null,null,null,null,null,null,null,null,null,null,null,null,null,null,null,null,null,null,null,null,null,"能生",50149,0,0,0,0,null,null,null,null,null,null,0]
[null,"青海",null,null,"合",null,null,null,null,null,null,null,null,1500,null,null,null,null,null,null,null,null,null,null,null,null,null,null,null,null,null,null,null,null,null,null,null,null,null,null,null,null,null,null,null,null,null,null,null,null,null,null,null,null,null,null,null,null,null,null,null,null,null,null,null,null,null,null,null,null,null,null,"青梅",50150,0,0,0,0,null,null,null,null,null,null,0]
[null,"060","小計",null,{"$f":"Q29+T29+W29+BF29","v":0},null,null,null,null,null,null,null,null,{"$f":"SUM(N26:P28)","v":3580},null,null,{"$f":"SUM(Q26:S28)","v":0},null,null,null,null,null,null,null,null,null,null,null,null,null,null,null,null,null,null,null,null,null,null,null,null,null,null,null,null,null,null,null,null,"小計",null,null,null,null,null,null,null,null,null,null,null,null,null,null,null,null,null,null,null,null,null,null,{"$f":"SUM(BY29:CC29,CG29)","v":0},null,{"$f":"SUM(BW26:BW28)","v":0},{"$f":"SUM(BX26:BX28)","v":0},0,null,{"$f":"SUM(CA26:CA28)","v":0},0,0,null,null,null,{"$f":"SUM(CG26:CG28)","v":0}]
["合計",null,null,null,{"$f":"SUM(E29,E25,E21,E15)","v":0},null,null,null,null,null,null,null,null,{"$f":"SUM(N29,N25,N21,N15)","v":18050},null,null,{"$f":"SUM(Q29,Q25,Q21,Q15)","v":0},null,null,null,null,null,null,null,null,null,null,null,null,null,null,null,null,null,null,null,null,null,null,null,null,null,null,null,null,null,null,null,null,"合計",null,null,null,null,{"$f":"SUM(BC29,BC25,BC21,BC15)","v":3800},null,null,{"$f":"SUM(BF29,BF25,BF21,BF15)","v":0},null,null,null,null,null,null,null,null,null,null,null,null,null,null,{"$f":"SUM(BU29,BU25,BU21,BU15)","v":0},null,{"$f":"SUM(BW29,BW25,BW21,BW15)","v":0},{"$f":"SUM(BX29,BX25,BX21,BX15)","v":0},0,null,{"$f":"SUM(CA29,CA25,CA21,CA15)","v":0},0,0,null,null,null,{"$f":"SUM(CG29,CG25,CG21,CG15)","v":0},null,{"$f":"SUM(BY30:CH30)","v":0}]
[null,null,null,null,null,null,null,null,null,null,null,null,null,null,null,null,null,null,null,null,null,null,null,null,null,null,null,null,null,null,null,null,null,null,null,null,null,null,null,null,null,null,null,null,null,null,null,null,null,null,null,null,null,null,null,null,null,null,null,null,null,null,null,null,null,null,null,null,null,null,null,null,null,null,null,null,{"$f":"SUM(BY30,CG30)","v":0}]

{"sheet":"地区集計","index":9,"n_rows":45,"n_cols":17,"rows_kept":45,"cut":false,"hidden":false,"merged":[[1,11,4,16],[43,8,43,9],[0,1,0,16],[6,0,23,0],[24,0,34,0],[35,0,40,0],[1,2,4,4],[44,1,44,7],[1,6,4,6],[1,7,4,7],[43,1,43,7],[1,8,4,10],[42,1,42,7],[1,5,4,5],[44,8,44,9],[41,0,41,1],[1,0,4,1]]}
[null,"新潟県地区別/媒体別　折込部数・配布部数表"]
["エリア",null,"新潟日報＋くるみる",null,null,"assh\nn-assh\n1回目\nミニック","n-assh\n2回目","Ｏｔｏｎａ+","中央紙",null,null,"販売店件数"]
[]
[]
[]
["地区","市郡","朝刊+くるみる","朝刊","くるみる","部数","部数","配布数","朝日新聞","読売新聞","産経新聞","新潟日報","朝日新聞","読売新聞","産経新聞","計","くるみる"]
["下越・佐渡地区","旧新潟市",{"$f":"SUM(D7:E7)","v":137710},{"$f":"新潟市!N42","v":126500},{"$f":"SUM(新潟市!W9:Y41)","v":11210},{"$f":"新潟市!Z42","v":107100},null,{"$f":"新潟市!AF42","v":15130},null,{"$f":"SUM(新潟市!BC9:BE22)","v":16630},null,{"$f":"SUM(COUNTIF(新潟市!E9:G41,{\"新アマ日\",\"合\"}))","v":33},null,{"$f":"SUM(COUNTIF(新潟市!BA9:BB22,{\"ヨサ日\"}))","v":14},null,{"$f":"SUM(L7:O7)","v":47},{"$f":"COUNTA(新潟市!W9:Y41)","v":33}]
[null,"旧西蒲原郡",{"$f":"SUM(D8:E8)","v":23480},{"$f":"下越1!N17","v":22800},{"$f":"SUM(下越1!W9:Y16)","v":680},null,null,{"$f":"SUM(下越1!AF9:AH16)","v":690},{"$f":"下越1!BC9","v":650},{"$f":"下越1!BC10","v":700},null,{"$f":"SUM(COUNTIF(下越1!E9:G16,{\"新アマヨ日\",\"新マ日\",\"合\"}))","v":8},{"$f":"SUM(COUNTIF(下越1!BA9:BB11,{\"アサ\"}))","v":1},{"$f":"SUM(COUNTIF(下越1!BA9:BB11,{\"ヨ\"}))","v":1},null,{"$f":"SUM(L8:O8)","v":10},{"$f":"COUNTA(下越1!W12:Y16)","v":4}]
[null,"旧中蒲原郡",7980,{"$f":"SUM(下越1!N18:P20)","v":7970},{"$f":"SUM(下越1!W18:W20)","v":10},null,null,{"$f":"SUM(下越1!AF18:AH20)","v":270},null,null,null,{"$f":"SUM(COUNTIF(下越1!E18:G20,{\"合\"}))","v":3},null,null,null,3,{"$f":"COUNTA(下越1!W19)","v":1}]
[null,"旧新津市",{"$f":"SUM(D10:E10)","v":15600},{"$f":"SUM(下越1!N22:P23)","v":15500},{"$f":"SUM(下越1!W22:W23)","v":100},null,null,{"$f":"SUM(下越1!AF24)","v":500},null,null,null,{"$f":"SUM(COUNTIF(下越1!E22:G23,{\"合\"}))","v":2},null,null,null,2,{"$f":"COUNTA(下越1!W22:Y23)","v":2}]
[null,"五泉市",{"$f":"SUM(D11:E11)","v":7870},{"$f":"SUM(下越1!N25:P27)","v":7870},null,null,null,null,null,null,null,{"$f":"SUM(COUNTIF(下越1!E25:G27,{\"合\"}))","v":3},null,null,null,3]
[null,"旧白根市",{"$f":"SUM(D12:E12)","v":6080},{"$f":"SUM(下越1!N29:P31)","v":5840},{"$f":"SUM(下越1!W29:Y31)","v":240},null,null,{"$f":"SUM(下越1!AF29:AF31)","v":120},null,{"$f":"下越1!BC32","v":700},null,{"$f":"SUM(COUNTIF(下越1!E29:G31,{\"新アマ日\",\"合\"}))","v":3},null,{"$f":"SUM(COUNTIF(下越1!BA29,{\"ヨサ\"}))","v":1},null,4,{"$f":"COUNTA(下越1!W29:Y31)","v":3}]
[null,"三条市",{"$f":"SUM(D13:E13)","v":12400},{"$f":"SUM(下越1!N33:P34)","v":12400},null,null,null,{"$f":"SUM(下越1!AF35)","v":370},null,{"$f":"下越1!BC35","v":5200},null,{"$f":"SUM(COUNTIF(下越1!E33:G34,{\"新アマサ日\"}))","v":2},null,{"$f":"SUM(COUNTIF(下越1!BA33,{\"ヨ\"}))","v":1},null,3]
[null,"燕市",{"$f":"SUM(D14:E14)","v":6900},{"$f":"下越1!N38","v":6850},{"$f":"SUM(下越1!W36:W37)","v":50},null,null,{"$f":"下越1!AF38","v":180},null,{"$f":"下越1!BC38","v":3300},null,{"$f":"SUM(COUNTIF(下越1!E36:G37,{\"新アマサ日\"}))","v":2},null,{"$f":"SUM(COUNTIF(下越1!BA36,{\"ヨ\"}))","v":1},null,3,{"$f":"COUNTA(下越1!W36)","v":1}]
[null,"加茂市",7750,{"$f":"下越1!N40","v":7670},{"$f":"SUM(下越1!W39)","v":80},null,null,{"$f":"SUM(下越1!AF40)","v":260},null,{"$f":"下越1!BC40","v":1700},null,{"$f":"SUM(COUNTIF(下越1!E39,{\"新アマサ日\"}))","v":1},null,{"$f":"SUM(COUNTIF(下越1!BA39,{\"ヨ\"}))","v":1},null,2,{"$f":"COUNTA(下越1!W39)","v":1}]
[null,"旧南蒲原郡",{"$f":"SUM(D16:E16)","v":3850},{"$f":"SUM(下越1!N45)","v":3850},null,null,null,null,null,null,null,{"$f":"SUM(COUNTIF(下越1!E41:G44,{\"合\"}))","v":4},null,null,null,4]
[null,"旧豊栄市",8400,{"$f":"SUM(下越1!N48)","v":7930},{"$f":"SUM(下越1!W46:Y47)","v":470},{"$f":"下越1!Z48","v":6920},null,{"$f":"SUM(下越1!AF48)","v":330},null,{"$f":"下越1!BC46","v":880},null,{"$f":"SUM(COUNTIF(下越1!E46:G47,{\"新アマ日\",\"合\"}))","v":2},null,{"$f":"SUM(COUNTIF(下越1!BA46,{\"ヨサ日\"}))","v":1},null,3,{"$f":"COUNTA(下越1!W46:Y47)","v":2}]
[null,"新発田市",22800,{"$f":"SUM(下越２!N13)","v":21500},{"$f":"SUM(下越２!W9:Y12)","v":1300},{"$f":"SUM(下越２!Z13)","v":18170},null,{"$f":"SUM(下越２!AF13)","v":670},null,{"$f":"下越２!BC9","v":3200},null,{"$f":"SUM(COUNTIF(下越２!E9:G11,{\"新アマ日\",\"合\"}))","v":3},null,{"$f":"SUM(COUNTIF(下越２!BA9,{\"ヨサ\"}))","v":1},null,4,{"$f":"COUNTA(下越２!W9:Y11)","v":3}]
[null,"旧北蒲原郡",14010,{"$f":"SUM(下越２!N19)","v":13810},{"$f":"SUM(下越２!W14:W18)","v":200},{"$f":"下越２!Z19","v":100},null,{"$f":"下越２!AF19","v":230},null,{"$f":"下越２!BC19","v":2180},null,{"$f":"SUM(COUNTIF(下越２!E14:G18,{\"新アマ日\",\"合\"}))","v":5},null,{"$f":"SUM(COUNTIF(下越２!BA14:BB15,{\"ヨサ\",\"ヨ\"}))","v":2},null,7,{"$f":"COUNTA(下越２!W17)","v":1}]
[null,"村上市",{"$f":"SUM(D20:E20)","v":10000},{"$f":"SUM(下越２!N23)","v":10000},null,null,null,null,null,null,null,{"$f":"SUM(COUNTIF(下越２!E20:G22,{\"合\"}))","v":3},null,null,null,3]
[null,"岩船郡",4280,{"$f":"SUM(下越２!N28)","v":4280},null,null,null,null,null,null,null,{"$f":"SUM(COUNTIF(下越２!E24:G27,{\"合\"}))","v":4},null,null,null,4]
[null,"旧東蒲原郡",2950,{"$f":"SUM(下越２!N36)","v":2950},null,null,null,null,null,null,null,{"$f":"SUM(COUNTIF(下越２!E29:G35,{\"合\"}))","v":7},null,null,null,7]
[null,"旧両津市",2460,{"$f":"SUM(下越２!N41)","v":2460},null,null,null,null,{"$f":"下越２!BC39","v":680},{"$f":"下越２!BC40","v":860},null,{"$f":"SUM(COUNTIF(下越２!E39:G40,{\"新マサ日\",\"新マ日\"}))","v":2},{"$f":"SUM(COUNTIF(下越２!BA39:BB40,{\"ア\"}))","v":1},{"$f":"SUM(COUNTIF(下越２!BA39:BB40,{\"ヨサ\"}))","v":1},null,4]
[null,"旧佐渡郡",7400,{"$f":"SUM(下越２!N52)","v":7400},null,null,null,null,{"$f":"SUM(下越２!BC42:BE44,下越２!BC47,下越２!BC49)","v":920},{"$f":"SUM(下越２!BC45:BE46,下越２!BC48,下越２!BC50)","v":590},null,{"$f":"SUM(COUNTIF(下越２!E42:G51,{\"新サ\",\"新マサ日\",\"新\",\"新アマ日\",\"合\"}))","v":10},{"$f":"SUM(COUNTIF(下越２!BA42:BB50,{\"アマヨサ日\",\"アマサ日\",\"ア\"}))","v":5},{"$f":"SUM(COUNTIF(下越２!BA42:BB50,{\"ヨサ\",\"ヨア\",\"ヨ\"}))","v":4},null,19]
["中越地区","旧長岡市",40760,{"$f":"SUM(中越1!N24)","v":38680},{"$f":"SUM(中越1!W9:W23)","v":2080},{"$f":"中越1!Z24","v":38190},{"$f":"中越1!AF24","v":38090},{"$f":"中越1!AL24","v":1890},null,{"$f":"中越1!BH24","v":8460},null,{"$f":"SUM(COUNTIF(中越1!E9:G23,{\"新アマサ日\",\"合\"}))","v":15},null,{"$f":"SUM(COUNTIF(中越1!BF9:BG12,{\"ヨ\"}))","v":4},null,19,{"$f":"COUNTA(中越1!W9:Y20)","v":11}]
[null,"栃尾市",{"$f":"SUM(D26:E26)","v":2960},{"$f":"中越1!N26","v":2960},null,{"$f":"中越1!Z26","v":900},{"$f":"中越1!AF26","v":900},{"$f":"中越1!AL26","v":0},null,{"$f":"中越1!BH26","v":2100},null,{"$f":"SUM(COUNTIF(中越1!E25,{\"新アマサ\"}))","v":1},null,{"$f":"SUM(COUNTIF(中越1!BF25,{\"ヨ日\"}))","v":1},null,2]
[null,"見附市",9400,{"$f":"中越1!N30","v":9400},null,{"$f":"中越1!Z30","v":6310},{"$f":"中越1!AF30","v":480},{"$f":"中越1!AL30","v":360},null,{"$f":"SUM(中越1!BH27,中越1!BH29)","v":2000},{"$f":"SUM(中越1!BH28)","v":680},{"$f":"SUM(COUNTIF(中越1!E27:G29,{\"新アマサ日\",\"新アマ日\"}))","v":3},null,{"$f":"SUM(COUNTIF(中越1!BF27:BG29,{\"ヨ\"}))","v":2},{"$f":"SUM(COUNTIF(中越1!BF27:BG29,{\"サ\"}))","v":1},6]
[null,"旧三島郡",10810,{"$f":"中越1!N38","v":10610},{"$f":"SUM(中越1!W31:Y37)","v":200},{"$f":"中越1!Z38","v":3500},{"$f":"中越1!AF38","v":3500},{"$f":"中越1!AL38","v":0},null,{"$f":"SUM(中越1!BH38)","v":620},null,{"$f":"SUM(COUNTIF(中越1!E31:G37,{\"新アマサ日\",\"合\"}))","v":7},null,{"$f":"SUM(COUNTIF(中越1!BF31,{\"ヨ\"}))","v":1},null,8,{"$f":"COUNTA(中越1!W31:Y33)","v":2}]
[null,"小千谷市",7360,{"$f":"中越２!N13","v":7360},null,null,null,null,null,{"$f":"中越２!BC13","v":1340},null,{"$f":"SUM(COUNTIF(中越２!E9:G12,{\"新アマサ日\",\"合\"}))","v":4},null,{"$f":"SUM(COUNTIF(中越２!BA9,{\"ヨ\"}))","v":1},null,5]
[null,"十日町市",6870,{"$f":"中越２!N20","v":6870},null,null,null,null,null,{"$f":"中越２!BC20","v":1460},null,{"$f":"SUM(COUNTIF(中越２!E14:G19,{\"新アマサ日\",\"合\"}))","v":6},null,{"$f":"SUM(COUNTIF(中越２!BA14,{\"ヨ日\"}))","v":1},null,7]
[null,"旧北魚沼郡",9120,{"$f":"中越２!N25","v":9120},null,null,null,null,null,{"$f":"中越２!BC25","v":1250},null,{"$f":"SUM(COUNTIF(中越２!E21:G24,{\"新アマサ日\",\"合\"}))","v":4},null,{"$f":"SUM(COUNTIF(中越２!BA21,{\"ヨ\"}))","v":1},null,5]
[null,"旧南魚沼郡",10690,{"$f":"中越２!N34","v":10690},null,null,null,null,null,{"$f":"中越２!BC34","v":3870},null,{"$f":"SUM(COUNTIF(中越２!E26:G33,{\"新アマサ日\",\"合\"}))","v":8},null,{"$f":"SUM(COUNTIF(中越２!BA26:BB28,{\"ヨ\"}))","v":3},null,11]
[null,"旧中魚沼郡",4770,{"$f":"中越２!N41","v":4770},null,null,null,null,null,null,null,{"$f":"SUM(COUNTIF(中越２!E35:G40,{\"合\"}))","v":6},null,null,null,6]
[null,"柏崎市",{"$f":"SUM(D34:E34)","v":12430},{"$f":"SUM(上越1!N12,上越1!N18)","v":12030},{"$f":"SUM(上越1!W9:W11)","v":400},null,null,null,null,{"$f":"SUM(上越1!BC12)","v":4420},null,{"$f":"SUM(COUNTIF(上越1!E9:G17,{\"新アマサ日\",\"合\"}))","v":8},null,{"$f":"SUM(COUNTIF(上越1!BA9:BB10,{\"ヨ\"}))","v":2},null,10,{"$f":"COUNTA(上越1!W10)","v":1}]
[null,"旧刈羽郡",{"$f":"SUM(D35:E35)","v":4100},{"$f":"上越1!N23","v":4100},null,null,null,null,null,null,null,{"$f":"SUM(COUNTIF(上越1!E19:G22,{\"合\"}))","v":4},null,null,null,4]
["上越地区","上越市",{"$f":"SUM(D36:E36)","v":23210},{"$f":"上越1!N35","v":21900},{"$f":"SUM(上越1!W24:W34)","v":1310},{"$f":"上越1!Z35","v":0},null,null,{"$f":"SUM(上越1!BC24,上越1!BC29)","v":4300},{"$f":"SUM(上越1!BC25:BE28)","v":9870},null,{"$f":"SUM(COUNTIF(上越1!E24:G34,{\"新マサ日\",\"新アマサ日\",\"合\"}))","v":11},{"$f":"SUM(COUNTIF(上越1!BA24:BB29,{\"ア\"}))","v":2},{"$f":"SUM(COUNTIF(上越1!BA24:BB29,{\"ヨ\"}))","v":4},null,17,{"$f":"COUNTA(上越1!W24:Y32)","v":8}]
[null,"旧新井市",{"$f":"SUM(D37:E37)","v":9630},{"$f":"上越1!N42","v":9630},null,null,null,null,null,null,null,{"$f":"SUM(COUNTIF(上越1!E36:G41,{\"合\"}))","v":6},null,null,null,6]
[null,"旧中頸城郡",6660,{"$f":"上越２!N15","v":6660},null,{"$f":"上越２!Z15","v":0},null,null,null,null,null,{"$f":"SUM(COUNTIF(上越２!E9:G14,{\"合\"}))","v":6},null,null,null,6]
[null,"旧東頸城郡",2840,{"$f":"上越２!N21","v":2840},null,null,null,null,null,null,null,{"$f":"SUM(COUNTIF(上越２!E16:G20,{\"合\"}))","v":5},null,null,null,5]
[null,"糸魚川市",4970,{"$f":"上越２!N25","v":4970},null,null,null,null,null,{"$f":"上越２!BC25","v":3800},null,{"$f":"SUM(COUNTIF(上越２!E22:G24,{\"新マ\",\"合\"}))","v":3},null,{"$f":"SUM(COUNTIF(上越２!BA22:BB24,{\"ヨアサ日\",\"ヨア\"}))","v":3},null,6]
[null,"旧西頸城郡",3580,{"$f":"上越２!N29","v":3580},null,null,null,null,null,null,null,{"$f":"SUM(COUNTIF(上越２!E26:G28,{\"合\"}))","v":3},null,null,null,3]
["合計",null,{"$f":"SUM(D42:E42)","v":472080},{"$f":"SUM(D7:D41)","v":453750},{"$f":"SUM(E7:E41)","v":18330},{"$f":"SUM(F7:F41)","v":181190},{"$f":"SUM(G7:G41)","v":42970},21000,{"$f":"SUM(I7:I41)","v":6550},{"$f":"SUM(J7:J41)","v":75130},680,{"$f":"SUM(L7:L41)","v":197},{"$f":"SUM(M7:M41)","v":9},51,1,258,73]
[null,"※山形県の販売店の折込部数は新潟県の折込部数の合計値に含まれておりません。"]
[null,"※新潟日報の販売店が扱う主要日刊紙は、新潟日報の折込部数に包含します。",null,null,null,null,null,null,"※朝刊部数 計",null,{"$f":"SUM(D42,I42:K42)","v":536110}]
[null,"※新潟県内には、日本経済新聞の専売店がありませんので系統区分には記載がありません。",null,null,null,null,null,null,"※朝刊部数 計（くるみる含）",null,{"$f":"SUM(C42,I42:K42)","v":554440}]

{"sheet":"ガタチラ(チラシ情報)掲載","index":10,"n_rows":80,"n_cols":15,"rows_kept":80,"cut":false,"hidden":false,"merged":[[19,4,19,18],[22,0,23,1],[22,2,22,5],[22,6,22,7],[22,8,23,8],[22,9,23,18],[23,2,23,5],[23,6,23,7],[20,0,20,1],[18,4,18,18],[13,0,13,1],[13,2,13,3],[13,4,13,5],[13,6,13,7],[13,8,13,9],[13,10,13,11],[13,14,13,18],[14,0,14,11],[14,13,15,18],[15,0,15,11],[17,4,17,18],[12,10,12,11],[8,0,9,1],[8,2,8,11],[9,2,9,11],[10,0,10,5],[10,6,10,11],[12,0,12,1],[12,2,12,3],[12,4,12,5],[12,6,12,7],[12,8,12,9],[11,14,11,18],[4,0,5,1],[4,2,4,11],[4,14,4,18],[5,2,5,11],[5,14,5,18],[6,0,7,1],[6,2,6,11],[6,14,6,18],[7,2,7,11],[7,13,9,13],[7,15,7,18],[8,14,9,18],[10,14,10,18],[0,0,0,18],[2,0,2,11],[2,13,2,18],[3,0,3,1],[3,2,3,11],[3,14,3,18]]}
["Gatachira（ガタチラ）チラシ情報への広告掲載【申込書】"]
[]
["基本要項（必須）",null,null,null,null,null,null,null,null,null,null,null,null,"以下は初回時、又は2回目以降に変更がある場合にご記入ください。"]
["ふりがな",null,null,null,null,null,null,null,null,null,null,null,null,"ふりがな"]
["クライアント名",null,null,null,null,null,null,null,null,null,null,null,null,"広告主\n又は代理店"]
[null,null,"※　チラシ情報ページのクライアント名に表示されます。タイトルの【】では株式会社等は省略されます。",null,null,null,null,null,null,null,null,null,null,"ふりがな"]
["広告タイトル",null,null,null,null,null,null,null,null,null,null,null,null,"ご担当者"]
[null,null,"※　チラシ情報ページのタイトル、【】以降に表示されます。",null,null,null,null,null,null,null,null,null,null,"ご住所","〒"]
["店舗名"]
[null,null,"※　チラシ情報ページのタイトル前【】内に表示されます。指定が無い場合はクライアント名が表示されます。"]
["掲載開始日",null,null,null,null,null,"掲載終了日　※最大6ヵ月",null,null,null,null,null,null,"TEL"]
[null,"月",null,"日",null,"曜日",null,"月",null,"日",null,"曜日",null,"MAIL"]
["エリア\n(最大5個)"]
["チラシのカテゴリ\n(最大5個)",null,null,null,null,null,null,null,null,null,null,null,null,"データ入稿先","gatachira2@niigata-mn.co.jp"]
["対象店舗やURL、注意書き、クーポンの利用方法など　その他掲載情報（任意）",null,null,null,null,null,null,null,null,null,null,null,null,"データ形式：JPG　PNG　データサイズ：5000ピクセル以内（テキストが潰れない程度）\nデータ送信容量：合計4MB（データ容量が4MBを超える場合はデータ便などのオンラインストレージサービスをご利用ください。）\n※弊社「新聞折込広告基準」に準じている広告をご入稿ください。\n※トンボなどの不要なデータは削除してご入稿ください。\n※指定サイズを超える場合はご相談ください。"]
[]
[]
[null,null,"【掲載期間】",null,"掲載期間は最大6ヵ月となります。掲載の延長を希望される場合は改めてお申し込みください。"]
[null,null,"【データ入稿】",null,"データ入稿の締切は掲載日の2営業日前のAMまでとなります（お盆・年末年始などは除く）\nまた、データ容量が大きすぎる場合はインターネット上での読み込み速度が遅くなる為、弊社にて加工させていただく場合がございます。"]
[null,null,"【その他】",null,"クーポン付チラシの場合、電子クーポンの利用について「可・否」をご記載ください。利用可の場合、「利用方法」も併せてご記載をお願いします。\nサイトの仕様上、タイトルのテキスト数やカテゴリ等、弊社の判断で添削する場合がございます。予めご了承ください。"]
[null,null,"株式会社 新潟日報メディアネット　ガタチラ事務局"]
[]
["運営記入欄",null,"No",null,null,null,"受付日",null,"備考"]
[]
["カテゴリ"]
["スーパー"]
["百貨店"]
["ホームセンター"]
["電化製品"]
["　家電製品"]
["　パソコン用品"]
["　携帯電話"]
["ファッション"]
["　衣服"]
["　靴"]
["　アクセサリー"]
["雑貨"]
["　おもちゃ"]
["　インテリア雑貨・家具"]
["通信販売"]
["車"]
["　新車"]
["　中古車"]
["　カー用品"]
["習い事"]
["　塾"]
["　そろばん"]
["　スポーツ"]
["　スイミング"]
["　プログラミング"]
["　その他"]
["住宅"]
["　不動産"]
["　マンション・アパート"]
["　リフォーム"]
["お掃除"]
["　クリーニング"]
["　ハウスクリーニング"]
["　便利屋"]
["官公庁（自治体）"]
["ドラッグストア"]
["飲食店"]
["　レストラン・食事処"]
["　カフェ"]
["　スイーツ"]
["　居酒屋"]
["　宅配・テイクアウト"]
["美容"]
["　美容室"]
["　エステ"]
["スポーツジム"]
["入浴・スパ"]
["パチンコ"]
["冠婚葬祭"]
["　式場"]
["　葬儀場"]
["買取／販売"]
["旅行／レジャー"]
["求人情報"]
["その他"]

{"sheet":"更新履歴","index":11,"n_rows":20,"n_cols":4,"rows_kept":20,"cut":false,"hidden":true,"merged":[]}
["日","対象シート","更新内容","対応者"]
["2022-11-04","下越１・２、中越１","Otona+部数欄に※追加　朝刊配達エリア店","櫻井"]
["2022-11-04","新潟市","assh説明文　J-assh削除","櫻井"]
["2022-11-04","新潟市","くるみる部数欄　条件設定変更　色付け解除","櫻井"]
["2022-11-05","下越２","佐渡の中央紙並び替え（従来版に戻した）","櫻井"]
["2022-11-05","地区集計","旧佐渡郡、中央紙部数・件数計算式更新","櫻井"]
["2022-11-05","下越１・２、中越１","条件設定変更　旧豊栄市　色付け設定","櫻井"]
["2022-11-05","下越１・２、中越１","地域小計　計算式追加（ａｓｓｈ、おとプラ）","櫻井"]
["2022-11-14","中越１","長岡大手くるみる欄追加、条件設定変更（Ｑ）","櫻井"]
["2022-11-14","地区集計","くるみる欄長岡市数式更新","櫻井"]
["2022-11-14","新潟市～上越２","全媒体部数改定12月","櫻井"]
["2022-11-18","下越２","羽茂　合、旧佐渡郡合計部数","櫻井"]
["2023-01-26","下越１","吉田産経削除　→　吉田　合　4730部","込山"]
["2023-01-27","下越１～上越2","サイズ・ガタチラ他　入力制限・ロック設定","櫻井"]
["2023-10-12","下越１","矢代田・新津　朝刊部数","櫻井"]
["2023-10-12","下越１","三条西削除　三条北　朝刊・Otona+部数　","櫻井"]
["2023-10-12","下越１","豊栄南削除　豊栄北　朝・く・ａ・お部数、販売店名称","櫻井"]
["2023-10-12","中越１","長岡大手削除　長岡中央・東　各部数","櫻井"]
["2023-10-12","上越１","柏崎東削除　柏崎　朝刊部数","櫻井"]
["2023-10-12","表紙","日付","櫻井"]

{"sheet":"ＥＤＩ朝刊","index":12,"n_rows":323,"n_cols":22,"rows_kept":323,"cut":false,"hidden":true,"merged":[[1,5,1,21]]}
[1,{"$f":"A1+1","v":2},{"$f":"B1+1","v":3},4,5,6,7,8,9,10,11,12,13,14,15,16,17,18,19,20,21,22]
[null,null,null,null,null,"CSV出力範囲"]
[null,null,null,null,null,1,2,3,4,5,6,7,8,9,10,11,12,13,14,15,16,17]
["①ヘッダーレコード",null,null,null,null,1,0,"025669",0,0,"株式会社　新潟日報サービスネット","データ作成日付（YYYYMMDD）","受注No．",1,0,0,{"$f":"新潟市!M3","v":0},{"$f":"TEXT(新潟市!A3,\"yyyymmdd\")","v":"2023/--/--"},{"$f":"IF(新潟市!AI3=0,\"\",新潟市!AI3)","v":""},{"$f":"新潟市!BU5","v":{"$error":"#N/A"}},{"$f":"SUM(I5:I321)","v":{"$error":"#REF!"}}]
["②明細コード","新潟市","日報",1,{"$f":"新潟市!BU9","v":"万代"},2,"受注No．",{"$f":"新潟市!BV9","v":10101},{"$f":"IF(新潟市!BY9=0,\"\",新潟市!BY9)","v":""},1,{"$f":"IF(新潟市!AL9=0,\"\",新潟市!AL9)","v":""}]
["②明細コード","新潟市","日報",{"$f":"D5+1","v":2},{"$f":"新潟市!BU10","v":"駅南"},2,"受注No．",{"$f":"新潟市!BV10","v":10102},{"$f":"IF(新潟市!BY10=0,\"\",新潟市!BY10)","v":""},1,{"$f":"IF(新潟市!AL10=0,\"\",新潟市!AL10)","v":""}]
["②明細コード","新潟市","日報",{"$f":"D6+1","v":3},{"$f":"新潟市!BU11","v":"木戸"},2,"受注No．",{"$f":"新潟市!BV11","v":10103},{"$f":"IF(新潟市!BY11=0,\"\",新潟市!BY11)","v":""},1,{"$f":"IF(新潟市!AL11=0,\"\",新潟市!AL11)","v":""}]
["②明細コード","新潟市","日報",4,{"$f":"新潟市!BU12","v":"石山東"},2,"受注No．",{"$f":"新潟市!BV12","v":10105},{"$f":"IF(新潟市!BY12=0,\"\",新潟市!BY12)","v":""},1,{"$f":"IF(新潟市!AL12=0,\"\",新潟市!AL12)","v":""}]
["②明細コード","新潟市","日報",5,{"$f":"新潟市!BU13","v":"山ノ下"},2,"受注No．",{"$f":"新潟市!BV13","v":10107},{"$f":"IF(新潟市!BY13=0,\"\",新潟市!BY13)","v":""},1,{"$f":"IF(新潟市!AL13=0,\"\",新潟市!AL13)","v":""}]
["②明細コード","新潟市","日報",6,{"$f":"新潟市!BU14","v":"物見山"},2,"受注No．",{"$f":"新潟市!BV14","v":10108},{"$f":"IF(新潟市!BY14=0,\"\",新潟市!BY14)","v":""},1,{"$f":"IF(新潟市!AL14=0,\"\",新潟市!AL14)","v":""}]
["②明細コード","新潟市","日報",7,{"$f":"新潟市!BU15","v":"とやの"},2,"受注No．",{"$f":"新潟市!BV15","v":10109},{"$f":"IF(新潟市!BY15=0,\"\",新潟市!BY15)","v":""},1,{"$f":"IF(新潟市!AL15=0,\"\",新潟市!AL15)","v":""}]
["②明細コード","新潟市","日報",8,{"$f":"新潟市!BU16","v":"県庁前"},2,"受注No．",{"$f":"新潟市!BV16","v":10111},{"$f":"IF(新潟市!BY16=0,\"\",新潟市!BY16)","v":""},1,{"$f":"IF(新潟市!AL16=0,\"\",新潟市!AL16)","v":""}]
["②明細コード","新潟市","日報",9,{"$f":"新潟市!#REF!","v":{"$error":"#REF!"}},2,"受注No．",{"$f":"新潟市!#REF!","v":{"$error":"#REF!"}},{"$f":"IF(新潟市!#REF!=0,\"\",新潟市!#REF!)","v":{"$error":"#REF!"}},1,{"$f":"IF(新潟市!#REF!=0,\"\",新潟市!#REF!)","v":{"$error":"#REF!"}}]
["②明細コード","新潟市","日報",10,{"$f":"新潟市!BU17","v":"愛宕"},2,"受注No．",{"$f":"新潟市!BV17","v":10113},{"$f":"IF(新潟市!BY17=0,\"\",新潟市!BY17)","v":""},1,{"$f":"IF(新潟市!AL17=0,\"\",新潟市!AL17)","v":""}]
["②明細コード","新潟市","日報",11,{"$f":"新潟市!BU18","v":"河渡"},2,"受注No．",{"$f":"新潟市!BV18","v":10114},{"$f":"IF(新潟市!BY18=0,\"\",新潟市!BY18)","v":""},1,{"$f":"IF(新潟市!AL18=0,\"\",新潟市!AL18)","v":""}]
["②明細コード","新潟市","日報",12,{"$f":"新潟市!BU19","v":"牡丹山"},2,"受注No．",{"$f":"新潟市!BV19","v":10115},{"$f":"IF(新潟市!BY19=0,\"\",新潟市!BY19)","v":""},1,{"$f":"IF(新潟市!AL19=0,\"\",新潟市!AL19)","v":""}]
["②明細コード","新潟市","日報",13,{"$f":"新潟市!BU20","v":"大形"},2,"受注No．",{"$f":"新潟市!BV20","v":10116},{"$f":"IF(新潟市!BY20=0,\"\",新潟市!BY20)","v":""},1,{"$f":"IF(新潟市!AL20=0,\"\",新潟市!AL20)","v":""}]
["②明細コード","新潟市","日報",14,{"$f":"新潟市!BU21","v":"松浜"},2,"受注No．",{"$f":"新潟市!BV21","v":10117},{"$f":"IF(新潟市!BY21=0,\"\",新潟市!BY21)","v":""},1,{"$f":"IF(新潟市!AL21=0,\"\",新潟市!AL21)","v":""}]
["②明細コード","新潟市","日報",15,{"$f":"新潟市!BU22","v":"新潟南"},2,"受注No．",{"$f":"新潟市!BV22","v":10118},{"$f":"IF(新潟市!BY22=0,\"\",新潟市!BY22)","v":""},1,{"$f":"IF(新潟市!AL22=0,\"\",新潟市!AL22)","v":""}]
["②明細コード","新潟市","日報",16,{"$f":"新潟市!BU23","v":"姥ケ山"},2,"受注No．",{"$f":"新潟市!BV23","v":10119},{"$f":"IF(新潟市!BY23=0,\"\",新潟市!BY23)","v":""},1,{"$f":"IF(新潟市!AL23=0,\"\",新潟市!AL23)","v":""}]
["②明細コード","新潟市","日報",17,{"$f":"新潟市!BU24","v":"山二ツ"},2,"受注No．",{"$f":"新潟市!BV24","v":10120},{"$f":"IF(新潟市!BY24=0,\"\",新潟市!BY24)","v":""},1,{"$f":"IF(新潟市!AL24=0,\"\",新潟市!AL24)","v":""}]
["②明細コード","新潟市","日報",18,{"$f":"新潟市!BU25","v":"亀田西"},2,"受注No．",{"$f":"新潟市!BV25","v":10122},{"$f":"IF(新潟市!BY25=0,\"\",新潟市!BY25)","v":""},1,{"$f":"IF(新潟市!AL25=0,\"\",新潟市!AL25)","v":""}]
["②明細コード","新潟市","日報",19,{"$f":"新潟市!BU26","v":"亀田"},2,"受注No．",{"$f":"新潟市!BV26","v":10123},{"$f":"IF(新潟市!BY26=0,\"\",新潟市!BY26)","v":""},1,{"$f":"IF(新潟市!AL26=0,\"\",新潟市!AL26)","v":""}]
["②明細コード","新潟市","日報",20,{"$f":"新潟市!BU27","v":"横越"},2,"受注No．",{"$f":"新潟市!BV27","v":10176},{"$f":"IF(新潟市!BY27=0,\"\",新潟市!BY27)","v":""},1,{"$f":"IF(新潟市!AL27=0,\"\",新潟市!AL27)","v":""}]
["②明細コード","新潟市","日報",21,{"$f":"新潟市!BU28","v":"有明"},2,"受注No．",{"$f":"新潟市!BV28","v":10177},{"$f":"IF(新潟市!BY28=0,\"\",新潟市!BY28)","v":""},1,{"$f":"IF(新潟市!AL28=0,\"\",新潟市!AL28)","v":""}]
["②明細コード","新潟市","日報",22,{"$f":"新潟市!BU29","v":"小針"},2,"受注No．",{"$f":"新潟市!BV29","v":10127},{"$f":"IF(新潟市!BY29=0,\"\",新潟市!BY29)","v":""},1,{"$f":"IF(新潟市!AL29=0,\"\",新潟市!AL29)","v":""}]
["②明細コード","新潟市","日報",23,{"$f":"新潟市!BU30","v":"中通"},2,"受注No．",{"$f":"新潟市!BV30","v":10128},{"$f":"IF(新潟市!BY30=0,\"\",新潟市!BY30)","v":""},1,{"$f":"IF(新潟市!AL30=0,\"\",新潟市!AL30)","v":""}]
["②明細コード","新潟市","日報",24,{"$f":"新潟市!BU31","v":"本町"},2,"受注No．",{"$f":"新潟市!BV31","v":10130},{"$f":"IF(新潟市!BY31=0,\"\",新潟市!BY31)","v":""},1,{"$f":"IF(新潟市!AL31=0,\"\",新潟市!AL31)","v":""}]
["②明細コード","新潟市","日報",25,{"$f":"新潟市!BU32","v":"中央"},2,"受注No．",{"$f":"新潟市!BV32","v":10131},{"$f":"IF(新潟市!BY32=0,\"\",新潟市!BY32)","v":""},1,{"$f":"IF(新潟市!AL32=0,\"\",新潟市!AL32)","v":""}]
["②明細コード","新潟市","日報",26,{"$f":"新潟市!BU33","v":"真砂"},2,"受注No．",{"$f":"新潟市!BV33","v":10133},{"$f":"IF(新潟市!BY33=0,\"\",新潟市!BY33)","v":""},1,{"$f":"IF(新潟市!AL33=0,\"\",新潟市!AL33)","v":""}]
["②明細コード","新潟市","日報",27,{"$f":"新潟市!BU34","v":"寺尾"},2,"受注No．",{"$f":"新潟市!BV34","v":10134},{"$f":"IF(新潟市!BY34=0,\"\",新潟市!BY34)","v":""},1,{"$f":"IF(新潟市!AL34=0,\"\",新潟市!AL34)","v":""}]
["②明細コード","新潟市","日報",28,{"$f":"新潟市!BU35","v":"新大前"},2,"受注No．",{"$f":"新潟市!BV35","v":10135},{"$f":"IF(新潟市!BY35=0,\"\",新潟市!BY35)","v":""},1,{"$f":"IF(新潟市!AL35=0,\"\",新潟市!AL35)","v":""}]
["②明細コード","新潟市","日報",29,{"$f":"新潟市!BU36","v":"内野"},2,"受注No．",{"$f":"新潟市!BV36","v":10136},{"$f":"IF(新潟市!BY36=0,\"\",新潟市!BY36)","v":""},1,{"$f":"IF(新潟市!AL36=0,\"\",新潟市!AL36)","v":""}]
["②明細コード","新潟市","日報",30,{"$f":"新潟市!BU37","v":"西内野"},2,"受注No．",{"$f":"新潟市!BV37","v":10137},{"$f":"IF(新潟市!BY37=0,\"\",新潟市!BY37)","v":""},1,{"$f":"IF(新潟市!AL37=0,\"\",新潟市!AL37)","v":""}]
["②明細コード","新潟市","日報",31,{"$f":"新潟市!#REF!","v":{"$error":"#REF!"}},2,"受注No．",{"$f":"新潟市!#REF!","v":{"$error":"#REF!"}},{"$f":"IF(新潟市!#REF!=0,\"\",新潟市!#REF!)","v":{"$error":"#REF!"}},1,{"$f":"IF(新潟市!#REF!=0,\"\",新潟市!#REF!)","v":{"$error":"#REF!"}}]
["②明細コード","新潟市","日報",32,{"$f":"新潟市!BU38","v":"小新"},2,"受注No．",{"$f":"新潟市!BV38","v":10140},{"$f":"IF(新潟市!BY38=0,\"\",新潟市!BY38)","v":""},1,{"$f":"IF(新潟市!AL38=0,\"\",新潟市!AL38)","v":""}]
["②明細コード","新潟市","日報",33,{"$f":"新潟市!BU39","v":"寺地"},2,"受注No．",{"$f":"新潟市!BV39","v":10141},{"$f":"IF(新潟市!BY39=0,\"\",新潟市!BY39)","v":""},1,{"$f":"IF(新潟市!AL39=0,\"\",新潟市!AL39)","v":""}]
["②明細コード","新潟市","日報",34,{"$f":"新潟市!BU40","v":"黒埼"},2,"受注No．",{"$f":"新潟市!BV40","v":10178},{"$f":"IF(新潟市!BY40=0,\"\",新潟市!BY40)","v":""},1,{"$f":"IF(新潟市!AL40=0,\"\",新潟市!AL40)","v":""}]
["②明細コード","新潟市","日報",35,{"$f":"新潟市!BU41","v":"黒埼南"},2,"受注No．",{"$f":"新潟市!BV41","v":10143},{"$f":"IF(新潟市!BY41=0,\"\",新潟市!BY41)","v":""},1,{"$f":"IF(新潟市!AL41=0,\"\",新潟市!AL41)","v":""}]
["②明細コード","新潟市","中央紙",1,{"$f":"新潟市!#REF!","v":{"$error":"#REF!"}},2,"受注No．",{"$f":"新潟市!#REF!","v":{"$error":"#REF!"}},{"$f":"IF(新潟市!#REF!=0,\"\",新潟市!#REF!)","v":{"$error":"#REF!"}},1,{"$f":"IF(新潟市!#REF!=0,\"\",新潟市!#REF!)","v":{"$error":"#REF!"}}]
["②明細コード","新潟市","中央紙",2,{"$f":"新潟市!#REF!","v":{"$error":"#REF!"}},2,"受注No．",{"$f":"新潟市!#REF!","v":{"$error":"#REF!"}},{"$f":"IF(新潟市!#REF!=0,\"\",新潟市!#REF!)","v":{"$error":"#REF!"}},1,{"$f":"IF(新潟市!#REF!=0,\"\",新潟市!#REF!)","v":{"$error":"#REF!"}}]
["②明細コード","新潟市","中央紙",3,{"$f":"新潟市!CE9","v":"本町"},2,"受注No．",{"$f":"新潟市!CF9","v":210167},{"$f":"IF(新潟市!CG9=0,\"\",新潟市!CG9)","v":""},1,{"$f":"IF(新潟市!CH9=0,\"\",新潟市!CH9)","v":""}]
["②明細コード","新潟市","中央紙",4,{"$f":"新潟市!CE10","v":"中央"},2,"受注No．",{"$f":"新潟市!CF10","v":210168},{"$f":"IF(新潟市!CG10=0,\"\",新潟市!CG10)","v":""},1,{"$f":"IF(新潟市!CH10=0,\"\",新潟市!CH10)","v":""}]
["②明細コード","新潟市","中央紙",5,{"$f":"新潟市!CE11","v":"小針"},2,"受注No．",{"$f":"新潟市!CF11","v":210169},{"$f":"IF(新潟市!CG11=0,\"\",新潟市!CG11)","v":""},1,{"$f":"IF(新潟市!CH11=0,\"\",新潟市!CH11)","v":""}]
["②明細コード","新潟市","中央紙",6,{"$f":"新潟市!CE12","v":"寺尾"},2,"受注No．",{"$f":"新潟市!CF12","v":210170},{"$f":"IF(新潟市!CG12=0,\"\",新潟市!CG12)","v":""},1,{"$f":"IF(新潟市!CH12=0,\"\",新潟市!CH12)","v":""}]
["②明細コード","新潟市","中央紙",7,{"$f":"新潟市!CE13","v":"内野"},2,"受注No．",{"$f":"新潟市!CF13","v":210171},{"$f":"IF(新潟市!CG13=0,\"\",新潟市!CG13)","v":""},1,{"$f":"IF(新潟市!CH13=0,\"\",新潟市!CH13)","v":""}]
["②明細コード","新潟市","中央紙",8,{"$f":"新潟市!CE14","v":"小新黒埼"},2,"受注No．",{"$f":"新潟市!CF14","v":210172},{"$f":"IF(新潟市!CG14=0,\"\",新潟市!CG14)","v":""},1,{"$f":"IF(新潟市!CH14=0,\"\",新潟市!CH14)","v":""}]
["②明細コード","新潟市","中央紙",9,{"$f":"新潟市!CE15","v":"黒埼南"},2,"受注No．",{"$f":"新潟市!CF15","v":210179},{"$f":"IF(新潟市!CG15=0,\"\",新潟市!CG15)","v":""},1,{"$f":"IF(新潟市!CH15=0,\"\",新潟市!CH15)","v":""}]
["②明細コード","新潟市","中央紙",10,{"$f":"新潟市!CE16","v":"万代"},2,"受注No．",{"$f":"新潟市!CF16","v":210158},{"$f":"IF(新潟市!CG16=0,\"\",新潟市!CG16)","v":""},1,{"$f":"IF(新潟市!CH16=0,\"\",新潟市!CH16)","v":""}]
["②明細コード","新潟市","中央紙",11,{"$f":"新潟市!CE17","v":"県庁前"},2,"受注No．",{"$f":"新潟市!CF17","v":210159},{"$f":"IF(新潟市!CG17=0,\"\",新潟市!CG17)","v":""},1,{"$f":"IF(新潟市!CH17=0,\"\",新潟市!CH17)","v":""}]
["②明細コード","新潟市","中央紙",12,{"$f":"新潟市!CE18","v":"駅南東"},2,"受注No．",{"$f":"新潟市!CF18","v":210160},{"$f":"IF(新潟市!CG18=0,\"\",新潟市!CG18)","v":""},1,{"$f":"IF(新潟市!CH18=0,\"\",新潟市!CH18)","v":""}]
["②明細コード","新潟市","中央紙",13,{"$f":"新潟市!CE19","v":"山木戸"},2,"受注No．",{"$f":"新潟市!CF19","v":210162},{"$f":"IF(新潟市!CG19=0,\"\",新潟市!CG19)","v":""},1,{"$f":"IF(新潟市!CH19=0,\"\",新潟市!CH19)","v":""}]
["②明細コード","新潟市","中央紙",14,{"$f":"新潟市!CE20","v":"山ノ下"},2,"受注No．",{"$f":"新潟市!CF20","v":210163},{"$f":"IF(新潟市!CG20=0,\"\",新潟市!CG20)","v":""},1,{"$f":"IF(新潟市!CH20=0,\"\",新潟市!CH20)","v":""}]
["②明細コード","新潟市","中央紙",15,{"$f":"新潟市!CE21","v":"松浜"},2,"受注No．",{"$f":"新潟市!CF21","v":210164},{"$f":"IF(新潟市!CG21=0,\"\",新潟市!CG21)","v":""},1,{"$f":"IF(新潟市!CH21=0,\"\",新潟市!CH21)","v":""}]
["②明細コード","新潟市","中央紙",16,{"$f":"新潟市!CE22","v":"亀田"},2,"受注No．",{"$f":"新潟市!CF22","v":210166},{"$f":"IF(新潟市!CG22=0,\"\",新潟市!CG22)","v":""},1,{"$f":"IF(新潟市!CH22=0,\"\",新潟市!CH22)","v":""}]
["②明細コード","下越地区1","日報",1,{"$f":"下越1!BU9","v":"分水"},2,"受注No．",{"$f":"IF(下越1!BV9=0,\"\",下越1!BV9)","v":20101},{"$f":"IF(下越1!BY9=0,\"\",下越1!BY9)","v":""},1,{"$f":"IF(下越1!BZ9=0,\"\",下越1!BZ9)","v":""}]
["②明細コード","下越地区1","日報",{"$f":"D56+1","v":2},{"$f":"下越1!BU10","v":"吉田"},2,"受注No．",{"$f":"IF(下越1!BV10=0,\"\",下越1!BV10)","v":20102},{"$f":"IF(下越1!BY10=0,\"\",下越1!BY10)","v":""},1,{"$f":"IF(下越1!BZ10=0,\"\",下越1!BZ10)","v":""}]
["②明細コード","下越地区1","日報",{"$f":"D57+1","v":3},{"$f":"下越1!BU11","v":"粟生津"},2,"受注No．",{"$f":"IF(下越1!BV11=0,\"\",下越1!BV11)","v":20104},{"$f":"IF(下越1!BY11=0,\"\",下越1!BY11)","v":""},1,{"$f":"IF(下越1!BZ11=0,\"\",下越1!BZ11)","v":""}]
["②明細コード","下越地区1","日報",4,{"$f":"下越1!BU12","v":"巻"},2,"受注No．",{"$f":"IF(下越1!BV12=0,\"\",下越1!BV12)","v":20105},{"$f":"IF(下越1!BY12=0,\"\",下越1!BY12)","v":""},1,{"$f":"IF(下越1!BZ12=0,\"\",下越1!BZ12)","v":""}]
["②明細コード","下越地区1","日報",5,{"$f":"下越1!BU13","v":"岩室"},2,"受注No．",{"$f":"IF(下越1!BV13=0,\"\",下越1!BV13)","v":20108},{"$f":"IF(下越1!BY13=0,\"\",下越1!BY13)","v":""},1,{"$f":"IF(下越1!BZ13=0,\"\",下越1!BZ13)","v":""}]
["②明細コード","下越地区1","日報",6,{"$f":"下越1!BU14","v":"西川"},2,"受注No．",{"$f":"IF(下越1!BV14=0,\"\",下越1!BV14)","v":20109},{"$f":"IF(下越1!BY14=0,\"\",下越1!BY14)","v":""},1,{"$f":"IF(下越1!BZ14=0,\"\",下越1!BZ14)","v":""}]
["②明細コード","下越地区1","日報",7,{"$f":"下越1!BU15","v":"中之口"},2,"受注No．",{"$f":"IF(下越1!BV15=0,\"\",下越1!BV15)","v":20110},{"$f":"IF(下越1!BY15=0,\"\",下越1!BY15)","v":""},1,{"$f":"IF(下越1!BZ15=0,\"\",下越1!BZ15)","v":""}]
["②明細コード","下越地区1","日報",8,{"$f":"下越1!BU16","v":"弥彦"},2,"受注No．",{"$f":"IF(下越1!BV16=0,\"\",下越1!BV16)","v":20111},{"$f":"IF(下越1!BY16=0,\"\",下越1!BY16)","v":""},1,{"$f":"IF(下越1!BZ16=0,\"\",下越1!BZ16)","v":""}]
["②明細コード","下越地区1","日報",9,{"$f":"下越1!BU17","v":0},2,"受注No．",{"$f":"IF(下越1!BV17=0,\"\",下越1!BV17)","v":""},{"$f":"IF(下越1!BY17=0,\"\",下越1!BY17)","v":""},1,{"$f":"IF(下越1!BZ17=0,\"\",下越1!BZ17)","v":""}]
["②明細コード","下越地区1","日報",10,{"$f":"下越1!BU18","v":"小須戸"},2,"受注No．",{"$f":"IF(下越1!BV18=0,\"\",下越1!BV18)","v":20112},{"$f":"IF(下越1!BY18=0,\"\",下越1!BY18)","v":""},1,{"$f":"IF(下越1!BZ18=0,\"\",下越1!BZ18)","v":""}]
["②明細コード","下越地区1","日報",11,{"$f":"下越1!BU19","v":"矢代田"},2,"受注No．",{"$f":"IF(下越1!BV19=0,\"\",下越1!BV19)","v":20113},{"$f":"IF(下越1!BY19=0,\"\",下越1!BY19)","v":""},1,{"$f":"IF(下越1!BZ19=0,\"\",下越1!BZ19)","v":""}]
["②明細コード","下越地区1","日報",12,{"$f":"下越1!BU20","v":"村松"},2,"受注No．",{"$f":"IF(下越1!BV20=0,\"\",下越1!BV20)","v":20114},{"$f":"IF(下越1!BY20=0,\"\",下越1!BY20)","v":""},1,{"$f":"IF(下越1!BZ20=0,\"\",下越1!BZ20)","v":""}]
["②明細コード","下越地区1","日報",13,{"$f":"下越1!BU21","v":0},2,"受注No．",{"$f":"IF(下越1!BV21=0,\"\",下越1!BV21)","v":""},{"$f":"IF(下越1!BY21=0,\"\",下越1!BY21)","v":""},1,{"$f":"IF(下越1!BZ21=0,\"\",下越1!BZ21)","v":""}]
["②明細コード","下越地区1","日報",14,{"$f":"下越1!BU22","v":"新津"},2,"受注No．",{"$f":"IF(下越1!BV22=0,\"\",下越1!BV22)","v":20116},{"$f":"IF(下越1!BY22=0,\"\",下越1!BY22)","v":""},1,{"$f":"IF(下越1!BZ22=0,\"\",下越1!BZ22)","v":""}]
["②明細コード","下越地区1","日報",15,{"$f":"下越1!BU23","v":"新津・荻川"},2,"受注No．",{"$f":"IF(下越1!BV23=0,\"\",下越1!BV23)","v":20181},{"$f":"IF(下越1!BY23=0,\"\",下越1!BY23)","v":""},1,{"$f":"IF(下越1!BZ23=0,\"\",下越1!BZ23)","v":""}]
["②明細コード","下越地区1","日報",16,{"$f":"下越1!BU24","v":0},2,"受注No．",{"$f":"IF(下越1!BV24=0,\"\",下越1!BV24)","v":""},{"$f":"IF(下越1!BY24=0,\"\",下越1!BY24)","v":""},1,{"$f":"IF(下越1!BZ24=0,\"\",下越1!BZ24)","v":""}]
["②明細コード","下越地区1","日報",17,{"$f":"下越1!BU25","v":"五泉"},2,"受注No．",{"$f":"IF(下越1!BV25=0,\"\",下越1!BV25)","v":20117},{"$f":"IF(下越1!BY25=0,\"\",下越1!BY25)","v":""},1,{"$f":"IF(下越1!BZ25=0,\"\",下越1!BZ25)","v":""}]
["②明細コード","下越地区1","日報",18,{"$f":"下越1!BU27","v":"保田・馬下"},2,"受注No．",{"$f":"IF(下越1!BV27=0,\"\",下越1!BV27)","v":20183},{"$f":"IF(下越1!BY27=0,\"\",下越1!BY27)","v":""},1,{"$f":"IF(下越1!BZ27=0,\"\",下越1!BZ27)","v":""}]
["②明細コード","下越地区1","日報",19,{"$f":"下越1!BU28","v":0},2,"受注No．",{"$f":"IF(下越1!BV28=0,\"\",下越1!BV28)","v":""},{"$f":"IF(下越1!BY28=0,\"\",下越1!BY28)","v":""},1,{"$f":"IF(下越1!BZ28=0,\"\",下越1!BZ28)","v":""}]
["②明細コード","下越地区1","日報",20,{"$f":"下越1!BU29","v":"白根"},2,"受注No．",{"$f":"IF(下越1!BV29=0,\"\",下越1!BV29)","v":20120},{"$f":"IF(下越1!BY29=0,\"\",下越1!BY29)","v":""},1,{"$f":"IF(下越1!BZ29=0,\"\",下越1!BZ29)","v":""}]
["②明細コード","下越地区1","日報",21,{"$f":"下越1!BU30","v":"月潟"},2,"受注No．",{"$f":"IF(下越1!BV30=0,\"\",下越1!BV30)","v":20122},{"$f":"IF(下越1!BY30=0,\"\",下越1!BY30)","v":""},1,{"$f":"IF(下越1!BZ30=0,\"\",下越1!BZ30)","v":""}]
["②明細コード","下越地区1","日報",22,{"$f":"下越1!BU31","v":"新飯田"},2,"受注No．",{"$f":"IF(下越1!BV31=0,\"\",下越1!BV31)","v":20123},{"$f":"IF(下越1!BY31=0,\"\",下越1!BY31)","v":""},1,{"$f":"IF(下越1!BZ31=0,\"\",下越1!BZ31)","v":""}]
["②明細コード","下越地区1","日報",23,{"$f":"下越1!BU32","v":0},2,"受注No．",{"$f":"IF(下越1!BV32=0,\"\",下越1!BV32)","v":""},{"$f":"IF(下越1!BY32=0,\"\",下越1!BY32)","v":""},1,{"$f":"IF(下越1!BZ32=0,\"\",下越1!BZ32)","v":""}]
["②明細コード","下越地区1","日報",24,{"$f":"下越1!BU33","v":"三条北"},2,"受注No．",{"$f":"IF(下越1!BV33=0,\"\",下越1!BV33)","v":20124},{"$f":"IF(下越1!BY33=0,\"\",下越1!BY33)","v":""},1,{"$f":"IF(下越1!BZ33=0,\"\",下越1!BZ33)","v":""}]
["②明細コード","下越地区1","日報",25,{"$f":"下越1!BU34","v":"三条南"},2,"受注No．",{"$f":"IF(下越1!BV34=0,\"\",下越1!BV34)","v":20125},{"$f":"IF(下越1!BY34=0,\"\",下越1!BY34)","v":""},1,{"$f":"IF(下越1!BZ34=0,\"\",下越1!BZ34)","v":""}]
["②明細コード","下越地区1","日報",26,{"$f":"下越1!#REF!","v":{"$error":"#REF!"}},2,"受注No．",{"$f":"IF(下越1!#REF!=0,\"\",下越1!#REF!)","v":{"$error":"#REF!"}},{"$f":"IF(下越1!#REF!=0,\"\",下越1!#REF!)","v":{"$error":"#REF!"}},1,{"$f":"IF(下越1!#REF!=0,\"\",下越1!#REF!)","v":{"$error":"#REF!"}}]
["②明細コード","下越地区1","日報",27,{"$f":"下越1!BU35","v":0},2,"受注No．",{"$f":"IF(下越1!BV35=0,\"\",下越1!BV35)","v":""},{"$f":"IF(下越1!BY35=0,\"\",下越1!BY35)","v":""},1,{"$f":"IF(下越1!BZ35=0,\"\",下越1!BZ35)","v":""}]
["②明細コード","下越地区1","日報",28,{"$f":"下越1!BU36","v":"燕"},2,"受注No．",{"$f":"IF(下越1!BV36=0,\"\",下越1!BV36)","v":20130},{"$f":"IF(下越1!BY36=0,\"\",下越1!BY36)","v":""},1,{"$f":"IF(下越1!BZ36=0,\"\",下越1!BZ36)","v":""}]
["②明細コード","下越地区1","日報",29,{"$f":"下越1!BU37","v":"燕南"},2,"受注No．",{"$f":"IF(下越1!BV37=0,\"\",下越1!BV37)","v":20131},{"$f":"IF(下越1!BY37=0,\"\",下越1!BY37)","v":""},1,{"$f":"IF(下越1!BZ37=0,\"\",下越1!BZ37)","v":""}]
["②明細コード","下越地区1","日報",30,{"$f":"下越1!BU38","v":0},2,"受注No．",{"$f":"IF(下越1!BV38=0,\"\",下越1!BV38)","v":""},{"$f":"IF(下越1!BY38=0,\"\",下越1!BY38)","v":""},1,{"$f":"IF(下越1!BZ38=0,\"\",下越1!BZ38)","v":""}]
["②明細コード","下越地区1","日報",31,{"$f":"下越1!BU39","v":"加茂"},2,"受注No．",{"$f":"IF(下越1!BV39=0,\"\",下越1!BV39)","v":20135},{"$f":"IF(下越1!BY39=0,\"\",下越1!BY39)","v":""},1,{"$f":"IF(下越1!BZ39=0,\"\",下越1!BZ39)","v":""}]
["②明細コード","下越地区1","日報",32,{"$f":"下越1!BU40","v":0},2,"受注No．",{"$f":"IF(下越1!BV40=0,\"\",下越1!BV40)","v":""},{"$f":"IF(下越1!BY40=0,\"\",下越1!BY40)","v":""},1,{"$f":"IF(下越1!BZ40=0,\"\",下越1!BZ40)","v":""}]
["②明細コード","下越地区1","日報",33,{"$f":"下越1!BU41","v":"下田"},2,"受注No．",{"$f":"IF(下越1!BV41=0,\"\",下越1!BV41)","v":20139},{"$f":"IF(下越1!BY41=0,\"\",下越1!BY41)","v":""},1,{"$f":"IF(下越1!BZ41=0,\"\",下越1!BZ41)","v":""}]
["②明細コード","下越地区1","日報",34,{"$f":"下越1!BU42","v":"栄山嵜"},2,"受注No．",{"$f":"IF(下越1!BV42=0,\"\",下越1!BV42)","v":20140},{"$f":"IF(下越1!BY42=0,\"\",下越1!BY42)","v":""},1,{"$f":"IF(下越1!BZ42=0,\"\",下越1!BZ42)","v":""}]
["②明細コード","下越地区1","日報",35,{"$f":"下越1!BU43","v":"栄吉田"},2,"受注No．",{"$f":"IF(下越1!BV43=0,\"\",下越1!BV43)","v":20141},{"$f":"IF(下越1!BY43=0,\"\",下越1!BY43)","v":""},1,{"$f":"IF(下越1!BZ43=0,\"\",下越1!BZ43)","v":""}]
["②明細コード","下越地区1","日報",36,{"$f":"下越1!BU44","v":"帯織"},2,"受注No．",{"$f":"IF(下越1!BV44=0,\"\",下越1!BV44)","v":20143},{"$f":"IF(下越1!BY44=0,\"\",下越1!BY44)","v":""},1,{"$f":"IF(下越1!BZ44=0,\"\",下越1!BZ44)","v":""}]
["②明細コード","下越地区1","日報",37,{"$f":"下越1!BU45","v":0},2,"受注No．",{"$f":"IF(下越1!BV45=0,\"\",下越1!BV45)","v":""},{"$f":"IF(下越1!BY45=0,\"\",下越1!BY45)","v":""},1,{"$f":"IF(下越1!BZ45=0,\"\",下越1!BZ45)","v":""}]
["②明細コード","下越地区1","日報",38,{"$f":"下越1!BU46","v":"豊栄"},2,"受注No．",{"$f":"IF(下越1!BV46=0,\"\",下越1!BV46)","v":20179},{"$f":"IF(下越1!BY46=0,\"\",下越1!BY46)","v":""},1,{"$f":"IF(下越1!BZ46=0,\"\",下越1!BZ46)","v":""}]
["②明細コード","下越地区1","日報",39,{"$f":"下越1!#REF!","v":{"$error":"#REF!"}},2,"受注No．",{"$f":"IF(下越1!#REF!=0,\"\",下越1!#REF!)","v":{"$error":"#REF!"}},{"$f":"IF(下越1!#REF!=0,\"\",下越1!#REF!)","v":{"$error":"#REF!"}},1,{"$f":"IF(下越1!#REF!=0,\"\",下越1!#REF!)","v":{"$error":"#REF!"}}]
["②明細コード","下越地区1","日報",40,{"$f":"下越1!BU47","v":"木崎"},2,"受注No．",{"$f":"IF(下越1!BV47=0,\"\",下越1!BV47)","v":20146},{"$f":"IF(下越1!BY47=0,\"\",下越1!BY47)","v":""},1,{"$f":"IF(下越1!BZ47=0,\"\",下越1!BZ47)","v":""}]
["②明細コード","下越地区1","中央紙",1,{"$f":"下越1!CE9","v":"巻"},2,"受注No．",{"$f":"IF(下越1!CF9=0,\"\",下越1!CF9)","v":20106},{"$f":"IF(下越1!CG9=0,\"\",下越1!CG9)","v":""},1,{"$f":"IF(下越1!CH9=0,\"\",下越1!CH9)","v":""}]
["②明細コード","下越地区1","中央紙",2,{"$f":"下越1!CE10","v":"巻"},2,"受注No．",{"$f":"IF(下越1!CF10=0,\"\",下越1!CF10)","v":220107},{"$f":"IF(下越1!CG10=0,\"\",下越1!CG10)","v":""},1,{"$f":"IF(下越1!CH10=0,\"\",下越1!CH10)","v":""}]
["②明細コード","下越地区1","中央紙",3,{"$f":"下越1!CE11","v":0},2,"受注No．",{"$f":"IF(下越1!CF11=0,\"\",下越1!CF11)","v":""},{"$f":"IF(下越1!CG11=0,\"\",下越1!CG11)","v":""},1,{"$f":"IF(下越1!CH11=0,\"\",下越1!CH11)","v":""}]
["②明細コード","下越地区1","中央紙",4,{"$f":"下越1!CE12","v":0},2,"受注No．",{"$f":"IF(下越1!CF12=0,\"\",下越1!CF12)","v":""},{"$f":"IF(下越1!CG12=0,\"\",下越1!CG12)","v":""},1,{"$f":"IF(下越1!CH12=0,\"\",下越1!CH12)","v":""}]
["②明細コード","下越地区1","中央紙",5,{"$f":"下越1!CE13","v":0},2,"受注No．",{"$f":"IF(下越1!CF13=0,\"\",下越1!CF13)","v":""},{"$f":"IF(下越1!CG13=0,\"\",下越1!CG13)","v":""},1,{"$f":"IF(下越1!CH13=0,\"\",下越1!CH13)","v":""}]
["②明細コード","下越地区1","中央紙",6,{"$f":"下越1!CE14","v":0},2,"受注No．",{"$f":"IF(下越1!CF14=0,\"\",下越1!CF14)","v":""},{"$f":"IF(下越1!CG14=0,\"\",下越1!CG14)","v":""},1,{"$f":"IF(下越1!CH14=0,\"\",下越1!CH14)","v":""}]
["②明細コード","下越地区1","中央紙",7,{"$f":"下越1!CE15","v":0},2,"受注No．",{"$f":"IF(下越1!CF15=0,\"\",下越1!CF15)","v":""},{"$f":"IF(下越1!CG15=0,\"\",下越1!CG15)","v":""},1,{"$f":"IF(下越1!CH15=0,\"\",下越1!CH15)","v":""}]
["②明細コード","下越地区1","中央紙",8,{"$f":"下越1!CE16","v":0},2,"受注No．",{"$f":"IF(下越1!CF16=0,\"\",下越1!CF16)","v":""},{"$f":"IF(下越1!CG16=0,\"\",下越1!CG16)","v":""},1,{"$f":"IF(下越1!CH16=0,\"\",下越1!CH16)","v":""}]
["②明細コード","下越地区1","中央紙",9,{"$f":"下越1!CE17","v":0},2,"受注No．",{"$f":"IF(下越1!CF17=0,\"\",下越1!CF17)","v":""},{"$f":"IF(下越1!CG17=0,\"\",下越1!CG17)","v":""},1,{"$f":"IF(下越1!CH17=0,\"\",下越1!CH17)","v":""}]
["②明細コード","下越地区1","中央紙",10,{"$f":"下越1!CE18","v":0},2,"受注No．",{"$f":"IF(下越1!CF18=0,\"\",下越1!CF18)","v":""},{"$f":"IF(下越1!CG18=0,\"\",下越1!CG18)","v":""},1,{"$f":"IF(下越1!CH18=0,\"\",下越1!CH18)","v":""}]
["②明細コード","下越地区２","日報",1,{"$f":"下越２!BU9","v":"新発田西"},2,"受注No．",{"$f":"IF(下越２!BV9=0,\"\",下越２!BV9)","v":20148},{"$f":"IF(下越２!BY9=0,\"\",下越２!BY9)","v":""},1,{"$f":"IF(下越２!BZ9=0,\"\",下越２!BZ9)","v":""}]
["②明細コード","下越地区２","日報",2,{"$f":"下越２!BU10","v":"新発田東"},2,"受注No．",{"$f":"IF(下越２!BV10=0,\"\",下越２!BV10)","v":20149},{"$f":"IF(下越２!BY10=0,\"\",下越２!BY10)","v":""},1,{"$f":"IF(下越２!BZ10=0,\"\",下越２!BZ10)","v":""}]
["②明細コード","下越地区２","日報",3,{"$f":"下越２!BU11","v":"月岡"},2,"受注No．",{"$f":"IF(下越２!BV11=0,\"\",下越２!BV11)","v":20153},{"$f":"IF(下越２!BY11=0,\"\",下越２!BY11)","v":""},1,{"$f":"IF(下越２!BZ11=0,\"\",下越２!BZ11)","v":""}]
["②明細コード","下越地区２","日報",4,{"$f":"下越２!BU12","v":"※木崎ミニック"},2,"受注No．",{"$f":"IF(下越２!BV12=0,\"\",下越２!BV12)","v":20180},{"$f":"IF(下越２!BY12=0,\"\",下越２!BY12)","v":""},1,{"$f":"IF(下越２!BZ12=0,\"\",下越２!BZ12)","v":""}]
["②明細コード","下越地区２","日報",5,{"$f":"下越２!BU13","v":0},2,"受注No．",{"$f":"IF(下越２!BV13=0,\"\",下越２!BV13)","v":""},{"$f":"IF(下越２!BY13=0,\"\",下越２!BY13)","v":""},1,{"$f":"IF(下越２!BZ13=0,\"\",下越２!BZ13)","v":""}]
["②明細コード","下越地区２","日報",6,{"$f":"下越２!BU14","v":"中条東"},2,"受注No．",{"$f":"IF(下越２!BV14=0,\"\",下越２!BV14)","v":20154},{"$f":"IF(下越２!BY14=0,\"\",下越２!BY14)","v":""},1,{"$f":"IF(下越２!BZ14=0,\"\",下越２!BZ14)","v":""}]
["②明細コード","下越地区２","日報",7,{"$f":"下越２!BU15","v":"西中条"},2,"受注No．",{"$f":"IF(下越２!BV15=0,\"\",下越２!BV15)","v":20155},{"$f":"IF(下越２!BY15=0,\"\",下越２!BY15)","v":""},1,{"$f":"IF(下越２!BZ15=0,\"\",下越２!BZ15)","v":""}]
["②明細コード","下越地区２","日報",8,{"$f":"下越２!BU16","v":"黒川"},2,"受注No．",{"$f":"IF(下越２!BV16=0,\"\",下越２!BV16)","v":20157},{"$f":"IF(下越２!BY16=0,\"\",下越２!BY16)","v":""},1,{"$f":"IF(下越２!BZ16=0,\"\",下越２!BZ16)","v":""}]
["②明細コード","下越地区２","日報",9,{"$f":"下越２!BU17","v":"水原"},2,"受注No．",{"$f":"IF(下越２!BV17=0,\"\",下越２!BV17)","v":20158},{"$f":"IF(下越２!BY17=0,\"\",下越２!BY17)","v":""},1,{"$f":"IF(下越２!BZ17=0,\"\",下越２!BZ17)","v":""}]
["②明細コード","下越地区２","日報",10,{"$f":"下越２!BU18","v":"保田"},2,"受注No．",{"$f":"IF(下越２!BV18=0,\"\",下越２!BV18)","v":20161},{"$f":"IF(下越２!BY18=0,\"\",下越２!BY18)","v":""},1,{"$f":"IF(下越２!BZ18=0,\"\",下越２!BZ18)","v":""}]
["②明細コード","下越地区２","日報",11,{"$f":"下越２!BU19","v":0},2,"受注No．",{"$f":"IF(下越２!BV19=0,\"\",下越２!BV19)","v":""},{"$f":"IF(下越２!BY19=0,\"\",下越２!BY19)","v":""},1,{"$f":"IF(下越２!BZ19=0,\"\",下越２!BZ19)","v":""}]
["②明細コード","下越地区２","日報",12,{"$f":"下越２!BU20","v":"村上"},2,"受注No．",{"$f":"IF(下越２!BV20=0,\"\",下越２!BV20)","v":20162},{"$f":"IF(下越２!BY20=0,\"\",下越２!BY20)","v":""},1,{"$f":"IF(下越２!BZ20=0,\"\",下越２!BZ20)","v":""}]
["②明細コード","下越地区２","日報",13,{"$f":"下越２!BU21","v":"岩船"},2,"受注No．",{"$f":"IF(下越２!BV21=0,\"\",下越２!BV21)","v":20163},{"$f":"IF(下越２!BY21=0,\"\",下越２!BY21)","v":""},1,{"$f":"IF(下越２!BZ21=0,\"\",下越２!BZ21)","v":""}]
["②明細コード","下越地区２","日報",14,{"$f":"下越２!BU22","v":"越後早川"},2,"受注No．",{"$f":"IF(下越２!BV22=0,\"\",下越２!BV22)","v":20164},{"$f":"IF(下越２!BY22=0,\"\",下越２!BY22)","v":""},1,{"$f":"IF(下越２!BZ22=0,\"\",下越２!BZ22)","v":""}]
["②明細コード","下越地区２","日報",15,{"$f":"下越２!BU23","v":0},2,"受注No．",{"$f":"IF(下越２!BV23=0,\"\",下越２!BV23)","v":""},{"$f":"IF(下越２!BY23=0,\"\",下越２!BY23)","v":""},1,{"$f":"IF(下越２!BZ23=0,\"\",下越２!BZ23)","v":""}]
["②明細コード","下越地区２","日報",16,{"$f":"下越２!BU24","v":"坂町"},2,"受注No．",{"$f":"IF(下越２!BV24=0,\"\",下越２!BV24)","v":20165},{"$f":"IF(下越２!BY24=0,\"\",下越２!BY24)","v":""},1,{"$f":"IF(下越２!BZ24=0,\"\",下越２!BZ24)","v":""}]
["②明細コード","下越地区２","日報",17,{"$f":"下越２!#REF!","v":{"$error":"#REF!"}},2,"受注No．",{"$f":"IF(下越２!#REF!=0,\"\",下越２!#REF!)","v":{"$error":"#REF!"}},{"$f":"IF(下越２!#REF!=0,\"\",下越２!#REF!)","v":{"$error":"#REF!"}},1,{"$f":"IF(下越２!#REF!=0,\"\",下越２!#REF!)","v":{"$error":"#REF!"}}]
["②明細コード","下越地区２","日報",{"$f":"D122+1","v":18},{"$f":"下越２!BU25","v":"関川"},2,"受注No．",{"$f":"IF(下越２!BV25=0,\"\",下越２!BV25)","v":20167},{"$f":"IF(下越２!BY25=0,\"\",下越２!BY25)","v":""},1,{"$f":"IF(下越２!BZ25=0,\"\",下越２!BZ25)","v":""}]
["②明細コード","下越地区２","日報",19,{"$f":"下越２!#REF!","v":{"$error":"#REF!"}},2,"受注No．",{"$f":"IF(下越２!#REF!=0,\"\",下越２!#REF!)","v":{"$error":"#REF!"}},{"$f":"IF(下越２!#REF!=0,\"\",下越２!#REF!)","v":{"$error":"#REF!"}},1,{"$f":"IF(下越２!#REF!=0,\"\",下越２!#REF!)","v":{"$error":"#REF!"}}]
["②明細コード","下越地区２","日報",20,{"$f":"下越２!BU26","v":"府屋"},2,"受注No．",{"$f":"IF(下越２!BV26=0,\"\",下越２!BV26)","v":20170},{"$f":"IF(下越２!BY26=0,\"\",下越２!BY26)","v":""},1,{"$f":"IF(下越２!BZ26=0,\"\",下越２!BZ26)","v":""}]
["②明細コード","下越地区２","日報",21,{"$f":"下越２!BU27","v":"黒川俣"},2,"受注No．",{"$f":"IF(下越２!BV27=0,\"\",下越２!BV27)","v":20172},{"$f":"IF(下越２!BY27=0,\"\",下越２!BY27)","v":""},1,{"$f":"IF(下越２!BZ27=0,\"\",下越２!BZ27)","v":""}]
["②明細コード","下越地区２","日報",22,{"$f":"下越２!BU28","v":0},2,"受注No．",{"$f":"IF(下越２!BV28=0,\"\",下越２!BV28)","v":""},{"$f":"IF(下越２!BY28=0,\"\",下越２!BY28)","v":""},1,{"$f":"IF(下越２!BZ28=0,\"\",下越２!BZ28)","v":""}]
["②明細コード","下越地区２","日報",23,{"$f":"下越２!BU29","v":"津川"},2,"受注No．",{"$f":"IF(下越２!BV29=0,\"\",下越２!BV29)","v":20173},{"$f":"IF(下越２!BY29=0,\"\",下越２!BY29)","v":""},1,{"$f":"IF(下越２!BZ29=0,\"\",下越２!BZ29)","v":""}]
["②明細コード","下越地区２","日報",24,{"$f":"下越２!BU30","v":"豊実"},2,"受注No．",{"$f":"IF(下越２!BV30=0,\"\",下越２!BV30)","v":20174},{"$f":"IF(下越２!BY30=0,\"\",下越２!BY30)","v":""},1,{"$f":"IF(下越２!BZ30=0,\"\",下越２!BZ30)","v":""}]
["②明細コード","下越地区２","日報",25,{"$f":"下越２!BU31","v":"日出谷"},2,"受注No．",{"$f":"IF(下越２!BV31=0,\"\",下越２!BV31)","v":20175},{"$f":"IF(下越２!BY31=0,\"\",下越２!BY31)","v":""},1,{"$f":"IF(下越２!BZ31=0,\"\",下越２!BZ31)","v":""}]
["②明細コード","下越地区２","日報",26,{"$f":"下越２!BU32","v":"鹿瀬"},2,"受注No．",{"$f":"IF(下越２!BV32=0,\"\",下越２!BV32)","v":20176},{"$f":"IF(下越２!BY32=0,\"\",下越２!BY32)","v":""},1,{"$f":"IF(下越２!BZ32=0,\"\",下越２!BZ32)","v":""}]
["②明細コード","下越地区２","日報",27,{"$f":"下越２!BU33","v":"白崎"},2,"受注No．",{"$f":"IF(下越２!BV33=0,\"\",下越２!BV33)","v":20177},{"$f":"IF(下越２!BY33=0,\"\",下越２!BY33)","v":""},1,{"$f":"IF(下越２!BZ33=0,\"\",下越２!BZ33)","v":""}]
["②明細コード","下越地区２","日報",28,{"$f":"下越２!BU35","v":"保田・五十島"},2,"受注No．",{"$f":"IF(下越２!BV35=0,\"\",下越２!BV35)","v":20182},{"$f":"IF(下越２!BY35=0,\"\",下越２!BY35)","v":""},1,{"$f":"IF(下越２!BZ35=0,\"\",下越２!BZ35)","v":""}]
["②明細コード","下越地区２","日報",29,{"$f":"下越２!BU36","v":0},2,"受注No．",{"$f":"IF(下越２!BV36=0,\"\",下越２!BV36)","v":""},{"$f":"IF(下越２!BY36=0,\"\",下越２!BY36)","v":""},1,{"$f":"IF(下越２!BZ36=0,\"\",下越２!BZ36)","v":""}]
["②明細コード","下越地区２","日報",30,{"$f":"下越２!BU37","v":"小国"},2,"受注No．",{"$f":"IF(下越２!BV37=0,\"\",下越２!BV37)","v":20201},{"$f":"IF(下越２!BY37=0,\"\",下越２!BY37)","v":""},1,{"$f":"IF(下越２!BZ37=0,\"\",下越２!BZ37)","v":""}]
["②明細コード","下越地区２","日報",31,{"$f":"下越２!BU38","v":0},2,"受注No．",{"$f":"IF(下越２!BV38=0,\"\",下越２!BV38)","v":""},{"$f":"IF(下越２!BY38=0,\"\",下越２!BY38)","v":""},1,{"$f":"IF(下越２!BZ38=0,\"\",下越２!BZ38)","v":""}]
["②明細コード","下越地区２","日報",32,{"$f":"下越２!BU39","v":"両津"},2,"受注No．",{"$f":"IF(下越２!BV39=0,\"\",下越２!BV39)","v":30101},{"$f":"IF(下越２!BY39=0,\"\",下越２!BY39)","v":""},1,{"$f":"IF(下越２!BZ39=0,\"\",下越２!BZ39)","v":""}]
["②明細コード","下越地区２","日報",33,{"$f":"下越２!BU40","v":"吉井"},2,"受注No．",{"$f":"IF(下越２!BV40=0,\"\",下越２!BV40)","v":30105},{"$f":"IF(下越２!BY40=0,\"\",下越２!BY40)","v":""},1,{"$f":"IF(下越２!BZ40=0,\"\",下越２!BZ40)","v":""}]
["②明細コード","下越地区２","日報",34,{"$f":"下越２!#REF!","v":{"$error":"#REF!"}},2,"受注No．",{"$f":"IF(下越２!#REF!=0,\"\",下越２!#REF!)","v":{"$error":"#REF!"}},{"$f":"IF(下越２!#REF!=0,\"\",下越２!#REF!)","v":{"$error":"#REF!"}},1,{"$f":"IF(下越２!#REF!=0,\"\",下越２!#REF!)","v":{"$error":"#REF!"}}]
["②明細コード","下越地区２","日報",35,{"$f":"下越２!BU41","v":0},2,"受注No．",{"$f":"IF(下越２!BV41=0,\"\",下越２!BV41)","v":""},{"$f":"IF(下越２!BY41=0,\"\",下越２!BY41)","v":""},1,{"$f":"IF(下越２!BZ41=0,\"\",下越２!BZ41)","v":""}]
["②明細コード","下越地区２","日報",36,{"$f":"下越２!BU42","v":"真野"},2,"受注No．",{"$f":"IF(下越２!BV42=0,\"\",下越２!BV42)","v":30106},{"$f":"IF(下越２!BY42=0,\"\",下越２!BY42)","v":""},1,{"$f":"IF(下越２!BZ42=0,\"\",下越２!BZ42)","v":""}]
["②明細コード","下越地区２","日報",37,{"$f":"下越２!BU43","v":"新穂"},2,"受注No．",{"$f":"IF(下越２!BV43=0,\"\",下越２!BV43)","v":30108},{"$f":"IF(下越２!BY43=0,\"\",下越２!BY43)","v":""},1,{"$f":"IF(下越２!BZ43=0,\"\",下越２!BZ43)","v":""}]
["②明細コード","下越地区２","日報",38,{"$f":"下越２!BU44","v":"畑野"},2,"受注No．",{"$f":"IF(下越２!BV44=0,\"\",下越２!BV44)","v":30111},{"$f":"IF(下越２!BY44=0,\"\",下越２!BY44)","v":""},1,{"$f":"IF(下越２!BZ44=0,\"\",下越２!BZ44)","v":""}]
["②明細コード","下越地区２","日報",39,{"$f":"下越２!BU45","v":"佐和田"},2,"受注No．",{"$f":"IF(下越２!BV45=0,\"\",下越２!BV45)","v":30114},{"$f":"IF(下越２!BY45=0,\"\",下越２!BY45)","v":""},1,{"$f":"IF(下越２!BZ45=0,\"\",下越２!BZ45)","v":""}]
["②明細コード","下越地区２","日報",40,{"$f":"下越２!BU46","v":"相川"},2,"受注No．",{"$f":"IF(下越２!BV46=0,\"\",下越２!BV46)","v":30110},{"$f":"IF(下越２!BY46=0,\"\",下越２!BY46)","v":""},1,{"$f":"IF(下越２!BZ46=0,\"\",下越２!BZ46)","v":""}]
["②明細コード","下越地区２","日報",41,{"$f":"下越２!BU47","v":"金井"},2,"受注No．",{"$f":"IF(下越２!BV47=0,\"\",下越２!BV47)","v":30121},{"$f":"IF(下越２!BY47=0,\"\",下越２!BY47)","v":""},1,{"$f":"IF(下越２!BZ47=0,\"\",下越２!BZ47)","v":""}]
["②明細コード","下越地区２","日報",42,{"$f":"下越２!BU48","v":"羽茂"},2,"受注No．",{"$f":"IF(下越２!BV48=0,\"\",下越２!BV48)","v":30122},{"$f":"IF(下越２!BY48=0,\"\",下越２!BY48)","v":""},1,{"$f":"IF(下越２!BZ48=0,\"\",下越２!BZ48)","v":""}]
["②明細コード","下越地区２","日報",43,{"$f":"下越２!BU49","v":"小木"},2,"受注No．",{"$f":"IF(下越２!BV49=0,\"\",下越２!BV49)","v":30124},{"$f":"IF(下越２!BY49=0,\"\",下越２!BY49)","v":""},1,{"$f":"IF(下越２!BZ49=0,\"\",下越２!BZ49)","v":""}]
["②明細コード","下越地区２","日報",44,{"$f":"下越２!BU50","v":"赤泊"},2,"受注No．",{"$f":"IF(下越２!BV50=0,\"\",下越２!BV50)","v":30127},{"$f":"IF(下越２!BY50=0,\"\",下越２!BY50)","v":""},1,{"$f":"IF(下越２!BZ50=0,\"\",下越２!BZ50)","v":""}]
["②明細コード","下越地区２","日報",45,{"$f":"下越２!BU51","v":"多田"},2,"受注No．",{"$f":"IF(下越２!BV51=0,\"\",下越２!BV51)","v":30130},{"$f":"IF(下越２!BY51=0,\"\",下越２!BY51)","v":""},1,{"$f":"IF(下越２!BZ51=0,\"\",下越２!BZ51)","v":""}]
["②明細コード","下越地区２","中央紙",1,{"$f":"下越２!#REF!","v":{"$error":"#REF!"}},2,"受注No．",{"$f":"IF(下越２!#REF!=0,\"\",下越２!#REF!)","v":{"$error":"#REF!"}},{"$f":"IF(下越２!#REF!=0,\"\",下越２!#REF!)","v":{"$error":"#REF!"}},1,{"$f":"IF(下越２!#REF!=0,\"\",下越２!#REF!)","v":{"$error":"#REF!"}}]
["②明細コード","下越地区２","中央紙",{"$f":"D151+1","v":2},{"$f":"下越２!CE9","v":"新発田"},2,"受注No．",{"$f":"IF(下越２!CF9=0,\"\",下越２!CF9)","v":220152},{"$f":"IF(下越２!CG9=0,\"\",下越２!CG9)","v":""},1,{"$f":"IF(下越２!CH9=0,\"\",下越２!CH9)","v":""}]
["②明細コード","下越地区２","中央紙",3,{"$f":"下越２!CE10","v":0},2,"受注No．",{"$f":"IF(下越２!CF10=0,\"\",下越２!CF10)","v":""},{"$f":"IF(下越２!CG10=0,\"\",下越２!CG10)","v":""},1,{"$f":"IF(下越２!CH10=0,\"\",下越２!CH10)","v":""}]
["②明細コード","下越地区２","中央紙",4,{"$f":"下越２!CE11","v":0},2,"受注No．",{"$f":"IF(下越２!CF11=0,\"\",下越２!CF11)","v":""},{"$f":"IF(下越２!CG11=0,\"\",下越２!CG11)","v":""},1,{"$f":"IF(下越２!CH11=0,\"\",下越２!CH11)","v":""}]
["②明細コード","下越地区２","中央紙",5,{"$f":"下越２!CE12","v":0},2,"受注No．",{"$f":"IF(下越２!CF12=0,\"\",下越２!CF12)","v":""},{"$f":"IF(下越２!CG12=0,\"\",下越２!CG12)","v":""},1,{"$f":"IF(下越２!CH12=0,\"\",下越２!CH12)","v":""}]
["②明細コード","下越地区２","中央紙",6,{"$f":"下越２!CE13","v":0},2,"受注No．",{"$f":"IF(下越２!CF13=0,\"\",下越２!CF13)","v":""},{"$f":"IF(下越２!CG13=0,\"\",下越２!CG13)","v":""},1,{"$f":"IF(下越２!CH13=0,\"\",下越２!CH13)","v":""}]
["②明細コード","下越地区２","中央紙",7,{"$f":"下越２!CE14","v":"中条"},2,"受注No．",{"$f":"IF(下越２!CF14=0,\"\",下越２!CF14)","v":220156},{"$f":"IF(下越２!CG14=0,\"\",下越２!CG14)","v":""},1,{"$f":"IF(下越２!CH14=0,\"\",下越２!CH14)","v":""}]
["②明細コード","下越地区２","中央紙",8,{"$f":"下越２!CE18","v":0},2,"受注No．",{"$f":"IF(下越２!CF18=0,\"\",下越２!CF18)","v":""},{"$f":"IF(下越２!CG18=0,\"\",下越２!CG18)","v":""},1,{"$f":"IF(下越２!CH18=0,\"\",下越２!CH18)","v":""}]
["②明細コード","下越地区２","中央紙",9,{"$f":"下越２!CE19","v":0},2,"受注No．",{"$f":"IF(下越２!CF19=0,\"\",下越２!CF19)","v":""},{"$f":"IF(下越２!CG19=0,\"\",下越２!CG19)","v":""},1,{"$f":"IF(下越２!CH19=0,\"\",下越２!CH19)","v":""}]
["②明細コード","下越地区２","中央紙",10,{"$f":"下越２!CE21","v":0},2,"受注No．",{"$f":"IF(下越２!CF21=0,\"\",下越２!CF21)","v":""},{"$f":"IF(下越２!CG21=0,\"\",下越２!CG21)","v":""},1,{"$f":"IF(下越２!CH21=0,\"\",下越２!CH21)","v":""}]
["②明細コード","下越地区２","中央紙",11,{"$f":"下越２!CE23","v":0},2,"受注No．",{"$f":"IF(下越２!CF23=0,\"\",下越２!CF23)","v":""},{"$f":"IF(下越２!CG23=0,\"\",下越２!CG23)","v":""},1,{"$f":"IF(下越２!CH23=0,\"\",下越２!CH23)","v":""}]
["②明細コード","下越地区２","中央紙",12,{"$f":"下越２!CE15","v":"水原"},2,"受注No．",{"$f":"IF(下越２!CF15=0,\"\",下越２!CF15)","v":220160},{"$f":"IF(下越２!CG15=0,\"\",下越２!CG15)","v":""},1,{"$f":"IF(下越２!CH15=0,\"\",下越２!CH15)","v":""}]
["②明細コード","下越地区２","中央紙",13,{"$f":"下越２!CE16","v":0},2,"受注No．",{"$f":"IF(下越２!CF16=0,\"\",下越２!CF16)","v":""},{"$f":"IF(下越２!CG16=0,\"\",下越２!CG16)","v":""},1,{"$f":"IF(下越２!CH16=0,\"\",下越２!CH16)","v":""}]
["②明細コード","下越地区２","中央紙",14,{"$f":"下越２!CE17","v":0},2,"受注No．",{"$f":"IF(下越２!CF17=0,\"\",下越２!CF17)","v":""},{"$f":"IF(下越２!CG17=0,\"\",下越２!CG17)","v":""},1,{"$f":"IF(下越２!CH17=0,\"\",下越２!CH17)","v":""}]
["②明細コード","下越地区２","中央紙",15,{"$f":"下越２!CE20","v":0},2,"受注No．",{"$f":"IF(下越２!CF20=0,\"\",下越２!CF20)","v":""},{"$f":"IF(下越２!CG20=0,\"\",下越２!CG20)","v":""},1,{"$f":"IF(下越２!CH20=0,\"\",下越２!CH20)","v":""}]
["②明細コード","下越地区２","中央紙",16,{"$f":"下越２!#REF!","v":{"$error":"#REF!"}},2,"受注No．",{"$f":"IF(下越２!#REF!=0,\"\",下越２!#REF!)","v":{"$error":"#REF!"}},{"$f":"IF(下越２!#REF!=0,\"\",下越２!#REF!)","v":{"$error":"#REF!"}},1,{"$f":"IF(下越２!#REF!=0,\"\",下越２!#REF!)","v":{"$error":"#REF!"}}]
["②明細コード","下越地区２","中央紙",{"$f":"D166+1","v":17},{"$f":"下越２!CE22","v":0},2,"受注No．",{"$f":"IF(下越２!CF22=0,\"\",下越２!CF22)","v":""},{"$f":"IF(下越２!CG22=0,\"\",下越２!CG22)","v":""},1,{"$f":"IF(下越２!CH22=0,\"\",下越２!CH22)","v":""}]
["②明細コード","下越地区２","中央紙",18,{"$f":"下越２!#REF!","v":{"$error":"#REF!"}},2,"受注No．",{"$f":"IF(下越２!#REF!=0,\"\",下越２!#REF!)","v":{"$error":"#REF!"}},{"$f":"IF(下越２!#REF!=0,\"\",下越２!#REF!)","v":{"$error":"#REF!"}},1,{"$f":"IF(下越２!#REF!=0,\"\",下越２!#REF!)","v":{"$error":"#REF!"}}]
["②明細コード","中越地区","日報",1,{"$f":"中越1!#REF!","v":{"$error":"#REF!"}},2,"受注No．",{"$f":"IF(中越1!#REF!=0,\"\",中越1!#REF!)","v":{"$error":"#REF!"}},{"$f":"IF(中越1!#REF!=0,\"\",中越1!#REF!)","v":{"$error":"#REF!"}},1,{"$f":"IF(中越1!#REF!=0,\"\",中越1!#REF!)","v":{"$error":"#REF!"}}]
["②明細コード","中越地区","日報",{"$f":"D169+1","v":2},{"$f":"中越1!BZ9","v":"長岡中央"},2,"受注No．",{"$f":"IF(中越1!CA9=0,\"\",中越1!CA9)","v":40102},{"$f":"IF(中越1!CD9=0,\"\",中越1!CD9)","v":""},1,{"$f":"IF(中越1!CE9=0,\"\",中越1!CE9)","v":""}]
["②明細コード","中越地区","日報",3,{"$f":"中越1!BZ10","v":"長岡南"},2,"受注No．",{"$f":"IF(中越1!CA10=0,\"\",中越1!CA10)","v":40300},{"$f":"IF(中越1!CD10=0,\"\",中越1!CD10)","v":""},1,{"$f":"IF(中越1!CE10=0,\"\",中越1!CE10)","v":""}]
["②明細コード","中越地区","日報",4,{"$f":"中越1!BZ11","v":"長岡東"},2,"受注No．",{"$f":"IF(中越1!CA11=0,\"\",中越1!CA11)","v":40104},{"$f":"IF(中越1!CD11=0,\"\",中越1!CD11)","v":""},1,{"$f":"IF(中越1!CE11=0,\"\",中越1!CE11)","v":""}]
["②明細コード","中越地区","日報",5,{"$f":"中越1!BZ12","v":"長岡新保"},2,"受注No．",{"$f":"IF(中越1!CA12=0,\"\",中越1!CA12)","v":40105},{"$f":"IF(中越1!CD12=0,\"\",中越1!CD12)","v":""},1,{"$f":"IF(中越1!CE12=0,\"\",中越1!CE12)","v":""}]
["②明細コード","中越地区","日報",6,{"$f":"中越1!BZ13","v":"長岡悠久"},2,"受注No．",{"$f":"IF(中越1!CA13=0,\"\",中越1!CA13)","v":40106},{"$f":"IF(中越1!CD13=0,\"\",中越1!CD13)","v":""},1,{"$f":"IF(中越1!CE13=0,\"\",中越1!CE13)","v":""}]
["②明細コード","中越地区","日報",7,{"$f":"中越1!BZ14","v":"西長岡"},2,"受注No．",{"$f":"IF(中越1!CA14=0,\"\",中越1!CA14)","v":40111},{"$f":"IF(中越1!CD14=0,\"\",中越1!CD14)","v":""},1,{"$f":"IF(中越1!CE14=0,\"\",中越1!CE14)","v":""}]
["②明細コード","中越地区","日報",8,{"$f":"中越1!BZ15","v":"関原"},2,"受注No．",{"$f":"IF(中越1!CA15=0,\"\",中越1!CA15)","v":40113},{"$f":"IF(中越1!CD15=0,\"\",中越1!CD15)","v":""},1,{"$f":"IF(中越1!CE15=0,\"\",中越1!CE15)","v":""}]
["②明細コード","中越地区","日報",9,{"$f":"中越1!BZ16","v":"王寺川"},2,"受注No．",{"$f":"IF(中越1!CA16=0,\"\",中越1!CA16)","v":40114},{"$f":"IF(中越1!CD16=0,\"\",中越1!CD16)","v":""},1,{"$f":"IF(中越1!CE16=0,\"\",中越1!CE16)","v":""}]
["②明細コード","中越地区","日報",10,{"$f":"中越1!BZ17","v":"長岡江陽"},2,"受注No．",{"$f":"IF(中越1!CA17=0,\"\",中越1!CA17)","v":40115},{"$f":"IF(中越1!CD17=0,\"\",中越1!CD17)","v":""},1,{"$f":"IF(中越1!CE17=0,\"\",中越1!CE17)","v":""}]
["②明細コード","中越地区","日報",11,{"$f":"中越1!BZ18","v":"黒条"},2,"受注No．",{"$f":"IF(中越1!CA18=0,\"\",中越1!CA18)","v":40116},{"$f":"IF(中越1!CD18=0,\"\",中越1!CD18)","v":""},1,{"$f":"IF(中越1!CE18=0,\"\",中越1!CE18)","v":""}]
["②明細コード","中越地区","日報",12,{"$f":"中越1!BZ19","v":"新組"},2,"受注No．",{"$f":"IF(中越1!CA19=0,\"\",中越1!CA19)","v":40117},{"$f":"IF(中越1!CD19=0,\"\",中越1!CD19)","v":""},1,{"$f":"IF(中越1!CE19=0,\"\",中越1!CE19)","v":""}]
["②明細コード","中越地区","日報",13,{"$f":"中越1!BZ20","v":"長岡宮内"},2,"受注No．",{"$f":"IF(中越1!CA20=0,\"\",中越1!CA20)","v":40121},{"$f":"IF(中越1!CD20=0,\"\",中越1!CD20)","v":""},1,{"$f":"IF(中越1!CE20=0,\"\",中越1!CE20)","v":""}]
["②明細コード","中越地区","日報",14,{"$f":"中越1!BZ21","v":"濁沢"},2,"受注No．",{"$f":"IF(中越1!CA21=0,\"\",中越1!CA21)","v":40124},{"$f":"IF(中越1!CD21=0,\"\",中越1!CD21)","v":""},1,{"$f":"IF(中越1!CE21=0,\"\",中越1!CE21)","v":""}]
["②明細コード","中越地区","日報",15,{"$f":"中越1!BZ22","v":"岡南"},2,"受注No．",{"$f":"IF(中越1!CA22=0,\"\",中越1!CA22)","v":40125},{"$f":"IF(中越1!CD22=0,\"\",中越1!CD22)","v":""},1,{"$f":"IF(中越1!CE22=0,\"\",中越1!CE22)","v":""}]
["②明細コード","中越地区","日報",16,{"$f":"中越1!BZ23","v":"六日市"},2,"受注No．",{"$f":"IF(中越1!CA23=0,\"\",中越1!CA23)","v":40126},{"$f":"IF(中越1!CD23=0,\"\",中越1!CD23)","v":""},1,{"$f":"IF(中越1!CE23=0,\"\",中越1!CE23)","v":""}]
["②明細コード","中越地区","日報",17,{"$f":"中越1!BZ24","v":0},2,"受注No．",{"$f":"IF(中越1!CA24=0,\"\",中越1!CA24)","v":""},{"$f":"IF(中越1!CD24=0,\"\",中越1!CD24)","v":""},1,{"$f":"IF(中越1!CE24=0,\"\",中越1!CE24)","v":""}]
["②明細コード","中越地区","日報",18,{"$f":"中越1!BZ25","v":"栃尾"},2,"受注No．",{"$f":"IF(中越1!CA25=0,\"\",中越1!CA25)","v":40127},{"$f":"IF(中越1!CD25=0,\"\",中越1!CD25)","v":""},1,{"$f":"IF(中越1!CE25=0,\"\",中越1!CE25)","v":""}]
["②明細コード","中越地区","日報",19,{"$f":"中越1!BZ26","v":0},2,"受注No．",{"$f":"IF(中越1!CA26=0,\"\",中越1!CA26)","v":""},{"$f":"IF(中越1!CD26=0,\"\",中越1!CD26)","v":""},1,{"$f":"IF(中越1!CE26=0,\"\",中越1!CE26)","v":""}]
["②明細コード","中越地区","日報",20,{"$f":"中越1!BZ27","v":"見附南"},2,"受注No．",{"$f":"IF(中越1!CA27=0,\"\",中越1!CA27)","v":40130},{"$f":"IF(中越1!CD27=0,\"\",中越1!CD27)","v":""},1,{"$f":"IF(中越1!CE27=0,\"\",中越1!CE27)","v":""}]
["②明細コード","中越地区","日報",21,{"$f":"中越1!BZ28","v":"見附北"},2,"受注No．",{"$f":"IF(中越1!CA28=0,\"\",中越1!CA28)","v":40131},{"$f":"IF(中越1!CD28=0,\"\",中越1!CD28)","v":""},1,{"$f":"IF(中越1!CE28=0,\"\",中越1!CE28)","v":""}]
["②明細コード","中越地区","日報",22,{"$f":"中越1!BZ29","v":"今町"},2,"受注No．",{"$f":"IF(中越1!CA29=0,\"\",中越1!CA29)","v":40135},{"$f":"IF(中越1!CD29=0,\"\",中越1!CD29)","v":""},1,{"$f":"IF(中越1!CE29=0,\"\",中越1!CE29)","v":""}]
["②明細コード","中越地区","日報",23,{"$f":"中越1!BZ30","v":0},2,"受注No．",{"$f":"IF(中越1!CA30=0,\"\",中越1!CA30)","v":""},{"$f":"IF(中越1!CD30=0,\"\",中越1!CD30)","v":""},1,{"$f":"IF(中越1!CE30=0,\"\",中越1!CE30)","v":""}]
["②明細コード","中越地区","日報",24,{"$f":"中越1!BZ31","v":"越路"},2,"受注No．",{"$f":"IF(中越1!CA31=0,\"\",中越1!CA31)","v":40139},{"$f":"IF(中越1!CD31=0,\"\",中越1!CD31)","v":""},1,{"$f":"IF(中越1!CE31=0,\"\",中越1!CE31)","v":""}]
["②明細コード","中越地区","日報",25,{"$f":"中越1!BZ32","v":"塚山"},2,"受注No．",{"$f":"IF(中越1!CA32=0,\"\",中越1!CA32)","v":40141},{"$f":"IF(中越1!CD32=0,\"\",中越1!CD32)","v":""},1,{"$f":"IF(中越1!CE32=0,\"\",中越1!CE32)","v":""}]
["②明細コード","中越地区","日報",26,{"$f":"中越1!#REF!","v":{"$error":"#REF!"}},2,"受注No．",{"$f":"IF(中越1!#REF!=0,\"\",中越1!#REF!)","v":{"$error":"#REF!"}},{"$f":"IF(中越1!#REF!=0,\"\",中越1!#REF!)","v":{"$error":"#REF!"}},1,{"$f":"IF(中越1!#REF!=0,\"\",中越1!#REF!)","v":{"$error":"#REF!"}}]
["②明細コード","中越地区","日報",27,{"$f":"中越1!#REF!","v":{"$error":"#REF!"}},2,"受注No．",{"$f":"IF(中越1!#REF!=0,\"\",中越1!#REF!)","v":{"$error":"#REF!"}},{"$f":"IF(中越1!#REF!=0,\"\",中越1!#REF!)","v":{"$error":"#REF!"}},1,{"$f":"IF(中越1!#REF!=0,\"\",中越1!#REF!)","v":{"$error":"#REF!"}}]
["②明細コード","中越地区","日報",28,{"$f":"中越1!BZ33","v":"与板"},2,"受注No．",{"$f":"IF(中越1!CA33=0,\"\",中越1!CA33)","v":40144},{"$f":"IF(中越1!CD33=0,\"\",中越1!CD33)","v":""},1,{"$f":"IF(中越1!CE33=0,\"\",中越1!CE33)","v":""}]
["②明細コード","中越地区","日報",29,{"$f":"中越1!BZ34","v":"大河津"},2,"受注No．",{"$f":"IF(中越1!CA34=0,\"\",中越1!CA34)","v":40145},{"$f":"IF(中越1!CD34=0,\"\",中越1!CD34)","v":""},1,{"$f":"IF(中越1!CE34=0,\"\",中越1!CE34)","v":""}]
["②明細コード","中越地区","日報",30,{"$f":"中越1!BZ35","v":"寺泊"},2,"受注No．",{"$f":"IF(中越1!CA35=0,\"\",中越1!CA35)","v":40146},{"$f":"IF(中越1!CD35=0,\"\",中越1!CD35)","v":""},1,{"$f":"IF(中越1!CE35=0,\"\",中越1!CE35)","v":""}]
["②明細コード","中越地区","日報",31,{"$f":"中越1!BZ36","v":"和島"},2,"受注No．",{"$f":"IF(中越1!CA36=0,\"\",中越1!CA36)","v":40147},{"$f":"IF(中越1!CD36=0,\"\",中越1!CD36)","v":""},1,{"$f":"IF(中越1!CE36=0,\"\",中越1!CE36)","v":""}]
["②明細コード","中越地区","日報",32,{"$f":"中越1!BZ37","v":"西越"},2,"受注No．",{"$f":"IF(中越1!CA37=0,\"\",中越1!CA37)","v":40148},{"$f":"IF(中越1!CD37=0,\"\",中越1!CD37)","v":""},1,{"$f":"IF(中越1!CE37=0,\"\",中越1!CE37)","v":""}]
["②明細コード","中越地区","日報",33,{"$f":"中越1!#REF!","v":{"$error":"#REF!"}},2,"受注No．",{"$f":"IF(中越1!#REF!=0,\"\",中越1!#REF!)","v":{"$error":"#REF!"}},{"$f":"IF(中越1!#REF!=0,\"\",中越1!#REF!)","v":{"$error":"#REF!"}},1,{"$f":"IF(中越1!#REF!=0,\"\",中越1!#REF!)","v":{"$error":"#REF!"}}]
["②明細コード","中越地区","中央紙",1,{"$f":"中越1!CK9","v":"長岡"},2,"受注No．",{"$f":"IF(中越1!CL9=0,\"\",中越1!CL9)","v":240109},{"$f":"IF(中越1!CM9=0,\"\",中越1!CM9)","v":""},1,{"$f":"IF(中越1!CN9=0,\"\",中越1!CN9)","v":""}]
["②明細コード","中越地区","中央紙",{"$f":"D202+1","v":2},{"$f":"中越1!CK10","v":"長岡南部"},2,"受注No．",{"$f":"IF(中越1!CL10=0,\"\",中越1!CL10)","v":240110},{"$f":"IF(中越1!CM10=0,\"\",中越1!CM10)","v":""},1,{"$f":"IF(中越1!CN10=0,\"\",中越1!CN10)","v":""}]
["②明細コード","中越地区","中央紙",3,{"$f":"中越1!CK11","v":"長岡西部"},2,"受注No．",{"$f":"IF(中越1!CL11=0,\"\",中越1!CL11)","v":240112},{"$f":"IF(中越1!CM11=0,\"\",中越1!CM11)","v":""},1,{"$f":"IF(中越1!CN11=0,\"\",中越1!CN11)","v":""}]
["②明細コード","中越地区","中央紙",4,{"$f":"中越1!#REF!","v":{"$error":"#REF!"}},2,"受注No．",{"$f":"IF(中越1!#REF!=0,\"\",中越1!#REF!)","v":{"$error":"#REF!"}},{"$f":"IF(中越1!#REF!=0,\"\",中越1!#REF!)","v":{"$error":"#REF!"}},1,{"$f":"IF(中越1!#REF!=0,\"\",中越1!#REF!)","v":{"$error":"#REF!"}}]
["②明細コード","中越地区","中央紙",5,{"$f":"中越1!CK12","v":"長岡宮内"},2,"受注No．",{"$f":"IF(中越1!CL12=0,\"\",中越1!CL12)","v":240123},{"$f":"IF(中越1!CM12=0,\"\",中越1!CM12)","v":""},1,{"$f":"IF(中越1!CN12=0,\"\",中越1!CN12)","v":""}]
["②明細コード","中越地区","中央紙",6,{"$f":"中越1!#REF!","v":{"$error":"#REF!"}},2,"受注No．",{"$f":"IF(中越1!#REF!=0,\"\",中越1!#REF!)","v":{"$error":"#REF!"}},{"$f":"IF(中越1!#REF!=0,\"\",中越1!#REF!)","v":{"$error":"#REF!"}},1,{"$f":"IF(中越1!#REF!=0,\"\",中越1!#REF!)","v":{"$error":"#REF!"}}]
["②明細コード","中越地区","中央紙",7,{"$f":"中越1!CK13","v":0},2,"受注No．",{"$f":"IF(中越1!CL13=0,\"\",中越1!CL13)","v":""},{"$f":"IF(中越1!CM13=0,\"\",中越1!CM13)","v":""},1,{"$f":"IF(中越1!CN13=0,\"\",中越1!CN13)","v":""}]
["②明細コード","中越地区","中央紙",8,{"$f":"中越1!CK14","v":0},2,"受注No．",{"$f":"IF(中越1!CL14=0,\"\",中越1!CL14)","v":""},{"$f":"IF(中越1!CM14=0,\"\",中越1!CM14)","v":""},1,{"$f":"IF(中越1!CN14=0,\"\",中越1!CN14)","v":""}]
["②明細コード","中越地区","中央紙",9,{"$f":"中越1!CK15","v":0},2,"受注No．",{"$f":"IF(中越1!CL15=0,\"\",中越1!CL15)","v":""},{"$f":"IF(中越1!CM15=0,\"\",中越1!CM15)","v":""},1,{"$f":"IF(中越1!CN15=0,\"\",中越1!CN15)","v":""}]
["②明細コード","中越地区","中央紙",10,{"$f":"中越1!CK16","v":0},2,"受注No．",{"$f":"IF(中越1!CL16=0,\"\",中越1!CL16)","v":""},{"$f":"IF(中越1!CM16=0,\"\",中越1!CM16)","v":""},1,{"$f":"IF(中越1!CN16=0,\"\",中越1!CN16)","v":""}]
["②明細コード","中越地区２","日報",1,{"$f":"中越２!BU9","v":"小千谷中央"},2,"受注No．",{"$f":"IF(中越２!BV9=0,\"\",中越２!BV9)","v":40151},{"$f":"IF(中越２!BY9=0,\"\",中越２!BY9)","v":""},1,{"$f":"IF(中越２!BZ9=0,\"\",中越２!BZ9)","v":""}]
["②明細コード","中越地区２","日報",2,{"$f":"中越２!BU10","v":"小千谷東"},2,"受注No．",{"$f":"IF(中越２!BV10=0,\"\",中越２!BV10)","v":40152},{"$f":"IF(中越２!BY10=0,\"\",中越２!BY10)","v":""},1,{"$f":"IF(中越２!BZ10=0,\"\",中越２!BZ10)","v":""}]
["②明細コード","中越地区２","日報",3,{"$f":"中越２!BU11","v":"片貝"},2,"受注No．",{"$f":"IF(中越２!BV11=0,\"\",中越２!BV11)","v":40154},{"$f":"IF(中越２!BY11=0,\"\",中越２!BY11)","v":""},1,{"$f":"IF(中越２!BZ11=0,\"\",中越２!BZ11)","v":""}]
["②明細コード","中越地区２","日報",4,{"$f":"中越２!BU12","v":"岩沢"},2,"受注No．",{"$f":"IF(中越２!BV12=0,\"\",中越２!BV12)","v":40155},{"$f":"IF(中越２!BY12=0,\"\",中越２!BY12)","v":""},1,{"$f":"IF(中越２!BZ12=0,\"\",中越２!BZ12)","v":""}]
["②明細コード","中越地区２","日報",5,{"$f":"中越２!BU13","v":0},2,"受注No．",{"$f":"IF(中越２!BV13=0,\"\",中越２!BV13)","v":""},{"$f":"IF(中越２!BY13=0,\"\",中越２!BY13)","v":""},1,{"$f":"IF(中越２!BZ13=0,\"\",中越２!BZ13)","v":""}]
["②明細コード","中越地区２","日報",6,{"$f":"中越２!BU14","v":"十日町西部"},2,"受注No．",{"$f":"IF(中越２!BV14=0,\"\",中越２!BV14)","v":40156},{"$f":"IF(中越２!BY14=0,\"\",中越２!BY14)","v":""},1,{"$f":"IF(中越２!BZ14=0,\"\",中越２!BZ14)","v":""}]
["②明細コード","中越地区２","日報",7,{"$f":"中越２!BU15","v":"十日町東部"},2,"受注No．",{"$f":"IF(中越２!BV15=0,\"\",中越２!BV15)","v":40157},{"$f":"IF(中越２!BY15=0,\"\",中越２!BY15)","v":""},1,{"$f":"IF(中越２!BZ15=0,\"\",中越２!BZ15)","v":""}]
["②明細コード","中越地区２","日報",8,{"$f":"中越２!BU16","v":"下条"},2,"受注No．",{"$f":"IF(中越２!BV16=0,\"\",中越２!BV16)","v":40162},{"$f":"IF(中越２!BY16=0,\"\",中越２!BY16)","v":""},1,{"$f":"IF(中越２!BZ16=0,\"\",中越２!BZ16)","v":""}]
["②明細コード","中越地区２","日報",9,{"$f":"中越２!BU17","v":"魚沼中条"},2,"受注No．",{"$f":"IF(中越２!BV17=0,\"\",中越２!BV17)","v":40163},{"$f":"IF(中越２!BY17=0,\"\",中越２!BY17)","v":""},1,{"$f":"IF(中越２!BZ17=0,\"\",中越２!BZ17)","v":""}]
["②明細コード","中越地区２","日報",10,{"$f":"中越２!BU18","v":"水沢"},2,"受注No．",{"$f":"IF(中越２!BV18=0,\"\",中越２!BV18)","v":40164},{"$f":"IF(中越２!BY18=0,\"\",中越２!BY18)","v":""},1,{"$f":"IF(中越２!BZ18=0,\"\",中越２!BZ18)","v":""}]
["②明細コード","中越地区２","日報",11,{"$f":"中越２!BU19","v":"伊達"},2,"受注No．",{"$f":"IF(中越２!BV19=0,\"\",中越２!BV19)","v":40165},{"$f":"IF(中越２!BY19=0,\"\",中越２!BY19)","v":""},1,{"$f":"IF(中越２!BZ19=0,\"\",中越２!BZ19)","v":""}]
["②明細コード","中越地区２","日報",12,{"$f":"中越２!BU20","v":0},2,"受注No．",{"$f":"IF(中越２!BV20=0,\"\",中越２!BV20)","v":""},{"$f":"IF(中越２!BY20=0,\"\",中越２!BY20)","v":""},1,{"$f":"IF(中越２!BZ20=0,\"\",中越２!BZ20)","v":""}]
["②明細コード","中越地区２","日報",13,{"$f":"中越２!BU21","v":"川口"},2,"受注No．",{"$f":"IF(中越２!BV21=0,\"\",中越２!BV21)","v":40166},{"$f":"IF(中越２!BY21=0,\"\",中越２!BY21)","v":""},1,{"$f":"IF(中越２!BZ21=0,\"\",中越２!BZ21)","v":""}]
["②明細コード","中越地区２","日報",14,{"$f":"中越２!BU22","v":"堀之内"},2,"受注No．",{"$f":"IF(中越２!BV22=0,\"\",中越２!BV22)","v":40167},{"$f":"IF(中越２!BY22=0,\"\",中越２!BY22)","v":""},1,{"$f":"IF(中越２!BZ22=0,\"\",中越２!BZ22)","v":""}]
["②明細コード","中越地区２","日報",15,{"$f":"中越２!BU23","v":"小出"},2,"受注No．",{"$f":"IF(中越２!BV23=0,\"\",中越２!BV23)","v":40168},{"$f":"IF(中越２!BY23=0,\"\",中越２!BY23)","v":""},1,{"$f":"IF(中越２!BZ23=0,\"\",中越２!BZ23)","v":""}]
["②明細コード","中越地区２","日報",16,{"$f":"中越２!BU24","v":"魚沼北"},2,"受注No．",{"$f":"IF(中越２!BV24=0,\"\",中越２!BV24)","v":40172},{"$f":"IF(中越２!BY24=0,\"\",中越２!BY24)","v":""},1,{"$f":"IF(中越２!BZ24=0,\"\",中越２!BZ24)","v":""}]
["②明細コード","中越地区２","日報",17,{"$f":"中越２!BU25","v":0},2,"受注No．",{"$f":"IF(中越２!BV25=0,\"\",中越２!BV25)","v":""},{"$f":"IF(中越２!BY25=0,\"\",中越２!BY25)","v":""},1,{"$f":"IF(中越２!BZ25=0,\"\",中越２!BZ25)","v":""}]
["②明細コード","中越地区２","日報",18,{"$f":"中越２!BU26","v":"浦佐"},2,"受注No．",{"$f":"IF(中越２!BV26=0,\"\",中越２!BV26)","v":40176},{"$f":"IF(中越２!BY26=0,\"\",中越２!BY26)","v":""},1,{"$f":"IF(中越２!BZ26=0,\"\",中越２!BZ26)","v":""}]
["②明細コード","中越地区２","日報",19,{"$f":"中越２!BU27","v":"大崎"},2,"受注No．",{"$f":"IF(中越２!BV27=0,\"\",中越２!BV27)","v":40178},{"$f":"IF(中越２!BY27=0,\"\",中越２!BY27)","v":""},1,{"$f":"IF(中越２!BZ27=0,\"\",中越２!BZ27)","v":""}]
["②明細コード","中越地区２","日報",20,{"$f":"中越２!BU28","v":"五日町"},2,"受注No．",{"$f":"IF(中越２!BV28=0,\"\",中越２!BV28)","v":40179},{"$f":"IF(中越２!BY28=0,\"\",中越２!BY28)","v":""},1,{"$f":"IF(中越２!BZ28=0,\"\",中越２!BZ28)","v":""}]
["②明細コード","中越地区２","日報",21,{"$f":"中越２!BU29","v":"城内"},2,"受注No．",{"$f":"IF(中越２!BV29=0,\"\",中越２!BV29)","v":40180},{"$f":"IF(中越２!BY29=0,\"\",中越２!BY29)","v":""},1,{"$f":"IF(中越２!BZ29=0,\"\",中越２!BZ29)","v":""}]
["②明細コード","中越地区２","日報",22,{"$f":"中越２!BU30","v":"六日町"},2,"受注No．",{"$f":"IF(中越２!BV30=0,\"\",中越２!BV30)","v":40181},{"$f":"IF(中越２!BY30=0,\"\",中越２!BY30)","v":""},1,{"$f":"IF(中越２!BZ30=0,\"\",中越２!BZ30)","v":""}]
["②明細コード","中越地区２","日報",{"$f":"D233+1","v":23},{"$f":"中越２!BU31","v":"塩沢"},2,"受注No．",{"$f":"IF(中越２!BV31=0,\"\",中越２!BV31)","v":40184},{"$f":"IF(中越２!BY31=0,\"\",中越２!BY31)","v":""},1,{"$f":"IF(中越２!BZ31=0,\"\",中越２!BZ31)","v":""}]
["②明細コード","中越地区２","日報",24,{"$f":"中越２!BU32","v":"上田"},2,"受注No．",{"$f":"IF(中越２!BV32=0,\"\",中越２!BV32)","v":40186},{"$f":"IF(中越２!BY32=0,\"\",中越２!BY32)","v":""},1,{"$f":"IF(中越２!BZ32=0,\"\",中越２!BZ32)","v":""}]
["②明細コード","中越地区２","日報",25,{"$f":"中越２!#REF!","v":{"$error":"#REF!"}},2,"受注No．",{"$f":"IF(中越２!#REF!=0,\"\",中越２!#REF!)","v":{"$error":"#REF!"}},{"$f":"IF(中越２!#REF!=0,\"\",中越２!#REF!)","v":{"$error":"#REF!"}},1,{"$f":"IF(中越２!#REF!=0,\"\",中越２!#REF!)","v":{"$error":"#REF!"}}]
["②明細コード","中越地区２","日報",26,{"$f":"中越２!BU33","v":"湯沢"},2,"受注No．",{"$f":"IF(中越２!BV33=0,\"\",中越２!BV33)","v":40189},{"$f":"IF(中越２!BY33=0,\"\",中越２!BY33)","v":""},1,{"$f":"IF(中越２!BZ33=0,\"\",中越２!BZ33)","v":""}]
["②明細コード","中越地区２","日報",27,{"$f":"中越２!BU34","v":0},2,"受注No．",{"$f":"IF(中越２!BV34=0,\"\",中越２!BV34)","v":""},{"$f":"IF(中越２!BY34=0,\"\",中越２!BY34)","v":""},1,{"$f":"IF(中越２!BZ34=0,\"\",中越２!BZ34)","v":""}]
["②明細コード","中越地区２","日報",28,{"$f":"中越２!BU35","v":"十日町川西"},2,"受注No．",{"$f":"IF(中越２!BV35=0,\"\",中越２!BV35)","v":40192},{"$f":"IF(中越２!BY35=0,\"\",中越２!BY35)","v":""},1,{"$f":"IF(中越２!BZ35=0,\"\",中越２!BZ35)","v":""}]
["②明細コード","中越地区２","日報",29,{"$f":"中越２!BU36","v":"仙田"},2,"受注No．",{"$f":"IF(中越２!BV36=0,\"\",中越２!BV36)","v":40193},{"$f":"IF(中越２!BY36=0,\"\",中越２!BY36)","v":""},1,{"$f":"IF(中越２!BZ36=0,\"\",中越２!BZ36)","v":""}]
["②明細コード","中越地区２","日報",30,{"$f":"中越２!BU37","v":"田沢"},2,"受注No．",{"$f":"IF(中越２!BV37=0,\"\",中越２!BV37)","v":40194},{"$f":"IF(中越２!BY37=0,\"\",中越２!BY37)","v":""},1,{"$f":"IF(中越２!BZ37=0,\"\",中越２!BZ37)","v":""}]
["②明細コード","中越地区２","日報",31,{"$f":"中越２!#REF!","v":{"$error":"#REF!"}},2,"受注No．",{"$f":"IF(中越２!#REF!=0,\"\",中越２!#REF!)","v":{"$error":"#REF!"}},{"$f":"IF(中越２!#REF!=0,\"\",中越２!#REF!)","v":{"$error":"#REF!"}},1,{"$f":"IF(中越２!#REF!=0,\"\",中越２!#REF!)","v":{"$error":"#REF!"}}]
["②明細コード","中越地区２","日報",32,{"$f":"中越２!BU38","v":"津南"},2,"受注No．",{"$f":"IF(中越２!BV38=0,\"\",中越２!BV38)","v":340197},{"$f":"IF(中越２!BY38=0,\"\",中越２!BY38)","v":""},1,{"$f":"IF(中越２!BZ38=0,\"\",中越２!BZ38)","v":""}]
["②明細コード","中越地区２","日報",33,{"$f":"中越２!BU39","v":"上郷"},2,"受注No．",{"$f":"IF(中越２!BV39=0,\"\",中越２!BV39)","v":40199},{"$f":"IF(中越２!BY39=0,\"\",中越２!BY39)","v":""},1,{"$f":"IF(中越２!BZ39=0,\"\",中越２!BZ39)","v":""}]
["②明細コード","中越地区２","日報",34,{"$f":"中越２!BU40","v":"森宮野原"},2,"受注No．",{"$f":"IF(中越２!BV40=0,\"\",中越２!BV40)","v":40200},{"$f":"IF(中越２!BY40=0,\"\",中越２!BY40)","v":""},1,{"$f":"IF(中越２!BZ40=0,\"\",中越２!BZ40)","v":""}]
["②明細コード","中越地区２","中央紙",1,{"$f":"中越２!CE9","v":"小千谷"},2,"受注No．",{"$f":"IF(中越２!CF9=0,\"\",中越２!CF9)","v":240153},{"$f":"IF(中越２!CG9=0,\"\",中越２!CG9)","v":""},1,{"$f":"IF(中越２!CH9=0,\"\",中越２!CH9)","v":""}]
["②明細コード","中越地区２","中央紙",{"$f":"D246+1","v":2},{"$f":"中越２!CE10","v":0},2,"受注No．",{"$f":"IF(中越２!CF10=0,\"\",中越２!CF10)","v":""},{"$f":"IF(中越２!CG10=0,\"\",中越２!CG10)","v":""},1,{"$f":"IF(中越２!CH10=0,\"\",中越２!CH10)","v":""}]
["②明細コード","中越地区２","中央紙",3,{"$f":"中越２!CE11","v":0},2,"受注No．",{"$f":"IF(中越２!CF11=0,\"\",中越２!CF11)","v":""},{"$f":"IF(中越２!CG11=0,\"\",中越２!CG11)","v":""},1,{"$f":"IF(中越２!CH11=0,\"\",中越２!CH11)","v":""}]
["②明細コード","中越地区２","中央紙",4,{"$f":"中越２!#REF!","v":{"$error":"#REF!"}},2,"受注No．",{"$f":"IF(中越２!#REF!=0,\"\",中越２!#REF!)","v":{"$error":"#REF!"}},{"$f":"IF(中越２!#REF!=0,\"\",中越２!#REF!)","v":{"$error":"#REF!"}},1,{"$f":"IF(中越２!#REF!=0,\"\",中越２!#REF!)","v":{"$error":"#REF!"}}]
["②明細コード","中越地区２","中央紙",5,{"$f":"中越２!CE12","v":0},2,"受注No．",{"$f":"IF(中越２!CF12=0,\"\",中越２!CF12)","v":""},{"$f":"IF(中越２!CG12=0,\"\",中越２!CG12)","v":""},1,{"$f":"IF(中越２!CH12=0,\"\",中越２!CH12)","v":""}]
["②明細コード","中越地区２","中央紙",6,{"$f":"中越２!CE13","v":0},2,"受注No．",{"$f":"IF(中越２!CF13=0,\"\",中越２!CF13)","v":""},{"$f":"IF(中越２!CG13=0,\"\",中越２!CG13)","v":""},1,{"$f":"IF(中越２!CH13=0,\"\",中越２!CH13)","v":""}]
["②明細コード","中越地区２","中央紙",7,{"$f":"中越２!CE14","v":"十日町"},2,"受注No．",{"$f":"IF(中越２!CF14=0,\"\",中越２!CF14)","v":240159},{"$f":"IF(中越２!CG14=0,\"\",中越２!CG14)","v":""},1,{"$f":"IF(中越２!CH14=0,\"\",中越２!CH14)","v":""}]
["②明細コード","上越","日報",1,{"$f":"上越1!BU9","v":"柏崎中央"},2,"受注No．",{"$f":"IF(上越1!BV9=0,\"\",上越1!BV9)","v":40229},{"$f":"IF(上越1!BY9=0,\"\",上越1!BY9)","v":""},1,{"$f":"IF(上越1!BZ9=0,\"\",上越1!BZ9)","v":""}]
["②明細コード","上越","日報",{"$f":"D253+1","v":2},{"$f":"上越1!BU10","v":"柏崎"},2,"受注No．",{"$f":"IF(上越1!BV10=0,\"\",上越1!BV10)","v":40202},{"$f":"IF(上越1!BY10=0,\"\",上越1!BY10)","v":""},1,{"$f":"IF(上越1!BZ10=0,\"\",上越1!BZ10)","v":""}]
["②明細コード","上越","日報",3,{"$f":"上越1!BU11","v":"柏崎南"},2,"受注No．",{"$f":"IF(上越1!BV11=0,\"\",上越1!BV11)","v":40203},{"$f":"IF(上越1!BY11=0,\"\",上越1!BY11)","v":""},1,{"$f":"IF(上越1!BZ11=0,\"\",上越1!BZ11)","v":""}]
["②明細コード","上越","日報",4,{"$f":"上越1!BU12","v":0},2,"受注No．",{"$f":"IF(上越1!BV12=0,\"\",上越1!BV12)","v":""},{"$f":"IF(上越1!BY12=0,\"\",上越1!BY12)","v":""},1,{"$f":"IF(上越1!BZ12=0,\"\",上越1!BZ12)","v":""}]
["②明細コード","上越","日報",5,{"$f":"上越1!#REF!","v":{"$error":"#REF!"}},2,"受注No．",{"$f":"IF(上越1!#REF!=0,\"\",上越1!#REF!)","v":{"$error":"#REF!"}},{"$f":"IF(上越1!#REF!=0,\"\",上越1!#REF!)","v":{"$error":"#REF!"}},1,{"$f":"IF(上越1!#REF!=0,\"\",上越1!#REF!)","v":{"$error":"#REF!"}}]
["②明細コード","上越","日報",6,{"$f":"上越1!BU13","v":"安田"},2,"受注No．",{"$f":"IF(上越1!BV13=0,\"\",上越1!BV13)","v":40211},{"$f":"IF(上越1!BY13=0,\"\",上越1!BY13)","v":""},1,{"$f":"IF(上越1!BZ13=0,\"\",上越1!BZ13)","v":""}]
["②明細コード","上越","日報",7,{"$f":"上越1!BU14","v":"北条"},2,"受注No．",{"$f":"IF(上越1!BV14=0,\"\",上越1!BV14)","v":40212},{"$f":"IF(上越1!BY14=0,\"\",上越1!BY14)","v":""},1,{"$f":"IF(上越1!BZ14=0,\"\",上越1!BZ14)","v":""}]
["②明細コード","上越","日報",8,{"$f":"上越1!BU15","v":"広田"},2,"受注No．",{"$f":"IF(上越1!BV15=0,\"\",上越1!BV15)","v":40213},{"$f":"IF(上越1!BY15=0,\"\",上越1!BY15)","v":""},1,{"$f":"IF(上越1!BZ15=0,\"\",上越1!BZ15)","v":""}]
["②明細コード","上越","日報",9,{"$f":"上越1!BU16","v":"米山"},2,"受注No．",{"$f":"IF(上越1!BV16=0,\"\",上越1!BV16)","v":40228},{"$f":"IF(上越1!BY16=0,\"\",上越1!BY16)","v":""},1,{"$f":"IF(上越1!BZ16=0,\"\",上越1!BZ16)","v":""}]
["②明細コード","上越","日報",10,{"$f":"上越1!BU17","v":"笠島"},2,"受注No．",{"$f":"IF(上越1!BV17=0,\"\",上越1!BV17)","v":40216},{"$f":"IF(上越1!BY17=0,\"\",上越1!BY17)","v":""},1,{"$f":"IF(上越1!BZ17=0,\"\",上越1!BZ17)","v":""}]
["②明細コード","上越","日報",11,{"$f":"上越1!BU18","v":0},2,"受注No．",{"$f":"IF(上越1!BV18=0,\"\",上越1!BV18)","v":""},{"$f":"IF(上越1!BY18=0,\"\",上越1!BY18)","v":""},1,{"$f":"IF(上越1!BZ18=0,\"\",上越1!BZ18)","v":""}]
["②明細コード","上越","日報",12,{"$f":"上越1!BU19","v":"高柳"},2,"受注No．",{"$f":"IF(上越1!BV19=0,\"\",上越1!BV19)","v":40217},{"$f":"IF(上越1!BY19=0,\"\",上越1!BY19)","v":""},1,{"$f":"IF(上越1!BZ19=0,\"\",上越1!BZ19)","v":""}]
["②明細コード","上越","日報",13,{"$f":"上越1!#REF!","v":{"$error":"#REF!"}},2,"受注No．",{"$f":"IF(上越1!#REF!=0,\"\",上越1!#REF!)","v":{"$error":"#REF!"}},{"$f":"IF(上越1!#REF!=0,\"\",上越1!#REF!)","v":{"$error":"#REF!"}},1,{"$f":"IF(上越1!#REF!=0,\"\",上越1!#REF!)","v":{"$error":"#REF!"}}]
["②明細コード","上越","日報",14,{"$f":"上越1!BU20","v":"上小国"},2,"受注No．",{"$f":"IF(上越1!BV20=0,\"\",上越1!BV20)","v":40219},{"$f":"IF(上越1!BY20=0,\"\",上越1!BY20)","v":""},1,{"$f":"IF(上越1!BZ20=0,\"\",上越1!BZ20)","v":""}]
["②明細コード","上越","日報",15,{"$f":"上越1!BU21","v":"荒浜"},2,"受注No．",{"$f":"IF(上越1!BV21=0,\"\",上越1!BV21)","v":40220},{"$f":"IF(上越1!BY21=0,\"\",上越1!BY21)","v":""},1,{"$f":"IF(上越1!BZ21=0,\"\",上越1!BZ21)","v":""}]
["②明細コード","上越","日報",16,{"$f":"上越1!BU22","v":"西山"},2,"受注No．",{"$f":"IF(上越1!BV22=0,\"\",上越1!BV22)","v":40221},{"$f":"IF(上越1!BY22=0,\"\",上越1!BY22)","v":""},1,{"$f":"IF(上越1!BZ22=0,\"\",上越1!BZ22)","v":""}]
["②明細コード","上越","日報",17,{"$f":"上越1!#REF!","v":{"$error":"#REF!"}},2,"受注No．",{"$f":"IF(上越1!#REF!=0,\"\",上越1!#REF!)","v":{"$error":"#REF!"}},{"$f":"IF(上越1!#REF!=0,\"\",上越1!#REF!)","v":{"$error":"#REF!"}},1,{"$f":"IF(上越1!#REF!=0,\"\",上越1!#REF!)","v":{"$error":"#REF!"}}]
["②明細コード","上越","日報",18,{"$f":"上越1!BU23","v":0},2,"受注No．",{"$f":"IF(上越1!BV23=0,\"\",上越1!BV23)","v":""},{"$f":"IF(上越1!BY23=0,\"\",上越1!BY23)","v":""},1,{"$f":"IF(上越1!BZ23=0,\"\",上越1!BZ23)","v":""}]
["②明細コード","上越","日報",19,{"$f":"上越1!BU24","v":"高田"},2,"受注No．",{"$f":"IF(上越1!BV24=0,\"\",上越1!BV24)","v":50101},{"$f":"IF(上越1!BY24=0,\"\",上越1!BY24)","v":""},1,{"$f":"IF(上越1!BZ24=0,\"\",上越1!BZ24)","v":""}]
["②明細コード","上越","日報",20,{"$f":"上越1!BU25","v":"高田南"},2,"受注No．",{"$f":"IF(上越1!BV25=0,\"\",上越1!BV25)","v":50102},{"$f":"IF(上越1!BY25=0,\"\",上越1!BY25)","v":""},1,{"$f":"IF(上越1!BZ25=0,\"\",上越1!BZ25)","v":""}]
["②明細コード","上越","日報",21,{"$f":"上越1!BU26","v":"木田"},2,"受注No．",{"$f":"IF(上越1!BV26=0,\"\",上越1!BV26)","v":50103},{"$f":"IF(上越1!BY26=0,\"\",上越1!BY26)","v":""},1,{"$f":"IF(上越1!BZ26=0,\"\",上越1!BZ26)","v":""}]
["②明細コード","上越","日報",22,{"$f":"上越1!BU27","v":"春日山"},2,"受注No．",{"$f":"IF(上越1!BV27=0,\"\",上越1!BV27)","v":50106},{"$f":"IF(上越1!BY27=0,\"\",上越1!BY27)","v":""},1,{"$f":"IF(上越1!BZ27=0,\"\",上越1!BZ27)","v":""}]
["②明細コード","上越","日報",23,{"$f":"上越1!BU28","v":"脇野田"},2,"受注No．",{"$f":"IF(上越1!BV28=0,\"\",上越1!BV28)","v":50108},{"$f":"IF(上越1!BY28=0,\"\",上越1!BY28)","v":""},1,{"$f":"IF(上越1!BZ28=0,\"\",上越1!BZ28)","v":""}]
["②明細コード","上越","日報",24,{"$f":"上越1!BU29","v":"上越東"},2,"受注No．",{"$f":"IF(上越1!BV29=0,\"\",上越1!BV29)","v":50109},{"$f":"IF(上越1!BY29=0,\"\",上越1!BY29)","v":""},1,{"$f":"IF(上越1!BZ29=0,\"\",上越1!BZ29)","v":""}]
["②明細コード","上越","日報",25,{"$f":"上越1!BU30","v":"上越三和"},2,"受注No．",{"$f":"IF(上越1!BV30=0,\"\",上越1!BV30)","v":50112},{"$f":"IF(上越1!BY30=0,\"\",上越1!BY30)","v":""},1,{"$f":"IF(上越1!BZ30=0,\"\",上越1!BZ30)","v":""}]
["②明細コード","上越","日報",26,{"$f":"上越1!BU31","v":"直江津"},2,"受注No．",{"$f":"IF(上越1!BV31=0,\"\",上越1!BV31)","v":50113},{"$f":"IF(上越1!BY31=0,\"\",上越1!BY31)","v":""},1,{"$f":"IF(上越1!BZ31=0,\"\",上越1!BZ31)","v":""}]
["②明細コード","上越","日報",27,{"$f":"上越1!BU32","v":"直江津東"},2,"受注No．",{"$f":"IF(上越1!BV32=0,\"\",上越1!BV32)","v":50114},{"$f":"IF(上越1!BY32=0,\"\",上越1!BY32)","v":""},1,{"$f":"IF(上越1!BZ32=0,\"\",上越1!BZ32)","v":""}]
["②明細コード","上越","日報",28,{"$f":"上越1!BU33","v":"黒井"},2,"受注No．",{"$f":"IF(上越1!BV33=0,\"\",上越1!BV33)","v":50117},{"$f":"IF(上越1!BY33=0,\"\",上越1!BY33)","v":""},1,{"$f":"IF(上越1!BZ33=0,\"\",上越1!BZ33)","v":""}]
["②明細コード","上越","日報",29,{"$f":"上越1!BU34","v":"名立谷浜"},2,"受注No．",{"$f":"IF(上越1!BV34=0,\"\",上越1!BV34)","v":50152},{"$f":"IF(上越1!BY34=0,\"\",上越1!BY34)","v":""},1,{"$f":"IF(上越1!BZ34=0,\"\",上越1!BZ34)","v":""}]
["②明細コード","上越","日報",30,{"$f":"上越1!BU35","v":0},2,"受注No．",{"$f":"IF(上越1!BV35=0,\"\",上越1!BV35)","v":""},{"$f":"IF(上越1!BY35=0,\"\",上越1!BY35)","v":""},1,{"$f":"IF(上越1!BZ35=0,\"\",上越1!BZ35)","v":""}]
["②明細コード","上越","日報",31,{"$f":"上越1!BU36","v":"新井"},2,"受注No．",{"$f":"IF(上越1!BV36=0,\"\",上越1!BV36)","v":50119},{"$f":"IF(上越1!BY36=0,\"\",上越1!BY36)","v":""},1,{"$f":"IF(上越1!BZ36=0,\"\",上越1!BZ36)","v":""}]
["②明細コード","上越","日報",32,{"$f":"上越1!BU37","v":"新井学校町"},2,"受注No．",{"$f":"IF(上越1!BV37=0,\"\",上越1!BV37)","v":50120},{"$f":"IF(上越1!BY37=0,\"\",上越1!BY37)","v":""},1,{"$f":"IF(上越1!BZ37=0,\"\",上越1!BZ37)","v":""}]
["②明細コード","上越","日報",33,{"$f":"上越1!BU38","v":"新井南"},2,"受注No．",{"$f":"IF(上越1!BV38=0,\"\",上越1!BV38)","v":50121},{"$f":"IF(上越1!BY38=0,\"\",上越1!BY38)","v":""},1,{"$f":"IF(上越1!BZ38=0,\"\",上越1!BZ38)","v":""}]
["②明細コード","上越","日報",34,{"$f":"上越1!BU39","v":"関山"},2,"受注No．",{"$f":"IF(上越1!BV39=0,\"\",上越1!BV39)","v":50122},{"$f":"IF(上越1!BY39=0,\"\",上越1!BY39)","v":""},1,{"$f":"IF(上越1!BZ39=0,\"\",上越1!BZ39)","v":""}]
["②明細コード","上越","日報",35,{"$f":"上越1!BU40","v":"妙高"},2,"受注No．",{"$f":"IF(上越1!BV40=0,\"\",上越1!BV40)","v":50123},{"$f":"IF(上越1!BY40=0,\"\",上越1!BY40)","v":""},1,{"$f":"IF(上越1!BZ40=0,\"\",上越1!BZ40)","v":""}]
["②明細コード","上越","日報",36,{"$f":"上越1!BU41","v":"赤倉"},2,"受注No．",{"$f":"IF(上越1!BV41=0,\"\",上越1!BV41)","v":50124},{"$f":"IF(上越1!BY41=0,\"\",上越1!BY41)","v":""},1,{"$f":"IF(上越1!BZ41=0,\"\",上越1!BZ41)","v":""}]
["②明細コード","上越","中央紙",1,{"$f":"上越1!CE9","v":"柏崎西部"},2,"受注No．",{"$f":"IF(上越1!CF9=0,\"\",上越1!CF9)","v":240205},{"$f":"IF(上越1!CG9=0,\"\",上越1!CG9)","v":""},1,{"$f":"IF(上越1!CH9=0,\"\",上越1!CH9)","v":""}]
["②明細コード","上越","中央紙",{"$f":"D289+1","v":2},{"$f":"上越1!CE10","v":"柏崎東部"},2,"受注No．",{"$f":"IF(上越1!CF10=0,\"\",上越1!CF10)","v":240206},{"$f":"IF(上越1!CG10=0,\"\",上越1!CG10)","v":""},1,{"$f":"IF(上越1!CH10=0,\"\",上越1!CH10)","v":""}]
["②明細コード","上越","中央紙",3,{"$f":"上越1!CE11","v":0},2,"受注No．",{"$f":"IF(上越1!CF11=0,\"\",上越1!CF11)","v":""},{"$f":"IF(上越1!CG11=0,\"\",上越1!CG11)","v":""},1,{"$f":"IF(上越1!CH11=0,\"\",上越1!CH11)","v":""}]
["②明細コード","上越","中央紙",4,{"$f":"上越1!CE12","v":0},2,"受注No．",{"$f":"IF(上越1!CF12=0,\"\",上越1!CF12)","v":""},{"$f":"IF(上越1!CG12=0,\"\",上越1!CG12)","v":""},1,{"$f":"IF(上越1!CH12=0,\"\",上越1!CH12)","v":""}]
["②明細コード","上越","中央紙",5,{"$f":"上越1!#REF!","v":{"$error":"#REF!"}},2,"受注No．",{"$f":"IF(上越1!#REF!=0,\"\",上越1!#REF!)","v":{"$error":"#REF!"}},{"$f":"IF(上越1!#REF!=0,\"\",上越1!#REF!)","v":{"$error":"#REF!"}},1,{"$f":"IF(上越1!#REF!=0,\"\",上越1!#REF!)","v":{"$error":"#REF!"}}]
["②明細コード","上越","中央紙",6,{"$f":"上越1!CE13","v":0},2,"受注No．",{"$f":"IF(上越1!CF13=0,\"\",上越1!CF13)","v":""},{"$f":"IF(上越1!CG13=0,\"\",上越1!CG13)","v":""},1,{"$f":"IF(上越1!CH13=0,\"\",上越1!CH13)","v":""}]
["②明細コード","上越","中央紙",7,{"$f":"上越1!CE14","v":0},2,"受注No．",{"$f":"IF(上越1!CF14=0,\"\",上越1!CF14)","v":""},{"$f":"IF(上越1!CG14=0,\"\",上越1!CG14)","v":""},1,{"$f":"IF(上越1!CH14=0,\"\",上越1!CH14)","v":""}]
["②明細コード","上越","中央紙",8,{"$f":"上越1!CE15","v":0},2,"受注No．",{"$f":"IF(上越1!CF15=0,\"\",上越1!CF15)","v":""},{"$f":"IF(上越1!CG15=0,\"\",上越1!CG15)","v":""},1,{"$f":"IF(上越1!CH15=0,\"\",上越1!CH15)","v":""}]
["②明細コード","上越２","日報",1,{"$f":"上越２!BU9","v":"柿崎"},2,"受注No．",{"$f":"IF(上越２!BV9=0,\"\",上越２!BV9)","v":50125},{"$f":"IF(上越２!BY9=0,\"\",上越２!BY9)","v":""},1,{"$f":"IF(上越２!BZ9=0,\"\",上越２!BZ9)","v":""}]
["②明細コード","上越２","日報",{"$f":"D297+1","v":2},{"$f":"上越２!BU10","v":"吉川"},2,"受注No．",{"$f":"IF(上越２!BV10=0,\"\",上越２!BV10)","v":50126},{"$f":"IF(上越２!BY10=0,\"\",上越２!BY10)","v":""},1,{"$f":"IF(上越２!BZ10=0,\"\",上越２!BZ10)","v":""}]
["②明細コード","上越２","日報",3,{"$f":"上越２!BU11","v":"大潟"},2,"受注No．",{"$f":"IF(上越２!BV11=0,\"\",上越２!BV11)","v":50127},{"$f":"IF(上越２!BY11=0,\"\",上越２!BY11)","v":""},1,{"$f":"IF(上越２!BZ11=0,\"\",上越２!BZ11)","v":""}]
["②明細コード","上越２","日報",4,{"$f":"上越２!BU12","v":"犀潟"},2,"受注No．",{"$f":"IF(上越２!BV12=0,\"\",上越２!BV12)","v":50128},{"$f":"IF(上越２!BY12=0,\"\",上越２!BY12)","v":""},1,{"$f":"IF(上越２!BZ12=0,\"\",上越２!BZ12)","v":""}]
["②明細コード","上越２","日報",5,{"$f":"上越２!BU13","v":"百閒町"},2,"受注No．",{"$f":"IF(上越２!BV13=0,\"\",上越２!BV13)","v":50129},{"$f":"IF(上越２!BY13=0,\"\",上越２!BY13)","v":""},1,{"$f":"IF(上越２!BZ13=0,\"\",上越２!BZ13)","v":""}]
["②明細コード","上越２","日報",6,{"$f":"上越２!BU14","v":"明治"},2,"受注No．",{"$f":"IF(上越２!BV14=0,\"\",上越２!BV14)","v":50130},{"$f":"IF(上越２!BY14=0,\"\",上越２!BY14)","v":""},1,{"$f":"IF(上越２!BZ14=0,\"\",上越２!BZ14)","v":""}]
["②明細コード","上越２","日報",7,{"$f":"上越２!BU15","v":0},2,"受注No．",{"$f":"IF(上越２!BV15=0,\"\",上越２!BV15)","v":""},{"$f":"IF(上越２!BY15=0,\"\",上越２!BY15)","v":""},1,{"$f":"IF(上越２!BZ15=0,\"\",上越２!BZ15)","v":""}]
["②明細コード","上越２","日報",8,{"$f":"上越２!BU16","v":"浦川原"},2,"受注No．",{"$f":"IF(上越２!BV16=0,\"\",上越２!BV16)","v":50131},{"$f":"IF(上越２!BY16=0,\"\",上越２!BY16)","v":""},1,{"$f":"IF(上越２!BZ16=0,\"\",上越２!BZ16)","v":""}]
["②明細コード","上越２","日報",9,{"$f":"上越２!#REF!","v":{"$error":"#REF!"}},2,"受注No．",{"$f":"IF(上越２!#REF!=0,\"\",上越２!#REF!)","v":{"$error":"#REF!"}},{"$f":"IF(上越２!#REF!=0,\"\",上越２!#REF!)","v":{"$error":"#REF!"}},1,{"$f":"IF(上越２!#REF!=0,\"\",上越２!#REF!)","v":{"$error":"#REF!"}}]
["②明細コード","上越２","日報",10,{"$f":"上越２!BU17","v":"上越安塚"},2,"受注No．",{"$f":"IF(上越２!BV17=0,\"\",上越２!BV17)","v":50133},{"$f":"IF(上越２!BY17=0,\"\",上越２!BY17)","v":""},1,{"$f":"IF(上越２!BZ17=0,\"\",上越２!BZ17)","v":""}]
["②明細コード","上越２","日報",11,{"$f":"上越２!BU18","v":"大島"},2,"受注No．",{"$f":"IF(上越２!BV18=0,\"\",上越２!BV18)","v":50134},{"$f":"IF(上越２!BY18=0,\"\",上越２!BY18)","v":""},1,{"$f":"IF(上越２!BZ18=0,\"\",上越２!BZ18)","v":""}]
["②明細コード","上越２","日報",12,{"$f":"上越２!BU19","v":"松代"},2,"受注No．",{"$f":"IF(上越２!BV19=0,\"\",上越２!BV19)","v":50135},{"$f":"IF(上越２!BY19=0,\"\",上越２!BY19)","v":""},1,{"$f":"IF(上越２!BZ19=0,\"\",上越２!BZ19)","v":""}]
["②明細コード","上越２","日報",13,{"$f":"上越２!BU20","v":"松之山"},2,"受注No．",{"$f":"IF(上越２!BV20=0,\"\",上越２!BV20)","v":50136},{"$f":"IF(上越２!BY20=0,\"\",上越２!BY20)","v":""},1,{"$f":"IF(上越２!BZ20=0,\"\",上越２!BZ20)","v":""}]
["②明細コード","上越２","日報",14,{"$f":"上越２!BU21","v":0},2,"受注No．",{"$f":"IF(上越２!BV21=0,\"\",上越２!BV21)","v":""},{"$f":"IF(上越２!BY21=0,\"\",上越２!BY21)","v":""},1,{"$f":"IF(上越２!BZ21=0,\"\",上越２!BZ21)","v":""}]
["②明細コード","上越２","日報",15,{"$f":"上越２!BU22","v":"糸魚川"},2,"受注No．",{"$f":"IF(上越２!BV22=0,\"\",上越２!BV22)","v":50137},{"$f":"IF(上越２!BY22=0,\"\",上越２!BY22)","v":""},1,{"$f":"IF(上越２!BZ22=0,\"\",上越２!BZ22)","v":""}]
["②明細コード","上越２","日報",16,{"$f":"上越２!#REF!","v":{"$error":"#REF!"}},2,"受注No．",{"$f":"IF(上越２!#REF!=0,\"\",上越２!#REF!)","v":{"$error":"#REF!"}},{"$f":"IF(上越２!#REF!=0,\"\",上越２!#REF!)","v":{"$error":"#REF!"}},1,{"$f":"IF(上越２!#REF!=0,\"\",上越２!#REF!)","v":{"$error":"#REF!"}}]
["②明細コード","上越２","日報",17,{"$f":"上越２!BU23","v":"糸魚川東"},2,"受注No．",{"$f":"IF(上越２!BV23=0,\"\",上越２!BV23)","v":50142},{"$f":"IF(上越２!BY23=0,\"\",上越２!BY23)","v":""},1,{"$f":"IF(上越２!BZ23=0,\"\",上越２!BZ23)","v":""}]
["②明細コード","上越２","日報",18,{"$f":"上越２!BU24","v":"根知"},2,"受注No．",{"$f":"IF(上越２!BV24=0,\"\",上越２!BV24)","v":50144},{"$f":"IF(上越２!BY24=0,\"\",上越２!BY24)","v":""},1,{"$f":"IF(上越２!BZ24=0,\"\",上越２!BZ24)","v":""}]
["②明細コード","上越２","日報",19,{"$f":"上越２!BU25","v":0},2,"受注No．",{"$f":"IF(上越２!BV25=0,\"\",上越２!BV25)","v":""},{"$f":"IF(上越２!BY25=0,\"\",上越２!BY25)","v":""},1,{"$f":"IF(上越２!BZ25=0,\"\",上越２!BZ25)","v":""}]
["②明細コード","上越２","日報",20,{"$f":"上越２!BU26","v":"筒石"},2,"受注No．",{"$f":"IF(上越２!BV26=0,\"\",上越２!BV26)","v":50148},{"$f":"IF(上越２!BY26=0,\"\",上越２!BY26)","v":""},1,{"$f":"IF(上越２!BZ26=0,\"\",上越２!BZ26)","v":""}]
["②明細コード","上越２","日報",21,{"$f":"上越２!BU27","v":"能生"},2,"受注No．",{"$f":"IF(上越２!BV27=0,\"\",上越２!BV27)","v":50149},{"$f":"IF(上越２!BY27=0,\"\",上越２!BY27)","v":""},1,{"$f":"IF(上越２!BZ27=0,\"\",上越２!BZ27)","v":""}]
["②明細コード","上越２","日報",22,{"$f":"上越２!BU28","v":"青梅"},2,"受注No．",{"$f":"IF(上越２!BV28=0,\"\",上越２!BV28)","v":50150},{"$f":"IF(上越２!BY28=0,\"\",上越２!BY28)","v":""},1,{"$f":"IF(上越２!BZ28=0,\"\",上越２!BZ28)","v":""}]
["②明細コード","上越２","中央紙",1,{"$f":"上越２!CE9","v":0},2,"受注No．",{"$f":"IF(上越２!CF9=0,\"\",上越２!CF9)","v":""},{"$f":"IF(上越２!CG9=0,\"\",上越２!CG9)","v":""},1,{"$f":"IF(上越２!CH9=0,\"\",上越２!CH9)","v":""}]
["②明細コード","上越２","中央紙",{"$f":"D319+1","v":2},{"$f":"上越２!CE10","v":0},2,"受注No．",{"$f":"IF(上越２!CF10=0,\"\",上越２!CF10)","v":""},{"$f":"IF(上越２!CG10=0,\"\",上越２!CG10)","v":""},1,{"$f":"IF(上越２!CH10=0,\"\",上越２!CH10)","v":""}]
["②明細コード","上越２","中央紙",3,{"$f":"上越２!CE11","v":0},2,"受注No．",{"$f":"IF(上越２!CF11=0,\"\",上越２!CF11)","v":""},{"$f":"IF(上越２!CG11=0,\"\",上越２!CG11)","v":""},1,{"$f":"IF(上越２!CH11=0,\"\",上越２!CH11)","v":""}]
["③納品先レコード",null,null,null,null,3,"受注No．",1,{"$f":"SUM(I5:I321)","v":{"$error":"#REF!"}}]
["④トレーラレコード",null,null,null,null,4,1]

{"sheet":"ＥＤＩくるみる","index":13,"n_rows":251,"n_cols":22,"rows_kept":251,"cut":false,"hidden":true,"merged":[[1,5,1,21]]}
[1,{"$f":"A1+1","v":2},{"$f":"B1+1","v":3},4,5,6,7,8,9,10,11,12,13,14,15,16,17,18,19,20,21,22]
[null,null,null,null,null,"CSV出力範囲"]
[null,null,null,null,null,1,2,3,4,5,6,7,8,9,10,11,12,13,14,15,16,17]
["①ヘッダーレコード",null,null,null,null,1,0,"025669",0,0,"株式会社　新潟日報サービスネット","データ作成日付（YYYYMMDD）","受注No．",7,0,0,{"$f":"新潟市!M3","v":0},{"$f":"TEXT(新潟市!A3,\"yyyymmdd\")","v":"2023/--/--"},{"$f":"\"くるみる折込　\"&新潟市!AI3","v":"くるみる折込　"},{"$f":"新潟市!BU5","v":{"$error":"#N/A"}},{"$f":"SUM(I5:I241)","v":{"$error":"#REF!"}}]
["②明細コード","新潟市","日報",1,{"$f":"新潟市!BU9","v":"万代"},2,"受注No．",{"$f":"新潟市!BV9","v":10101},{"$f":"IF(新潟市!CA9=0,\"\",新潟市!CA9)","v":""},1]
["②明細コード","新潟市","日報",{"$f":"D5+1","v":2},{"$f":"新潟市!BU10","v":"駅南"},2,"受注No．",{"$f":"新潟市!BV10","v":10102},{"$f":"IF(新潟市!CA10=0,\"\",新潟市!CA10)","v":""},1]
["②明細コード","新潟市","日報",{"$f":"D6+1","v":3},{"$f":"新潟市!BU11","v":"木戸"},2,"受注No．",{"$f":"新潟市!BV11","v":10103},{"$f":"IF(新潟市!CA11=0,\"\",新潟市!CA11)","v":""},1]
["②明細コード","新潟市","日報",4,{"$f":"新潟市!BU12","v":"石山東"},2,"受注No．",{"$f":"新潟市!BV12","v":10105},{"$f":"IF(新潟市!CA12=0,\"\",新潟市!CA12)","v":""},1]
["②明細コード","新潟市","日報",5,{"$f":"新潟市!BU13","v":"山ノ下"},2,"受注No．",{"$f":"新潟市!BV13","v":10107},{"$f":"IF(新潟市!CA13=0,\"\",新潟市!CA13)","v":""},1]
["②明細コード","新潟市","日報",6,{"$f":"新潟市!BU14","v":"物見山"},2,"受注No．",{"$f":"新潟市!BV14","v":10108},{"$f":"IF(新潟市!CA14=0,\"\",新潟市!CA14)","v":""},1]
["②明細コード","新潟市","日報",7,{"$f":"新潟市!BU15","v":"とやの"},2,"受注No．",{"$f":"新潟市!BV15","v":10109},{"$f":"IF(新潟市!CA15=0,\"\",新潟市!CA15)","v":""},1]
["②明細コード","新潟市","日報",8,{"$f":"新潟市!BU16","v":"県庁前"},2,"受注No．",{"$f":"新潟市!BV16","v":10111},{"$f":"IF(新潟市!CA16=0,\"\",新潟市!CA16)","v":""},1]
["②明細コード","新潟市","日報",9,{"$f":"新潟市!#REF!","v":{"$error":"#REF!"}},2,"受注No．",{"$f":"新潟市!#REF!","v":{"$error":"#REF!"}},{"$f":"IF(新潟市!#REF!=0,\"\",新潟市!#REF!)","v":{"$error":"#REF!"}},1]
["②明細コード","新潟市","日報",10,{"$f":"新潟市!BU17","v":"愛宕"},2,"受注No．",{"$f":"新潟市!BV17","v":10113},{"$f":"IF(新潟市!CA17=0,\"\",新潟市!CA17)","v":""},1]
["②明細コード","新潟市","日報",11,{"$f":"新潟市!BU18","v":"河渡"},2,"受注No．",{"$f":"新潟市!BV18","v":10114},{"$f":"IF(新潟市!CA18=0,\"\",新潟市!CA18)","v":""},1]
["②明細コード","新潟市","日報",12,{"$f":"新潟市!BU19","v":"牡丹山"},2,"受注No．",{"$f":"新潟市!BV19","v":10115},{"$f":"IF(新潟市!CA19=0,\"\",新潟市!CA19)","v":""},1]
["②明細コード","新潟市","日報",13,{"$f":"新潟市!BU20","v":"大形"},2,"受注No．",{"$f":"新潟市!BV20","v":10116},{"$f":"IF(新潟市!CA20=0,\"\",新潟市!CA20)","v":""},1]
["②明細コード","新潟市","日報",14,{"$f":"新潟市!BU21","v":"松浜"},2,"受注No．",{"$f":"新潟市!BV21","v":10117},{"$f":"IF(新潟市!CA21=0,\"\",新潟市!CA21)","v":""},1]
["②明細コード","新潟市","日報",15,{"$f":"新潟市!BU22","v":"新潟南"},2,"受注No．",{"$f":"新潟市!BV22","v":10118},{"$f":"IF(新潟市!CA22=0,\"\",新潟市!CA22)","v":""},1]
["②明細コード","新潟市","日報",16,{"$f":"新潟市!BU23","v":"姥ケ山"},2,"受注No．",{"$f":"新潟市!BV23","v":10119},{"$f":"IF(新潟市!CA23=0,\"\",新潟市!CA23)","v":""},1]
["②明細コード","新潟市","日報",17,{"$f":"新潟市!BU24","v":"山二ツ"},2,"受注No．",{"$f":"新潟市!BV24","v":10120},{"$f":"IF(新潟市!CA24=0,\"\",新潟市!CA24)","v":""},1]
["②明細コード","新潟市","日報",18,{"$f":"新潟市!BU25","v":"亀田西"},2,"受注No．",{"$f":"新潟市!BV25","v":10122},{"$f":"IF(新潟市!CA25=0,\"\",新潟市!CA25)","v":""},1]
["②明細コード","新潟市","日報",19,{"$f":"新潟市!BU26","v":"亀田"},2,"受注No．",{"$f":"新潟市!BV26","v":10123},{"$f":"IF(新潟市!CA26=0,\"\",新潟市!CA26)","v":""},1]
["②明細コード","新潟市","日報",20,{"$f":"新潟市!BU27","v":"横越"},2,"受注No．",{"$f":"新潟市!BV27","v":10176},{"$f":"IF(新潟市!CA27=0,\"\",新潟市!CA27)","v":""},1]
["②明細コード","新潟市","日報",21,{"$f":"新潟市!BU28","v":"有明"},2,"受注No．",{"$f":"新潟市!BV28","v":10177},{"$f":"IF(新潟市!CA28=0,\"\",新潟市!CA28)","v":""},1]
["②明細コード","新潟市","日報",22,{"$f":"新潟市!BU29","v":"小針"},2,"受注No．",{"$f":"新潟市!BV29","v":10127},{"$f":"IF(新潟市!CA29=0,\"\",新潟市!CA29)","v":""},1]
["②明細コード","新潟市","日報",23,{"$f":"新潟市!BU30","v":"中通"},2,"受注No．",{"$f":"新潟市!BV30","v":10128},{"$f":"IF(新潟市!CA30=0,\"\",新潟市!CA30)","v":""},1]
["②明細コード","新潟市","日報",24,{"$f":"新潟市!BU31","v":"本町"},2,"受注No．",{"$f":"新潟市!BV31","v":10130},{"$f":"IF(新潟市!CA31=0,\"\",新潟市!CA31)","v":""},1]
["②明細コード","新潟市","日報",25,{"$f":"新潟市!BU32","v":"中央"},2,"受注No．",{"$f":"新潟市!BV32","v":10131},{"$f":"IF(新潟市!CA32=0,\"\",新潟市!CA32)","v":""},1]
["②明細コード","新潟市","日報",26,{"$f":"新潟市!BU33","v":"真砂"},2,"受注No．",{"$f":"新潟市!BV33","v":10133},{"$f":"IF(新潟市!CA33=0,\"\",新潟市!CA33)","v":""},1]
["②明細コード","新潟市","日報",27,{"$f":"新潟市!BU34","v":"寺尾"},2,"受注No．",{"$f":"新潟市!BV34","v":10134},{"$f":"IF(新潟市!CA34=0,\"\",新潟市!CA34)","v":""},1]
["②明細コード","新潟市","日報",28,{"$f":"新潟市!BU35","v":"新大前"},2,"受注No．",{"$f":"新潟市!BV35","v":10135},{"$f":"IF(新潟市!CA35=0,\"\",新潟市!CA35)","v":""},1]
["②明細コード","新潟市","日報",29,{"$f":"新潟市!BU36","v":"内野"},2,"受注No．",{"$f":"新潟市!BV36","v":10136},{"$f":"IF(新潟市!CA36=0,\"\",新潟市!CA36)","v":""},1]
["②明細コード","新潟市","日報",30,{"$f":"新潟市!BU37","v":"西内野"},2,"受注No．",{"$f":"新潟市!BV37","v":10137},{"$f":"IF(新潟市!CA37=0,\"\",新潟市!CA37)","v":""},1]
["②明細コード","新潟市","日報",31,{"$f":"新潟市!#REF!","v":{"$error":"#REF!"}},2,"受注No．",{"$f":"新潟市!#REF!","v":{"$error":"#REF!"}},{"$f":"IF(新潟市!#REF!=0,\"\",新潟市!#REF!)","v":{"$error":"#REF!"}},1]
["②明細コード","新潟市","日報",32,{"$f":"新潟市!BU38","v":"小新"},2,"受注No．",{"$f":"新潟市!BV38","v":10140},{"$f":"IF(新潟市!CA38=0,\"\",新潟市!CA38)","v":""},1]
["②明細コード","新潟市","日報",33,{"$f":"新潟市!BU39","v":"寺地"},2,"受注No．",{"$f":"新潟市!BV39","v":10141},{"$f":"IF(新潟市!CA39=0,\"\",新潟市!CA39)","v":""},1]
["②明細コード","新潟市","日報",34,{"$f":"新潟市!BU40","v":"黒埼"},2,"受注No．",{"$f":"新潟市!BV40","v":10178},{"$f":"IF(新潟市!CA40=0,\"\",新潟市!CA40)","v":""},1]
["②明細コード","新潟市","日報",35,{"$f":"新潟市!BU41","v":"黒埼南"},2,"受注No．",{"$f":"新潟市!BV41","v":10143},{"$f":"IF(新潟市!CA41=0,\"\",新潟市!CA41)","v":""},1]
["②明細コード","下越地区1","日報",1,{"$f":"下越1!BU9","v":"分水"},2,"受注No．",{"$f":"IF(下越1!BV9=0,\"\",下越1!BV9)","v":20101},{"$f":"IF(下越1!CA9=0,\"\",下越1!CA9)","v":""},1]
["②明細コード","下越地区1","日報",{"$f":"D40+1","v":2},{"$f":"下越1!BU10","v":"吉田"},2,"受注No．",{"$f":"IF(下越1!BV10=0,\"\",下越1!BV10)","v":20102},{"$f":"IF(下越1!CA10=0,\"\",下越1!CA10)","v":""},1]
["②明細コード","下越地区1","日報",{"$f":"D41+1","v":3},{"$f":"下越1!BU11","v":"粟生津"},2,"受注No．",{"$f":"IF(下越1!BV11=0,\"\",下越1!BV11)","v":20104},{"$f":"IF(下越1!CA11=0,\"\",下越1!CA11)","v":""},1]
["②明細コード","下越地区1","日報",4,{"$f":"下越1!BU12","v":"巻"},2,"受注No．",{"$f":"IF(下越1!BV12=0,\"\",下越1!BV12)","v":20105},{"$f":"IF(下越1!CA12=0,\"\",下越1!CA12)","v":""},1]
["②明細コード","下越地区1","日報",5,{"$f":"下越1!BU13","v":"岩室"},2,"受注No．",{"$f":"IF(下越1!BV13=0,\"\",下越1!BV13)","v":20108},{"$f":"IF(下越1!CA13=0,\"\",下越1!CA13)","v":""},1]
["②明細コード","下越地区1","日報",6,{"$f":"下越1!BU14","v":"西川"},2,"受注No．",{"$f":"IF(下越1!BV14=0,\"\",下越1!BV14)","v":20109},{"$f":"IF(下越1!CA14=0,\"\",下越1!CA14)","v":""},1]
["②明細コード","下越地区1","日報",7,{"$f":"下越1!BU15","v":"中之口"},2,"受注No．",{"$f":"IF(下越1!BV15=0,\"\",下越1!BV15)","v":20110},{"$f":"IF(下越1!CA15=0,\"\",下越1!CA15)","v":""},1]
["②明細コード","下越地区1","日報",8,{"$f":"下越1!BU16","v":"弥彦"},2,"受注No．",{"$f":"IF(下越1!BV16=0,\"\",下越1!BV16)","v":20111},{"$f":"IF(下越1!CA16=0,\"\",下越1!CA16)","v":""},1]
["②明細コード","下越地区1","日報",9,{"$f":"下越1!BU17","v":0},2,"受注No．",{"$f":"IF(下越1!BV17=0,\"\",下越1!BV17)","v":""},{"$f":"IF(下越1!CA17=0,\"\",下越1!CA17)","v":""},1]
["②明細コード","下越地区1","日報",10,{"$f":"下越1!BU18","v":"小須戸"},2,"受注No．",{"$f":"IF(下越1!BV18=0,\"\",下越1!BV18)","v":20112},{"$f":"IF(下越1!CA18=0,\"\",下越1!CA18)","v":""},1]
["②明細コード","下越地区1","日報",11,{"$f":"下越1!BU19","v":"矢代田"},2,"受注No．",{"$f":"IF(下越1!BV19=0,\"\",下越1!BV19)","v":20113},{"$f":"IF(下越1!CA19=0,\"\",下越1!CA19)","v":""},1]
["②明細コード","下越地区1","日報",12,{"$f":"下越1!BU20","v":"村松"},2,"受注No．",{"$f":"IF(下越1!BV20=0,\"\",下越1!BV20)","v":20114},{"$f":"IF(下越1!CA20=0,\"\",下越1!CA20)","v":""},1]
["②明細コード","下越地区1","日報",13,{"$f":"下越1!BU21","v":0},2,"受注No．",{"$f":"IF(下越1!BV21=0,\"\",下越1!BV21)","v":""},{"$f":"IF(下越1!CA21=0,\"\",下越1!CA21)","v":""},1]
["②明細コード","下越地区1","日報",14,{"$f":"下越1!BU22","v":"新津"},2,"受注No．",{"$f":"IF(下越1!BV22=0,\"\",下越1!BV22)","v":20116},{"$f":"IF(下越1!CA22=0,\"\",下越1!CA22)","v":""},1]
["②明細コード","下越地区1","日報",15,{"$f":"下越1!BU23","v":"新津・荻川"},2,"受注No．",{"$f":"IF(下越1!BV23=0,\"\",下越1!BV23)","v":20181},{"$f":"IF(下越1!CA23=0,\"\",下越1!CA23)","v":""},1]
["②明細コード","下越地区1","日報",16,{"$f":"下越1!BU24","v":0},2,"受注No．",{"$f":"IF(下越1!BV24=0,\"\",下越1!BV24)","v":""},{"$f":"IF(下越1!CA24=0,\"\",下越1!CA24)","v":""},1]
["②明細コード","下越地区1","日報",17,{"$f":"下越1!BU25","v":"五泉"},2,"受注No．",{"$f":"IF(下越1!BV25=0,\"\",下越1!BV25)","v":20117},{"$f":"IF(下越1!CA25=0,\"\",下越1!CA25)","v":""},1]
["②明細コード","下越地区1","日報",18,{"$f":"下越1!BU27","v":"保田・馬下"},2,"受注No．",{"$f":"IF(下越1!BV27=0,\"\",下越1!BV27)","v":20183},{"$f":"IF(下越1!CA27=0,\"\",下越1!CA27)","v":""},1]
["②明細コード","下越地区1","日報",19,{"$f":"下越1!BU28","v":0},2,"受注No．",{"$f":"IF(下越1!BV28=0,\"\",下越1!BV28)","v":""},{"$f":"IF(下越1!CA28=0,\"\",下越1!CA28)","v":""},1]
["②明細コード","下越地区1","日報",20,{"$f":"下越1!BU29","v":"白根"},2,"受注No．",{"$f":"IF(下越1!BV29=0,\"\",下越1!BV29)","v":20120},{"$f":"IF(下越1!CA29=0,\"\",下越1!CA29)","v":""},1]
["②明細コード","下越地区1","日報",21,{"$f":"下越1!BU30","v":"月潟"},2,"受注No．",{"$f":"IF(下越1!BV30=0,\"\",下越1!BV30)","v":20122},{"$f":"IF(下越1!CA30=0,\"\",下越1!CA30)","v":""},1]
["②明細コード","下越地区1","日報",22,{"$f":"下越1!BU31","v":"新飯田"},2,"受注No．",{"$f":"IF(下越1!BV31=0,\"\",下越1!BV31)","v":20123},{"$f":"IF(下越1!CA31=0,\"\",下越1!CA31)","v":""},1]
["②明細コード","下越地区1","日報",23,{"$f":"下越1!BU32","v":0},2,"受注No．",{"$f":"IF(下越1!BV32=0,\"\",下越1!BV32)","v":""},{"$f":"IF(下越1!CA32=0,\"\",下越1!CA32)","v":""},1]
["②明細コード","下越地区1","日報",24,{"$f":"下越1!BU33","v":"三条北"},2,"受注No．",{"$f":"IF(下越1!BV33=0,\"\",下越1!BV33)","v":20124},{"$f":"IF(下越1!CA33=0,\"\",下越1!CA33)","v":""},1]
["②明細コード","下越地区1","日報",25,{"$f":"下越1!BU34","v":"三条南"},2,"受注No．",{"$f":"IF(下越1!BV34=0,\"\",下越1!BV34)","v":20125},{"$f":"IF(下越1!CA34=0,\"\",下越1!CA34)","v":""},1]
["②明細コード","下越地区1","日報",26,{"$f":"下越1!#REF!","v":{"$error":"#REF!"}},2,"受注No．",{"$f":"IF(下越1!#REF!=0,\"\",下越1!#REF!)","v":{"$error":"#REF!"}},{"$f":"IF(下越1!#REF!=0,\"\",下越1!#REF!)","v":{"$error":"#REF!"}},1]
["②明細コード","下越地区1","日報",27,{"$f":"下越1!BU35","v":0},2,"受注No．",{"$f":"IF(下越1!BV35=0,\"\",下越1!BV35)","v":""},{"$f":"IF(下越1!CA35=0,\"\",下越1!CA35)","v":""},1]
["②明細コード","下越地区1","日報",28,{"$f":"下越1!BU36","v":"燕"},2,"受注No．",{"$f":"IF(下越1!BV36=0,\"\",下越1!BV36)","v":20130},{"$f":"IF(下越1!CA36=0,\"\",下越1!CA36)","v":""},1]
["②明細コード","下越地区1","日報",29,{"$f":"下越1!BU37","v":"燕南"},2,"受注No．",{"$f":"IF(下越1!BV37=0,\"\",下越1!BV37)","v":20131},{"$f":"IF(下越1!CA37=0,\"\",下越1!CA37)","v":""},1]
["②明細コード","下越地区1","日報",30,{"$f":"下越1!BU38","v":0},2,"受注No．",{"$f":"IF(下越1!BV38=0,\"\",下越1!BV38)","v":""},{"$f":"IF(下越1!CA38=0,\"\",下越1!CA38)","v":""},1]
["②明細コード","下越地区1","日報",31,{"$f":"下越1!BU39","v":"加茂"},2,"受注No．",{"$f":"IF(下越1!BV39=0,\"\",下越1!BV39)","v":20135},{"$f":"IF(下越1!CA39=0,\"\",下越1!CA39)","v":""},1]
["②明細コード","下越地区1","日報",32,{"$f":"下越1!BU40","v":0},2,"受注No．",{"$f":"IF(下越1!BV40=0,\"\",下越1!BV40)","v":""},{"$f":"IF(下越1!CA40=0,\"\",下越1!CA40)","v":""},1]
["②明細コード","下越地区1","日報",33,{"$f":"下越1!BU41","v":"下田"},2,"受注No．",{"$f":"IF(下越1!BV41=0,\"\",下越1!BV41)","v":20139},{"$f":"IF(下越1!CA41=0,\"\",下越1!CA41)","v":""},1]
["②明細コード","下越地区1","日報",34,{"$f":"下越1!BU42","v":"栄山嵜"},2,"受注No．",{"$f":"IF(下越1!BV42=0,\"\",下越1!BV42)","v":20140},{"$f":"IF(下越1!CA42=0,\"\",下越1!CA42)","v":""},1]
["②明細コード","下越地区1","日報",35,{"$f":"下越1!BU43","v":"栄吉田"},2,"受注No．",{"$f":"IF(下越1!BV43=0,\"\",下越1!BV43)","v":20141},{"$f":"IF(下越1!CA43=0,\"\",下越1!CA43)","v":""},1]
["②明細コード","下越地区1","日報",36,{"$f":"下越1!BU44","v":"帯織"},2,"受注No．",{"$f":"IF(下越1!BV44=0,\"\",下越1!BV44)","v":20143},{"$f":"IF(下越1!CA44=0,\"\",下越1!CA44)","v":""},1]
["②明細コード","下越地区1","日報",37,{"$f":"下越1!BU45","v":0},2,"受注No．",{"$f":"IF(下越1!BV45=0,\"\",下越1!BV45)","v":""},{"$f":"IF(下越1!CA45=0,\"\",下越1!CA45)","v":""},1]
["②明細コード","下越地区1","日報",38,{"$f":"下越1!BU46","v":"豊栄"},2,"受注No．",{"$f":"IF(下越1!BV46=0,\"\",下越1!BV46)","v":20179},{"$f":"IF(下越1!CA46=0,\"\",下越1!CA46)","v":""},1]
["②明細コード","下越地区1","日報",39,{"$f":"下越1!#REF!","v":{"$error":"#REF!"}},2,"受注No．",{"$f":"IF(下越1!#REF!=0,\"\",下越1!#REF!)","v":{"$error":"#REF!"}},{"$f":"IF(下越1!#REF!=0,\"\",下越1!#REF!)","v":{"$error":"#REF!"}},1]
["②明細コード","下越地区1","日報",40,{"$f":"下越1!BU47","v":"木崎"},2,"受注No．",{"$f":"IF(下越1!BV47=0,\"\",下越1!BV47)","v":20146},{"$f":"IF(下越1!CA47=0,\"\",下越1!CA47)","v":""},1]
["②明細コード","下越地区２","日報",1,{"$f":"下越２!BU9","v":"新発田西"},2,"受注No．",{"$f":"IF(下越２!BV9=0,\"\",下越２!BV9)","v":20148},{"$f":"IF(下越２!CA9=0,\"\",下越２!CA9)","v":""},1]
["②明細コード","下越地区２","日報",2,{"$f":"下越２!BU10","v":"新発田東"},2,"受注No．",{"$f":"IF(下越２!BV10=0,\"\",下越２!BV10)","v":20149},{"$f":"IF(下越２!CA10=0,\"\",下越２!CA10)","v":""},1]
["②明細コード","下越地区２","日報",3,{"$f":"下越２!BU11","v":"月岡"},2,"受注No．",{"$f":"IF(下越２!BV11=0,\"\",下越２!BV11)","v":20153},{"$f":"IF(下越２!CA11=0,\"\",下越２!CA11)","v":""},1]
["②明細コード","下越地区２","日報",4,{"$f":"下越２!BU12","v":"※木崎ミニック"},2,"受注No．",{"$f":"IF(下越２!BV12=0,\"\",下越２!BV12)","v":20180},{"$f":"IF(下越２!CA12=0,\"\",下越２!CA12)","v":""},1]
["②明細コード","下越地区２","日報",5,{"$f":"下越２!BU13","v":0},2,"受注No．",{"$f":"IF(下越２!BV13=0,\"\",下越２!BV13)","v":""},{"$f":"IF(下越２!CA13=0,\"\",下越２!CA13)","v":""},1]
["②明細コード","下越地区２","日報",6,{"$f":"下越２!BU14","v":"中条東"},2,"受注No．",{"$f":"IF(下越２!BV14=0,\"\",下越２!BV14)","v":20154},{"$f":"IF(下越２!CA14=0,\"\",下越２!CA14)","v":""},1]
["②明細コード","下越地区２","日報",7,{"$f":"下越２!BU15","v":"西中条"},2,"受注No．",{"$f":"IF(下越２!BV15=0,\"\",下越２!BV15)","v":20155},{"$f":"IF(下越２!CA15=0,\"\",下越２!CA15)","v":""},1]
["②明細コード","下越地区２","日報",8,{"$f":"下越２!BU16","v":"黒川"},2,"受注No．",{"$f":"IF(下越２!BV16=0,\"\",下越２!BV16)","v":20157},{"$f":"IF(下越２!CA16=0,\"\",下越２!CA16)","v":""},1]
["②明細コード","下越地区２","日報",9,{"$f":"下越２!BU17","v":"水原"},2,"受注No．",{"$f":"IF(下越２!BV17=0,\"\",下越２!BV17)","v":20158},{"$f":"IF(下越２!CA17=0,\"\",下越２!CA17)","v":""},1]
["②明細コード","下越地区２","日報",10,{"$f":"下越２!BU18","v":"保田"},2,"受注No．",{"$f":"IF(下越２!BV18=0,\"\",下越２!BV18)","v":20161},{"$f":"IF(下越２!CA18=0,\"\",下越２!CA18)","v":""},1]
["②明細コード","下越地区２","日報",11,{"$f":"下越２!BU19","v":0},2,"受注No．",{"$f":"IF(下越２!BV19=0,\"\",下越２!BV19)","v":""},{"$f":"IF(下越２!CA19=0,\"\",下越２!CA19)","v":""},1]
["②明細コード","下越地区２","日報",12,{"$f":"下越２!BU20","v":"村上"},2,"受注No．",{"$f":"IF(下越２!BV20=0,\"\",下越２!BV20)","v":20162},{"$f":"IF(下越２!CA20=0,\"\",下越２!CA20)","v":""},1]
["②明細コード","下越地区２","日報",13,{"$f":"下越２!BU21","v":"岩船"},2,"受注No．",{"$f":"IF(下越２!BV21=0,\"\",下越２!BV21)","v":20163},{"$f":"IF(下越２!CA21=0,\"\",下越２!CA21)","v":""},1]
["②明細コード","下越地区２","日報",14,{"$f":"下越２!BU22","v":"越後早川"},2,"受注No．",{"$f":"IF(下越２!BV22=0,\"\",下越２!BV22)","v":20164},{"$f":"IF(下越２!CA22=0,\"\",下越２!CA22)","v":""},1]
["②明細コード","下越地区２","日報",15,{"$f":"下越２!BU23","v":0},2,"受注No．",{"$f":"IF(下越２!BV23=0,\"\",下越２!BV23)","v":""},{"$f":"IF(下越２!CA23=0,\"\",下越２!CA23)","v":""},1]
["②明細コード","下越地区２","日報",16,{"$f":"下越２!BU24","v":"坂町"},2,"受注No．",{"$f":"IF(下越２!BV24=0,\"\",下越２!BV24)","v":20165},{"$f":"IF(下越２!CA24=0,\"\",下越２!CA24)","v":""},1]
["②明細コード","下越地区２","日報",17,{"$f":"下越２!#REF!","v":{"$error":"#REF!"}},2,"受注No．",{"$f":"IF(下越２!#REF!=0,\"\",下越２!#REF!)","v":{"$error":"#REF!"}},{"$f":"IF(下越２!#REF!=0,\"\",下越２!#REF!)","v":{"$error":"#REF!"}},1]
["②明細コード","下越地区２","日報",{"$f":"D96+1","v":18},{"$f":"下越２!BU25","v":"関川"},2,"受注No．",{"$f":"IF(下越２!BV25=0,\"\",下越２!BV25)","v":20167},{"$f":"IF(下越２!CA25=0,\"\",下越２!CA25)","v":""},1]
["②明細コード","下越地区２","日報",19,{"$f":"下越２!#REF!","v":{"$error":"#REF!"}},2,"受注No．",{"$f":"IF(下越２!#REF!=0,\"\",下越２!#REF!)","v":{"$error":"#REF!"}},{"$f":"IF(下越２!#REF!=0,\"\",下越２!#REF!)","v":{"$error":"#REF!"}},1]
["②明細コード","下越地区２","日報",20,{"$f":"下越２!BU26","v":"府屋"},2,"受注No．",{"$f":"IF(下越２!BV26=0,\"\",下越２!BV26)","v":20170},{"$f":"IF(下越２!CA26=0,\"\",下越２!CA26)","v":""},1]
["②明細コード","下越地区２","日報",21,{"$f":"下越２!BU27","v":"黒川俣"},2,"受注No．",{"$f":"IF(下越２!BV27=0,\"\",下越２!BV27)","v":20172},{"$f":"IF(下越２!CA27=0,\"\",下越２!CA27)","v":""},1]
["②明細コード","下越地区２","日報",22,{"$f":"下越２!BU28","v":0},2,"受注No．",{"$f":"IF(下越２!BV28=0,\"\",下越２!BV28)","v":""},{"$f":"IF(下越２!CA28=0,\"\",下越２!CA28)","v":""},1]
["②明細コード","下越地区２","日報",23,{"$f":"下越２!BU29","v":"津川"},2,"受注No．",{"$f":"IF(下越２!BV29=0,\"\",下越２!BV29)","v":20173},{"$f":"IF(下越２!CA29=0,\"\",下越２!CA29)","v":""},1]
["②明細コード","下越地区２","日報",24,{"$f":"下越２!BU30","v":"豊実"},2,"受注No．",{"$f":"IF(下越２!BV30=0,\"\",下越２!BV30)","v":20174},{"$f":"IF(下越２!CA30=0,\"\",下越２!CA30)","v":""},1]
["②明細コード","下越地区２","日報",25,{"$f":"下越２!BU31","v":"日出谷"},2,"受注No．",{"$f":"IF(下越２!BV31=0,\"\",下越２!BV31)","v":20175},{"$f":"IF(下越２!CA31=0,\"\",下越２!CA31)","v":""},1]
["②明細コード","下越地区２","日報",26,{"$f":"下越２!BU32","v":"鹿瀬"},2,"受注No．",{"$f":"IF(下越２!BV32=0,\"\",下越２!BV32)","v":20176},{"$f":"IF(下越２!CA32=0,\"\",下越２!CA32)","v":""},1]
["②明細コード","下越地区２","日報",27,{"$f":"下越２!BU33","v":"白崎"},2,"受注No．",{"$f":"IF(下越２!BV33=0,\"\",下越２!BV33)","v":20177},{"$f":"IF(下越２!CA33=0,\"\",下越２!CA33)","v":""},1]
["②明細コード","下越地区２","日報",28,{"$f":"下越２!BU35","v":"保田・五十島"},2,"受注No．",{"$f":"IF(下越２!BV35=0,\"\",下越２!BV35)","v":20182},{"$f":"IF(下越２!CA35=0,\"\",下越２!CA35)","v":""},1]
["②明細コード","下越地区２","日報",29,{"$f":"下越２!BU36","v":0},2,"受注No．",{"$f":"IF(下越２!BV36=0,\"\",下越２!BV36)","v":""},{"$f":"IF(下越２!CA36=0,\"\",下越２!CA36)","v":""},1]
["②明細コード","下越地区２","日報",30,{"$f":"下越２!BU37","v":"小国"},2,"受注No．",{"$f":"IF(下越２!BV37=0,\"\",下越２!BV37)","v":20201},{"$f":"IF(下越２!CA37=0,\"\",下越２!CA37)","v":""},1]
["②明細コード","下越地区２","日報",31,{"$f":"下越２!BU38","v":0},2,"受注No．",{"$f":"IF(下越２!BV38=0,\"\",下越２!BV38)","v":""},{"$f":"IF(下越２!CA38=0,\"\",下越２!CA38)","v":""},1]
["②明細コード","下越地区２","日報",32,{"$f":"下越２!BU39","v":"両津"},2,"受注No．",{"$f":"IF(下越２!BV39=0,\"\",下越２!BV39)","v":30101},{"$f":"IF(下越２!CA39=0,\"\",下越２!CA39)","v":""},1]
["②明細コード","下越地区２","日報",33,{"$f":"下越２!BU40","v":"吉井"},2,"受注No．",{"$f":"IF(下越２!BV40=0,\"\",下越２!BV40)","v":30105},{"$f":"IF(下越２!CA40=0,\"\",下越２!CA40)","v":""},1]
["②明細コード","下越地区２","日報",34,{"$f":"下越２!#REF!","v":{"$error":"#REF!"}},2,"受注No．",{"$f":"IF(下越２!#REF!=0,\"\",下越２!#REF!)","v":{"$error":"#REF!"}},{"$f":"IF(下越２!#REF!=0,\"\",下越２!#REF!)","v":{"$error":"#REF!"}},1]
["②明細コード","下越地区２","日報",35,{"$f":"下越２!BU41","v":0},2,"受注No．",{"$f":"IF(下越２!BV41=0,\"\",下越２!BV41)","v":""},{"$f":"IF(下越２!CA41=0,\"\",下越２!CA41)","v":""},1]
["②明細コード","下越地区２","日報",36,{"$f":"下越２!BU42","v":"真野"},2,"受注No．",{"$f":"IF(下越２!BV42=0,\"\",下越２!BV42)","v":30106},{"$f":"IF(下越２!CA42=0,\"\",下越２!CA42)","v":""},1]
["②明細コード","下越地区２","日報",37,{"$f":"下越２!BU43","v":"新穂"},2,"受注No．",{"$f":"IF(下越２!BV43=0,\"\",下越２!BV43)","v":30108},{"$f":"IF(下越２!CA43=0,\"\",下越２!CA43)","v":""},1]
["②明細コード","下越地区２","日報",38,{"$f":"下越２!BU44","v":"畑野"},2,"受注No．",{"$f":"IF(下越２!BV44=0,\"\",下越２!BV44)","v":30111},{"$f":"IF(下越２!CA44=0,\"\",下越２!CA44)","v":""},1]
["②明細コード","下越地区２","日報",39,{"$f":"下越２!BU45","v":"佐和田"},2,"受注No．",{"$f":"IF(下越２!BV45=0,\"\",下越２!BV45)","v":30114},{"$f":"IF(下越２!CA45=0,\"\",下越２!CA45)","v":""},1]
["②明細コード","下越地区２","日報",40,{"$f":"下越２!BU46","v":"相川"},2,"受注No．",{"$f":"IF(下越２!BV46=0,\"\",下越２!BV46)","v":30110},{"$f":"IF(下越２!CA46=0,\"\",下越２!CA46)","v":""},1]
["②明細コード","下越地区２","日報",41,{"$f":"下越２!BU47","v":"金井"},2,"受注No．",{"$f":"IF(下越２!BV47=0,\"\",下越２!BV47)","v":30121},{"$f":"IF(下越２!CA47=0,\"\",下越２!CA47)","v":""},1]
["②明細コード","下越地区２","日報",42,{"$f":"下越２!BU48","v":"羽茂"},2,"受注No．",{"$f":"IF(下越２!BV48=0,\"\",下越２!BV48)","v":30122},{"$f":"IF(下越２!CA48=0,\"\",下越２!CA48)","v":""},1]
["②明細コード","下越地区２","日報",43,{"$f":"下越２!BU49","v":"小木"},2,"受注No．",{"$f":"IF(下越２!BV49=0,\"\",下越２!BV49)","v":30124},{"$f":"IF(下越２!CA49=0,\"\",下越２!CA49)","v":""},1]
["②明細コード","下越地区２","日報",44,{"$f":"下越２!BU50","v":"赤泊"},2,"受注No．",{"$f":"IF(下越２!BV50=0,\"\",下越２!BV50)","v":30127},{"$f":"IF(下越２!CA50=0,\"\",下越２!CA50)","v":""},1]
["②明細コード","下越地区２","日報",45,{"$f":"下越２!BU51","v":"多田"},2,"受注No．",{"$f":"IF(下越２!BV51=0,\"\",下越２!BV51)","v":30130},{"$f":"IF(下越２!CA51=0,\"\",下越２!CA51)","v":""},1]
["②明細コード","中越地区","日報",1,{"$f":"中越1!#REF!","v":{"$error":"#REF!"}},2,"受注No．",{"$f":"IF(中越1!#REF!=0,\"\",中越1!#REF!)","v":{"$error":"#REF!"}},{"$f":"IF(中越1!#REF!=0,\"\",中越1!#REF!)","v":{"$error":"#REF!"}},1]
["②明細コード","中越地区","日報",{"$f":"D125+1","v":2},{"$f":"中越1!BZ9","v":"長岡中央"},2,"受注No．",{"$f":"IF(中越1!CA9=0,\"\",中越1!CA9)","v":40102},{"$f":"IF(中越1!CF9=0,\"\",中越1!CF9)","v":""},1]
["②明細コード","中越地区","日報",3,{"$f":"中越1!BZ10","v":"長岡南"},2,"受注No．",{"$f":"IF(中越1!CA10=0,\"\",中越1!CA10)","v":40300},{"$f":"IF(中越1!CF10=0,\"\",中越1!CF10)","v":""},1]
["②明細コード","中越地区","日報",4,{"$f":"中越1!BZ11","v":"長岡東"},2,"受注No．",{"$f":"IF(中越1!CA11=0,\"\",中越1!CA11)","v":40104},{"$f":"IF(中越1!CF11=0,\"\",中越1!CF11)","v":""},1]
["②明細コード","中越地区","日報",5,{"$f":"中越1!BZ12","v":"長岡新保"},2,"受注No．",{"$f":"IF(中越1!CA12=0,\"\",中越1!CA12)","v":40105},{"$f":"IF(中越1!CF12=0,\"\",中越1!CF12)","v":""},1]
["②明細コード","中越地区","日報",6,{"$f":"中越1!BZ13","v":"長岡悠久"},2,"受注No．",{"$f":"IF(中越1!CA13=0,\"\",中越1!CA13)","v":40106},{"$f":"IF(中越1!CF13=0,\"\",中越1!CF13)","v":""},1]
["②明細コード","中越地区","日報",7,{"$f":"中越1!BZ14","v":"西長岡"},2,"受注No．",{"$f":"IF(中越1!CA14=0,\"\",中越1!CA14)","v":40111},{"$f":"IF(中越1!CF14=0,\"\",中越1!CF14)","v":""},1]
["②明細コード","中越地区","日報",8,{"$f":"中越1!BZ15","v":"関原"},2,"受注No．",{"$f":"IF(中越1!CA15=0,\"\",中越1!CA15)","v":40113},{"$f":"IF(中越1!CF15=0,\"\",中越1!CF15)","v":""},1]
["②明細コード","中越地区","日報",9,{"$f":"中越1!BZ16","v":"王寺川"},2,"受注No．",{"$f":"IF(中越1!CA16=0,\"\",中越1!CA16)","v":40114},{"$f":"IF(中越1!CF16=0,\"\",中越1!CF16)","v":""},1]
["②明細コード","中越地区","日報",10,{"$f":"中越1!BZ17","v":"長岡江陽"},2,"受注No．",{"$f":"IF(中越1!CA17=0,\"\",中越1!CA17)","v":40115},{"$f":"IF(中越1!CF17=0,\"\",中越1!CF17)","v":""},1]
["②明細コード","中越地区","日報",11,{"$f":"中越1!BZ18","v":"黒条"},2,"受注No．",{"$f":"IF(中越1!CA18=0,\"\",中越1!CA18)","v":40116},{"$f":"IF(中越1!CF18=0,\"\",中越1!CF18)","v":""},1]
["②明細コード","中越地区","日報",12,{"$f":"中越1!BZ19","v":"新組"},2,"受注No．",{"$f":"IF(中越1!CA19=0,\"\",中越1!CA19)","v":40117},{"$f":"IF(中越1!CF19=0,\"\",中越1!CF19)","v":""},1]
["②明細コード","中越地区","日報",13,{"$f":"中越1!BZ20","v":"長岡宮内"},2,"受注No．",{"$f":"IF(中越1!CA20=0,\"\",中越1!CA20)","v":40121},{"$f":"IF(中越1!CF20=0,\"\",中越1!CF20)","v":""},1]
["②明細コード","中越地区","日報",14,{"$f":"中越1!BZ21","v":"濁沢"},2,"受注No．",{"$f":"IF(中越1!CA21=0,\"\",中越1!CA21)","v":40124},{"$f":"IF(中越1!CF21=0,\"\",中越1!CF21)","v":""},1]
["②明細コード","中越地区","日報",15,{"$f":"中越1!BZ22","v":"岡南"},2,"受注No．",{"$f":"IF(中越1!CA22=0,\"\",中越1!CA22)","v":40125},{"$f":"IF(中越1!CF22=0,\"\",中越1!CF22)","v":""},1]
["②明細コード","中越地区","日報",16,{"$f":"中越1!BZ23","v":"六日市"},2,"受注No．",{"$f":"IF(中越1!CA23=0,\"\",中越1!CA23)","v":40126},{"$f":"IF(中越1!CF23=0,\"\",中越1!CF23)","v":""},1]
["②明細コード","中越地区","日報",17,{"$f":"中越1!BZ24","v":0},2,"受注No．",{"$f":"IF(中越1!CA24=0,\"\",中越1!CA24)","v":""},{"$f":"IF(中越1!CF24=0,\"\",中越1!CF24)","v":""},1]
["②明細コード","中越地区","日報",18,{"$f":"中越1!BZ25","v":"栃尾"},2,"受注No．",{"$f":"IF(中越1!CA25=0,\"\",中越1!CA25)","v":40127},{"$f":"IF(中越1!CF25=0,\"\",中越1!CF25)","v":""},1]
["②明細コード","中越地区","日報",19,{"$f":"中越1!BZ26","v":0},2,"受注No．",{"$f":"IF(中越1!CA26=0,\"\",中越1!CA26)","v":""},{"$f":"IF(中越1!CF26=0,\"\",中越1!CF26)","v":""},1]
["②明細コード","中越地区","日報",20,{"$f":"中越1!BZ27","v":"見附南"},2,"受注No．",{"$f":"IF(中越1!CA27=0,\"\",中越1!CA27)","v":40130},{"$f":"IF(中越1!CF27=0,\"\",中越1!CF27)","v":""},1]
["②明細コード","中越地区","日報",21,{"$f":"中越1!BZ28","v":"見附北"},2,"受注No．",{"$f":"IF(中越1!CA28=0,\"\",中越1!CA28)","v":40131},{"$f":"IF(中越1!CF28=0,\"\",中越1!CF28)","v":""},1]
["②明細コード","中越地区","日報",22,{"$f":"中越1!BZ29","v":"今町"},2,"受注No．",{"$f":"IF(中越1!CA29=0,\"\",中越1!CA29)","v":40135},{"$f":"IF(中越1!CF29=0,\"\",中越1!CF29)","v":""},1]
["②明細コード","中越地区","日報",23,{"$f":"中越1!BZ30","v":0},2,"受注No．",{"$f":"IF(中越1!CA30=0,\"\",中越1!CA30)","v":""},{"$f":"IF(中越1!CF30=0,\"\",中越1!CF30)","v":""},1]
["②明細コード","中越地区","日報",24,{"$f":"中越1!BZ31","v":"越路"},2,"受注No．",{"$f":"IF(中越1!CA31=0,\"\",中越1!CA31)","v":40139},{"$f":"IF(中越1!CF31=0,\"\",中越1!CF31)","v":""},1]
["②明細コード","中越地区","日報",25,{"$f":"中越1!BZ32","v":"塚山"},2,"受注No．",{"$f":"IF(中越1!CA32=0,\"\",中越1!CA32)","v":40141},{"$f":"IF(中越1!CF32=0,\"\",中越1!CF32)","v":""},1]
["②明細コード","中越地区","日報",26,{"$f":"中越1!#REF!","v":{"$error":"#REF!"}},2,"受注No．",{"$f":"IF(中越1!#REF!=0,\"\",中越1!#REF!)","v":{"$error":"#REF!"}},{"$f":"IF(中越1!#REF!=0,\"\",中越1!#REF!)","v":{"$error":"#REF!"}},1]
["②明細コード","中越地区","日報",27,{"$f":"中越1!#REF!","v":{"$error":"#REF!"}},2,"受注No．",{"$f":"IF(中越1!#REF!=0,\"\",中越1!#REF!)","v":{"$error":"#REF!"}},{"$f":"IF(中越1!#REF!=0,\"\",中越1!#REF!)","v":{"$error":"#REF!"}},1]
["②明細コード","中越地区","日報",28,{"$f":"中越1!BZ33","v":"与板"},2,"受注No．",{"$f":"IF(中越1!CA33=0,\"\",中越1!CA33)","v":40144},{"$f":"IF(中越1!CF33=0,\"\",中越1!CF33)","v":""},1]
["②明細コード","中越地区","日報",29,{"$f":"中越1!BZ34","v":"大河津"},2,"受注No．",{"$f":"IF(中越1!CA34=0,\"\",中越1!CA34)","v":40145},{"$f":"IF(中越1!CF34=0,\"\",中越1!CF34)","v":""},1]
["②明細コード","中越地区","日報",30,{"$f":"中越1!BZ35","v":"寺泊"},2,"受注No．",{"$f":"IF(中越1!CA35=0,\"\",中越1!CA35)","v":40146},{"$f":"IF(中越1!CF35=0,\"\",中越1!CF35)","v":""},1]
["②明細コード","中越地区","日報",31,{"$f":"中越1!BZ36","v":"和島"},2,"受注No．",{"$f":"IF(中越1!CA36=0,\"\",中越1!CA36)","v":40147},{"$f":"IF(中越1!CF36=0,\"\",中越1!CF36)","v":""},1]
["②明細コード","中越地区","日報",32,{"$f":"中越1!BZ37","v":"西越"},2,"受注No．",{"$f":"IF(中越1!CA37=0,\"\",中越1!CA37)","v":40148},{"$f":"IF(中越1!CF37=0,\"\",中越1!CF37)","v":""},1]
["②明細コード","中越地区","日報",33,{"$f":"中越1!#REF!","v":{"$error":"#REF!"}},2,"受注No．",{"$f":"IF(中越1!#REF!=0,\"\",中越1!#REF!)","v":{"$error":"#REF!"}},{"$f":"IF(中越1!#REF!=0,\"\",中越1!#REF!)","v":{"$error":"#REF!"}},1]
["②明細コード","中越地区２","日報",1,{"$f":"中越２!BU9","v":"小千谷中央"},2,"受注No．",{"$f":"IF(中越２!BV9=0,\"\",中越２!BV9)","v":40151},{"$f":"IF(中越２!CA9=0,\"\",中越２!CA9)","v":""},1]
["②明細コード","中越地区２","日報",2,{"$f":"中越２!BU10","v":"小千谷東"},2,"受注No．",{"$f":"IF(中越２!BV10=0,\"\",中越２!BV10)","v":40152},{"$f":"IF(中越２!CA10=0,\"\",中越２!CA10)","v":""},1]
["②明細コード","中越地区２","日報",3,{"$f":"中越２!BU11","v":"片貝"},2,"受注No．",{"$f":"IF(中越２!BV11=0,\"\",中越２!BV11)","v":40154},{"$f":"IF(中越２!CA11=0,\"\",中越２!CA11)","v":""},1]
["②明細コード","中越地区２","日報",4,{"$f":"中越２!BU12","v":"岩沢"},2,"受注No．",{"$f":"IF(中越２!BV12=0,\"\",中越２!BV12)","v":40155},{"$f":"IF(中越２!CA12=0,\"\",中越２!CA12)","v":""},1]
["②明細コード","中越地区２","日報",5,{"$f":"中越２!BU13","v":0},2,"受注No．",{"$f":"IF(中越２!BV13=0,\"\",中越２!BV13)","v":""},{"$f":"IF(中越２!CA13=0,\"\",中越２!CA13)","v":""},1]
["②明細コード","中越地区２","日報",6,{"$f":"中越２!BU14","v":"十日町西部"},2,"受注No．",{"$f":"IF(中越２!BV14=0,\"\",中越２!BV14)","v":40156},{"$f":"IF(中越２!CA14=0,\"\",中越２!CA14)","v":""},1]
["②明細コード","中越地区２","日報",7,{"$f":"中越２!BU15","v":"十日町東部"},2,"受注No．",{"$f":"IF(中越２!BV15=0,\"\",中越２!BV15)","v":40157},{"$f":"IF(中越２!CA15=0,\"\",中越２!CA15)","v":""},1]
["②明細コード","中越地区２","日報",8,{"$f":"中越２!BU16","v":"下条"},2,"受注No．",{"$f":"IF(中越２!BV16=0,\"\",中越２!BV16)","v":40162},{"$f":"IF(中越２!CA16=0,\"\",中越２!CA16)","v":""},1]
["②明細コード","中越地区２","日報",9,{"$f":"中越２!BU17","v":"魚沼中条"},2,"受注No．",{"$f":"IF(中越２!BV17=0,\"\",中越２!BV17)","v":40163},{"$f":"IF(中越２!CA17=0,\"\",中越２!CA17)","v":""},1]
["②明細コード","中越地区２","日報",10,{"$f":"中越２!BU18","v":"水沢"},2,"受注No．",{"$f":"IF(中越２!BV18=0,\"\",中越２!BV18)","v":40164},{"$f":"IF(中越２!CA18=0,\"\",中越２!CA18)","v":""},1]
["②明細コード","中越地区２","日報",11,{"$f":"中越２!BU19","v":"伊達"},2,"受注No．",{"$f":"IF(中越２!BV19=0,\"\",中越２!BV19)","v":40165},{"$f":"IF(中越２!CA19=0,\"\",中越２!CA19)","v":""},1]
["②明細コード","中越地区２","日報",12,{"$f":"中越２!BU20","v":0},2,"受注No．",{"$f":"IF(中越２!BV20=0,\"\",中越２!BV20)","v":""},{"$f":"IF(中越２!CA20=0,\"\",中越２!CA20)","v":""},1]
["②明細コード","中越地区２","日報",13,{"$f":"中越２!BU21","v":"川口"},2,"受注No．",{"$f":"IF(中越２!BV21=0,\"\",中越２!BV21)","v":40166},{"$f":"IF(中越２!CA21=0,\"\",中越２!CA21)","v":""},1]
["②明細コード","中越地区２","日報",14,{"$f":"中越２!BU22","v":"堀之内"},2,"受注No．",{"$f":"IF(中越２!BV22=0,\"\",中越２!BV22)","v":40167},{"$f":"IF(中越２!CA22=0,\"\",中越２!CA22)","v":""},1]
["②明細コード","中越地区２","日報",15,{"$f":"中越２!BU23","v":"小出"},2,"受注No．",{"$f":"IF(中越２!BV23=0,\"\",中越２!BV23)","v":40168},{"$f":"IF(中越２!CA23=0,\"\",中越２!CA23)","v":""},1]
["②明細コード","中越地区２","日報",16,{"$f":"中越２!BU24","v":"魚沼北"},2,"受注No．",{"$f":"IF(中越２!BV24=0,\"\",中越２!BV24)","v":40172},{"$f":"IF(中越２!CA24=0,\"\",中越２!CA24)","v":""},1]
["②明細コード","中越地区２","日報",17,{"$f":"中越２!BU25","v":0},2,"受注No．",{"$f":"IF(中越２!BV25=0,\"\",中越２!BV25)","v":""},{"$f":"IF(中越２!CA25=0,\"\",中越２!CA25)","v":""},1]
["②明細コード","中越地区２","日報",18,{"$f":"中越２!BU26","v":"浦佐"},2,"受注No．",{"$f":"IF(中越２!BV26=0,\"\",中越２!BV26)","v":40176},{"$f":"IF(中越２!CA26=0,\"\",中越２!CA26)","v":""},1]
["②明細コード","中越地区２","日報",19,{"$f":"中越２!BU27","v":"大崎"},2,"受注No．",{"$f":"IF(中越２!BV27=0,\"\",中越２!BV27)","v":40178},{"$f":"IF(中越２!CA27=0,\"\",中越２!CA27)","v":""},1]
["②明細コード","中越地区２","日報",20,{"$f":"中越２!BU28","v":"五日町"},2,"受注No．",{"$f":"IF(中越２!BV28=0,\"\",中越２!BV28)","v":40179},{"$f":"IF(中越２!CA28=0,\"\",中越２!CA28)","v":""},1]
["②明細コード","中越地区２","日報",21,{"$f":"中越２!BU29","v":"城内"},2,"受注No．",{"$f":"IF(中越２!BV29=0,\"\",中越２!BV29)","v":40180},{"$f":"IF(中越２!CA29=0,\"\",中越２!CA29)","v":""},1]
["②明細コード","中越地区２","日報",22,{"$f":"中越２!BU30","v":"六日町"},2,"受注No．",{"$f":"IF(中越２!BV30=0,\"\",中越２!BV30)","v":40181},{"$f":"IF(中越２!CA30=0,\"\",中越２!CA30)","v":""},1]
["②明細コード","中越地区２","日報",{"$f":"D179+1","v":23},{"$f":"中越２!BU31","v":"塩沢"},2,"受注No．",{"$f":"IF(中越２!BV31=0,\"\",中越２!BV31)","v":40184},{"$f":"IF(中越２!CA31=0,\"\",中越２!CA31)","v":""},1]
["②明細コード","中越地区２","日報",24,{"$f":"中越２!BU32","v":"上田"},2,"受注No．",{"$f":"IF(中越２!BV32=0,\"\",中越２!BV32)","v":40186},{"$f":"IF(中越２!CA32=0,\"\",中越２!CA32)","v":""},1]
["②明細コード","中越地区２","日報",25,{"$f":"中越２!#REF!","v":{"$error":"#REF!"}},2,"受注No．",{"$f":"IF(中越２!#REF!=0,\"\",中越２!#REF!)","v":{"$error":"#REF!"}},{"$f":"IF(中越２!#REF!=0,\"\",中越２!#REF!)","v":{"$error":"#REF!"}},1]
["②明細コード","中越地区２","日報",26,{"$f":"中越２!BU33","v":"湯沢"},2,"受注No．",{"$f":"IF(中越２!BV33=0,\"\",中越２!BV33)","v":40189},{"$f":"IF(中越２!CA33=0,\"\",中越２!CA33)","v":""},1]
["②明細コード","中越地区２","日報",27,{"$f":"中越２!BU34","v":0},2,"受注No．",{"$f":"IF(中越２!BV34=0,\"\",中越２!BV34)","v":""},{"$f":"IF(中越２!CA34=0,\"\",中越２!CA34)","v":""},1]
["②明細コード","中越地区２","日報",28,{"$f":"中越２!BU35","v":"十日町川西"},2,"受注No．",{"$f":"IF(中越２!BV35=0,\"\",中越２!BV35)","v":40192},{"$f":"IF(中越２!CA35=0,\"\",中越２!CA35)","v":""},1]
["②明細コード","中越地区２","日報",29,{"$f":"中越２!BU36","v":"仙田"},2,"受注No．",{"$f":"IF(中越２!BV36=0,\"\",中越２!BV36)","v":40193},{"$f":"IF(中越２!CA36=0,\"\",中越２!CA36)","v":""},1]
["②明細コード","中越地区２","日報",30,{"$f":"中越２!BU37","v":"田沢"},2,"受注No．",{"$f":"IF(中越２!BV37=0,\"\",中越２!BV37)","v":40194},{"$f":"IF(中越２!CA37=0,\"\",中越２!CA37)","v":""},1]
["②明細コード","中越地区２","日報",31,{"$f":"中越２!#REF!","v":{"$error":"#REF!"}},2,"受注No．",{"$f":"IF(中越２!#REF!=0,\"\",中越２!#REF!)","v":{"$error":"#REF!"}},{"$f":"IF(中越２!#REF!=0,\"\",中越２!#REF!)","v":{"$error":"#REF!"}},1]
["②明細コード","中越地区２","日報",32,{"$f":"中越２!BU38","v":"津南"},2,"受注No．",{"$f":"IF(中越２!BV38=0,\"\",中越２!BV38)","v":340197},{"$f":"IF(中越２!CA38=0,\"\",中越２!CA38)","v":""},1]
["②明細コード","中越地区２","日報",33,{"$f":"中越２!BU39","v":"上郷"},2,"受注No．",{"$f":"IF(中越２!BV39=0,\"\",中越２!BV39)","v":40199},{"$f":"IF(中越２!CA39=0,\"\",中越２!CA39)","v":""},1]
["②明細コード","中越地区２","日報",34,{"$f":"中越２!BU40","v":"森宮野原"},2,"受注No．",{"$f":"IF(中越２!BV40=0,\"\",中越２!BV40)","v":40200},{"$f":"IF(中越２!CA40=0,\"\",中越２!CA40)","v":""},1]
["②明細コード","上越","日報",1,{"$f":"上越1!BU9","v":"柏崎中央"},2,"受注No．",{"$f":"IF(上越1!BV9=0,\"\",上越1!BV9)","v":40229},{"$f":"IF(上越1!CA9=0,\"\",上越1!CA9)","v":""},1]
["②明細コード","上越","日報",{"$f":"D192+1","v":2},{"$f":"上越1!BU10","v":"柏崎"},2,"受注No．",{"$f":"IF(上越1!BV10=0,\"\",上越1!BV10)","v":40202},{"$f":"IF(上越1!CA10=0,\"\",上越1!CA10)","v":""},1]
["②明細コード","上越","日報",3,{"$f":"上越1!BU11","v":"柏崎南"},2,"受注No．",{"$f":"IF(上越1!BV11=0,\"\",上越1!BV11)","v":40203},{"$f":"IF(上越1!CA11=0,\"\",上越1!CA11)","v":""},1]
["②明細コード","上越","日報",4,{"$f":"上越1!BU12","v":0},2,"受注No．",{"$f":"IF(上越1!BV12=0,\"\",上越1!BV12)","v":""},{"$f":"IF(上越1!CA12=0,\"\",上越1!CA12)","v":""},1]
["②明細コード","上越","日報",5,{"$f":"上越1!#REF!","v":{"$error":"#REF!"}},2,"受注No．",{"$f":"IF(上越1!#REF!=0,\"\",上越1!#REF!)","v":{"$error":"#REF!"}},{"$f":"IF(上越1!#REF!=0,\"\",上越1!#REF!)","v":{"$error":"#REF!"}},1]
["②明細コード","上越","日報",6,{"$f":"上越1!BU13","v":"安田"},2,"受注No．",{"$f":"IF(上越1!BV13=0,\"\",上越1!BV13)","v":40211},{"$f":"IF(上越1!CA13=0,\"\",上越1!CA13)","v":""},1]
["②明細コード","上越","日報",7,{"$f":"上越1!BU14","v":"北条"},2,"受注No．",{"$f":"IF(上越1!BV14=0,\"\",上越1!BV14)","v":40212},{"$f":"IF(上越1!CA14=0,\"\",上越1!CA14)","v":""},1]
["②明細コード","上越","日報",8,{"$f":"上越1!BU15","v":"広田"},2,"受注No．",{"$f":"IF(上越1!BV15=0,\"\",上越1!BV15)","v":40213},{"$f":"IF(上越1!CA15=0,\"\",上越1!CA15)","v":""},1]
["②明細コード","上越","日報",9,{"$f":"上越1!BU16","v":"米山"},2,"受注No．",{"$f":"IF(上越1!BV16=0,\"\",上越1!BV16)","v":40228},{"$f":"IF(上越1!CA16=0,\"\",上越1!CA16)","v":""},1]
["②明細コード","上越","日報",10,{"$f":"上越1!BU17","v":"笠島"},2,"受注No．",{"$f":"IF(上越1!BV17=0,\"\",上越1!BV17)","v":40216},{"$f":"IF(上越1!CA17=0,\"\",上越1!CA17)","v":""},1]
["②明細コード","上越","日報",11,{"$f":"上越1!BU18","v":0},2,"受注No．",{"$f":"IF(上越1!BV18=0,\"\",上越1!BV18)","v":""},{"$f":"IF(上越1!CA18=0,\"\",上越1!CA18)","v":""},1]
["②明細コード","上越","日報",12,{"$f":"上越1!BU19","v":"高柳"},2,"受注No．",{"$f":"IF(上越1!BV19=0,\"\",上越1!BV19)","v":40217},{"$f":"IF(上越1!CA19=0,\"\",上越1!CA19)","v":""},1]
["②明細コード","上越","日報",13,{"$f":"上越1!#REF!","v":{"$error":"#REF!"}},2,"受注No．",{"$f":"IF(上越1!#REF!=0,\"\",上越1!#REF!)","v":{"$error":"#REF!"}},{"$f":"IF(上越1!#REF!=0,\"\",上越1!#REF!)","v":{"$error":"#REF!"}},1]
["②明細コード","上越","日報",14,{"$f":"上越1!BU20","v":"上小国"},2,"受注No．",{"$f":"IF(上越1!BV20=0,\"\",上越1!BV20)","v":40219},{"$f":"IF(上越1!CA20=0,\"\",上越1!CA20)","v":""},1]
["②明細コード","上越","日報",15,{"$f":"上越1!BU21","v":"荒浜"},2,"受注No．",{"$f":"IF(上越1!BV21=0,\"\",上越1!BV21)","v":40220},{"$f":"IF(上越1!CA21=0,\"\",上越1!CA21)","v":""},1]
["②明細コード","上越","日報",16,{"$f":"上越1!BU22","v":"西山"},2,"受注No．",{"$f":"IF(上越1!BV22=0,\"\",上越1!BV22)","v":40221},{"$f":"IF(上越1!CA22=0,\"\",上越1!CA22)","v":""},1]
["②明細コード","上越","日報",17,{"$f":"上越1!#REF!","v":{"$error":"#REF!"}},2,"受注No．",{"$f":"IF(上越1!#REF!=0,\"\",上越1!#REF!)","v":{"$error":"#REF!"}},{"$f":"IF(上越1!#REF!=0,\"\",上越1!#REF!)","v":{"$error":"#REF!"}},1]
["②明細コード","上越","日報",18,{"$f":"上越1!BU23","v":0},2,"受注No．",{"$f":"IF(上越1!BV23=0,\"\",上越1!BV23)","v":""},{"$f":"IF(上越1!CA23=0,\"\",上越1!CA23)","v":""},1]
["②明細コード","上越","日報",19,{"$f":"上越1!BU24","v":"高田"},2,"受注No．",{"$f":"IF(上越1!BV24=0,\"\",上越1!BV24)","v":50101},{"$f":"IF(上越1!CA24=0,\"\",上越1!CA24)","v":""},1]
["②明細コード","上越","日報",20,{"$f":"上越1!BU25","v":"高田南"},2,"受注No．",{"$f":"IF(上越1!BV25=0,\"\",上越1!BV25)","v":50102},{"$f":"IF(上越1!CA25=0,\"\",上越1!CA25)","v":""},1]
["②明細コード","上越","日報",21,{"$f":"上越1!BU26","v":"木田"},2,"受注No．",{"$f":"IF(上越1!BV26=0,\"\",上越1!BV26)","v":50103},{"$f":"IF(上越1!CA26=0,\"\",上越1!CA26)","v":""},1]
["②明細コード","上越","日報",22,{"$f":"上越1!BU27","v":"春日山"},2,"受注No．",{"$f":"IF(上越1!BV27=0,\"\",上越1!BV27)","v":50106},{"$f":"IF(上越1!CA27=0,\"\",上越1!CA27)","v":""},1]
["②明細コード","上越","日報",23,{"$f":"上越1!BU28","v":"脇野田"},2,"受注No．",{"$f":"IF(上越1!BV28=0,\"\",上越1!BV28)","v":50108},{"$f":"IF(上越1!CA28=0,\"\",上越1!CA28)","v":""},1]
["②明細コード","上越","日報",24,{"$f":"上越1!BU29","v":"上越東"},2,"受注No．",{"$f":"IF(上越1!BV29=0,\"\",上越1!BV29)","v":50109},{"$f":"IF(上越1!CA29=0,\"\",上越1!CA29)","v":""},1]
["②明細コード","上越","日報",25,{"$f":"上越1!BU30","v":"上越三和"},2,"受注No．",{"$f":"IF(上越1!BV30=0,\"\",上越1!BV30)","v":50112},{"$f":"IF(上越1!CA30=0,\"\",上越1!CA30)","v":""},1]
["②明細コード","上越","日報",26,{"$f":"上越1!BU31","v":"直江津"},2,"受注No．",{"$f":"IF(上越1!BV31=0,\"\",上越1!BV31)","v":50113},{"$f":"IF(上越1!CA31=0,\"\",上越1!CA31)","v":""},1]
["②明細コード","上越","日報",27,{"$f":"上越1!BU32","v":"直江津東"},2,"受注No．",{"$f":"IF(上越1!BV32=0,\"\",上越1!BV32)","v":50114},{"$f":"IF(上越1!CA32=0,\"\",上越1!CA32)","v":""},1]
["②明細コード","上越","日報",28,{"$f":"上越1!BU33","v":"黒井"},2,"受注No．",{"$f":"IF(上越1!BV33=0,\"\",上越1!BV33)","v":50117},{"$f":"IF(上越1!CA33=0,\"\",上越1!CA33)","v":""},1]
["②明細コード","上越","日報",29,{"$f":"上越1!BU34","v":"名立谷浜"},2,"受注No．",{"$f":"IF(上越1!BV34=0,\"\",上越1!BV34)","v":50152},{"$f":"IF(上越1!CA34=0,\"\",上越1!CA34)","v":""},1]
["②明細コード","上越","日報",30,{"$f":"上越1!BU35","v":0},2,"受注No．",{"$f":"IF(上越1!BV35=0,\"\",上越1!BV35)","v":""},{"$f":"IF(上越1!CA35=0,\"\",上越1!CA35)","v":""},1]
["②明細コード","上越","日報",31,{"$f":"上越1!BU36","v":"新井"},2,"受注No．",{"$f":"IF(上越1!BV36=0,\"\",上越1!BV36)","v":50119},{"$f":"IF(上越1!CA36=0,\"\",上越1!CA36)","v":""},1]
["②明細コード","上越","日報",32,{"$f":"上越1!BU37","v":"新井学校町"},2,"受注No．",{"$f":"IF(上越1!BV37=0,\"\",上越1!BV37)","v":50120},{"$f":"IF(上越1!CA37=0,\"\",上越1!CA37)","v":""},1]
["②明細コード","上越","日報",33,{"$f":"上越1!BU38","v":"新井南"},2,"受注No．",{"$f":"IF(上越1!BV38=0,\"\",上越1!BV38)","v":50121},{"$f":"IF(上越1!CA38=0,\"\",上越1!CA38)","v":""},1]
["②明細コード","上越","日報",34,{"$f":"上越1!BU39","v":"関山"},2,"受注No．",{"$f":"IF(上越1!BV39=0,\"\",上越1!BV39)","v":50122},{"$f":"IF(上越1!CA39=0,\"\",上越1!CA39)","v":""},1]
["②明細コード","上越","日報",35,{"$f":"上越1!BU40","v":"妙高"},2,"受注No．",{"$f":"IF(上越1!BV40=0,\"\",上越1!BV40)","v":50123},{"$f":"IF(上越1!CA40=0,\"\",上越1!CA40)","v":""},1]
["②明細コード","上越","日報",36,{"$f":"上越1!BU41","v":"赤倉"},2,"受注No．",{"$f":"IF(上越1!BV41=0,\"\",上越1!BV41)","v":50124},{"$f":"IF(上越1!CA41=0,\"\",上越1!CA41)","v":""},1]
["②明細コード","上越２","日報",1,{"$f":"上越２!BU9","v":"柿崎"},2,"受注No．",{"$f":"IF(上越２!BV9=0,\"\",上越２!BV9)","v":50125},{"$f":"IF(上越２!CA9=0,\"\",上越２!CA9)","v":""},1]
["②明細コード","上越２","日報",{"$f":"D228+1","v":2},{"$f":"上越２!BU10","v":"吉川"},2,"受注No．",{"$f":"IF(上越２!BV10=0,\"\",上越２!BV10)","v":50126},{"$f":"IF(上越２!CA10=0,\"\",上越２!CA10)","v":""},1]
["②明細コード","上越２","日報",3,{"$f":"上越２!BU11","v":"大潟"},2,"受注No．",{"$f":"IF(上越２!BV11=0,\"\",上越２!BV11)","v":50127},{"$f":"IF(上越２!CA11=0,\"\",上越２!CA11)","v":""},1]
["②明細コード","上越２","日報",4,{"$f":"上越２!BU12","v":"犀潟"},2,"受注No．",{"$f":"IF(上越２!BV12=0,\"\",上越２!BV12)","v":50128},{"$f":"IF(上越２!CA12=0,\"\",上越２!CA12)","v":""},1]
["②明細コード","上越２","日報",5,{"$f":"上越２!BU13","v":"百閒町"},2,"受注No．",{"$f":"IF(上越２!BV13=0,\"\",上越２!BV13)","v":50129},{"$f":"IF(上越２!CA13=0,\"\",上越２!CA13)","v":""},1]
["②明細コード","上越２","日報",6,{"$f":"上越２!BU14","v":"明治"},2,"受注No．",{"$f":"IF(上越２!BV14=0,\"\",上越２!BV14)","v":50130},{"$f":"IF(上越２!CA14=0,\"\",上越２!CA14)","v":""},1]
["②明細コード","上越２","日報",7,{"$f":"上越２!BU15","v":0},2,"受注No．",{"$f":"IF(上越２!BV15=0,\"\",上越２!BV15)","v":""},{"$f":"IF(上越２!CA15=0,\"\",上越２!CA15)","v":""},1]
["②明細コード","上越２","日報",8,{"$f":"上越２!BU16","v":"浦川原"},2,"受注No．",{"$f":"IF(上越２!BV16=0,\"\",上越２!BV16)","v":50131},{"$f":"IF(上越２!CA16=0,\"\",上越２!CA16)","v":""},1]
["②明細コード","上越２","日報",9,{"$f":"上越２!#REF!","v":{"$error":"#REF!"}},2,"受注No．",{"$f":"IF(上越２!#REF!=0,\"\",上越２!#REF!)","v":{"$error":"#REF!"}},{"$f":"IF(上越２!#REF!=0,\"\",上越２!#REF!)","v":{"$error":"#REF!"}},1]
["②明細コード","上越２","日報",10,{"$f":"上越２!BU17","v":"上越安塚"},2,"受注No．",{"$f":"IF(上越２!BV17=0,\"\",上越２!BV17)","v":50133},{"$f":"IF(上越２!CA17=0,\"\",上越２!CA17)","v":""},1]
["②明細コード","上越２","日報",11,{"$f":"上越２!BU18","v":"大島"},2,"受注No．",{"$f":"IF(上越２!BV18=0,\"\",上越２!BV18)","v":50134},{"$f":"IF(上越２!CA18=0,\"\",上越２!CA18)","v":""},1]
["②明細コード","上越２","日報",12,{"$f":"上越２!BU19","v":"松代"},2,"受注No．",{"$f":"IF(上越２!BV19=0,\"\",上越２!BV19)","v":50135},{"$f":"IF(上越２!CA19=0,\"\",上越２!CA19)","v":""},1]
["②明細コード","上越２","日報",13,{"$f":"上越２!BU20","v":"松之山"},2,"受注No．",{"$f":"IF(上越２!BV20=0,\"\",上越２!BV20)","v":50136},{"$f":"IF(上越２!CA20=0,\"\",上越２!CA20)","v":""},1]
["②明細コード","上越２","日報",14,{"$f":"上越２!BU21","v":0},2,"受注No．",{"$f":"IF(上越２!BV21=0,\"\",上越２!BV21)","v":""},{"$f":"IF(上越２!CA21=0,\"\",上越２!CA21)","v":""},1]
["②明細コード","上越２","日報",15,{"$f":"上越２!BU22","v":"糸魚川"},2,"受注No．",{"$f":"IF(上越２!BV22=0,\"\",上越２!BV22)","v":50137},{"$f":"IF(上越２!CA22=0,\"\",上越２!CA22)","v":""},1]
["②明細コード","上越２","日報",16,{"$f":"上越２!#REF!","v":{"$error":"#REF!"}},2,"受注No．",{"$f":"IF(上越２!#REF!=0,\"\",上越２!#REF!)","v":{"$error":"#REF!"}},{"$f":"IF(上越２!#REF!=0,\"\",上越２!#REF!)","v":{"$error":"#REF!"}},1]
["②明細コード","上越２","日報",17,{"$f":"上越２!BU23","v":"糸魚川東"},2,"受注No．",{"$f":"IF(上越２!BV23=0,\"\",上越２!BV23)","v":50142},{"$f":"IF(上越２!CA23=0,\"\",上越２!CA23)","v":""},1]
["②明細コード","上越２","日報",18,{"$f":"上越２!BU24","v":"根知"},2,"受注No．",{"$f":"IF(上越２!BV24=0,\"\",上越２!BV24)","v":50144},{"$f":"IF(上越２!CA24=0,\"\",上越２!CA24)","v":""},1]
["②明細コード","上越２","日報",19,{"$f":"上越２!BU25","v":0},2,"受注No．",{"$f":"IF(上越２!BV25=0,\"\",上越２!BV25)","v":""},{"$f":"IF(上越２!CA25=0,\"\",上越２!CA25)","v":""},1]
["②明細コード","上越２","日報",20,{"$f":"上越２!BU26","v":"筒石"},2,"受注No．",{"$f":"IF(上越２!BV26=0,\"\",上越２!BV26)","v":50148},{"$f":"IF(上越２!CA26=0,\"\",上越２!CA26)","v":""},1]
["②明細コード","上越２","日報",21,{"$f":"上越２!BU27","v":"能生"},2,"受注No．",{"$f":"IF(上越２!BV27=0,\"\",上越２!BV27)","v":50149},{"$f":"IF(上越２!CA27=0,\"\",上越２!CA27)","v":""},1]
["②明細コード","上越２","日報",22,{"$f":"上越２!BU28","v":"青梅"},2,"受注No．",{"$f":"IF(上越２!BV28=0,\"\",上越２!BV28)","v":50150},{"$f":"IF(上越２!CA28=0,\"\",上越２!CA28)","v":""},1]
["③納品先レコード",null,null,null,null,3,"受注No．",1,{"$f":"SUM(I5:I241)","v":{"$error":"#REF!"}}]
["④トレーラレコード",null,null,null,null,4,1]

{"sheet":"折込指示","index":14,"n_rows":23,"n_cols":13,"rows_kept":23,"cut":false,"hidden":true,"merged":[]}
[]
[null,"折込指示",null,"サイズ","コード",null,"ガタチラ掲載",null,"曜日",null,"assh実施日",null,"assh曜日"]
[null,"スポンサー中心に入れ",null,"Ｂ1","01",null,"有",null,"月",null,"--年　--月　--日　（--曜）",null,"第2木曜"]
[null,"スポンサー寄りに入れ",null,"Ｂ2","02",null,"無",null,"火",null,202103112,null,"第4木曜"]
[null,"住宅地中心に入れ",null,"Ｂ3","03",null,null,null,"水",null,202103254]
[null,"会場中心に入れ",null,"Ｂ4","04",null,null,null,"木",null,202104082]
[null,"会場寄りに入れ",null,"Ｂ5","05",null,null,null,"金",null,202104224]
[null,null,null,"Ｂ3厚",13,null,null,null,"土",null,202105132]
[null,null,null,"Ｂ4厚",14,null,null,null,"日",null,202105274]
[null,null,null,"Ｂ5厚",15,null,null,null,null,null,202106102]
[null,null,null,"長Ｂ3","22",null,null,null,null,null,202106244]
[null,null,null,"Ｂ3＋Ｂ4","23"]
[null,null,null,"Ｂ3*2","24"]
[null,null,null,"Ｂ3*3","25"]
[null,null,null,"Ｂ1連合",41]
[null,null,null,"Ｂ2連合",42]
[null,null,null,"Ｂ3連合",43]
[null,null,null,"Ｂ4連合",44]
[null,null,null,"Ａ4証紙",54]
[null,null,null,"特","90"]
[null,null,null,"-"]
[null,null,null,"A4（Ｂ4）","04"]
[null,null,null,"A3（Ｂ3）","03"]

{"sheet":"ＭＡＰ反映","index":15,"n_rows":285,"n_cols":13,"rows_kept":285,"cut":false,"hidden":true,"merged":[]}
["Seq-No","銘柄","コード","販売店コード","販売店名","基本部数","依頼部数","割合","区域指定","フラグ","地区コード","地区名","面積占有率"]
[null,"日報","401NN000000101001","0101001","万代",4600]
[null,"日報","401NN000000101002","0101002","駅南",5330,""]
[null,"日報","401NN000000101003","0101003","木戸",5730,""]
[null,"日報","401NN000000101005","0101005","石山東",6530,""]
[null,"日報","401NN000000101006","0101006","山ノ下",4830,""]
[null,"日報","401NN000000101007","0101007","物見山",4230,""]
[null,"日報","401NN000000101008","0101008","とやの",3500,""]
[null,"日報","401NN000000101009","0101009","上所",1660,""]
[null,"日報","401NN000000101010","0101010","県庁前",3600,""]
[null,"日報","401NN000000101011","0101011","女池",2630,""]
[null,"日報","401NN000000101012","0101012","愛宕",4800,""]
[null,"日報","401NN000000101013","0101013","河渡",5250,""]
[null,"日報","401NN000000101014","0101014","牡丹山",2150,""]
[null,"日報","401NN000000101015","0101015","大形",4190,""]
[null,"日報","401NN000000101016","0101016","アガノ",7150,""]
[null,"日報","401NN000000101017","0101017","新潟南",3470,""]
[null,"日報","401NN000000101018","0101018","姥ケ山",3000,""]
[null,"日報","401NN000000101019","0101019","山二ツ",3000,""]
[null,"日報","401NN000000101021","0101021","亀田西",2950,""]
[null,"日報","401NN000000101022","0101022","亀田",4430,""]
[null,"日報","401NN000000101023","0101023","横越",2520,""]
[null,"日報","401NN000000101024","0101024","有明",6800,""]
[null,"日報","401NN000000101026","0101026","小針",7500,""]
[null,"日報","401NN000000101027","0101027","中通",3300,""]
[null,"日報","401NN000000101029","0101029","本町",3000,""]
[null,"日報","401NN000000101030","0101030","中央",3400,""]
[null,"日報","401NN000000101031","0101031","真砂",2250,""]
[null,"日報","401NN000000101032","0101032","寺尾",6450,""]
[null,"日報","401NN000000101033","0101033","新大前",3040,""]
[null,"日報","401NN000000101034","0101034","内野",3220,""]
[null,"日報","401NN000000101035","0101035","西内野",2570,""]
[null,"日報","401NN000000101036","0101036","上坂井",2620,""]
[null,"日報","401NN000000101037","0101037","小新",2900,""]
[null,"日報","401NN000000101038","0101038","寺地",1870,""]
[null,"日報","401NN000000101039","0101039","黒埼",3540,""]
[null,"日報","401NN000000101040","0101040","黒埼南",3550,""]
[null,"ア","101NN000000103006","0103006","新潟西",3130,""]
[null,"ア","101NN000000103007","0103007","内野",1240,""]
[null,"ヨサ日","103NN000000103014","0103014","本町",1150,""]
[null,"ヨサ日","103NN000000103015","0103015","中央",2400,""]
[null,"ヨサ日","103NN000000103016","0103016","小針",1720,""]
[null,"ヨサ日","103NN000000103017","0103017","寺尾",1450,""]
[null,"ヨサ日","103NN000000103018","0103018","内野",1850,""]
[null,"ヨサ日","103NN000000103019","0103019","小新黒埼",1100,""]
[null,"ヨサ日","103NN000000103020","0103020","黒埼南",450,""]
[null,"ヨサ日","103NN000000103021","0103021","万代",2200,""]
[null,"ヨサ日","103NN000000103022","0103022","県庁前",3800,""]
[null,"ヨサ日","103NN000000103023","0103023","駅南東",2100,""]
[null,"ヨサ日","103NN000000103024","0103024","山木戸",1780,""]
[null,"ヨサ日","103NN000000103025","0103025","山ノ下",1930,""]
[null,"ヨサ日","103NN000000103026","0103026","松浜",500,""]
[null,"ヨサ日","103NN000000103028","0103028","亀田",2500,""]
[null,"合","401NN000000201001","0201001","分水",4050,""]
[null,"新アマヨ日","401NN000000201002","0201002","吉田",5150,""]
[null,"サ","105NN000000201003","0201003","吉田",300,""]
[null,"合","401NN000000201004","0201004","粟生津",1000,""]
[null,"朝刊+ク","401NN000000201005","0201005","巻",6730,""]
[null,"アサ","101NN000000201006","0201006","巻",750,""]
[null,"ヨ","103NN000000201007","0201007","巻",810,""]
[null,"朝刊+ク","401NN000000201008","0201008","岩室",730,""]
[null,"朝刊+ク","401NN000000201009","0201009","西川",4500,""]
[null,"合","401NN000000201010","0201010","中之口",1180,""]
[null,"合","401NN000000201011","0201011","弥彦",2300,""]
[null,"合","401NN000000202001","0202001","小須戸",3620,""]
[null,"朝刊+ク","401NN000000202002","0202002","矢代田",900,""]
[null,"新マヨ日","401NN000000202003","0202003","村松",4500,""]
[null,"アサ","101NN000000202004","0202004","村松",590,""]
[null,"朝刊+ク","401NN000000203001","0203001","新津",16500,""]
[null,"新マヨ日","401NN000000204001","0204001","五泉",8600,""]
[null,"アサ","101NN000000204002","0204002","五泉",750,""]
[null,"合","401NN000000204003","0204003","馬下",450,""]
[null,"朝刊+ク","401NN000000205001","0205001","白根",3550,""]
[null,"ヨサ","103NN000000205002","0205002","白根",1140,""]
[null,"朝刊+ク","401NN000000205003","0205003","月潟",1840,""]
[null,"朝刊+ク","401NN000000205004","0205004","新飯田",1030,""]
[null,"新アマサ日","401NN000000206001","0206001","三条北",7400,""]
[null,"新アマサ日","401NN000000206002","0206002","三条南",2560,""]
[null,"新アマサ日","401NN000000206003","0206003","三条西",3300,""]
[null,"ヨ","103NN000000206006","0206006","三条",6000,""]
[null,"朝刊+ク","401NN000000207001","0207001","燕",7060,""]
[null,"新アマサ日","401NN000000207002","0207002","燕南",1400,""]
[null,"ヨ","103NN000000207005","0207005","燕",3160,""]
[null,"朝刊+ク","401NN000000208001","0208001","加茂",9200,""]
[null,"ヨ","103NN000000208003","0208003","加茂",1900,""]
[null,"合","401NN000000209001","0209001","下田",2310,""]
[null,"合","401NN000000209002","0209002","栄山嵜",1330,""]
[null,"合","401NN000000209003","0209003","栄吉田",330,""]
[null,"合","401NN000000209005","0209005","帯織",390,""]
[null,"朝刊+ク","401NN000000210001","0210001","豊栄北",3150,""]
[null,"朝刊+ク","401NN000000210002","0210002","豊栄南※",2800,""]
[null,"ヨサ日","103NN000000210002","0210002","豊栄",1050,""]
[null,"朝刊+ク","401NN000000210003","0210003","木崎",2550,""]
[null,"朝刊+ク","401NN000000211002","0211002","新発田西",10650,""]
[null,"朝刊+ク","401NN000000211003","0211003","新発田東",10250,""]
[null,"ア","101NN000000211004","0211004","新発田",1850,""]
[null,"ヨサ","103NN000000211005","0211005","新発田",4200,""]
[null,"合","401NN000000211006","0211006","月岡",2250,""]
[null,"新アマ日","401NN000000212001","0212001","中条東",2120,""]
[null,"新アマ日","401NN000000212002","0212002","西中条",1600,""]
[null,"ヨ","103NN000000212003","0212003","中条",1150,""]
[null,"合","401NN000000212004","0212004","黒川",2590,""]
[null,"朝刊+ク","401NN000000212005","0212005","水原※",6350,""]
[null,"ヨサ","103NN000000212006","0212006","水原",1290,""]
[null,"合","401NN000000212007","0212007","保田",2710,""]
[null,"合","401NN000000213001","0213001","村上",8450,""]
[null,"合","401NN000000213002","0213002","岩船",1800,""]
[null,"合","401NN000000213003","0213003","越後早川",350,""]
[null,"合","401NN000000214001","0214001","坂町",2500,""]
[null,"合","401NN000000214002","0214002","平林",1100,""]
[null,"合","401NN000000214003","0214003","関川",1400,""]
[null,"合","401NN000000214004","0214004","寒川桑川",270,""]
[null,"合","401NN000000214005","0214005","府屋",790,""]
[null,"合","401NN000000214006","0214006","黒川俣",280,""]
[null,"合","401NN000000215001","0215001","津川",1880,""]
[null,"合","401NN000000215002","0215002","豊実",80,""]
[null,"合","401NN000000215003","0215003","日出谷",230,""]
[null,"合","401NN000000215004","0215004","鹿瀬",400,""]
[null,"合","401NN000000215005","0215005","白崎",680,""]
[null,"合","401NN000000215006","0215006","五十島",200,""]
[null,"新マ日","401NN000000301001","0301001","両津",2600,""]
[null,"ア","101NN000000301002","0301002","両津",800,""]
[null,"ヨ","103NN000000301003","0301003","両津",800,""]
[null,"サ","105NN000000301004","0301004","両津",400,""]
[null,"新マ日","401NN000000301005","0301005","吉井",240,""]
[null,"新サ","401NN000000302001","0302001","真野",900,""]
[null,"アマヨサ日","101NN000000302002","0302002","真野",280,""]
[null,"新マサ日","401NN000000302003","0302003","新穂",800,""]
[null,"ア","101NN000000302004","0302004","新穂",100,""]
[null,"新","401NN000000302006","0302006","畑野",780,""]
[null,"アマヨサ日","101NN000000302007","0302007","畑野",280,""]
[null,"新アマ日","401NN000000302008","0302008","佐和田",1700,""]
[null,"ヨサ","103NN000000302010","0302010","佐和田",400,""]
[null,"ヨア","103NN000000302011","0302011","沢根",100,""]
[null,"合","401NN000000302012","0302012","相川",1150,""]
[null,"ア","101NN000000302013","0302013","相川",250,""]
[null,"ヨサ","103NN000000302014","0302014","相川",250,""]
[null,"合","401NN000000302015","0302015","金井",1020,""]
[null,"新","401NN000000302016","0302016","羽茂",650,""]
[null,"アマヨサ日","101NN000000302017","0302017","羽茂",300,""]
[null,"新","401NN000000302018","0302018","小木",530,""]
[null,"アマサ日","101NN000000302019","0302019","小木",250,""]
[null,"ヨ","103NN000000302020","0302020","小木",200,""]
[null,"新マ日","401NN000000302021","0302021","赤泊",500,""]
[null,"アヨサ","101NN000000302022","0302022","赤泊",100,""]
[null,"合","401NN000000302023","0302023","多田",130,""]
[null,"新アマサ日","401NN000000401001","0401001","長岡大手",2700,""]
[null,"朝刊+ク","401NN000000401002","0401002","長岡中央",4950,""]
[null,"新アマサ日","401NN000000401003","0401003","長岡南",1810,""]
[null,"朝刊＋ク","401NN000000401004","0401004","長岡東",4850,""]
[null,"新アマサ日","401NN000000401005","0401005","長岡新保",3690,""]
[null,"新アマサ日","103NN000000401008","0401008","長岡悠久",3650,""]
[null,"ヨ","103NN000000401009","0401009","長岡",3550,""]
[null,"ヨ","401NN000000401010","0401010","長岡南部",1580,""]
[null,"新アマサ日","103NN000000401011","0401011","西長岡",4320,""]
[null,"ヨ","401NN000000401012","0401012","長岡西部",2830,""]
[null,"新アマサ日","401NN000000401013","0401013","関原",4870,""]
[null,"合","401NN000000401014","0401014","王寺川",520,""]
[null,"新アマサ日","401NN000000401015","0401015","長岡江陽",2260,""]
[null,"合","401NN000000401016","0401016","黒条",2000,""]
[null,"合","103NN000000401018","0401018","新組",1600,""]
[null,"ヨサ日","401NN000000401020","0401020","浦瀬",220,""]
[null,"新アマサ日","103NN000000401022","0401022","長岡宮内",4680,""]
[null,"ヨ","401NN000000401023","0401023","長岡宮内",1500,""]
[null,"合","401NN000000401024","0401024","濁沢",400,""]
[null,"合","401NN000000401025","0401025","岡南",850,""]
[null,"合","401NN000000401888","0401888","六日市",380,""]
[null,"新アマサ","401NN000000402001","0402001","栃尾",3100,""]
[null,"ヨ日","103NN000000402003","0402003","栃尾",2570,""]
[null,"新アマサ日","401NN000000403001","0403001","見附南\n（椿沢含む）",2950,""]
[null,"新アマ日","401NN000000403002","0403002","見附北",3900,""]
[null,"ヨ","103NN000000403003","0403003","見附",1650,""]
[null,"サ","105NN000000403004","0403004","見附",880,""]
[null,"新アマサ日","401NN000000403005","0403005","今町",3400,""]
[null,"ヨ","103NN000000403006","0403006","今町",650,""]
[null,"新アマサ日","401NN000000404001","0404001","越路",3260,""]
[null,"ヨ","103NN000000404002","0404002","来迎寺",980,""]
[null,"合","401NN000000404003","0404003","塚山",1120,""]
[null,"合","401NN000000404004","0404004","脇野町",1180,""]
[null,"合","401NN000000404005","0404005","槙原",280,""]
[null,"合","401NN000000404006","0404006","与板",1780,""]
[null,"合","401NN000000404007","0404007","大河津",1260,""]
[null,"合","401NN000000404008","0404008","寺泊",1380,""]
[null,"合","401NN000000404009","0404009","和島",1120,""]
[null,"合","401NN000000404010","0404010","西越\n（石地含む）",1050,""]
[null,"合","401NN000000404011","0404011","出雲崎",800,""]
[null,"新アマサ日","401NN000000405001","0405001","小千谷中央",4200,""]
[null,"新アマサ日","401NN000000405002","0405002","小千谷東",1850,""]
[null,"ヨ","103NN000000405003","0405003","小千谷",1750,""]
[null,"合","401NN000000405004","0405004","片貝",1690,""]
[null,"合","401NN000000405005","0405005","岩沢",710,""]
[null,"新アマサ日","401NN000000406001","0406001","十日町西部",3290,""]
[null,"新アマサ日","401NN000000406002","0406002","十日町東部",1160,""]
[null,"ヨ日","103NN000000406004","0406004","十日町",1470,""]
[null,"合","401NN000000406006","0406006","下条",1240,""]
[null,"合","401NN000000406007","0406007","魚沼中条",1050,""]
[null,"合","401NN000000406008","0406008","水沢",860,""]
[null,"合","401NN000000406009","0406009","伊達",380,""]
[null,"合","401NN000000407001","0407001","川口",1210,""]
[null,"合","401NN000000407002","0407002","堀之内",2080,""]
[null,"新アマサ日","401NN000000407003","0407003","小出",4740,""]
[null,"ヨ","103NN000000407004","0407004","小出",1430,""]
[null,"合","401NN000000407006","0407006","魚沼北",2360,""]
[null,"新アマサ日","401NN000000408001","0408001","浦佐",1180,""]
[null,"ヨ","103NN000000408002","0408002","浦佐",540,""]
[null,"合","401NN000000408003","0408003","大崎",730,""]
[null,"合","401NN000000408004","0408004","五日町",1140,""]
[null,"合","401NN000000408005","0408005","城内",980,""]
[null,"新アマサ日","401NN000000408006","0408006","六日町",3200,""]
[null,"ヨ","103NN000000408007","0408007","六日町",2220,""]
[null,"新アマサ日","401NN000000408008","0408008","塩沢",1750,""]
[null,"ヨ","103NN000000408009","0408009","塩沢石打",1570,""]
[null,"合","401NN000000408010","0408010","上田",800,""]
[null,"新アマサ日","401NN000000408011","0408011","石打",420,""]
[null,"新アマサ日","401NN000000408013","0408013","湯沢",1550,""]
[null,"ヨ","103NN000000408014","0408014","湯沢",950,""]
[null,"合","401NN000000409001","0409001","十日町川西",1600,""]
[null,"合","401NN000000409002","0409002","仙田",190,""]
[null,"合","401NN000000409003","0409003","田沢",1150,""]
[null,"合","401NN000000409004","0409004","鹿渡",100,""]
[null,"合","401NN000000409005","0409005","津南",1990,""]
[null,"合","401NN000000409006","0409006","上郷",350,""]
[null,"合","401NN000000409007","0409007","森宮野原",50,""]
[null,"新アマサ日","401NN000000410001","0410001","柏崎中央",2470,""]
[null,"朝刊＋ク","401NN000000410002","0410002","柏崎",3250,""]
[null,"新アマサ日","401NN000000410003","0410003","柏崎南",3150,""]
[null,"ヨ","103NN000000410004","0410004","柏崎西部",3350,""]
[null,"ヨ","103NN000000410005","0410005","柏崎東部",3100,""]
[null,"新アマサ日","401NN000000410006","0410006","柏崎東",1030,""]
[null,"合","401NN000000410010","0410010","安田",3080,""]
[null,"合","401NN000000410011","0410011","北条",350,""]
[null,"合","401NN000000410012","0410012","広田",450,""]
[null,"合","401NN000000410013","0410013","米山",330,""]
[null,"合","401NN000000410014","0410014","笠島",70,""]
[null,"合","401NN000000411001","0411001","高柳",380,""]
[null,"合","401NN000000411002","0411002","小国",680,""]
[null,"合","401NN000000411003","0411003","上小国",390,""]
[null,"合","401NN000000411004","0411004","荒浜",1900,""]
[null,"合","401NN000000411005","0411005","西山",1330,""]
[null,"合","401NN000000411007","0411007","礼拝",400,""]
[null,"朝刊＋ク","401NN000000501001","0501001","高田",2950,""]
[null,"新マサ日","401NN000000501002","0501002","高田南",3200,""]
[null,"新マサ日","401NN000000501003","0501003","木田",2000,""]
[null,"ア","101NN000000501004","0501004","高田",2900,""]
[null,"ヨ","103NN000000501005","0501005","高田",3400,""]
[null,"新マサ日","401NN000000501006","0501006","春日山",3200,""]
[null,"ヨ","103NN000000501006","0501006","上越中央",2750,""]
[null,"新アマサ日","103NN000000501007","0501007","脇野田",1850,""]
[null,"ヨ","401NN000000501008","0501008","脇野田",400,""]
[null,"合","401NN000000501009","0501009","上越東",4580,""]
[null,"合","401NN000000501010","0501010","上越三和",1750,""]
[null,"新マサ日","401NN000000501011","0501011","直江津",3270,""]
[null,"新マサ日","401NN000000501012","0501012","直江津東",3750,""]
[null,"ヨ","103NN000000501013","0501013","直江津",3950,""]
[null,"ア","101NN000000501014","0501014","直江津",2200,""]
[null,"合","401NN000000501015","0501015","黒井",950,""]
[null,"合","401NN000000501016","0501016","名立谷浜",1200,""]
[null,"合","401NN000000502001","0502001","新井",6200,""]
[null,"合","401NN000000502002","0502002","新井学校町",1450,""]
[null,"合","401NN000000502003","0502003","新井南",1050,""]
[null,"合","401NN000000502004","0502004","関山",1010,""]
[null,"合","401NN000000502005","0502005","妙高",630,""]
[null,"合","401NN000000502006","0502006","赤倉",750,""]
[null,"合","401NN000000503001","0503001","柿崎",2750,""]
[null,"合","401NN000000503002","0503002","吉川",900,""]
[null,"合","401NN000000503003","0503003","大潟",2010,""]
[null,"合","401NN000000503004","0503004","犀潟",890,""]
[null,"合","401NN000000503005","0503005","百間町",1020,""]
[null,"合","401NN000000503006","0503006","明治",450,""]
[null,"合","401NN000000504001","0504001","浦川原",920,""]
[null,"合","401NN000000504002","0504002","安塚",300,""]
[null,"合","401NN000000504003","0504003","小黒",560,""]
[null,"合","401NN000000504004","0504004","大島",400,""]
[null,"合","401NN000000504005","0504005","松代",810,""]
[null,"合","401NN000000504006","0504006","松之山",570,""]
[null,"新マ","401NN000000505001","0505001","糸魚川",3750,""]
[null,"ヨアサ日","103NN000000505002","0505002","糸魚川綱島",4080,""]
[null,"合","401NN000000505003","0505003","早川",1050,""]
[null,"ヨア","103NN000000505004","0505004","大和川吉岡",500,""]
[null,"新マ","401NN000000505006","0505006","糸魚川東",1070,""]
[null,"ヨア","103NN000000505007","0505007","浦本田代",150,""]
[null,"合","401NN000000505008","0505008","根知",380,""]
[null,"合","401NN000000506002","0506002","筒石",560,""]
[null,"合","401NN000000506003","0506003","能生",2000,""]
[null,"合","401NN000000506004","0506004","青海",2300,""]