{"text_format":"1","workbook":"xlsx","n_sheets":18,"sheets":["・","識別一覧","表紙 ","ご案内","新潟市","下越1","下越２","中越1","中越２","上越1","上越２","地区集計","ガタチラ(チラシ情報)掲載","更新履歴","ＥＤＩ朝刊","ＥＤＩくるみる","折込指示","ＭＡＰ反映"],"not_rendered":{"charts":0,"images":9,"macros":1,"external_links":1,"defined_names":24,"comments":1,"pivot_tables":0},"unopened":[],"bounds":{"document_bytes":16777216,"sheet_cells":100000,"rows_first":2000,"rows_last":500,"rows_between":2000,"halvings":0,"cell_chars":16384,"cell_head_chars":4096},"cells_cut":0,"cells_raw":0,"read":"whole","date_system":"1900"}

{"sheet":"・","index":0,"n_rows":652,"n_cols":68,"rows_kept":652,"cut":false,"hidden":true,"merged":[[0,5,0,7],[0,8,0,11]]}
[null,null,null,null,null,"合計：",null,null,{"$f":"SUBTOTAL(9,I3:I650)","v":1173940}]
[1,"販売店コード","販売店","扱い店","扱い紙","種別","種別NO","識別コード","フル部数","北区","東区","中央区","江南区","西区","南区","西蒲区","秋葉区","区合計","現新潟市","旧新潟市","旧黒埼町","旧味方村","旧潟東村","旧西川町","旧月潟村","旧巻町","旧中之口村","旧岩室村","旧白根市","旧小須戸町","旧新津市","旧亀田町","旧横越町","旧豊栄市","旧燕市","旧吉田町","旧分水町","弥彦村","旧新発田市","旧豊浦町","旧紫雲寺町","旧加治川村","聖籠町","旧中条町","旧黒川村","旧村上市","旧荒川町","旧神林村","旧朝日村","旧山北町","関川村","粟島浦村","旧水原町","旧笹神村","旧安田町","旧京ヶ瀬村","旧津川町","旧鹿瀬町","旧三川村","旧上川村","旧五泉市","旧村松町","田上町","加茂市","旧三条市","旧栄町","旧下田村","旧市町村"]
[2,10101,"万代","MN","新アマ日","朝刊",{"$f":"IFERROR(VLOOKUP(F3,[1]データ!$A$2:$B$16,2,FALSE),\"\")","v":1},101011,3190,null,null,{"$f":"I3","v":3190},null,null,null,null,null,{"$f":"SUM(J3:Q3)","v":3190},{"$f":"SUM(T3:AH3)","v":3190},{"$f":"I3","v":3190},null,null,null,null,null,null,null,null,null,null,null,null,null,null,null,null,null,null,null,null,null,null,null,null,null,null,null,null,null,null,null,null,null,null,null,null,null,null,null,null,null,null,null,null,null,null,null,{"$f":"SUM(T3:BO3)","v":3190}]
[3,10101,"万代",null,null,"くるみる",{"$f":"IFERROR(VLOOKUP(F4,[1]データ!$A$2:$B$16,2,FALSE),\"\")","v":3},101013,400,null,null,{"$f":"I4","v":400},null,null,null,null,null,400,null,null,null,null,null,null,null,null,null,null,null,null,null,null,null,null,null,null,null,null,null,null,null,null,null,null,null,null,null,null,null,null,null,null,null,null,null,null,null,null,null,null,null,null,null,null,null,null,null,{"$f":"SUM(U4:BO4)","v":0}]
[4,10101,"万代",null,null,"otona+",{"$f":"IFERROR(VLOOKUP(F5,[1]データ!$A$2:$B$16,2,FALSE),\"\")","v":4},101014,550,null,null,{"$f":"I5","v":550},null,null,null,null,null,550,null,null,null,null,null,null,null,null,null,null,null,null,null,null,null,null,null,null,null,null,null,null,null,null,null,null,null,null,null,null,null,null,null,null,null,null,null,null,null,null,null,null,null,null,null,null,null,null,null,0]
[5,10101,"万代",null,null,"assh",{"$f":"IFERROR(VLOOKUP(F6,[1]データ!$A$2:$B$16,2,FALSE),\"\")","v":5},101015,2500,null,null,2500,null,null,null,null,null,2500,null,null,null,null,null,null,null,null,null,null,null,null,null,null,null,null,null,null,null,null,null,null,null,null,null,null,null,null,null,null,null,null,null,null,null,null,null,null,null,null,null,null,null,null,null,null,null,null,null,0]
[6,10101,"万代",null,null,"assh・朝",{"$f":"IFERROR(VLOOKUP(F7,[1]データ!$A$2:$B$16,2,FALSE),\"\")","v":51},1010151,{"$f":"I3","v":3190},null,null,null,null,null,null,null,null,0,null,null,null,null,null,null,null,null,null,null,null,null,null,null,null,null,null,null,null,null,null,null,null,null,null,null,null,null,null,null,null,null,null,null,null,null,null,null,null,null,null,null,null,null,null,null,null,null,null,0]
[7,10101,"万代",null,null,"市報・区報",{"$f":"IFERROR(VLOOKUP(F8,[1]データ!$A$2:$B$16,2,FALSE),\"\")","v":2},101012,{"$f":"R8","v":3190},null,null,{"$f":"L3","v":3190},null,null,null,null,null,3190,null,null,null,null,null,null,null,null,null,null,null,null,null,null,null,null,null,null,null,null,null,null,null,null,null,null,null,null,null,null,null,null,null,null,null,null,null,null,null,null,null,null,null,null,null,null,null,null,null,0]
[8,10102,"駅南","MN","新アマ日","朝刊",{"$f":"IFERROR(VLOOKUP(F9,[1]データ!$A$2:$B$16,2,FALSE),\"\")","v":1},101021,4400,null,690,3960,null,null,null,null,null,4650,{"$f":"SUM(T9:AH9)","v":4400},{"$f":"I9","v":4400},null,null,null,null,null,null,null,null,null,null,null,null,null,null,null,null,null,null,null,null,null,null,null,null,null,null,null,null,null,null,null,null,null,null,null,null,null,null,null,null,null,null,null,null,null,null,null,0]
[9,10102,"駅南",null,null,"くるみる",{"$f":"IFERROR(VLOOKUP(F10,[1]データ!$A$2:$B$16,2,FALSE),\"\")","v":3},101023,630,null,160,520,null,null,null,null,null,680,null,null,null,null,null,null,null,null,null,null,null,null,null,null,null,null,null,null,null,null,null,null,null,null,null,null,null,null,null,null,null,null,null,null,null,null,null,null,null,null,null,null,null,null,null,null,null,null,null,0]
[10,10102,"駅南",null,null,"otona+",{"$f":"IFERROR(VLOOKUP(F11,[1]データ!$A$2:$B$16,2,FALSE),\"\")","v":4},101024,660,null,110,660,null,null,null,null,null,770,null,null,null,null,null,null,null,null,null,null,null,null,null,null,null,null,null,null,null,null,null,null,null,null,null,null,null,null,null,null,null,null,null,null,null,null,null,null,null,null,null,null,null,null,null,null,null,null,null,0]
[11,10102,"駅南",null,null,"assh",{"$f":"IFERROR(VLOOKUP(F12,[1]データ!$A$2:$B$16,2,FALSE),\"\")","v":5},101025,7500,null,1170,6610,null,null,null,null,null,7780,null,null,null,null,null,null,null,null,null,null,null,null,null,null,null,null,null,null,null,null,null,null,null,null,null,null,null,null,null,null,null,null,null,null,null,null,null,null,null,null,null,null,null,null,null,null,null,null,null,0]
[12,10102,"駅南",null,null,"assh・朝",{"$f":"IFERROR(VLOOKUP(F13,[1]データ!$A$2:$B$16,2,FALSE),\"\")","v":51},1010251,{"$f":"I9","v":4400},null,null,null,null,null,null,null,null,0,null,null,null,null,null,null,null,null,null,null,null,null,null,null,null,null,null,null,null,null,null,null,null,null,null,null,null,null,null,null,null,null,null,null,null,null,null,null,null,null,null,null,null,null,null,null,null,null,null,0]
[13,10102,"駅南",null,null,"市報・区報",{"$f":"IFERROR(VLOOKUP(F14,[1]データ!$A$2:$B$16,2,FALSE),\"\")","v":2},101022,{"$f":"R14","v":4650},null,{"$f":"K9","v":690},{"$f":"L9","v":3960},null,null,null,null,null,4650,null,null,null,null,null,null,null,null,null,null,null,null,null,null,null,null,null,null,null,null,null,null,null,null,null,null,null,null,null,null,null,null,null,null,null,null,null,null,null,null,null,null,null,null,null,null,null,null,null,0]
[14,10103,"木戸","MN","新アマ日","朝刊",{"$f":"IFERROR(VLOOKUP(F15,[1]データ!$A$2:$B$16,2,FALSE),\"\")","v":1},101031,4680,null,4680,430,null,null,null,null,null,5110,4680,{"$f":"I15","v":4680},null,null,null,null,null,null,null,null,null,null,null,null,null,null,null,null,null,null,null,null,null,null,null,null,null,null,null,null,null,null,null,null,null,null,null,null,null,null,null,null,null,null,null,null,null,null,null,0]
[15,10103,"木戸",null,null,"くるみる",{"$f":"IFERROR(VLOOKUP(F16,[1]データ!$A$2:$B$16,2,FALSE),\"\")","v":3},101033,750,null,750,100,null,null,null,null,null,850,null,null,null,null,null,null,null,null,null,null,null,null,null,null,null,null,null,null,null,null,null,null,null,null,null,null,null,null,null,null,null,null,null,null,null,null,null,null,null,null,null,null,null,null,null,null,null,null,null,0]
[16,10103,"木戸",null,null,"otona+",{"$f":"IFERROR(VLOOKUP(F17,[1]データ!$A$2:$B$16,2,FALSE),\"\")","v":4},101034,650,null,650,260,null,null,null,null,null,910,null,null,null,null,null,null,null,null,null,null,null,null,null,null,null,null,null,null,null,null,null,null,null,null,null,null,null,null,null,null,null,null,null,null,null,null,null,null,null,null,null,null,null,null,null,null,null,null,null,0]
[17,10103,"木戸",null,null,"assh",{"$f":"IFERROR(VLOOKUP(F18,[1]データ!$A$2:$B$16,2,FALSE),\"\")","v":5},101035,6150,null,6150,570,null,null,null,null,null,6720,null,null,null,null,null,null,null,null,null,null,null,null,null,null,null,null,null,null,null,null,null,null,null,null,null,null,null,null,null,null,null,null,null,null,null,null,null,null,null,null,null,null,null,null,null,null,null,null,null,0]
[18,10103,"木戸",null,null,"assh・朝",{"$f":"IFERROR(VLOOKUP(F19,[1]データ!$A$2:$B$16,2,FALSE),\"\")","v":51},1010351,{"$f":"I15","v":4680},null,null,null,null,null,null,null,null,0,null,null,null,null,null,null,null,null,null,null,null,null,null,null,null,null,null,null,null,null,null,null,null,null,null,null,null,null,null,null,null,null,null,null,null,null,null,null,null,null,null,null,null,null,null,null,null,null,null,0]
[19,10103,"木戸",null,null,"市報・区報",{"$f":"IFERROR(VLOOKUP(F20,[1]データ!$A$2:$B$16,2,FALSE),\"\")","v":2},101032,{"$f":"R20","v":5110},null,{"$f":"K15","v":4680},{"$f":"L15","v":430},null,null,null,null,null,5110,null,null,null,null,null,null,null,null,null,null,null,null,null,null,null,null,null,null,null,null,null,null,null,null,null,null,null,null,null,null,null,null,null,null,null,null,null,null,null,null,null,null,null,null,null,null,null,null,null,0]
[20,10105,"石山東","MN","新アマ日","朝刊",{"$f":"IFERROR(VLOOKUP(F21,[1]データ!$A$2:$B$16,2,FALSE),\"\")","v":1},101051,5600,null,{"$f":"I21","v":5600},null,null,null,null,null,null,5600,5600,{"$f":"I21","v":5600},null,null,null,null,null,null,null,null,null,null,null,null,null,null,null,null,null,null,null,null,null,null,null,null,null,null,null,null,null,null,null,null,null,null,null,null,null,null,null,null,null,null,null,null,null,null,null,0]
[21,10105,"石山東",null,null,"くるみる",{"$f":"IFERROR(VLOOKUP(F22,[1]データ!$A$2:$B$16,2,FALSE),\"\")","v":3},101053,1150,null,{"$f":"I22","v":1150},null,null,null,null,null,null,1150,null,null,null,null,null,null,null,null,null,null,null,null,null,null,null,null,null,null,null,null,null,null,null,null,null,null,null,null,null,null,null,null,null,null,null,null,null,null,null,null,null,null,null,null,null,null,null,null,null,0]
[22,10105,"石山東",null,null,"otona+",{"$f":"IFERROR(VLOOKUP(F23,[1]データ!$A$2:$B$16,2,FALSE),\"\")","v":4},101054,640,null,640,null,null,null,null,null,null,640,null,null,null,null,null,null,null,null,null,null,null,null,null,null,null,null,null,null,null,null,null,null,null,null,null,null,null,null,null,null,null,null,null,null,null,null,null,null,null,null,null,null,null,null,null,null,null,null,null,0]
[23,10105,"石山東",null,null,"assh",{"$f":"IFERROR(VLOOKUP(F24,[1]データ!$A$2:$B$16,2,FALSE),\"\")","v":5},101055,5300,null,5300,null,null,null,null,null,null,5300,null,null,null,null,null,null,null,null,null,null,null,null,null,null,null,null,null,null,null,null,null,null,null,null,null,null,null,null,null,null,null,null,null,null,null,null,null,null,null,null,null,null,null,null,null,null,null,null,null,0]
[24,10105,"石山東",null,null,"assh・朝",{"$f":"IFERROR(VLOOKUP(F25,[1]データ!$A$2:$B$16,2,FALSE),\"\")","v":51},1010551,{"$f":"I21","v":5600},null,null,null,null,null,null,null,null,0,null,null,null,null,null,null,null,null,null,null,null,null,null,null,null,null,null,null,null,null,null,null,null,null,null,null,null,null,null,null,null,null,null,null,null,null,null,null,null,null,null,null,null,null,null,null,null,null,null,0]
[25,10105,"石山東",null,null,"市報・区報",{"$f":"IFERROR(VLOOKUP(F26,[1]データ!$A$2:$B$16,2,FALSE),\"\")","v":2},101052,{"$f":"R26","v":5600},null,{"$f":"K21","v":5600},null,null,null,null,null,null,5600,null,null,null,null,null,null,null,null,null,null,null,null,null,null,null,null,null,null,null,null,null,null,null,null,null,null,null,null,null,null,null,null,null,null,null,null,null,null,null,null,null,null,null,null,null,null,null,null,null,0]
[26,10107,"山ノ下","MN","新アマ日","朝刊",{"$f":"IFERROR(VLOOKUP(F27,[1]データ!$A$2:$B$16,2,FALSE),\"\")","v":1},101071,3790,null,2670,1120,null,null,null,null,null,3790,3790,{"$f":"I27","v":3790},null,null,null,null,null,null,null,null,null,null,null,null,null,null,null,null,null,null,null,null,null,null,null,null,null,null,null,null,null,null,null,null,null,null,null,null,null,null,null,null,null,null,null,null,null,null,null,0]
[27,10107,"山ノ下",null,null,"くるみる",{"$f":"IFERROR(VLOOKUP(F28,[1]データ!$A$2:$B$16,2,FALSE),\"\")","v":3},101073,600,null,390,210,null,null,null,null,null,600,null,null,null,null,null,null,null,null,null,null,null,null,null,null,null,null,null,null,null,null,null,null,null,null,null,null,null,null,null,null,null,null,null,null,null,null,null,null,null,null,null,null,null,null,null,null,null,null,null,0]
[28,10107,"山ノ下",null,null,"otona+",{"$f":"IFERROR(VLOOKUP(F29,[1]データ!$A$2:$B$16,2,FALSE),\"\")","v":4},101074,620,null,390,230,null,null,null,null,null,620,null,null,null,null,null,null,null,null,null,null,null,null,null,null,null,null,null,null,null,null,null,null,null,null,null,null,null,null,null,null,null,null,null,null,null,null,null,null,null,null,null,null,null,null,null,null,null,null,null,0]
[29,10107,"山ノ下",null,null,"assh",{"$f":"IFERROR(VLOOKUP(F30,[1]データ!$A$2:$B$16,2,FALSE),\"\")","v":5},101075,3750,null,2550,1200,null,null,null,null,null,3750,null,null,null,null,null,null,null,null,null,null,null,null,null,null,null,null,null,null,null,null,null,null,null,null,null,null,null,null,null,null,null,null,null,null,null,null,null,null,null,null,null,null,null,null,null,null,null,null,null,0]
[30,10107,"山ノ下",null,null,"assh・朝",{"$f":"IFERROR(VLOOKUP(F31,[1]データ!$A$2:$B$16,2,FALSE),\"\")","v":51},1010751,{"$f":"I27","v":3790},null,null,null,null,null,null,null,null,0,null,null,null,null,null,null,null,null,null,null,null,null,null,null,null,null,null,null,null,null,null,null,null,null,null,null,null,null,null,null,null,null,null,null,null,null,null,null,null,null,null,null,null,null,null,null,null,null,null,0]
[31,10107,"山ノ下",null,null,"市報・区報",{"$f":"IFERROR(VLOOKUP(F32,[1]データ!$A$2:$B$16,2,FALSE),\"\")","v":2},101072,{"$f":"R32","v":3790},null,{"$f":"K27","v":2670},{"$f":"L27","v":1120},null,null,null,null,null,3790,null,null,null,null,null,null,null,null,null,null,null,null,null,null,null,null,null,null,null,null,null,null,null,null,null,null,null,null,null,null,null,null,null,null,null,null,null,null,null,null,null,null,null,null,null,null,null,null,null,0]
[32,10108,"物見山","MN","新アマ日","朝刊",{"$f":"IFERROR(VLOOKUP(F33,[1]データ!$A$2:$B$16,2,FALSE),\"\")","v":1},101081,3510,null,{"$f":"I33","v":3510},null,null,null,null,null,null,3510,3510,{"$f":"I33","v":3510},null,null,null,null,null,null,null,null,null,null,null,null,null,null,null,null,null,null,null,null,null,null,null,null,null,null,null,null,null,null,null,null,null,null,null,null,null,null,null,null,null,null,null,null,null,null,null,0]
[33,10108,"物見山",null,null,"くるみる",{"$f":"IFERROR(VLOOKUP(F34,[1]データ!$A$2:$B$16,2,FALSE),\"\")","v":3},101083,580,null,{"$f":"I34","v":580},null,null,null,null,null,null,580,null,null,null,null,null,null,null,null,null,null,null,null,null,null,null,null,null,null,null,null,null,null,null,null,null,null,null,null,null,null,null,null,null,null,null,null,null,null,null,null,null,null,null,null,null,null,null,null,null,0]
[34,10108,"物見山",null,null,"otona+",{"$f":"IFERROR(VLOOKUP(F35,[1]データ!$A$2:$B$16,2,FALSE),\"\")","v":4},101084,360,null,360,null,null,null,null,null,null,360,null,null,null,null,null,null,null,null,null,null,null,null,null,null,null,null,null,null,null,null,null,null,null,null,null,null,null,null,null,null,null,null,null,null,null,null,null,null,null,null,null,null,null,null,null,null,null,null,null,0]
[35,10108,"物見山",null,null,"assh",{"$f":"IFERROR(VLOOKUP(F36,[1]データ!$A$2:$B$16,2,FALSE),\"\")","v":5},101085,3600,null,3600,null,null,null,null,null,null,3600,null,null,null,null,null,null,null,null,null,null,null,null,null,null,null,null,null,null,null,null,null,null,null,null,null,null,null,null,null,null,null,null,null,null,null,null,null,null,null,null,null,null,null,null,null,null,null,null,null,0]
[36,10108,"物見山",null,null,"assh・朝",{"$f":"IFERROR(VLOOKUP(F37,[1]データ!$A$2:$B$16,2,FALSE),\"\")","v":51},1010851,{"$f":"I33","v":3510},null,null,null,null,null,null,null,null,0,null,null,null,null,null,null,null,null,null,null,null,null,null,null,null,null,null,null,null,null,null,null,null,null,null,null,null,null,null,null,null,null,null,null,null,null,null,null,null,null,null,null,null,null,null,null,null,null,null,0]
[37,10108,"物見山",null,null,"市報・区報",{"$f":"IFERROR(VLOOKUP(F38,[1]データ!$A$2:$B$16,2,FALSE),\"\")","v":2},101082,{"$f":"R38","v":3510},null,{"$f":"K33","v":3510},null,null,null,null,null,null,3510,null,null,null,null,null,null,null,null,null,null,null,null,null,null,null,null,null,null,null,null,null,null,null,null,null,null,null,null,null,null,null,null,null,null,null,null,null,null,null,null,null,null,null,null,null,null,null,null,null,0]
[38,10109,"とやの",null,"新アマ日","朝刊",{"$f":"IFERROR(VLOOKUP(F39,[1]データ!$A$2:$B$16,2,FALSE),\"\")","v":1},101091,5030,null,null,{"$f":"I39","v":5030},null,null,null,null,null,5030,5030,{"$f":"I39","v":5030},null,null,null,null,null,null,null,null,null,null,null,null,null,null,null,null,null,null,null,null,null,null,null,null,null,null,null,null,null,null,null,null,null,null,null,null,null,null,null,null,null,null,null,null,null,null,null,0]
[39,10109,"とやの",null,null,"くるみる",{"$f":"IFERROR(VLOOKUP(F40,[1]データ!$A$2:$B$16,2,FALSE),\"\")","v":3},101093,600,null,null,{"$f":"I40","v":600},null,null,null,null,null,600,null,null,null,null,null,null,null,null,null,null,null,null,null,null,null,null,null,null,null,null,null,null,null,null,null,null,null,null,null,null,null,null,null,null,null,null,null,null,null,null,null,null,null,null,null,null,null,null,null,0]
[40,10109,"とやの",null,null,"otona+",{"$f":"IFERROR(VLOOKUP(F41,[1]データ!$A$2:$B$16,2,FALSE),\"\")","v":4},101094,650,null,null,650,null,null,null,null,null,650,null,null,null,null,null,null,null,null,null,null,null,null,null,null,null,null,null,null,null,null,null,null,null,null,null,null,null,null,null,null,null,null,null,null,null,null,null,null,null,null,null,null,null,null,null,null,null,null,null,0]
[41,10109,"とやの",null,null,"assh",{"$f":"IFERROR(VLOOKUP(F42,[1]データ!$A$2:$B$16,2,FALSE),\"\")","v":5},101095,5800,null,null,5800,null,null,null,null,null,5800,null,null,null,null,null,null,null,null,null,null,null,null,null,null,null,null,null,null,null,null,null,null,null,null,null,null,null,null,null,null,null,null,null,null,null,null,null,null,null,null,null,null,null,null,null,null,null,null,null,0]
[42,10109,"とやの",null,null,"assh・朝",{"$f":"IFERROR(VLOOKUP(F43,[1]データ!$A$2:$B$16,2,FALSE),\"\")","v":51},1010951,5030,null,null,null,null,null,null,null,null,0,null,null,null,null,null,null,null,null,null,null,null,null,null,null,null,null,null,null,null,null,null,null,null,null,null,null,null,null,null,null,null,null,null,null,null,null,null,null,null,null,null,null,null,null,null,null,null,null,null,0]
[43,10109,"とやの",null,null,"市報・区報",{"$f":"IFERROR(VLOOKUP(F44,[1]データ!$A$2:$B$16,2,FALSE),\"\")","v":2},101092,{"$f":"R44","v":5030},null,null,{"$f":"L39","v":5030},null,null,null,null,null,5030,null,null,null,null,null,null,null,null,null,null,null,null,null,null,null,null,null,null,null,null,null,null,null,null,null,null,null,null,null,null,null,null,null,null,null,null,null,null,null,null,null,null,null,null,null,null,null,null,null,0]
[44,10110,"上所",null,null,"朝刊",{"$f":"IFERROR(VLOOKUP(F45,[1]データ!$A$2:$B$16,2,FALSE),\"\")","v":1},101101,null,null,null,null,null,null,null,null,null,0,0,null,null,null,null,null,null,null,null,null,null,null,null,null,null,null,null,null,null,null,null,null,null,null,null,null,null,null,null,null,null,null,null,null,null,null,null,null,null,null,null,null,null,null,null,null,null,null,null,0]
[45,10111,"県庁前",null,"新アマ日","朝刊",{"$f":"IFERROR(VLOOKUP(F46,[1]データ!$A$2:$B$16,2,FALSE),\"\")","v":1},101111,4200,null,null,{"$f":"I46","v":4200},null,null,null,null,null,4200,4200,{"$f":"I46","v":4200},null,null,null,null,null,null,null,null,null,null,null,null,null,null,null,null,null,null,null,null,null,null,null,null,null,null,null,null,null,null,null,null,null,null,null,null,null,null,null,null,null,null,null,null,null,null,null,0]
[46,10111,"県庁前",null,null,"くるみる",{"$f":"IFERROR(VLOOKUP(F47,[1]データ!$A$2:$B$16,2,FALSE),\"\")","v":3},101113,80,null,null,{"$f":"I47","v":80},null,null,null,null,null,80,null,null,null,null,null,null,null,null,null,null,null,null,null,null,null,null,null,null,null,null,null,null,null,null,null,null,null,null,null,null,null,null,null,null,null,null,null,null,null,null,null,null,null,null,null,null,null,null,null,0]
[47,10111,"県庁前",null,null,"otona+",{"$f":"IFERROR(VLOOKUP(F48,[1]データ!$A$2:$B$16,2,FALSE),\"\")","v":4},101114,500,null,null,{"$f":"I48","v":500},null,null,null,null,null,500,null,null,null,null,null,null,null,null,null,null,null,null,null,null,null,null,null,null,null,null,null,null,null,null,null,null,null,null,null,null,null,null,null,null,null,null,null,null,null,null,null,null,null,null,null,null,null,null,null,0]
[48,10111,"県庁前",null,null,"assh",{"$f":"IFERROR(VLOOKUP(F49,[1]データ!$A$2:$B$16,2,FALSE),\"\")","v":5},101115,4400,null,null,4400,null,null,null,null,null,4400,null,null,null,null,null,null,null,null,null,null,null,null,null,null,null,null,null,null,null,null,null,null,null,null,null,null,null,null,null,null,null,null,null,null,null,null,null,null,null,null,null,null,null,null,null,null,null,null,null,0]
[49,10111,"県庁前",null,null,"assh・朝",{"$f":"IFERROR(VLOOKUP(F50,[1]データ!$A$2:$B$16,2,FALSE),\"\")","v":51},1011151,4200,null,null,null,null,null,null,null,null,0,null,null,null,null,null,null,null,null,null,null,null,null,null,null,null,null,null,null,null,null,null,null,null,null,null,null,null,null,null,null,null,null,null,null,null,null,null,null,null,null,null,null,null,null,null,null,null,null,null,0]
[50,10111,"県庁前",null,null,"市報・区報",{"$f":"IFERROR(VLOOKUP(F51,[1]データ!$A$2:$B$16,2,FALSE),\"\")","v":2},101112,{"$f":"R51","v":4600},null,null,4600,null,null,null,null,null,4600,null,null,null,null,null,null,null,null,null,null,null,null,null,null,null,null,null,null,null,null,null,null,null,null,null,null,null,null,null,null,null,null,null,null,null,null,null,null,null,null,null,null,null,null,null,null,null,null,null,0]
[51,10112,"女池",null,null,"朝刊",{"$f":"IFERROR(VLOOKUP(F52,[1]データ!$A$2:$B$16,2,FALSE),\"\")","v":1},101121,null,null,null,null,null,null,null,null,null,0,0,null,null,null,null,null,null,null,null,null,null,null,null,null,null,null,null,null,null,null,null,null,null,null,null,null,null,null,null,null,null,null,null,null,null,null,null,null,null,null,null,null,null,null,null,null,null,null,null,0]
[52,10113,"愛宕",null,"新アマ日","朝刊",{"$f":"IFERROR(VLOOKUP(F53,[1]データ!$A$2:$B$16,2,FALSE),\"\")","v":1},101131,4900,null,null,3770,1130,null,null,null,null,4900,4900,{"$f":"I53","v":4900},null,null,null,null,null,null,null,null,null,null,null,null,null,null,null,null,null,null,null,null,null,null,null,null,null,null,null,null,null,null,null,null,null,null,null,null,null,null,null,null,null,null,null,null,null,null,null,0]
[53,10113,"愛宕",null,null,"くるみる",{"$f":"IFERROR(VLOOKUP(F54,[1]データ!$A$2:$B$16,2,FALSE),\"\")","v":3},101133,400,null,null,310,90,null,null,null,null,400,null,null,null,null,null,null,null,null,null,null,null,null,null,null,null,null,null,null,null,null,null,null,null,null,null,null,null,null,null,null,null,null,null,null,null,null,null,null,null,null,null,null,null,null,null,null,null,null,null,0]
[54,10113,"愛宕",null,null,"otona+",{"$f":"IFERROR(VLOOKUP(F55,[1]データ!$A$2:$B$16,2,FALSE),\"\")","v":4},101134,600,null,null,470,130,null,null,null,null,600,null,null,null,null,null,null,null,null,null,null,null,null,null,null,null,null,null,null,null,null,null,null,null,null,null,null,null,null,null,null,null,null,null,null,null,null,null,null,null,null,null,null,null,null,null,null,null,null,null,0]
[55,10113,"愛宕",null,null,"assh",{"$f":"IFERROR(VLOOKUP(F56,[1]データ!$A$2:$B$16,2,FALSE),\"\")","v":5},101135,4040,null,null,3100,940,null,null,null,null,4040,null,null,null,null,null,null,null,null,null,null,null,null,null,null,null,null,null,null,null,null,null,null,null,null,null,null,null,null,null,null,null,null,null,null,null,null,null,null,null,null,null,null,null,null,null,null,null,null,null,0]
[56,10113,"愛宕",null,null,"assh・朝",{"$f":"IFERROR(VLOOKUP(F57,[1]データ!$A$2:$B$16,2,FALSE),\"\")","v":51},1011351,4900,null,null,null,null,null,null,null,null,0,null,null,null,null,null,null,null,null,null,null,null,null,null,null,null,null,null,null,null,null,null,null,null,null,null,null,null,null,null,null,null,null,null,null,null,null,null,null,null,null,null,null,null,null,null,null,null,null,null,0]
[57,10113,"愛宕",null,null,"市報・区報",{"$f":"IFERROR(VLOOKUP(F58,[1]データ!$A$2:$B$16,2,FALSE),\"\")","v":2},101132,{"$f":"R58","v":4900},null,null,{"$f":"L53","v":3770},{"$f":"M53","v":1130},null,null,null,null,4900,null,null,null,null,null,null,null,null,null,null,null,null,null,null,null,null,null,null,null,null,null,null,null,null,null,null,null,null,null,null,null,null,null,null,null,null,null,null,null,null,null,null,null,null,null,null,null,null,null,0]
[58,10114,"河渡",null,"新アマ日","朝刊",{"$f":"IFERROR(VLOOKUP(F59,[1]データ!$A$2:$B$16,2,FALSE),\"\")","v":1},101141,4600,null,{"$f":"I59","v":4600},null,null,null,null,null,null,4600,4600,{"$f":"I59","v":4600},null,null,null,null,null,null,null,null,null,null,null,null,null,null,null,null,null,null,null,null,null,null,null,null,null,null,null,null,null,null,null,null,null,null,null,null,null,null,null,null,null,null,null,null,null,null,null,0]
[59,10114,"河渡",null,null,"くるみる",{"$f":"IFERROR(VLOOKUP(F60,[1]データ!$A$2:$B$16,2,FALSE),\"\")","v":3},101143,200,null,{"$f":"I60","v":200},null,null,null,null,null,null,200,null,null,null,null,null,null,null,null,null,null,null,null,null,null,null,null,null,null,null,null,null,null,null,null,null,null,null,null,null,null,null,null,null,null,null,null,null,null,null,null,null,null,null,null,null,null,null,null,null,0]
[60,10114,"河渡",null,null,"otona+",{"$f":"IFERROR(VLOOKUP(F61,[1]データ!$A$2:$B$16,2,FALSE),\"\")","v":4},101144,450,null,450,null,null,null,null,null,null,450,null,null,null,null,null,null,null,null,null,null,null,null,null,null,null,null,null,null,null,null,null,null,null,null,null,null,null,null,null,null,null,null,null,null,null,null,null,null,null,null,null,null,null,null,null,null,null,null,null,0]
[61,10114,"河渡",null,null,"assh",{"$f":"IFERROR(VLOOKUP(F62,[1]データ!$A$2:$B$16,2,FALSE),\"\")","v":5},101145,4500,null,4500,null,null,null,null,null,null,4500,null,null,null,null,null,null,null,null,null,null,null,null,null,null,null,null,null,null,null,null,null,null,null,null,null,null,null,null,null,null,null,null,null,null,null,null,null,null,null,null,null,null,null,null,null,null,null,null,null,0]
[62,10114,"河渡",null,null,"assh・朝",{"$f":"IFERROR(VLOOKUP(F63,[1]データ!$A$2:$B$16,2,FALSE),\"\")","v":51},1011451,4600,null,null,null,null,null,null,null,null,0,null,null,null,null,null,null,null,null,null,null,null,null,null,null,null,null,null,null,null,null,null,null,null,null,null,null,null,null,null,null,null,null,null,null,null,null,null,null,null,null,null,null,null,null,null,null,null,null,null,0]
[63,10114,"河渡",null,null,"市報・区報",{"$f":"IFERROR(VLOOKUP(F64,[1]データ!$A$2:$B$16,2,FALSE),\"\")","v":2},101142,{"$f":"R64","v":4600},null,{"$f":"K59","v":4600},null,null,null,null,null,null,4600,null,null,null,null,null,null,null,null,null,null,null,null,null,null,null,null,null,null,null,null,null,null,null,null,null,null,null,null,null,null,null,null,null,null,null,null,null,null,null,null,null,null,null,null,null,null,null,null,null,0]
[64,10115,"牡丹山",null,"新アマ日","朝刊",{"$f":"IFERROR(VLOOKUP(F65,[1]データ!$A$2:$B$16,2,FALSE),\"\")","v":1},101151,1830,null,{"$f":"I65","v":1830},null,null,null,null,null,null,1830,1830,{"$f":"I65","v":1830},null,null,null,null,null,null,null,null,null,null,null,null,null,null,null,null,null,null,null,null,null,null,null,null,null,null,null,null,null,null,null,null,null,null,null,null,null,null,null,null,null,null,null,null,null,null,null,0]
[65,10115,"牡丹山",null,null,"くるみる",{"$f":"IFERROR(VLOOKUP(F66,[1]データ!$A$2:$B$16,2,FALSE),\"\")","v":3},101153,200,null,{"$f":"I66","v":200},null,null,null,null,null,null,200,null,null,null,null,null,null,null,null,null,null,null,null,null,null,null,null,null,null,null,null,null,null,null,null,null,null,null,null,null,null,null,null,null,null,null,null,null,null,null,null,null,null,null,null,null,null,null,null,null,0]
[66,10115,"牡丹山",null,null,"otona+",{"$f":"IFERROR(VLOOKUP(F67,[1]データ!$A$2:$B$16,2,FALSE),\"\")","v":4},101154,170,null,170,null,null,null,null,null,null,170,null,null,null,null,null,null,null,null,null,null,null,null,null,null,null,null,null,null,null,null,null,null,null,null,null,null,null,null,null,null,null,null,null,null,null,null,null,null,null,null,null,null,null,null,null,null,null,null,null,0]
[67,10115,"牡丹山",null,null,"assh",{"$f":"IFERROR(VLOOKUP(F68,[1]データ!$A$2:$B$16,2,FALSE),\"\")","v":5},101155,1250,null,{"$f":"I68","v":1250},null,null,null,null,null,null,1250,null,null,null,null,null,null,null,null,null,null,null,null,null,null,null,null,null,null,null,null,null,null,null,null,null,null,null,null,null,null,null,null,null,null,null,null,null,null,null,null,null,null,null,null,null,null,null,null,null,{"$f":"SUM(U68:BO68)","v":0}]
[68,10115,"牡丹山",null,null,"assh・朝",{"$f":"IFERROR(VLOOKUP(F69,[1]データ!$A$2:$B$16,2,FALSE),\"\")","v":51},1011551,1830,null,null,null,null,null,null,null,null,0,null,null,null,null,null,null,null,null,null,null,null,null,null,null,null,null,null,null,null,null,null,null,null,null,null,null,null,null,null,null,null,null,null,null,null,null,null,null,null,null,null,null,null,null,null,null,null,null,null,0]
[69,10115,"牡丹山",null,null,"市報・区報",{"$f":"IFERROR(VLOOKUP(F70,[1]データ!$A$2:$B$16,2,FALSE),\"\")","v":2},101152,{"$f":"R70","v":1830},null,{"$f":"K65","v":1830},null,null,null,null,null,null,1830,null,null,null,null,null,null,null,null,null,null,null,null,null,null,null,null,null,null,null,null,null,null,null,null,null,null,null,null,null,null,null,null,null,null,null,null,null,null,null,null,null,null,null,null,null,null,null,null,null,0]
[70,10116,"大形",null,"新アマ日","朝刊",{"$f":"IFERROR(VLOOKUP(F71,[1]データ!$A$2:$B$16,2,FALSE),\"\")","v":1},101161,3280,null,3080,null,430,null,null,null,null,3510,{"$f":"SUM(T71:AH71)","v":3280},{"$f":"I71","v":3280},null,null,null,null,null,null,null,null,null,null,null,null,null,null,null,null,null,null,null,null,null,null,null,null,null,null,null,null,null,null,null,null,null,null,null,null,null,null,null,null,null,null,null,null,null,null,null,0]
[71,10116,"大形",null,null,"くるみる",{"$f":"IFERROR(VLOOKUP(F72,[1]データ!$A$2:$B$16,2,FALSE),\"\")","v":3},101163,300,null,280,null,20,null,null,null,null,300,null,null,null,null,null,null,null,null,null,null,null,null,null,null,null,null,null,null,null,null,null,null,null,null,null,null,null,null,null,null,null,null,null,null,null,null,null,null,null,null,null,null,null,null,null,null,null,null,null,0]
[72,10116,"大形",null,null,"otona+",{"$f":"IFERROR(VLOOKUP(F73,[1]データ!$A$2:$B$16,2,FALSE),\"\")","v":4},101164,320,null,270,null,50,null,null,null,null,320,null,null,null,null,null,null,null,null,null,null,null,null,null,null,null,null,null,null,null,null,null,null,null,null,null,null,null,null,null,null,null,null,null,null,null,null,null,null,null,null,null,null,null,null,null,null,null,null,null,0]
[73,10116,"大形",null,null,"assh",{"$f":"IFERROR(VLOOKUP(F74,[1]データ!$A$2:$B$16,2,FALSE),\"\")","v":5},101165,2900,null,2820,null,270,null,null,null,null,3090,null,null,null,null,null,null,null,null,null,null,null,null,null,null,null,null,null,null,null,null,null,null,null,null,null,null,null,null,null,null,null,null,null,null,null,null,null,null,null,null,null,null,null,null,null,null,null,null,null,0]
[74,10116,"大形",null,null,"assh・朝",{"$f":"IFERROR(VLOOKUP(F75,[1]データ!$A$2:$B$16,2,FALSE),\"\")","v":51},1011651,3280,null,null,null,null,null,null,null,null,0,null,null,null,null,null,null,null,null,null,null,null,null,null,null,null,null,null,null,null,null,null,null,null,null,null,null,null,null,null,null,null,null,null,null,null,null,null,null,null,null,null,null,null,null,null,null,null,null,null,0]
[75,10116,"大形",null,null,"市報・区報",{"$f":"IFERROR(VLOOKUP(F76,[1]データ!$A$2:$B$16,2,FALSE),\"\")","v":2},101162,{"$f":"R76","v":3510},null,{"$f":"K71","v":3080},null,{"$f":"M71","v":430},null,null,null,null,3510,null,null,null,null,null,null,null,null,null,null,null,null,null,null,null,null,null,null,null,null,null,null,null,null,null,null,null,null,null,null,null,null,null,null,null,null,null,null,null,null,null,null,null,null,null,null,null,null,null,0]
[76,10117,"松浜","サポート","新アマ日","朝刊",{"$f":"IFERROR(VLOOKUP(F77,[1]データ!$A$2:$B$16,2,FALSE),\"\")","v":1},101171,6510,{"$f":"I77","v":6510},null,null,null,null,null,null,null,6510,6510,4510,null,null,null,null,null,null,null,null,null,null,null,null,null,2000,null,null,null,null,null,null,null,null,null,null,null,null,null,null,null,null,null,null,null,null,null,null,null,null,null,null,null,null,null,null,null,null,null,2000]
[77,10117,"松浜",null,null,"くるみる",{"$f":"IFERROR(VLOOKUP(F78,[1]データ!$A$2:$B$16,2,FALSE),\"\")","v":3},101173,500,{"$f":"I78","v":500},null,null,null,null,null,null,null,500,null,null,null,null,null,null,null,null,null,null,null,null,null,null,null,null,null,null,null,null,null,null,null,null,null,null,null,null,null,null,null,null,null,null,null,null,null,null,null,null,null,null,null,null,null,null,null,null,null,0]
[78,10117,"松浜",null,null,"otona+",{"$f":"IFERROR(VLOOKUP(F79,[1]データ!$A$2:$B$16,2,FALSE),\"\")","v":4},101174,400,400,null,null,null,null,null,null,null,{"$f":"SUM(J79:Q79)","v":400},null,null,null,null,null,null,null,null,null,null,null,null,null,null,null,null,null,null,null,null,null,null,null,null,null,null,null,null,null,null,null,null,null,null,null,null,null,null,null,null,null,null,null,null,null,null,null,null,null,0]
[79,10117,"松浜",null,null,"assh",{"$f":"IFERROR(VLOOKUP(F80,[1]データ!$A$2:$B$16,2,FALSE),\"\")","v":5},101175,5490,5490,null,null,null,null,null,null,null,5490,null,null,null,null,null,null,null,null,null,null,null,null,null,null,null,null,null,null,null,null,null,null,null,null,null,null,null,null,null,null,null,null,null,null,null,null,null,null,null,null,null,null,null,null,null,null,null,null,null,0]
[80,10117,"松浜",null,null,"assh・朝",{"$f":"IFERROR(VLOOKUP(F81,[1]データ!$A$2:$B$16,2,FALSE),\"\")","v":51},1011751,6510,null,null,null,null,null,null,null,null,0,null,null,null,null,null,null,null,null,null,null,null,null,null,null,null,null,null,null,null,null,null,null,null,null,null,null,null,null,null,null,null,null,null,null,null,null,null,null,null,null,null,null,null,null,null,null,null,null,null,0]
[81,10117,"松浜",null,null,"市報・区報",{"$f":"IFERROR(VLOOKUP(F82,[1]データ!$A$2:$B$16,2,FALSE),\"\")","v":2},101172,{"$f":"R82","v":6510},{"$f":"J77","v":6510},null,null,null,null,null,null,null,6510,null,null,null,null,null,null,null,null,null,null,null,null,null,null,null,null,null,null,null,null,null,null,null,null,null,null,null,null,null,null,null,null,null,null,null,null,null,null,null,null,null,null,null,null,null,null,null,null,null,0]
[82,10118,"新潟南",null,"合","朝刊",{"$f":"IFERROR(VLOOKUP(F83,[1]データ!$A$2:$B$16,2,FALSE),\"\")","v":1},101181,2730,null,null,null,2480,null,null,null,260,2740,2740,1880,null,null,null,null,null,null,null,null,null,null,260,50,550,null,null,null,null,null,null,null,null,null,null,null,null,null,null,null,null,null,null,null,null,null,null,null,null,null,null,null,null,null,null,null,null,null,null,860]
[83,10118,"新潟南",null,null,"くるみる",{"$f":"IFERROR(VLOOKUP(F84,[1]データ!$A$2:$B$16,2,FALSE),\"\")","v":3},101183,40,null,null,null,30,null,null,null,10,40,null,null,null,null,null,null,null,null,null,null,null,null,null,null,null,null,null,null,null,null,null,null,null,null,null,null,null,null,null,null,null,null,null,null,null,null,null,null,null,null,null,null,null,null,null,null,null,null,null,0]
[84,10118,"新潟南",null,null,"otona+",{"$f":"IFERROR(VLOOKUP(F85,[1]データ!$A$2:$B$16,2,FALSE),\"\")","v":4},101184,140,null,null,null,130,null,null,null,10,140,null,null,null,null,null,null,null,null,null,null,null,null,null,null,null,null,null,null,null,null,null,null,null,null,null,null,null,null,null,null,null,null,null,null,null,null,null,null,null,null,null,null,null,null,null,null,null,null,null,0]
[85,10118,"新潟南",null,null,"assh",{"$f":"IFERROR(VLOOKUP(F86,[1]データ!$A$2:$B$16,2,FALSE),\"\")","v":5},101185,1620,null,null,null,1560,null,null,null,60,1620,null,null,null,null,null,null,null,null,null,null,null,null,null,null,null,null,null,null,null,null,null,null,null,null,null,null,null,null,null,null,null,null,null,null,null,null,null,null,null,null,null,null,null,null,null,null,null,null,null,0]
[86,10118,"新潟南",null,null,"assh・朝",{"$f":"IFERROR(VLOOKUP(F87,[1]データ!$A$2:$B$16,2,FALSE),\"\")","v":51},1011851,2730,null,null,null,null,null,null,null,null,0,null,null,null,null,null,null,null,null,null,null,null,null,null,null,null,null,null,null,null,null,null,null,null,null,null,null,null,null,null,null,null,null,null,null,null,null,null,null,null,null,null,null,null,null,null,null,null,null,null,0]
[87,10118,"新潟南",null,null,"市報・区報",{"$f":"IFERROR(VLOOKUP(F88,[1]データ!$A$2:$B$16,2,FALSE),\"\")","v":2},101182,{"$f":"R88","v":2740},null,null,null,{"$f":"M83","v":2480},null,null,null,{"$f":"Q83","v":260},2740,null,null,null,null,null,null,null,null,null,null,null,null,null,null,null,null,null,null,null,null,null,null,null,null,null,null,null,null,null,null,null,null,null,null,null,null,null,null,null,null,null,null,null,null,null,null,null,null,null,0]
[88,10119,"姥ケ山",null,"新アマ日","朝刊",{"$f":"IFERROR(VLOOKUP(F89,[1]データ!$A$2:$B$16,2,FALSE),\"\")","v":1},101191,2600,null,null,2540,60,null,null,null,null,2600,2600,{"$f":"I89","v":2600},null,null,null,null,null,null,null,null,null,null,null,null,null,null,null,null,null,null,null,null,null,null,null,null,null,null,null,null,null,null,null,null,null,null,null,null,null,null,null,null,null,null,null,null,null,null,null,0]
[89,10119,"姥ケ山",null,null,"くるみる",{"$f":"IFERROR(VLOOKUP(F90,[1]データ!$A$2:$B$16,2,FALSE),\"\")","v":3},101193,400,null,null,350,50,null,null,null,null,400,null,null,null,null,null,null,null,null,null,null,null,null,null,null,null,null,null,null,null,null,null,null,null,null,null,null,null,null,null,null,null,null,null,null,null,null,null,null,null,null,null,null,null,null,null,null,null,null,null,0]
[90,10119,"姥ケ山",null,null,"otona+",{"$f":"IFERROR(VLOOKUP(F91,[1]データ!$A$2:$B$16,2,FALSE),\"\")","v":4},101194,280,null,null,260,20,null,null,null,null,280,null,null,null,null,null,null,null,null,null,null,null,null,null,null,null,null,null,null,null,null,null,null,null,null,null,null,null,null,null,null,null,null,null,null,null,null,null,null,null,null,null,null,null,null,null,null,null,null,null,0]
[91,10119,"姥ケ山",null,null,"assh",{"$f":"IFERROR(VLOOKUP(F92,[1]データ!$A$2:$B$16,2,FALSE),\"\")","v":5},101195,2250,null,null,2210,40,null,null,null,null,2250,null,null,null,null,null,null,null,null,null,null,null,null,null,null,null,null,null,null,null,null,null,null,null,null,null,null,null,null,null,null,null,null,null,null,null,null,null,null,null,null,null,null,null,null,null,null,null,null,null,0]
[92,10119,"姥ケ山",null,null,"assh・朝",{"$f":"IFERROR(VLOOKUP(F93,[1]データ!$A$2:$B$16,2,FALSE),\"\")","v":51},1011951,2600,null,null,null,null,null,null,null,null,0,null,null,null,null,null,null,null,null,null,null,null,null,null,null,null,null,null,null,null,null,null,null,null,null,null,null,null,null,null,null,null,null,null,null,null,null,null,null,null,null,null,null,null,null,null,null,null,null,null,0]
[93,10119,"姥ケ山",null,null,"市報・区報",{"$f":"IFERROR(VLOOKUP(F94,[1]データ!$A$2:$B$16,2,FALSE),\"\")","v":2},101192,{"$f":"R94","v":2600},null,null,{"$f":"L89","v":2540},{"$f":"M89","v":60},null,null,null,null,2600,null,null,null,null,null,null,null,null,null,null,null,null,null,null,null,null,null,null,null,null,null,null,null,null,null,null,null,null,null,null,null,null,null,null,null,null,null,null,null,null,null,null,null,null,null,null,null,null,null,0]
[94,10120,"山二ツ",null,"新アマ日","朝刊",{"$f":"IFERROR(VLOOKUP(F95,[1]データ!$A$2:$B$16,2,FALSE),\"\")","v":1},101201,2700,null,null,1050,1650,null,null,null,null,2700,2700,2200,null,null,null,null,null,null,null,null,null,null,null,500,null,null,null,null,null,null,null,null,null,null,null,null,null,null,null,null,null,null,null,null,null,null,null,null,null,null,null,null,null,null,null,null,null,null,null,500]
[95,10120,"山二ツ",null,null,"くるみる",{"$f":"IFERROR(VLOOKUP(F96,[1]データ!$A$2:$B$16,2,FALSE),\"\")","v":3},101203,70,null,null,30,40,null,null,null,null,70,null,null,null,null,null,null,null,null,null,null,null,null,null,null,null,null,null,null,null,null,null,null,null,null,null,null,null,null,null,null,null,null,null,null,null,null,null,null,null,null,null,null,null,null,null,null,null,null,null,0]
[96,10120,"山二ツ",null,null,"otona+",{"$f":"IFERROR(VLOOKUP(F97,[1]データ!$A$2:$B$16,2,FALSE),\"\")","v":4},101204,250,null,null,140,110,null,null,null,null,250,null,null,null,null,null,null,null,null,null,null,null,null,null,null,null,null,null,null,null,null,null,null,null,null,null,null,null,null,null,null,null,null,null,null,null,null,null,null,null,null,null,null,null,null,null,null,null,null,null,0]
[97,10120,"山二ツ",null,null,"assh",{"$f":"IFERROR(VLOOKUP(F98,[1]データ!$A$2:$B$16,2,FALSE),\"\")","v":5},101205,800,null,null,450,350,null,null,null,null,800,null,null,null,null,null,null,null,null,null,null,null,null,null,null,null,null,null,null,null,null,null,null,null,null,null,null,null,null,null,null,null,null,null,null,null,null,null,null,null,null,null,null,null,null,null,null,null,null,null,0]
[98,10120,"山二ツ",null,null,"assh・朝",{"$f":"IFERROR(VLOOKUP(F99,[1]データ!$A$2:$B$16,2,FALSE),\"\")","v":51},1012051,2700,null,null,null,null,null,null,null,null,0,null,null,null,null,null,null,null,null,null,null,null,null,null,null,null,null,null,null,null,null,null,null,null,null,null,null,null,null,null,null,null,null,null,null,null,null,null,null,null,null,null,null,null,null,null,null,null,null,null,0]
[99,10120,"山二ツ",null,null,"市報・区報",{"$f":"IFERROR(VLOOKUP(F100,[1]データ!$A$2:$B$16,2,FALSE),\"\")","v":2},101202,{"$f":"R100","v":2700},null,null,{"$f":"L95","v":1050},{"$f":"M95","v":1650},null,null,null,null,2700,null,null,null,null,null,null,null,null,null,null,null,null,null,null,null,null,null,null,null,null,null,null,null,null,null,null,null,null,null,null,null,null,null,null,null,null,null,null,null,null,null,null,null,null,null,null,null,null,null,0]
[100,10122,"亀田西",null,"新アマ日","朝刊",{"$f":"IFERROR(VLOOKUP(F101,[1]データ!$A$2:$B$16,2,FALSE),\"\")","v":1},101221,2630,null,null,null,{"$f":"I101","v":2630},null,null,null,null,2630,{"$f":"SUM(T101:AH101)","v":2630},90,null,null,null,null,null,null,null,null,null,null,null,2540,null,null,null,null,null,null,null,null,null,null,null,null,null,null,null,null,null,null,null,null,null,null,null,null,null,null,null,null,null,null,null,null,null,null,null,2540]
[101,10122,"亀田西",null,null,"くるみる",{"$f":"IFERROR(VLOOKUP(F102,[1]データ!$A$2:$B$16,2,FALSE),\"\")","v":3},101223,200,null,null,null,{"$f":"I102","v":200},null,null,null,null,200,null,null,null,null,null,null,null,null,null,null,null,null,null,null,null,null,null,null,null,null,null,null,null,null,null,null,null,null,null,null,null,null,null,null,null,null,null,null,null,null,null,null,null,null,null,null,null,null,null,0]
[102,10122,"亀田西",null,null,"otona+",{"$f":"IFERROR(VLOOKUP(F103,[1]データ!$A$2:$B$16,2,FALSE),\"\")","v":4},101224,200,null,null,null,200,null,null,null,null,200,null,null,null,null,null,null,null,null,null,null,null,null,null,null,null,null,null,null,null,null,null,null,null,null,null,null,null,null,null,null,null,null,null,null,null,null,null,null,null,null,null,null,null,null,null,null,null,null,null,0]
[103,10122,"亀田西",null,null,"assh",{"$f":"IFERROR(VLOOKUP(F104,[1]データ!$A$2:$B$16,2,FALSE),\"\")","v":5},101225,1600,null,null,null,1600,null,null,null,null,1600,null,null,null,null,null,null,null,null,null,null,null,null,null,null,null,null,null,null,null,null,null,null,null,null,null,null,null,null,null,null,null,null,null,null,null,null,null,null,null,null,null,null,null,null,null,null,null,null,null,0]
[104,10122,"亀田西",null,null,"assh・朝",{"$f":"IFERROR(VLOOKUP(F105,[1]データ!$A$2:$B$16,2,FALSE),\"\")","v":51},1012251,2630,null,null,null,null,null,null,null,null,0,null,null,null,null,null,null,null,null,null,null,null,null,null,null,null,null,null,null,null,null,null,null,null,null,null,null,null,null,null,null,null,null,null,null,null,null,null,null,null,null,null,null,null,null,null,null,null,null,null,0]
[105,10122,"亀田西",null,null,"市報・区報",{"$f":"IFERROR(VLOOKUP(F106,[1]データ!$A$2:$B$16,2,FALSE),\"\")","v":2},101222,{"$f":"R106","v":2630},null,null,null,{"$f":"M101","v":2630},null,null,null,null,2630,null,null,null,null,null,null,null,null,null,null,null,null,null,null,null,null,null,null,null,null,null,null,null,null,null,null,null,null,null,null,null,null,null,null,null,null,null,null,null,null,null,null,null,null,null,null,null,null,null,0]
[106,10123,"亀田","MN","新アマ日","朝刊",{"$f":"IFERROR(VLOOKUP(F107,[1]データ!$A$2:$B$16,2,FALSE),\"\")","v":1},101231,3680,null,null,null,{"$f":"I107","v":3680},null,null,null,null,3680,{"$f":"SUM(T107:AH107)","v":4710},1030,null,null,null,null,null,null,null,null,null,null,null,3680,null,null,null,null,null,null,null,null,null,null,null,null,null,null,null,null,null,null,null,null,null,null,null,null,null,null,null,null,null,null,null,null,null,null,null,3680]
[107,10123,"亀田",null,null,"くるみる",{"$f":"IFERROR(VLOOKUP(F108,[1]データ!$A$2:$B$16,2,FALSE),\"\")","v":3},101233,550,null,null,null,{"$f":"I108","v":550},null,null,null,null,550,null,null,null,null,null,null,null,null,null,null,null,null,null,null,null,null,null,null,null,null,null,null,null,null,null,null,null,null,null,null,null,null,null,null,null,null,null,null,null,null,null,null,null,null,null,null,null,null,null,0]
[108,10123,"亀田",null,null,"otona+",{"$f":"IFERROR(VLOOKUP(F109,[1]データ!$A$2:$B$16,2,FALSE),\"\")","v":4},101234,280,null,null,null,280,null,null,null,null,280,null,null,null,null,null,null,null,null,null,null,null,null,null,null,null,null,null,null,null,null,null,null,null,null,null,null,null,null,null,null,null,null,null,null,null,null,null,null,null,null,null,null,null,null,null,null,null,null,null,0]
[109,10123,"亀田",null,null,"assh",{"$f":"IFERROR(VLOOKUP(F110,[1]データ!$A$2:$B$16,2,FALSE),\"\")","v":5},101235,3600,null,null,null,3600,null,null,null,null,3600,null,null,null,null,null,null,null,null,null,null,null,null,null,null,null,null,null,null,null,null,null,null,null,null,null,null,null,null,null,null,null,null,null,null,null,null,null,null,null,null,null,null,null,null,null,null,null,null,null,0]
[110,10123,"亀田",null,null,"assh・朝",{"$f":"IFERROR(VLOOKUP(F111,[1]データ!$A$2:$B$16,2,FALSE),\"\")","v":51},1012351,{"$f":"I107","v":3680},null,null,null,null,null,null,null,null,0,null,null,null,null,null,null,null,null,null,null,null,null,null,null,null,null,null,null,null,null,null,null,null,null,null,null,null,null,null,null,null,null,null,null,null,null,null,null,null,null,null,null,null,null,null,null,null,null,null,0]
[111,10123,"亀田",null,null,"市報・区報",{"$f":"IFERROR(VLOOKUP(F112,[1]データ!$A$2:$B$16,2,FALSE),\"\")","v":2},101232,{"$f":"R112","v":3680},null,null,null,{"$f":"M107","v":3680},null,null,null,null,3680,null,null,null,null,null,null,null,null,null,null,null,null,null,null,null,null,null,null,null,null,null,null,null,null,null,null,null,null,null,null,null,null,null,null,null,null,null,null,null,null,null,null,null,null,null,null,null,null,null,0]
[112,10176,"横越",null,"新アマ日","朝刊",{"$f":"IFERROR(VLOOKUP(F113,[1]データ!$A$2:$B$16,2,FALSE),\"\")","v":1},101761,2190,null,null,null,{"$f":"I113","v":2190},null,null,null,null,2190,{"$f":"SUM(T113:AH113)","v":2360},null,null,null,null,null,null,null,null,null,null,null,null,580,1780,null,null,null,null,null,null,null,null,null,null,null,null,null,null,null,null,null,null,null,null,null,null,null,null,null,null,null,null,null,null,null,null,null,null,2360]
[113,10176,"横越",null,null,"くるみる",{"$f":"IFERROR(VLOOKUP(F114,[1]データ!$A$2:$B$16,2,FALSE),\"\")","v":3},101763,50,null,null,null,{"$f":"I114","v":50},null,null,null,null,50,null,null,null,null,null,null,null,null,null,null,null,null,null,null,null,null,null,null,null,null,null,null,null,null,null,null,null,null,null,null,null,null,null,null,null,null,null,null,null,null,null,null,null,null,null,null,null,null,null,0]
[114,10176,"横越",null,null,"otona+",{"$f":"IFERROR(VLOOKUP(F115,[1]データ!$A$2:$B$16,2,FALSE),\"\")","v":4},101764,110,null,null,null,110,null,null,null,null,110,null,null,null,null,null,null,null,null,null,null,null,null,null,null,null,null,null,null,null,null,null,null,null,null,null,null,null,null,null,null,null,null,null,null,null,null,null,null,null,null,null,null,null,null,null,null,null,null,null,0]
[115,10176,"横越",null,null,"assh",{"$f":"IFERROR(VLOOKUP(F116,[1]データ!$A$2:$B$16,2,FALSE),\"\")","v":5},101765,1200,null,null,null,1200,null,null,null,null,1200,null,null,null,null,null,null,null,null,null,null,null,null,null,null,null,null,null,null,null,null,null,null,null,null,null,null,null,null,null,null,null,null,null,null,null,null,null,null,null,null,null,null,null,null,null,null,null,null,null,0]
[116,10176,"横越",null,null,"assh・朝",{"$f":"IFERROR(VLOOKUP(F117,[1]データ!$A$2:$B$16,2,FALSE),\"\")","v":51},1017651,2190,null,null,null,null,null,null,null,null,0,null,null,null,null,null,null,null,null,null,null,null,null,null,null,null,null,null,null,null,null,null,null,null,null,null,null,null,null,null,null,null,null,null,null,null,null,null,null,null,null,null,null,null,null,null,null,null,null,null,0]
[117,10176,"横越",null,null,"市報・区報",{"$f":"IFERROR(VLOOKUP(F118,[1]データ!$A$2:$B$16,2,FALSE),\"\")","v":2},101762,{"$f":"R118","v":2190},null,null,null,{"$f":"M113","v":2190},null,null,null,null,2190,null,null,null,null,null,null,null,null,null,null,null,null,null,null,null,null,null,null,null,null,null,null,null,null,null,null,null,null,null,null,null,null,null,null,null,null,null,null,null,null,null,null,null,null,null,null,null,null,null,0]
[118,10177,"有明","MN","新アマ日","朝刊",{"$f":"IFERROR(VLOOKUP(F119,[1]データ!$A$2:$B$16,2,FALSE),\"\")","v":1},101771,5490,null,null,{"$f":"I119","v":5490},null,null,null,null,null,5490,5490,{"$f":"I119","v":5490},null,null,null,null,null,null,null,null,null,null,null,null,null,null,null,null,null,null,null,null,null,null,null,null,null,null,null,null,null,null,null,null,null,null,null,null,null,null,null,null,null,null,null,null,null,null,null,0]
[119,10177,"有明",null,null,"くるみる",{"$f":"IFERROR(VLOOKUP(F120,[1]データ!$A$2:$B$16,2,FALSE),\"\")","v":3},101773,710,null,null,{"$f":"I120","v":710},null,null,null,null,null,710,null,null,null,null,null,null,null,null,null,null,null,null,null,null,null,null,null,null,null,null,null,null,null,null,null,null,null,null,null,null,null,null,null,null,null,null,null,null,null,null,null,null,null,null,null,null,null,null,null,0]
[120,10177,"有明",null,null,"otona+",{"$f":"IFERROR(VLOOKUP(F121,[1]データ!$A$2:$B$16,2,FALSE),\"\")","v":4},101774,1050,null,null,1050,null,null,null,null,null,1050,null,null,null,null,null,null,null,null,null,null,null,null,null,null,null,null,null,null,null,null,null,null,null,null,null,null,null,null,null,null,null,null,null,null,null,null,null,null,null,null,null,null,null,null,null,null,null,null,null,0]
[121,10177,"有明",null,null,"assh",{"$f":"IFERROR(VLOOKUP(F122,[1]データ!$A$2:$B$16,2,FALSE),\"\")","v":5},101775,5150,null,null,5150,null,null,null,null,null,5150,null,null,null,null,null,null,null,null,null,null,null,null,null,null,null,null,null,null,null,null,null,null,null,null,null,null,null,null,null,null,null,null,null,null,null,null,null,null,null,null,null,null,null,null,null,null,null,null,null,0]
[122,10177,"有明",null,null,"assh・朝",{"$f":"IFERROR(VLOOKUP(F123,[1]データ!$A$2:$B$16,2,FALSE),\"\")","v":51},1017751,{"$f":"I119","v":5490},null,null,null,null,null,null,null,null,0,null,null,null,null,null,null,null,null,null,null,null,null,null,null,null,null,null,null,null,null,null,null,null,null,null,null,null,null,null,null,null,null,null,null,null,null,null,null,null,null,null,null,null,null,null,null,null,null,null,0]
[123,10177,"有明",null,null,"市報・区報",{"$f":"IFERROR(VLOOKUP(F124,[1]データ!$A$2:$B$16,2,FALSE),\"\")","v":2},101772,{"$f":"R124","v":5490},null,null,{"$f":"L119","v":5490},null,null,null,null,null,5490,null,null,null,null,null,null,null,null,null,null,null,null,null,null,null,null,null,null,null,null,null,null,null,null,null,null,null,null,null,null,null,null,null,null,null,null,null,null,null,null,null,null,null,null,null,null,null,null,null,0]
[124,10127,"小針","MN","新アマ日","朝刊",{"$f":"IFERROR(VLOOKUP(F125,[1]データ!$A$2:$B$16,2,FALSE),\"\")","v":1},101271,6970,null,null,null,null,{"$f":"I125","v":6970},null,null,null,6970,6970,{"$f":"I125","v":6970},null,null,null,null,null,null,null,null,null,null,null,null,null,null,null,null,null,null,null,null,null,null,null,null,null,null,null,null,null,null,null,null,null,null,null,null,null,null,null,null,null,null,null,null,null,null,null,0]
[125,10127,"小針",null,null,"くるみる",{"$f":"IFERROR(VLOOKUP(F126,[1]データ!$A$2:$B$16,2,FALSE),\"\")","v":3},101273,840,null,null,null,null,{"$f":"I126","v":840},null,null,null,840,null,null,null,null,null,null,null,null,null,null,null,null,null,null,null,null,null,null,null,null,null,null,null,null,null,null,null,null,null,null,null,null,null,null,null,null,null,null,null,null,null,null,null,null,null,null,null,null,null,0]
[126,10127,"小針",null,null,"otona+",{"$f":"IFERROR(VLOOKUP(F127,[1]データ!$A$2:$B$16,2,FALSE),\"\")","v":4},101274,1100,null,null,null,null,1100,null,null,null,1100,null,null,null,null,null,null,null,null,null,null,null,null,null,null,null,null,null,null,null,null,null,null,null,null,null,null,null,null,null,null,null,null,null,null,null,null,null,null,null,null,null,null,null,null,null,null,null,null,null,0]
[127,10127,"小針",null,null,"assh",{"$f":"IFERROR(VLOOKUP(F128,[1]データ!$A$2:$B$16,2,FALSE),\"\")","v":5},101275,6900,null,null,null,null,6900,null,null,null,6900,null,null,null,null,null,null,null,null,null,null,null,null,null,null,null,null,null,null,null,null,null,null,null,null,null,null,null,null,null,null,null,null,null,null,null,null,null,null,null,null,null,null,null,null,null,null,null,null,null,0]
[128,10127,"小針",null,null,"assh・朝",{"$f":"IFERROR(VLOOKUP(F129,[1]データ!$A$2:$B$16,2,FALSE),\"\")","v":51},1012751,{"$f":"I125","v":6970},null,null,null,null,null,null,null,null,0,null,null,null,null,null,null,null,null,null,null,null,null,null,null,null,null,null,null,null,null,null,null,null,null,null,null,null,null,null,null,null,null,null,null,null,null,null,null,null,null,null,null,null,null,null,null,null,null,null,0]
[129,10127,"小針",null,null,"市報・区報",{"$f":"IFERROR(VLOOKUP(F130,[1]データ!$A$2:$B$16,2,FALSE),\"\")","v":2},101272,{"$f":"R130","v":6970},null,null,null,null,{"$f":"N125","v":6970},null,null,null,6970,null,null,null,null,null,null,null,null,null,null,null,null,null,null,null,null,null,null,null,null,null,null,null,null,null,null,null,null,null,null,null,null,null,null,null,null,null,null,null,null,null,null,null,null,null,null,null,null,null,0]
[130,10128,"中通",null,"新アマ日","朝刊",{"$f":"IFERROR(VLOOKUP(F131,[1]データ!$A$2:$B$16,2,FALSE),\"\")","v":1},101281,2600,null,null,{"$f":"I131","v":2600},null,null,null,null,null,2600,2600,{"$f":"I131","v":2600},null,null,null,null,null,null,null,null,null,null,null,null,null,null,null,null,null,null,null,null,null,null,null,null,null,null,null,null,null,null,null,null,null,null,null,null,null,null,null,null,null,null,null,null,null,null,null,0]
[131,10128,"中通",null,null,"くるみる",{"$f":"IFERROR(VLOOKUP(F132,[1]データ!$A$2:$B$16,2,FALSE),\"\")","v":3},101283,20,null,null,{"$f":"I132","v":20},null,null,null,null,null,20,null,null,null,null,null,null,null,null,null,null,null,null,null,null,null,null,null,null,null,null,null,null,null,null,null,null,null,null,null,null,null,null,null,null,null,null,null,null,null,null,null,null,null,null,null,null,null,null,null,{"$f":"SUM(U132:BO132)","v":0}]
[132,10128,"中通",null,null,"otona+",{"$f":"IFERROR(VLOOKUP(F133,[1]データ!$A$2:$B$16,2,FALSE),\"\")","v":4},101284,500,null,null,500,null,null,null,null,null,500,null,null,null,null,null,null,null,null,null,null,null,null,null,null,null,null,null,null,null,null,null,null,null,null,null,null,null,null,null,null,null,null,null,null,null,null,null,null,null,null,null,null,null,null,null,null,null,null,null,0]
[133,10128,"中通",null,null,"assh",{"$f":"IFERROR(VLOOKUP(F134,[1]データ!$A$2:$B$16,2,FALSE),\"\")","v":5},101285,2800,null,null,2800,null,null,null,null,null,2800,null,null,null,null,null,null,null,null,null,null,null,null,null,null,null,null,null,null,null,null,null,null,null,null,null,null,null,null,null,null,null,null,null,null,null,null,null,null,null,null,null,null,null,null,null,null,null,null,null,0]
[134,10128,"中通",null,null,"assh・朝",{"$f":"IFERROR(VLOOKUP(F135,[1]データ!$A$2:$B$16,2,FALSE),\"\")","v":51},1012851,2600,null,null,null,null,null,null,null,null,0,null,null,null,null,null,null,null,null,null,null,null,null,null,null,null,null,null,null,null,null,null,null,null,null,null,null,null,null,null,null,null,null,null,null,null,null,null,null,null,null,null,null,null,null,null,null,null,null,null,0]
[135,10128,"中通",null,null,"市報・区報",{"$f":"IFERROR(VLOOKUP(F136,[1]データ!$A$2:$B$16,2,FALSE),\"\")","v":2},101282,{"$f":"R136","v":2600},null,null,{"$f":"L131","v":2600},null,null,null,null,null,2600,null,null,null,null,null,null,null,null,null,null,null,null,null,null,null,null,null,null,null,null,null,null,null,null,null,null,null,null,null,null,null,null,null,null,null,null,null,null,null,null,null,null,null,null,null,null,null,null,null,0]
[136,10130,"本町",null,"新アマ日","朝刊",{"$f":"IFERROR(VLOOKUP(F137,[1]データ!$A$2:$B$16,2,FALSE),\"\")","v":1},101301,2800,null,null,{"$f":"I137","v":2800},null,null,null,null,null,2800,{"$f":"SUM(T137:AH137)","v":2800},{"$f":"I137","v":2800},null,null,null,null,null,null,null,null,null,null,null,null,null,null,null,null,null,null,null,null,null,null,null,null,null,null,null,null,null,null,null,null,null,null,null,null,null,null,null,null,null,null,null,null,null,null,null,0]
[137,10130,"本町",null,null,"くるみる",{"$f":"IFERROR(VLOOKUP(F138,[1]データ!$A$2:$B$16,2,FALSE),\"\")","v":3},101303,300,null,null,{"$f":"I138","v":300},null,null,null,null,null,300,null,null,null,null,null,null,null,null,null,null,null,null,null,null,null,null,null,null,null,null,null,null,null,null,null,null,null,null,null,null,null,null,null,null,null,null,null,null,null,null,null,null,null,null,null,null,null,null,null,0]
[138,10130,"本町",null,null,"otona+",{"$f":"IFERROR(VLOOKUP(F139,[1]データ!$A$2:$B$16,2,FALSE),\"\")","v":4},101304,480,null,null,480,null,null,null,null,null,480,null,null,null,null,null,null,null,null,null,null,null,null,null,null,null,null,null,null,null,null,null,null,null,null,null,null,null,null,null,null,null,null,null,null,null,null,null,null,null,null,null,null,null,null,null,null,null,null,null,0]
[139,10130,"本町",null,null,"assh",{"$f":"IFERROR(VLOOKUP(F140,[1]データ!$A$2:$B$16,2,FALSE),\"\")","v":5},101305,1500,null,null,1500,null,null,null,null,null,1500,null,null,null,null,null,null,null,null,null,null,null,null,null,null,null,null,null,null,null,null,null,null,null,null,null,null,null,null,null,null,null,null,null,null,null,null,null,null,null,null,null,null,null,null,null,null,null,null,null,0]
[140,10130,"本町",null,null,"assh・朝",{"$f":"IFERROR(VLOOKUP(F141,[1]データ!$A$2:$B$16,2,FALSE),\"\")","v":51},1013051,2800,null,null,null,null,null,null,null,null,0,null,null,null,null,null,null,null,null,null,null,null,null,null,null,null,null,null,null,null,null,null,null,null,null,null,null,null,null,null,null,null,null,null,null,null,null,null,null,null,null,null,null,null,null,null,null,null,null,null,0]
[141,10130,"本町",null,null,"市報・区報",{"$f":"IFERROR(VLOOKUP(F142,[1]データ!$A$2:$B$16,2,FALSE),\"\")","v":2},101302,{"$f":"R142","v":2800},null,null,{"$f":"L137","v":2800},null,null,null,null,null,2800,null,null,null,null,null,null,null,null,null,null,null,null,null,null,null,null,null,null,null,null,null,null,null,null,null,null,null,null,null,null,null,null,null,null,null,null,null,null,null,null,null,null,null,null,null,null,null,null,null,0]
[142,10131,"中央",null,"新アマ日","朝刊",{"$f":"IFERROR(VLOOKUP(F143,[1]データ!$A$2:$B$16,2,FALSE),\"\")","v":1},101311,3040,null,null,{"$f":"I143","v":3040},null,null,null,null,null,{"$f":"SUM(J143:Q143)","v":3040},3040,{"$f":"I143","v":3040},null,null,null,null,null,null,null,null,null,null,null,null,null,null,null,null,null,null,null,null,null,null,null,null,null,null,null,null,null,null,null,null,null,null,null,null,null,null,null,null,null,null,null,null,null,null,null,0]
[143,10131,"中央",null,null,"くるみる",{"$f":"IFERROR(VLOOKUP(F144,[1]データ!$A$2:$B$16,2,FALSE),\"\")","v":3},101313,50,null,null,{"$f":"I144","v":50},null,null,null,null,null,50,null,null,null,null,null,null,null,null,null,null,null,null,null,null,null,null,null,null,null,null,null,null,null,null,null,null,null,null,null,null,null,null,null,null,null,null,null,null,null,null,null,null,null,null,null,null,null,null,null,0]
[144,10131,"中央",null,null,"otona+",{"$f":"IFERROR(VLOOKUP(F145,[1]データ!$A$2:$B$16,2,FALSE),\"\")","v":4},101314,480,null,null,480,null,null,null,null,null,480,null,null,null,null,null,null,null,null,null,null,null,null,null,null,null,null,null,null,null,null,null,null,null,null,null,null,null,null,null,null,null,null,null,null,null,null,null,null,null,null,null,null,null,null,null,null,null,null,null,0]
[145,10131,"中央",null,null,"assh",{"$f":"IFERROR(VLOOKUP(F146,[1]データ!$A$2:$B$16,2,FALSE),\"\")","v":5},101315,2050,null,null,2050,null,null,null,null,null,2050,null,null,null,null,null,null,null,null,null,null,null,null,null,null,null,null,null,null,null,null,null,null,null,null,null,null,null,null,null,null,null,null,null,null,null,null,null,null,null,null,null,null,null,null,null,null,null,null,null,0]
[146,10131,"中央",null,null,"assh・朝",{"$f":"IFERROR(VLOOKUP(F147,[1]データ!$A$2:$B$16,2,FALSE),\"\")","v":51},1013151,3100,null,null,null,null,null,null,null,null,0,null,null,null,null,null,null,null,null,null,null,null,null,null,null,null,null,null,null,null,null,null,null,null,null,null,null,null,null,null,null,null,null,null,null,null,null,null,null,null,null,null,null,null,null,null,null,null,null,null,0]
[147,10131,"中央",null,null,"市報・区報",{"$f":"IFERROR(VLOOKUP(F148,[1]データ!$A$2:$B$16,2,FALSE),\"\")","v":2},101312,{"$f":"R148","v":3040},null,null,{"$f":"L143","v":3040},null,null,null,null,null,3040,null,null,null,null,null,null,null,null,null,null,null,null,null,null,null,null,null,null,null,null,null,null,null,null,null,null,null,null,null,null,null,null,null,null,null,null,null,null,null,null,null,null,null,null,null,null,null,null,null,0]
[148,10133,"真砂",null,"新アマ日","朝刊",{"$f":"IFERROR(VLOOKUP(F149,[1]データ!$A$2:$B$16,2,FALSE),\"\")","v":1},101331,2100,null,null,null,null,{"$f":"I149","v":2100},null,null,null,2100,2100,{"$f":"I149","v":2100},null,null,null,null,null,null,null,null,null,null,null,null,null,null,null,null,null,null,null,null,null,null,null,null,null,null,null,null,null,null,null,null,null,null,null,null,null,null,null,null,null,null,null,null,null,null,null,0]
[149,10133,"真砂",null,null,"くるみる",{"$f":"IFERROR(VLOOKUP(F150,[1]データ!$A$2:$B$16,2,FALSE),\"\")","v":3},101333,200,null,null,null,null,{"$f":"I150","v":200},null,null,null,200,null,null,null,null,null,null,null,null,null,null,null,null,null,null,null,null,null,null,null,null,null,null,null,null,null,null,null,null,null,null,null,null,null,null,null,null,null,null,null,null,null,null,null,null,null,null,null,null,null,0]
[150,10133,"真砂",null,null,"otona+",{"$f":"IFERROR(VLOOKUP(F151,[1]データ!$A$2:$B$16,2,FALSE),\"\")","v":4},101334,460,null,null,null,null,460,null,null,null,460,null,null,null,null,null,null,null,null,null,null,null,null,null,null,null,null,null,null,null,null,null,null,null,null,null,null,null,null,null,null,null,null,null,null,null,null,null,null,null,null,null,null,null,null,null,null,null,null,null,0]
[151,10133,"真砂",null,null,"assh",{"$f":"IFERROR(VLOOKUP(F152,[1]データ!$A$2:$B$16,2,FALSE),\"\")","v":5},101335,1650,null,null,null,null,1650,null,null,null,1650,null,null,null,null,null,null,null,null,null,null,null,null,null,null,null,null,null,null,null,null,null,null,null,null,null,null,null,null,null,null,null,null,null,null,null,null,null,null,null,null,null,null,null,null,null,null,null,null,null,0]
[152,10133,"真砂",null,null,"assh・朝",{"$f":"IFERROR(VLOOKUP(F153,[1]データ!$A$2:$B$16,2,FALSE),\"\")","v":51},1013351,2100,null,null,null,null,null,null,null,null,0,null,null,null,null,null,null,null,null,null,null,null,null,null,null,null,null,null,null,null,null,null,null,null,null,null,null,null,null,null,null,null,null,null,null,null,null,null,null,null,null,null,null,null,null,null,null,null,null,null,0]
[153,10133,"真砂",null,null,"市報・区報",{"$f":"IFERROR(VLOOKUP(F154,[1]データ!$A$2:$B$16,2,FALSE),\"\")","v":2},101332,{"$f":"R154","v":2100},null,null,null,null,{"$f":"N149","v":2100},null,null,null,2100,null,null,null,null,null,null,null,null,null,null,null,null,null,null,null,null,null,null,null,null,null,null,null,null,null,null,null,null,null,null,null,null,null,null,null,null,null,null,null,null,null,null,null,null,null,null,null,null,null,0]
[154,10134,"寺尾",null,"新アマ日","朝刊",{"$f":"IFERROR(VLOOKUP(F155,[1]データ!$A$2:$B$16,2,FALSE),\"\")","v":1},101341,6000,null,null,null,null,{"$f":"I155","v":6000},null,null,null,6000,6000,{"$f":"I155","v":6000},null,null,null,null,null,null,null,null,null,null,null,null,null,null,null,null,null,null,null,null,null,null,null,null,null,null,null,null,null,null,null,null,null,null,null,null,null,null,null,null,null,null,null,null,null,null,null,0]
[155,10134,"寺尾",null,null,"くるみる",{"$f":"IFERROR(VLOOKUP(F156,[1]データ!$A$2:$B$16,2,FALSE),\"\")","v":3},101343,210,null,null,null,null,{"$f":"I156","v":210},null,null,null,210,null,null,null,null,null,null,null,null,null,null,null,null,null,null,null,null,null,null,null,null,null,null,null,null,null,null,null,null,null,null,null,null,null,null,null,null,null,null,null,null,null,null,null,null,null,null,null,null,null,0]
[156,10134,"寺尾",null,null,"otona+",{"$f":"IFERROR(VLOOKUP(F157,[1]データ!$A$2:$B$16,2,FALSE),\"\")","v":4},101344,830,null,null,null,null,830,null,null,null,830,null,null,null,null,null,null,null,null,null,null,null,null,null,null,null,null,null,null,null,null,null,null,null,null,null,null,null,null,null,null,null,null,null,null,null,null,null,null,null,null,null,null,null,null,null,null,null,null,null,0]
[157,10134,"寺尾",null,null,"assh",{"$f":"IFERROR(VLOOKUP(F158,[1]データ!$A$2:$B$16,2,FALSE),\"\")","v":5},101345,3000,null,null,null,null,3000,null,null,null,3000,null,null,null,null,null,null,null,null,null,null,null,null,null,null,null,null,null,null,null,null,null,null,null,null,null,null,null,null,null,null,null,null,null,null,null,null,null,null,null,null,null,null,null,null,null,null,null,null,null,0]
[158,10134,"寺尾",null,null,"assh・朝",{"$f":"IFERROR(VLOOKUP(F159,[1]データ!$A$2:$B$16,2,FALSE),\"\")","v":51},1013451,6000,null,null,null,null,null,null,null,null,0,null,null,null,null,null,null,null,null,null,null,null,null,null,null,null,null,null,null,null,null,null,null,null,null,null,null,null,null,null,null,null,null,null,null,null,null,null,null,null,null,null,null,null,null,null,null,null,null,null,0]
[159,10134,"寺尾",null,null,"市報・区報",{"$f":"IFERROR(VLOOKUP(F160,[1]データ!$A$2:$B$16,2,FALSE),\"\")","v":2},101342,{"$f":"R160","v":6000},null,null,null,null,{"$f":"N155","v":6000},null,null,null,6000,null,null,null,null,null,null,null,null,null,null,null,null,null,null,null,null,null,null,null,null,null,null,null,null,null,null,null,null,null,null,null,null,null,null,null,null,null,null,null,null,null,null,null,null,null,null,null,null,null,0]
[160,10135,"新大前","MN","新アマ日","朝刊",{"$f":"IFERROR(VLOOKUP(F161,[1]データ!$A$2:$B$16,2,FALSE),\"\")","v":1},101351,2810,null,null,null,null,{"$f":"I161","v":2810},null,null,null,2810,2810,{"$f":"I161","v":2810},null,null,null,null,null,null,null,null,null,null,null,null,null,null,null,null,null,null,null,null,null,null,null,null,null,null,null,null,null,null,null,null,null,null,null,null,null,null,null,null,null,null,null,null,null,null,null,0]
[161,10135,"新大前",null,null,"くるみる",{"$f":"IFERROR(VLOOKUP(F162,[1]データ!$A$2:$B$16,2,FALSE),\"\")","v":3},101353,430,null,null,null,null,{"$f":"I162","v":430},null,null,null,430,null,null,null,null,null,null,null,null,null,null,null,null,null,null,null,null,null,null,null,null,null,null,null,null,null,null,null,null,null,null,null,null,null,null,null,null,null,null,null,null,null,null,null,null,null,null,null,null,null,0]
[162,10135,"新大前",null,null,"otona+",{"$f":"IFERROR(VLOOKUP(F163,[1]データ!$A$2:$B$16,2,FALSE),\"\")","v":4},101354,400,null,null,null,null,400,null,null,null,400,null,null,null,null,null,null,null,null,null,null,null,null,null,null,null,null,null,null,null,null,null,null,null,null,null,null,null,null,null,null,null,null,null,null,null,null,null,null,null,null,null,null,null,null,null,null,null,null,null,0]
[163,10135,"新大前",null,null,"assh",{"$f":"IFERROR(VLOOKUP(F164,[1]データ!$A$2:$B$16,2,FALSE),\"\")","v":5},101355,3700,null,null,null,null,3700,null,null,null,3700,null,null,null,null,null,null,null,null,null,null,null,null,null,null,null,null,null,null,null,null,null,null,null,null,null,null,null,null,null,null,null,null,null,null,null,null,null,null,null,null,null,null,null,null,null,null,null,null,null,0]
[164,10135,"新大前",null,null,"assh・朝",{"$f":"IFERROR(VLOOKUP(F165,[1]データ!$A$2:$B$16,2,FALSE),\"\")","v":51},1013551,{"$f":"I161","v":2810},null,null,null,null,null,null,null,null,0,null,null,null,null,null,null,null,null,null,null,null,null,null,null,null,null,null,null,null,null,null,null,null,null,null,null,null,null,null,null,null,null,null,null,null,null,null,null,null,null,null,null,null,null,null,null,null,null,null,0]
[165,10135,"新大前",null,null,"市報・区報",{"$f":"IFERROR(VLOOKUP(F166,[1]データ!$A$2:$B$16,2,FALSE),\"\")","v":2},101352,{"$f":"R166","v":2810},null,null,null,null,{"$f":"N161","v":2810},null,null,null,2810,null,null,null,null,null,null,null,null,null,null,null,null,null,null,null,null,null,null,null,null,null,null,null,null,null,null,null,null,null,null,null,null,null,null,null,null,null,null,null,null,null,null,null,null,null,null,null,null,null,0]
[166,10136,"内野",null,"新アマ日","朝刊",{"$f":"IFERROR(VLOOKUP(F167,[1]データ!$A$2:$B$16,2,FALSE),\"\")","v":1},101361,3600,null,null,null,null,{"$f":"I167","v":3600},null,null,null,3600,3600,{"$f":"I167","v":3600},null,null,null,null,null,null,null,null,null,null,null,null,null,null,null,null,null,null,null,null,null,null,null,null,null,null,null,null,null,null,null,null,null,null,null,null,null,null,null,null,null,null,null,null,null,null,null,0]
[167,10136,"内野",null,null,"くるみる",{"$f":"IFERROR(VLOOKUP(F168,[1]データ!$A$2:$B$16,2,FALSE),\"\")","v":3},101363,500,null,null,null,null,{"$f":"I168","v":500},null,null,null,500,null,null,null,null,null,null,null,null,null,null,null,null,null,null,null,null,null,null,null,null,null,null,null,null,null,null,null,null,null,null,null,null,null,null,null,null,null,null,null,null,null,null,null,null,null,null,null,null,null,0]
[168,10136,"内野",null,null,"otona+",{"$f":"IFERROR(VLOOKUP(F169,[1]データ!$A$2:$B$16,2,FALSE),\"\")","v":4},101364,340,null,null,null,null,340,null,null,null,340,null,null,null,null,null,null,null,null,null,null,null,null,null,null,null,null,null,null,null,null,null,null,null,null,null,null,null,null,null,null,null,null,null,null,null,null,null,null,null,null,null,null,null,null,null,null,null,null,null,0]
[169,10136,"内野",null,null,"assh",{"$f":"IFERROR(VLOOKUP(F170,[1]データ!$A$2:$B$16,2,FALSE),\"\")","v":5},101365,2200,null,null,null,null,2200,null,null,null,2200,null,null,null,null,null,null,null,null,null,null,null,null,null,null,null,null,null,null,null,null,null,null,null,null,null,null,null,null,null,null,null,null,null,null,null,null,null,null,null,null,null,null,null,null,null,null,null,null,null,0]
[170,10136,"内野",null,null,"assh・朝",{"$f":"IFERROR(VLOOKUP(F171,[1]データ!$A$2:$B$16,2,FALSE),\"\")","v":51},1013651,3600,null,null,null,null,null,null,null,null,0,null,null,null,null,null,null,null,null,null,null,null,null,null,null,null,null,null,null,null,null,null,null,null,null,null,null,null,null,null,null,null,null,null,null,null,null,null,null,null,null,null,null,null,null,null,null,null,null,null,0]
[171,10136,"内野",null,null,"市報・区報",{"$f":"IFERROR(VLOOKUP(F172,[1]データ!$A$2:$B$16,2,FALSE),\"\")","v":2},101362,{"$f":"R172","v":3600},null,null,null,null,{"$f":"N167","v":3600},null,null,null,3600,null,null,null,null,null,null,null,null,null,null,null,null,null,null,null,null,null,null,null,null,null,null,null,null,null,null,null,null,null,null,null,null,null,null,null,null,null,null,null,null,null,null,null,null,null,null,null,null,null,0]
[172,10137,"西内野","サポート","新アマ日","朝刊",{"$f":"IFERROR(VLOOKUP(F173,[1]データ!$A$2:$B$16,2,FALSE),\"\")","v":1},101371,3020,null,null,null,null,{"$f":"I173","v":3020},null,null,null,3020,3020,2950,null,null,null,null,null,70,null,null,null,null,null,null,null,null,null,null,null,null,null,null,null,null,null,null,null,null,null,null,null,null,null,null,null,null,null,null,null,null,null,null,null,null,null,null,null,null,null,70]
[173,10137,"西内野",null,null,"くるみる",{"$f":"IFERROR(VLOOKUP(F174,[1]データ!$A$2:$B$16,2,FALSE),\"\")","v":3},101373,200,null,null,null,null,{"$f":"I174","v":200},null,null,null,200,null,null,null,null,null,null,null,null,null,null,null,null,null,null,null,null,null,null,null,null,null,null,null,null,null,null,null,null,null,null,null,null,null,null,null,null,null,null,null,null,null,null,null,null,null,null,null,null,null,0]
[174,10137,"西内野",null,null,"otona+",{"$f":"IFERROR(VLOOKUP(F175,[1]データ!$A$2:$B$16,2,FALSE),\"\")","v":4},101374,300,null,null,null,null,300,null,null,null,300,null,null,null,null,null,null,null,null,null,null,null,null,null,null,null,null,null,null,null,null,null,null,null,null,null,null,null,null,null,null,null,null,null,null,null,null,null,null,null,null,null,null,null,null,null,null,null,null,null,0]
[175,10137,"西内野",null,null,"assh",{"$f":"IFERROR(VLOOKUP(F176,[1]データ!$A$2:$B$16,2,FALSE),\"\")","v":5},101375,2300,null,null,null,null,2300,null,null,null,2300,null,null,null,null,null,null,null,null,null,null,null,null,null,null,null,null,null,null,null,null,null,null,null,null,null,null,null,null,null,null,null,null,null,null,null,null,null,null,null,null,null,null,null,null,null,null,null,null,null,0]
[176,10137,"西内野",null,null,"assh・朝",{"$f":"IFERROR(VLOOKUP(F177,[1]データ!$A$2:$B$16,2,FALSE),\"\")","v":51},1013751,3020,null,null,null,null,null,null,null,null,0,null,null,null,null,null,null,null,null,null,null,null,null,null,null,null,null,null,null,null,null,null,null,null,null,null,null,null,null,null,null,null,null,null,null,null,null,null,null,null,null,null,null,null,null,null,null,null,null,null,0]
[177,10137,"西内野",null,null,"市報・区報",{"$f":"IFERROR(VLOOKUP(F178,[1]データ!$A$2:$B$16,2,FALSE),\"\")","v":2},101372,{"$f":"R178","v":3020},null,null,null,null,{"$f":"N173","v":3020},null,null,null,3020,null,null,null,null,null,null,null,null,null,null,null,null,null,null,null,null,null,null,null,null,null,null,null,null,null,null,null,null,null,null,null,null,null,null,null,null,null,null,null,null,null,null,null,null,null,null,null,null,null,0]
[178,10139,"上坂井",null,null,"朝刊",{"$f":"IFERROR(VLOOKUP(F179,[1]データ!$A$2:$B$16,2,FALSE),\"\")","v":1},101391,null,null,null,null,null,null,null,null,null,0,0,null,null,null,null,null,null,null,null,null,null,null,null,null,null,null,null,null,null,null,null,null,null,null,null,null,null,null,null,null,null,null,null,null,null,null,null,null,null,null,null,null,null,null,null,null,null,null,null,0]
[179,10140,"小新",null,"新アマ日","朝刊",{"$f":"IFERROR(VLOOKUP(F180,[1]データ!$A$2:$B$16,2,FALSE),\"\")","v":1},101401,4050,null,null,null,null,{"$f":"I180","v":4050},null,null,null,4050,4050,3050,1000,null,null,null,null,null,null,null,null,null,null,null,null,null,null,null,null,null,null,null,null,null,null,null,null,null,null,null,null,null,null,null,null,null,null,null,null,null,null,null,null,null,null,null,null,null,null,1000]
[180,10140,"小新",null,null,"くるみる",{"$f":"IFERROR(VLOOKUP(F181,[1]データ!$A$2:$B$16,2,FALSE),\"\")","v":3},101403,750,null,null,null,null,{"$f":"I181","v":750},null,null,null,750,null,null,null,null,null,null,null,null,null,null,null,null,null,null,null,null,null,null,null,null,null,null,null,null,null,null,null,null,null,null,null,null,null,null,null,null,null,null,null,null,null,null,null,null,null,null,null,null,null,0]
[181,10140,"小新",null,null,"otona+",{"$f":"IFERROR(VLOOKUP(F182,[1]データ!$A$2:$B$16,2,FALSE),\"\")","v":4},101404,340,null,null,null,null,340,null,null,null,340,null,null,null,null,null,null,null,null,null,null,null,null,null,null,null,null,null,null,null,null,null,null,null,null,null,null,null,null,null,null,null,null,null,null,null,null,null,null,null,null,null,null,null,null,null,null,null,null,null,0]
[182,10140,"小新",null,null,"assh",{"$f":"IFERROR(VLOOKUP(F183,[1]データ!$A$2:$B$16,2,FALSE),\"\")","v":5},101405,3600,null,null,null,null,3600,null,null,null,3600,null,null,null,null,null,null,null,null,null,null,null,null,null,null,null,null,null,null,null,null,null,null,null,null,null,null,null,null,null,null,null,null,null,null,null,null,null,null,null,null,null,null,null,null,null,null,null,null,null,0]
[183,10140,"小新",null,null,"assh・朝",{"$f":"IFERROR(VLOOKUP(F184,[1]データ!$A$2:$B$16,2,FALSE),\"\")","v":51},1014051,4050,null,null,null,null,null,null,null,null,0,null,null,null,null,null,null,null,null,null,null,null,null,null,null,null,null,null,null,null,null,null,null,null,null,null,null,null,null,null,null,null,null,null,null,null,null,null,null,null,null,null,null,null,null,null,null,null,null,null,0]
[184,10140,"小新",null,null,"市報・区報",{"$f":"IFERROR(VLOOKUP(F185,[1]データ!$A$2:$B$16,2,FALSE),\"\")","v":2},101402,{"$f":"R185","v":4050},null,null,null,null,{"$f":"N180","v":4050},null,null,null,4050,null,null,null,null,null,null,null,null,null,null,null,null,null,null,null,null,null,null,null,null,null,null,null,null,null,null,null,null,null,null,null,null,null,null,null,null,null,null,null,null,null,null,null,null,null,null,null,null,null,0]
[185,10141,"寺地",null,"新アマ日","朝刊",{"$f":"IFERROR(VLOOKUP(F186,[1]データ!$A$2:$B$16,2,FALSE),\"\")","v":1},101411,1750,null,null,null,null,{"$f":"I186","v":1750},null,null,null,1750,1750,null,{"$f":"I186","v":1750},null,null,null,null,null,null,null,null,null,null,null,null,null,null,null,null,null,null,null,null,null,null,null,null,null,null,null,null,null,null,null,null,null,null,null,null,null,null,null,null,null,null,null,null,null,null,1750]
[186,10141,"寺地",null,null,"くるみる",{"$f":"IFERROR(VLOOKUP(F187,[1]データ!$A$2:$B$16,2,FALSE),\"\")","v":3},101413,300,null,null,null,null,{"$f":"I187","v":300},null,null,null,300,null,null,null,null,null,null,null,null,null,null,null,null,null,null,null,null,null,null,null,null,null,null,null,null,null,null,null,null,null,null,null,null,null,null,null,null,null,null,null,null,null,null,null,null,null,null,null,null,null,0]
[187,10141,"寺地",null,null,"otona+",{"$f":"IFERROR(VLOOKUP(F188,[1]データ!$A$2:$B$16,2,FALSE),\"\")","v":4},101414,200,null,null,null,null,200,null,null,null,200,null,null,null,null,null,null,null,null,null,null,null,null,null,null,null,null,null,null,null,null,null,null,null,null,null,null,null,null,null,null,null,null,null,null,null,null,null,null,null,null,null,null,null,null,null,null,null,null,null,0]
[188,10141,"寺地",null,null,"assh",{"$f":"IFERROR(VLOOKUP(F189,[1]データ!$A$2:$B$16,2,FALSE),\"\")","v":5},101415,1750,null,null,null,null,1750,null,null,null,1750,null,null,null,null,null,null,null,null,null,null,null,null,null,null,null,null,null,null,null,null,null,null,null,null,null,null,null,null,null,null,null,null,null,null,null,null,null,null,null,null,null,null,null,null,null,null,null,null,null,0]
[189,10141,"寺地",null,null,"assh・朝",{"$f":"IFERROR(VLOOKUP(F190,[1]データ!$A$2:$B$16,2,FALSE),\"\")","v":51},1014151,1750,null,null,null,null,null,null,null,null,0,null,null,null,null,null,null,null,null,null,null,null,null,null,null,null,null,null,null,null,null,null,null,null,null,null,null,null,null,null,null,null,null,null,null,null,null,null,null,null,null,null,null,null,null,null,null,null,null,null,0]
[190,10141,"寺地",null,null,"市報・区報",{"$f":"IFERROR(VLOOKUP(F191,[1]データ!$A$2:$B$16,2,FALSE),\"\")","v":2},101412,{"$f":"R191","v":1750},null,null,null,null,{"$f":"N186","v":1750},null,null,null,1750,null,null,null,null,null,null,null,null,null,null,null,null,null,null,null,null,null,null,null,null,null,null,null,null,null,null,null,null,null,null,null,null,null,null,null,null,null,null,null,null,null,null,null,null,null,null,null,null,null,0]
[191,10178,"黒埼","MN","新アマ日","朝刊",{"$f":"IFERROR(VLOOKUP(F192,[1]データ!$A$2:$B$16,2,FALSE),\"\")","v":1},101781,3090,null,null,null,null,2970,120,null,null,3090,3090,null,2970,120,null,null,null,null,null,null,null,null,null,null,null,null,null,null,null,null,null,null,null,null,null,null,null,null,null,null,null,null,null,null,null,null,null,null,null,null,null,null,null,null,null,null,null,null,null,3090]
[192,10178,"黒埼",null,null,"くるみる",{"$f":"IFERROR(VLOOKUP(F193,[1]データ!$A$2:$B$16,2,FALSE),\"\")","v":3},101783,490,null,null,null,null,470,20,null,null,490,null,null,null,null,null,null,null,null,null,null,null,null,null,null,null,null,null,null,null,null,null,null,null,null,null,null,null,null,null,null,null,null,null,null,null,null,null,null,null,null,null,null,null,null,null,null,null,null,null,0]
[193,10178,"黒埼",null,null,"otona+",{"$f":"IFERROR(VLOOKUP(F194,[1]データ!$A$2:$B$16,2,FALSE),\"\")","v":4},101784,240,null,null,null,null,230,10,null,null,240,null,null,null,null,null,null,null,null,null,null,null,null,null,null,null,null,null,null,null,null,null,null,null,null,null,null,null,null,null,null,null,null,null,null,null,null,null,null,null,null,null,null,null,null,null,null,null,null,null,0]
[194,10178,"黒埼",null,null,"assh",{"$f":"IFERROR(VLOOKUP(F195,[1]データ!$A$2:$B$16,2,FALSE),\"\")","v":5},101785,2100,null,null,null,null,2060,40,null,null,2100,null,null,null,null,null,null,null,null,null,null,null,null,null,null,null,null,null,null,null,null,null,null,null,null,null,null,null,null,null,null,null,null,null,null,null,null,null,null,null,null,null,null,null,null,null,null,null,null,null,0]
[195,10178,"黒埼",null,null,"assh・朝",{"$f":"IFERROR(VLOOKUP(F196,[1]データ!$A$2:$B$16,2,FALSE),\"\")","v":51},1017851,{"$f":"I192","v":3090},null,null,null,null,null,null,null,null,0,null,null,null,null,null,null,null,null,null,null,null,null,null,null,null,null,null,null,null,null,null,null,null,null,null,null,null,null,null,null,null,null,null,null,null,null,null,null,null,null,null,null,null,null,null,null,null,null,null,{"$f":"SUM(U196:BO196)","v":0}]
[196,10178,"黒埼",null,null,"市報・区報",{"$f":"IFERROR(VLOOKUP(F197,[1]データ!$A$2:$B$16,2,FALSE),\"\")","v":2},101782,{"$f":"R197","v":3090},null,null,null,null,{"$f":"N192","v":2970},{"$f":"O192","v":120},null,null,3090,null,null,null,null,null,null,null,null,null,null,null,null,null,null,null,null,null,null,null,null,null,null,null,null,null,null,null,null,null,null,null,null,null,null,null,null,null,null,null,null,null,null,null,null,null,null,null,null,null,0]
[197,10143,"黒埼南",null,"新アマ日","朝刊",{"$f":"IFERROR(VLOOKUP(F198,[1]データ!$A$2:$B$16,2,FALSE),\"\")","v":1},101431,3150,null,null,null,null,null,{"$f":"I198","v":3150},null,null,3150,{"$f":"SUM(T198:AH198)","v":3150},null,null,450,null,null,null,null,null,null,2700,null,null,null,null,null,null,null,null,null,null,null,null,null,null,null,null,null,null,null,null,null,null,null,null,null,null,null,null,null,null,null,null,null,null,null,null,null,null,3150]
[198,10143,"黒埼南",null,null,"くるみる",{"$f":"IFERROR(VLOOKUP(F199,[1]データ!$A$2:$B$16,2,FALSE),\"\")","v":3},101433,320,null,null,null,null,null,{"$f":"I199","v":320},null,null,320,null,null,null,null,null,null,null,null,null,null,null,null,null,null,null,null,null,null,null,null,null,null,null,null,null,null,null,null,null,null,null,null,null,null,null,null,null,null,null,null,null,null,null,null,null,null,null,null,null,0]
[199,10143,"黒埼南",null,null,"otona+",{"$f":"IFERROR(VLOOKUP(F200,[1]データ!$A$2:$B$16,2,FALSE),\"\")","v":4},101434,130,null,null,null,null,null,130,null,null,130,null,null,null,null,null,null,null,null,null,null,null,null,null,null,null,null,null,null,null,null,null,null,null,null,null,null,null,null,null,null,null,null,null,null,null,null,null,null,null,null,null,null,null,null,null,null,null,null,null,0]
[200,10143,"黒埼南",null,null,"assh",{"$f":"IFERROR(VLOOKUP(F201,[1]データ!$A$2:$B$16,2,FALSE),\"\")","v":5},101435,1300,null,null,null,null,null,1300,null,null,1300,null,null,null,null,null,null,null,null,null,null,null,null,null,null,null,null,null,null,null,null,null,null,null,null,null,null,null,null,null,null,null,null,null,null,null,null,null,null,null,null,null,null,null,null,null,null,null,null,null,0]
[201,10143,"黒埼南",null,null,"assh・朝",{"$f":"IFERROR(VLOOKUP(F202,[1]データ!$A$2:$B$16,2,FALSE),\"\")","v":51},1014351,1150,null,null,null,null,null,null,null,null,0,null,null,null,null,null,null,null,null,null,null,null,null,null,null,null,null,null,null,null,null,null,null,null,null,null,null,null,null,null,null,null,null,null,null,null,null,null,null,null,null,null,null,null,null,null,null,null,null,null,0]
[202,10143,"黒埼南",null,null,"市報・区報",{"$f":"IFERROR(VLOOKUP(F203,[1]データ!$A$2:$B$16,2,FALSE),\"\")","v":2},101432,{"$f":"R203","v":3150},null,null,null,null,null,{"$f":"O198","v":3150},null,null,3150,null,null,null,null,null,null,null,null,null,null,null,null,null,null,null,null,null,null,null,null,null,null,null,null,null,null,null,null,null,null,null,null,null,null,null,null,null,null,null,null,null,null,null,null,null,null,null,null,null,0]
[203,10154,"新潟西",null,null,"朝刊",{"$f":"IFERROR(VLOOKUP(F204,[1]データ!$A$2:$B$16,2,FALSE),\"\")","v":1},101541,null,null,null,null,null,null,null,null,null,0,0,null,null,null,null,null,null,null,null,null,null,null,null,null,null,null,null,null,null,null,null,null,null,null,null,null,null,null,null,null,null,null,null,null,null,null,null,null,null,null,null,null,null,null,null,null,null,null,null,0]
[204,210167,"本町","本町","ヨサ日","朝刊",{"$f":"IFERROR(VLOOKUP(F205,[1]データ!$A$2:$B$16,2,FALSE),\"\")","v":1},2101671,750,null,null,{"$f":"I205","v":750},null,null,null,null,null,750,{"$f":"SUM(T205:AH205)","v":750},{"$f":"I205","v":750},null,null,null,null,null,null,null,null,null,null,null,null,null,null,null,null,null,null,null,null,null,null,null,null,null,null,null,null,null,null,null,null,null,null,null,null,null,null,null,null,null,null,null,null,null,null,null,0]
[205,210168,"中央","本町","ヨサ日","朝刊",{"$f":"IFERROR(VLOOKUP(F206,[1]データ!$A$2:$B$16,2,FALSE),\"\")","v":1},2101681,1450,null,null,{"$f":"I206","v":1450},null,null,null,null,null,1450,1450,{"$f":"I206","v":1450},null,null,null,null,null,null,null,null,null,null,null,null,null,null,null,null,null,null,null,null,null,null,null,null,null,null,null,null,null,null,null,null,null,null,null,null,null,null,null,null,null,null,null,null,null,null,null,0]
[206,210169,"小針","小針","ヨサ日","朝刊",{"$f":"IFERROR(VLOOKUP(F207,[1]データ!$A$2:$B$16,2,FALSE),\"\")","v":1},2101691,1050,null,null,null,null,{"$f":"I207","v":1050},null,null,null,{"$f":"SUM(J207:Q207)","v":1050},1050,{"$f":"I207","v":1050},null,null,null,null,null,null,null,null,null,null,null,null,null,null,null,null,null,null,null,null,null,null,null,null,null,null,null,null,null,null,null,null,null,null,null,null,null,null,null,null,null,null,null,null,null,null,null,0]
[207,210170,"寺尾","小針","ヨサ日","朝刊",{"$f":"IFERROR(VLOOKUP(F208,[1]データ!$A$2:$B$16,2,FALSE),\"\")","v":1},2101701,930,null,null,null,null,{"$f":"I208","v":930},null,null,null,930,930,{"$f":"I208","v":930},null,null,null,null,null,null,null,null,null,null,null,null,null,null,null,null,null,null,null,null,null,null,null,null,null,null,null,null,null,null,null,null,null,null,null,null,null,null,null,null,null,null,null,null,null,null,null,0]
[208,210171,"内野","小針","ヨサ日","朝刊",{"$f":"IFERROR(VLOOKUP(F209,[1]データ!$A$2:$B$16,2,FALSE),\"\")","v":1},2101711,980,null,null,null,null,{"$f":"I209","v":980},null,null,null,980,980,{"$f":"I209","v":980},null,null,null,null,null,null,null,null,null,null,null,null,null,null,null,null,null,null,null,null,null,null,null,null,null,null,null,null,null,null,null,null,null,null,null,null,null,null,null,null,null,null,null,null,null,null,null,0]
[209,210172,"小新黒埼","小針","ヨサ日","朝刊",{"$f":"IFERROR(VLOOKUP(F210,[1]データ!$A$2:$B$16,2,FALSE),\"\")","v":1},2101721,840,null,null,null,null,{"$f":"I210","v":840},null,null,null,840,840,null,{"$f":"I210","v":840},null,null,null,null,null,null,null,null,null,null,null,null,null,null,null,null,null,null,null,null,null,null,null,null,null,null,null,null,null,null,null,null,null,null,null,null,null,null,null,null,null,null,null,null,null,null,840]
[210,210179,"黒埼南","白根","ヨサ日","朝刊",{"$f":"IFERROR(VLOOKUP(F211,[1]データ!$A$2:$B$16,2,FALSE),\"\")","v":1},2101791,190,null,null,null,null,null,{"$f":"I211","v":190},null,null,190,200,null,140,10,null,null,null,null,null,null,50,null,null,null,null,null,null,null,null,null,null,null,null,null,null,null,null,null,null,null,null,null,null,null,null,null,null,null,null,null,null,null,null,null,null,null,null,null,null,200]
[211,210158,"万代","県庁前","ヨサ日","朝刊",{"$f":"IFERROR(VLOOKUP(F212,[1]データ!$A$2:$B$16,2,FALSE),\"\")","v":1},2101581,1000,null,null,{"$f":"I212","v":1000},null,null,null,null,null,1000,1000,{"$f":"I212","v":1000},null,null,null,null,null,null,null,null,null,null,null,null,null,null,null,null,null,null,null,null,null,null,null,null,null,null,null,null,null,null,null,null,null,null,null,null,null,null,null,null,null,null,null,null,null,null,null,0]
[212,210159,"県庁前","県庁前","ヨサ日","朝刊",{"$f":"IFERROR(VLOOKUP(F213,[1]データ!$A$2:$B$16,2,FALSE),\"\")","v":1},2101591,2400,null,null,2300,100,null,null,null,null,2400,2400,2400,null,null,null,null,null,null,null,null,null,null,null,null,null,null,null,null,null,null,null,null,null,null,null,null,null,null,null,null,null,null,null,null,null,null,null,null,null,null,null,null,null,null,null,null,null,null,null,0]
[null,210159,"県庁前","県庁前","ヨサ日","市報・区報",2,2101592,2450,null,null,2350,100,null,null,null,null,2450,0]
[213,210160,"駅南東","駅南","ヨサ日","朝刊",{"$f":"IFERROR(VLOOKUP(F215,[1]データ!$A$2:$B$16,2,FALSE),\"\")","v":1},2101601,1500,null,450,1040,10,null,null,null,null,1500,1500,1500,null,null,null,null,null,null,null,null,null,null,null,null,null,null,null,null,null,null,null,null,null,null,null,null,null,null,null,null,null,null,null,null,null,null,null,null,null,null,null,null,null,null,null,null,null,null,null,0]
[214,210162,"山木戸","駅南","ヨサ日","朝刊",{"$f":"IFERROR(VLOOKUP(F216,[1]データ!$A$2:$B$16,2,FALSE),\"\")","v":1},2101621,1130,null,1100,30,null,null,null,null,null,1130,1130,1130,null,null,null,null,null,null,null,null,null,null,null,null,null,null,null,null,null,null,null,null,null,null,null,null,null,null,null,null,null,null,null,null,null,null,null,null,null,null,null,null,null,null,null,null,null,null,null,0]
[215,210163,"山ノ下","駅南","ヨサ日","朝刊",{"$f":"IFERROR(VLOOKUP(F217,[1]データ!$A$2:$B$16,2,FALSE),\"\")","v":1},2101631,1320,null,1290,30,null,null,null,null,null,1320,1320,1320,null,null,null,null,null,null,null,null,null,null,null,null,null,null,null,null,null,null,null,null,null,null,null,null,null,null,null,null,null,null,null,null,null,null,null,null,null,null,null,null,null,null,null,null,null,null,null,0]
[216,210164,"松浜","松浜","ヨサ日","朝刊",{"$f":"IFERROR(VLOOKUP(F218,[1]データ!$A$2:$B$16,2,FALSE),\"\")","v":1},2101641,460,{"$f":"I218","v":460},null,null,null,null,null,null,null,460,920,{"$f":"I218","v":460},null,null,null,null,null,null,null,null,null,null,null,null,null,{"$f":"I218","v":460},null,null,null,null,null,null,null,null,null,null,null,null,null,null,null,null,null,null,null,null,null,null,null,null,null,null,null,null,null,null,null,null,null,460]
[217,210166,"亀田","亀田","ヨサ日","朝刊",{"$f":"IFERROR(VLOOKUP(F219,[1]データ!$A$2:$B$16,2,FALSE),\"\")","v":1},2101661,1950,null,700,null,1250,null,null,null,null,1950,2070,940,null,null,null,null,null,null,null,null,null,null,null,920,210,null,null,null,null,null,null,null,null,null,null,null,null,null,null,null,null,null,null,null,null,null,null,null,null,null,null,null,null,null,null,null,null,null,null,1130]
[218,20101,"分水",null,"合","朝刊",{"$f":"IFERROR(VLOOKUP(F220,[1]データ!$A$2:$B$16,2,FALSE),\"\")","v":1},201011,3300,null,null,null,null,null,null,null,null,0,0,null,null,null,null,null,null,null,null,null,null,null,null,null,null,null,null,50,2750,null,null,null,null,null,null,null,null,null,null,null,null,null,null,null,null,null,null,null,null,null,null,null,null,null,null,null,null,null,null,2800]
[219,20102,"吉田",null,"合","朝刊",{"$f":"IFERROR(VLOOKUP(F221,[1]データ!$A$2:$B$16,2,FALSE),\"\")","v":1},201021,4300,null,null,null,null,null,null,null,null,0,0,null,null,null,null,null,null,null,null,null,null,null,null,null,null,null,null,{"$f":"I221","v":4300},null,null,null,null,null,null,null,null,null,null,null,null,null,null,null,null,null,null,null,null,null,null,null,null,null,null,null,null,null,null,null,4300]
[220,20102,"吉田",null,null,"otona+",{"$f":"IFERROR(VLOOKUP(F222,[1]データ!$A$2:$B$16,2,FALSE),\"\")","v":4},201024,70,null,null,null,null,null,null,null,null,0,null,null,null,null,null,null,null,null,null,null,null,null,null,null,null,null,null,null,null,null,null,null,null,null,null,null,null,null,null,null,null,null,null,null,null,null,null,null,null,null,null,null,null,null,null,null,null,null,null,0]
[221,20103,"吉田",null,"サ","朝刊",{"$f":"IFERROR(VLOOKUP(F223,[1]データ!$A$2:$B$16,2,FALSE),\"\")","v":1},201031,null,null,null,null,null,null,null,null,null,0,0,null,null,null,null,null,null,null,null,null,null,null,null,null,null,null,null,null,null,null,null,null,null,null,null,null,null,null,null,null,null,null,null,null,null,null,null,null,null,null,null,null,null,null,null,null,null,null,null,0]
[222,20104,"粟生津",null,"合","朝刊",{"$f":"IFERROR(VLOOKUP(F224,[1]データ!$A$2:$B$16,2,FALSE),\"\")","v":1},201041,700,null,null,null,null,null,null,null,null,0,0,null,null,null,null,null,null,null,null,null,null,null,null,null,null,null,null,450,250,null,null,null,null,null,null,null,null,null,null,null,null,null,null,null,null,null,null,null,null,null,null,null,null,null,null,null,null,null,null,700]
[223,20105,"巻","巻","新マ日","朝刊",{"$f":"IFERROR(VLOOKUP(F225,[1]データ!$A$2:$B$16,2,FALSE),\"\")","v":1},201051,6160,null,null,null,null,null,null,5980,null,5980,5980,null,null,null,200,null,null,4710,30,1040,null,null,null,null,null,null,null,180,null,null,null,null,null,null,null,null,null,null,null,null,null,null,null,null,null,null,null,null,null,null,null,null,null,null,null,null,null,null,null,6160]
[224,20105,"巻",null,null,"くるみる",{"$f":"IFERROR(VLOOKUP(F226,[1]データ!$A$2:$B$16,2,FALSE),\"\")","v":3},201053,350,null,null,null,null,null,null,340,null,340,null,null,null,null,null,null,null,null,null,null,null,null,null,null,null,null,null,null,null,null,null,null,null,null,null,null,null,null,null,null,null,null,null,null,null,null,null,null,null,null,null,null,null,null,null,null,null,null,null,0]
[225,20105,"巻",null,null,"otona+",{"$f":"IFERROR(VLOOKUP(F227,[1]データ!$A$2:$B$16,2,FALSE),\"\")","v":4},201054,380,null,null,null,null,null,null,370,null,370,null,null,null,null,null,null,null,null,null,null,null,null,null,null,null,null,null,null,null,null,null,null,null,null,null,null,null,null,null,null,null,null,null,null,null,null,null,null,null,null,null,null,null,null,null,null,null,null,null,0]
[226,20105,"巻",null,null,"市報・区報",{"$f":"IFERROR(VLOOKUP(F228,[1]データ!$A$2:$B$16,2,FALSE),\"\")","v":2},201052,{"$f":"R228","v":5980},null,null,null,null,null,null,{"$f":"P225","v":5980},null,5980,null,null,null,null,null,null,null,null,null,null,null,null,null,null,null,null,null,null,null,null,null,null,null,null,null,null,null,null,null,null,null,null,null,null,null,null,null,null,null,null,null,null,null,null,null,null,null,null,null,0]
[227,20106,"巻",null,"アサ","朝刊",{"$f":"IFERROR(VLOOKUP(F229,[1]データ!$A$2:$B$16,2,FALSE),\"\")","v":1},201061,640,null,null,null,null,null,null,640,null,640,620,null,null,null,10,null,null,450,null,160,null,null,null,null,null,null,null,10,null,null,null,null,null,null,null,null,null,null,null,null,null,null,null,null,null,null,null,null,null,null,null,null,null,null,null,null,null,null,null,630]
[228,220107,"巻",null,"ヨ","朝刊",{"$f":"IFERROR(VLOOKUP(F230,[1]データ!$A$2:$B$16,2,FALSE),\"\")","v":1},2201071,650,null,null,null,null,null,null,650,null,650,650,null,null,null,10,null,null,480,null,160,null,null,null,null,null,null,null,null,null,null,null,null,null,null,null,null,null,null,null,null,null,null,null,null,null,null,null,null,null,null,null,null,null,null,null,null,null,null,null,650]
[229,20108,"岩室","巻","新マ日","朝刊",{"$f":"IFERROR(VLOOKUP(F231,[1]データ!$A$2:$B$16,2,FALSE),\"\")","v":1},201081,670,null,null,null,null,null,null,630,null,630,630,null,null,null,null,null,null,null,null,630,null,null,null,null,null,null,null,40,null,null,null,null,null,null,null,null,null,null,null,null,null,null,null,null,null,null,null,null,null,null,null,null,null,null,null,null,null,null,null,670]
[230,20108,"岩室",null,null,"くるみる",{"$f":"IFERROR(VLOOKUP(F232,[1]データ!$A$2:$B$16,2,FALSE),\"\")","v":3},201083,30,null,null,null,null,null,null,30,null,30,null,null,null,null,null,null,null,null,null,null,null,null,null,null,null,null,null,null,null,null,null,null,null,null,null,null,null,null,null,null,null,null,null,null,null,null,null,null,null,null,null,null,null,null,null,null,null,null,null,0]
[231,20108,"岩室",null,null,"otona+",{"$f":"IFERROR(VLOOKUP(F233,[1]データ!$A$2:$B$16,2,FALSE),\"\")","v":4},201084,40,null,null,null,null,null,null,40,null,40,null,null,null,null,null,null,null,null,null,null,null,null,null,null,null,null,null,null,null,null,null,null,null,null,null,null,null,null,null,null,null,null,null,null,null,null,null,null,null,null,null,null,null,null,null,null,null,null,null,0]
[232,20108,"岩室",null,null,"市報・区報",{"$f":"IFERROR(VLOOKUP(F234,[1]データ!$A$2:$B$16,2,FALSE),\"\")","v":2},201082,{"$f":"R234","v":630},null,null,null,null,null,null,{"$f":"P231","v":630},null,630,null,null,null,null,null,null,null,null,null,null,null,null,null,null,null,null,null,null,null,null,null,null,null,null,null,null,null,null,null,null,null,null,null,null,null,null,null,null,null,null,null,null,null,null,null,null,null,null,null,0]
[233,20109,"西川",null,"合","朝刊",{"$f":"IFERROR(VLOOKUP(F235,[1]データ!$A$2:$B$16,2,FALSE),\"\")","v":1},201091,3800,null,null,null,null,300,null,3500,null,3800,3800,300,null,null,310,2500,null,690,null,null,null,null,null,null,null,null,null,null,null,null,null,null,null,null,null,null,null,null,null,null,null,null,null,null,null,null,null,null,null,null,null,null,null,null,null,null,null,null,null,3500]
[234,20109,"西川",null,null,"くるみる",{"$f":"IFERROR(VLOOKUP(F236,[1]データ!$A$2:$B$16,2,FALSE),\"\")","v":3},201093,500,null,null,null,null,70,null,430,null,500,null,null,null,null,null,null,null,null,null,null,null,null,null,null,null,null,null,null,null,null,null,null,null,null,null,null,null,null,null,null,null,null,null,null,null,null,null,null,null,null,null,null,null,null,null,null,null,null,null,0]
[235,20109,"西川",null,null,"otona+",{"$f":"IFERROR(VLOOKUP(F237,[1]データ!$A$2:$B$16,2,FALSE),\"\")","v":4},201094,200,null,null,null,null,30,null,170,null,200,null,null,null,null,null,null,null,null,null,null,null,null,null,null,null,null,null,null,null,null,null,null,null,null,null,null,null,null,null,null,null,null,null,null,null,null,null,null,null,null,null,null,null,null,null,null,null,null,null,0]
[236,20109,"西川",null,null,"市報・区報",{"$f":"IFERROR(VLOOKUP(F238,[1]データ!$A$2:$B$16,2,FALSE),\"\")","v":2},201092,{"$f":"R238","v":3800},null,null,null,null,{"$f":"N235","v":300},null,{"$f":"P235","v":3500},null,3800,null,null,null,null,null,null,null,null,null,null,null,null,null,null,null,null,null,null,null,null,null,null,null,null,null,null,null,null,null,null,null,null,null,null,null,null,null,null,null,null,null,null,null,null,null,null,null,null,null,0]
[237,20110,"中之口",null,"合","朝刊",{"$f":"IFERROR(VLOOKUP(F239,[1]データ!$A$2:$B$16,2,FALSE),\"\")","v":1},201101,1100,null,null,null,null,null,70,1030,null,1100,1100,null,null,null,null,null,70,null,1030,null,null,null,null,null,null,null,null,null,null,null,null,null,null,null,null,null,null,null,null,null,null,null,null,null,null,null,null,null,null,null,null,null,null,null,null,null,null,null,null,1100]
[238,20110,"中之口",null,null,"市報・区報",{"$f":"IFERROR(VLOOKUP(F240,[1]データ!$A$2:$B$16,2,FALSE),\"\")","v":2},201102,{"$f":"R240","v":1100},null,null,null,null,null,{"$f":"O239","v":70},{"$f":"P239","v":1030},null,1100,null,null,null,null,null,null,null,null,null,null,null,null,null,null,null,null,null,null,null,null,null,null,null,null,null,null,null,null,null,null,null,null,null,null,null,null,null,null,null,null,null,null,null,null,null,null,null,null,null,0]
[239,20111,"弥彦",null,"合","朝刊",{"$f":"IFERROR(VLOOKUP(F241,[1]データ!$A$2:$B$16,2,FALSE),\"\")","v":1},201111,1840,null,null,null,null,null,null,200,null,200,200,null,null,null,null,null,null,null,null,200,null,null,null,null,null,null,null,null,100,1540,null,null,null,null,null,null,null,null,null,null,null,null,null,null,null,null,null,null,null,null,null,null,null,null,null,null,null,null,null,1840]
[240,20111,"弥彦",null,null,"くるみる",{"$f":"IFERROR(VLOOKUP(F242,[1]データ!$A$2:$B$16,2,FALSE),\"\")","v":3},201113,100,null,null,null,null,null,null,10,null,10,null,null,null,null,null,null,null,null,null,null,null,null,null,null,null,null,null,null,null,null,null,null,null,null,null,null,null,null,null,null,null,null,null,null,null,null,null,null,null,null,null,null,null,null,null,null,null,null,null,0]
[241,20111,"弥彦",null,null,"市報・区報",{"$f":"IFERROR(VLOOKUP(F243,[1]データ!$A$2:$B$16,2,FALSE),\"\")","v":2},201112,{"$f":"R243","v":200},null,null,null,null,null,null,{"$f":"P241","v":200},null,200,null,null,null,null,null,null,null,null,null,null,null,null,null,null,null,null,null,null,null,null,null,null,null,null,null,null,null,null,null,null,null,null,null,null,null,null,null,null,null,null,null,null,null,null,null,null,null,null,null,0]
[242,20112,"小須戸",null,"合","朝刊",{"$f":"IFERROR(VLOOKUP(F244,[1]データ!$A$2:$B$16,2,FALSE),\"\")","v":1},201121,3140,null,null,null,null,null,1120,null,1690,2810,2810,null,null,null,null,null,null,null,null,null,1120,1430,260,null,null,null,null,null,null,null,null,null,null,null,null,null,null,null,null,null,null,null,null,null,null,null,null,null,null,null,null,null,null,null,520,null,null,null,null,3330]
[243,20112,"小須戸",null,null,"otona+",{"$f":"IFERROR(VLOOKUP(F245,[1]データ!$A$2:$B$16,2,FALSE),\"\")","v":4},201124,60,null,null,null,null,null,20,null,40,60,null,null,null,null,null,null,null,null,null,null,null,null,null,null,null,null,null,null,null,null,null,null,null,null,null,null,null,null,null,null,null,null,null,null,null,null,null,null,null,null,null,null,null,null,null,null,null,null,null,0]
[244,20112,"小須戸",null,null,"市報・区報",{"$f":"IFERROR(VLOOKUP(F246,[1]データ!$A$2:$B$16,2,FALSE),\"\")","v":2},201122,{"$f":"R246","v":2810},null,null,null,null,null,{"$f":"O244","v":1120},null,{"$f":"Q244","v":1690},2810,null,null,null,null,null,null,null,null,null,null,null,null,null,null,null,null,null,null,null,null,null,null,null,null,null,null,null,null,null,null,null,null,null,null,null,null,null,null,null,null,null,null,null,null,null,null,null,null,null,0]
[245,20113,"矢代田",null,"合","朝刊",{"$f":"IFERROR(VLOOKUP(F247,[1]データ!$A$2:$B$16,2,FALSE),\"\")","v":1},201131,980,null,null,null,null,null,null,null,{"$f":"I247","v":980},980,980,null,null,null,null,null,null,null,null,null,null,780,200,null,null,null,null,null,null,null,null,null,null,null,null,null,null,null,null,null,null,null,null,null,null,null,null,null,null,null,null,null,null,null,null,null,null,null,null,980]
[246,20113,"矢代田",null,null,"くるみる",{"$f":"IFERROR(VLOOKUP(F248,[1]データ!$A$2:$B$16,2,FALSE),\"\")","v":3},201133,10,null,null,null,null,null,null,null,{"$f":"I248","v":10},10,null,null,null,null,null,null,null,null,null,null,null,null,null,null,null,null,null,null,null,null,null,null,null,null,null,null,null,null,null,null,null,null,null,null,null,null,null,null,null,null,null,null,null,null,null,null,null,null,null,0]
[247,20113,"矢代田",null,null,"otona+",{"$f":"IFERROR(VLOOKUP(F249,[1]データ!$A$2:$B$16,2,FALSE),\"\")","v":4},201134,20,null,null,null,null,null,null,null,20,20,null,null,null,null,null,null,null,null,null,null,null,null,null,null,null,null,null,null,null,null,null,null,null,null,null,null,null,null,null,null,null,null,null,null,null,null,null,null,null,null,null,null,null,null,null,null,null,null,null,0]
[248,20113,"矢代田",null,null,"市報・区報",{"$f":"IFERROR(VLOOKUP(F250,[1]データ!$A$2:$B$16,2,FALSE),\"\")","v":2},201132,{"$f":"R250","v":980},null,null,null,null,null,null,null,{"$f":"Q247","v":980},980,null,null,null,null,null,null,null,null,null,null,null,null,null,null,null,null,null,null,null,null,null,null,null,null,null,null,null,null,null,null,null,null,null,null,null,null,null,null,null,null,null,null,null,null,null,null,null,null,null,0]
[249,20114,"村松",null,"合","朝刊",{"$f":"IFERROR(VLOOKUP(F251,[1]データ!$A$2:$B$16,2,FALSE),\"\")","v":1},201141,3700,null,null,null,null,null,null,null,null,0,0,null,null,null,null,null,null,null,null,null,null,null,null,null,null,null,null,null,null,null,null,null,null,null,null,null,null,null,null,null,null,null,null,null,null,null,null,null,null,null,null,null,null,{"$f":"I251","v":3700},null,null,null,null,null,3700]
[250,20114,"村松",null,null,"otona+",{"$f":"IFERROR(VLOOKUP(F252,[1]データ!$A$2:$B$16,2,FALSE),\"\")","v":4},201144,180,null,null,null,null,null,null,null,null,0,null,null,null,null,null,null,null,null,null,null,null,null,null,null,null,null,null,null,null,null,null,null,null,null,null,null,null,null,null,null,null,null,null,null,null,null,null,null,null,null,null,null,null,null,null,null,null,null,null,0]
[251,20116,"新津","サポート","合","朝刊",{"$f":"IFERROR(VLOOKUP(F253,[1]データ!$A$2:$B$16,2,FALSE),\"\")","v":1},201161,10800,null,null,null,50,null,null,null,10550,10600,10600,null,null,null,null,null,null,null,null,null,null,null,10550,null,50,null,null,null,null,null,null,null,null,null,null,null,null,null,null,null,null,null,null,null,null,null,null,100,null,null,null,null,100,null,null,null,null,null,null,10800]
[252,20116,"新津",null,null,"くるみる",{"$f":"IFERROR(VLOOKUP(F254,[1]データ!$A$2:$B$16,2,FALSE),\"\")","v":3},201163,100,null,null,null,0,null,null,null,100,100,null,null,null,null,null,null,null,null,null,null,null,null,null,null,null,null,null,null,null,null,null,null,null,null,null,null,null,null,null,null,null,null,null,null,null,null,null,null,null,null,null,null,null,null,null,null,null,null,null,0]
[253,20116,"新津",null,null,"otona+",{"$f":"IFERROR(VLOOKUP(F255,[1]データ!$A$2:$B$16,2,FALSE),\"\")","v":4},201164,340,null,null,null,0,null,null,null,340,340,null,null,null,null,null,null,null,null,null,null,null,null,null,null,null,null,null,null,null,null,null,null,null,null,null,null,null,null,null,null,null,null,null,null,null,null,null,null,null,null,null,null,null,null,null,null,null,null,null,0]
[254,20116,"新津",null,null,"市報・区報",{"$f":"IFERROR(VLOOKUP(F256,[1]データ!$A$2:$B$16,2,FALSE),\"\")","v":2},201162,{"$f":"R256","v":10600},null,null,null,{"$f":"M253","v":50},null,null,null,{"$f":"Q253","v":10550},10600,null,null,null,null,null,null,null,null,null,null,null,null,null,null,null,null,null,null,null,null,null,null,null,null,null,null,null,null,null,null,null,null,null,null,null,null,null,null,null,null,null,null,null,null,null,null,null,null,null,0]
[255,20181,"新津・荻川","サポート","合","朝刊",{"$f":"IFERROR(VLOOKUP(F257,[1]データ!$A$2:$B$16,2,FALSE),\"\")","v":1},201811,4500,null,null,null,250,null,null,null,4250,4500,4500,null,null,null,null,null,null,null,null,null,null,null,4250,null,250,null,null,null,null,null,null,null,null,null,null,null,null,null,null,null,null,null,null,null,null,null,null,null,null,null,null,null,null,null,null,null,null,null,null,4500]
[256,20181,"新津・荻川",null,null,"くるみる",{"$f":"IFERROR(VLOOKUP(F258,[1]データ!$A$2:$B$16,2,FALSE),\"\")","v":3},201813,100,null,null,null,0,null,null,null,100,100,null,null,null,null,null,null,null,null,null,null,null,null,null,null,null,null,null,null,null,null,null,null,null,null,null,null,null,null,null,null,null,null,null,null,null,null,null,null,null,null,null,null,null,null,null,null,null,null,null,0]
[257,20181,"新津・荻川",null,null,"otona+",{"$f":"IFERROR(VLOOKUP(F259,[1]データ!$A$2:$B$16,2,FALSE),\"\")","v":4},201814,160,null,null,null,0,null,null,null,160,160,null,null,null,null,null,null,null,null,null,null,null,null,null,null,null,null,null,null,null,null,null,null,null,null,null,null,null,null,null,null,null,null,null,null,null,null,null,null,null,null,null,null,null,null,null,null,null,null,null,0]
[258,20181,"新津・荻川",null,null,"市報・区報",{"$f":"IFERROR(VLOOKUP(F260,[1]データ!$A$2:$B$16,2,FALSE),\"\")","v":2},201812,{"$f":"R260","v":4500},null,null,null,{"$f":"M257","v":250},null,null,null,{"$f":"Q257","v":4250},4500,null,null,null,null,null,null,null,null,null,null,null,null,null,null,null,null,null,null,null,null,null,null,null,null,null,null,null,null,null,null,null,null,null,null,null,null,null,null,null,null,null,null,null,null,null,null,null,null,null,0]
[259,20117,"五泉",null,"合","朝刊",{"$f":"IFERROR(VLOOKUP(F261,[1]データ!$A$2:$B$16,2,FALSE),\"\")","v":1},201171,7380,null,null,null,null,null,null,null,null,0,{"$f":"SUM(T261:AH261)","v":0},null,null,null,null,null,null,null,null,null,null,null,null,null,null,null,null,null,null,null,null,null,null,null,null,null,null,null,null,null,null,null,null,null,null,null,null,null,null,null,null,null,{"$f":"I261","v":7380},null,null,null,null,null,null,{"$f":"SUM(U261:BO261)","v":7380}]
[260,20118,"五泉",null,"アサ","朝刊",{"$f":"IFERROR(VLOOKUP(F262,[1]データ!$A$2:$B$16,2,FALSE),\"\")","v":1},201181,null,null,null,null,null,null,null,null,null,0,0,null,null,null,null,null,null,null,null,null,null,null,null,null,null,null,null,null,null,null,null,null,null,null,null,null,null,null,null,null,null,null,null,null,null,null,null,null,null,null,null,null,null,null,null,null,null,null,null,0]
[261,20119,"五泉・馬下","五泉","合","朝刊",{"$f":"IFERROR(VLOOKUP(F263,[1]データ!$A$2:$B$16,2,FALSE),\"\")","v":1},201191,240,null,null,null,null,null,null,null,null,0,0,null,null,null,null,null,null,null,null,null,null,null,null,null,null,null,null,null,null,null,null,null,null,null,null,null,null,null,null,null,null,null,null,null,null,null,null,null,null,null,null,null,{"$f":"I263","v":240},null,null,null,null,null,null,240]
[262,20183,"保田・馬下","保田","合","朝刊",{"$f":"IFERROR(VLOOKUP(F264,[1]データ!$A$2:$B$16,2,FALSE),\"\")","v":1},201831,150,null,null,null,null,null,null,null,null,0,0,null,null,null,null,null,null,null,null,null,null,null,null,null,null,null,null,null,null,null,null,null,null,null,null,null,null,null,null,null,null,null,null,null,null,null,90,null,null,null,60,null,null,null,null,null,null,null,null,150]
[263,20120,"白根",null,"新アマ日","朝刊",{"$f":"IFERROR(VLOOKUP(F265,[1]データ!$A$2:$B$16,2,FALSE),\"\")","v":1},201201,3250,null,null,null,null,null,{"$f":"I265","v":3250},null,null,3250,3250,null,null,null,null,null,null,null,null,null,{"$f":"I265","v":3250},null,null,null,null,null,null,null,null,null,null,null,null,null,null,null,null,null,null,null,null,null,null,null,null,null,null,null,null,null,null,null,null,null,null,null,null,null,null,3250]
[264,20120,"白根",null,null,"くるみる",{"$f":"IFERROR(VLOOKUP(F266,[1]データ!$A$2:$B$16,2,FALSE),\"\")","v":3},201203,200,null,null,null,null,null,{"$f":"I266","v":200},null,null,200,null,null,null,null,null,null,null,null,null,null,null,null,null,null,null,null,null,null,null,null,null,null,null,null,null,null,null,null,null,null,null,null,null,null,null,null,null,null,null,null,null,null,null,null,null,null,null,null,null,0]
[265,20120,"白根",null,null,"otona+",{"$f":"IFERROR(VLOOKUP(F267,[1]データ!$A$2:$B$16,2,FALSE),\"\")","v":4},201204,110,null,null,null,null,null,110,null,null,110,null,null,null,null,null,null,null,null,null,null,null,null,null,null,null,null,null,null,null,null,null,null,null,null,null,null,null,null,null,null,null,null,null,null,null,null,null,null,null,null,null,null,null,null,null,null,null,null,null,0]
[266,20120,"白根",null,null,"市報・区報",{"$f":"IFERROR(VLOOKUP(F268,[1]データ!$A$2:$B$16,2,FALSE),\"\")","v":2},201202,{"$f":"R268","v":3250},null,null,null,null,null,{"$f":"O265","v":3250},null,null,3250,null,null,null,null,null,null,null,null,null,null,null,null,null,null,null,null,null,null,null,null,null,null,null,null,null,null,null,null,null,null,null,null,null,null,null,null,null,null,null,null,null,null,null,null,null,null,null,null,null,0]
[267,220121,"白根",null,"ヨサ","朝刊",{"$f":"IFERROR(VLOOKUP(F269,[1]データ!$A$2:$B$16,2,FALSE),\"\")","v":1},2201211,700,null,null,null,null,null,600,100,null,700,700,null,null,90,null,null,60,null,null,null,550,null,null,null,null,null,null,null,null,null,null,null,null,null,null,null,null,null,null,null,null,null,null,null,null,null,null,null,null,null,null,null,null,null,null,null,null,null,null,700]
[268,20122,"月潟",null,"新アマ日","朝刊",{"$f":"IFERROR(VLOOKUP(F270,[1]データ!$A$2:$B$16,2,FALSE),\"\")","v":1},201221,1620,null,null,null,null,null,990,630,null,1620,1620,null,null,290,630,null,700,null,null,null,null,null,null,null,null,null,null,null,null,null,null,null,null,null,null,null,null,null,null,null,null,null,null,null,null,null,null,null,null,null,null,null,null,null,null,null,null,null,null,1620]
[269,20122,"月潟",null,null,"くるみる",{"$f":"IFERROR(VLOOKUP(F271,[1]データ!$A$2:$B$16,2,FALSE),\"\")","v":3},201223,30,null,null,null,null,null,20,10,null,30,null,null,null,null,null,null,null,null,null,null,null,null,null,null,null,null,null,null,null,null,null,null,null,null,null,null,null,null,null,null,null,null,null,null,null,null,null,null,null,null,null,null,null,null,null,null,null,null,null,0]
[270,20122,"月潟",null,null,"市報・区報",{"$f":"IFERROR(VLOOKUP(F272,[1]データ!$A$2:$B$16,2,FALSE),\"\")","v":2},201222,{"$f":"R272","v":1620},null,null,null,null,null,{"$f":"O270","v":990},{"$f":"P270","v":630},null,{"$f":"SUM(J272:Q272)","v":1620},null,null,null,null,null,null,null,null,null,null,null,null,null,null,null,null,null,null,null,null,null,null,null,null,null,null,null,null,null,null,null,null,null,null,null,null,null,null,null,null,null,null,null,null,null,null,null,null,null,0]
[271,20123,"新飯田",null,"合","朝刊",{"$f":"IFERROR(VLOOKUP(F273,[1]データ!$A$2:$B$16,2,FALSE),\"\")","v":1},201231,930,null,null,null,null,null,350,90,null,440,440,null,null,null,null,null,null,null,90,null,350,null,null,null,null,null,null,null,null,null,null,null,null,null,null,null,null,null,null,null,null,null,null,null,null,null,null,null,null,null,null,null,null,null,null,330,160,null,null,930]
[272,20123,"新飯田",null,null,"くるみる",{"$f":"IFERROR(VLOOKUP(F274,[1]データ!$A$2:$B$16,2,FALSE),\"\")","v":3},201233,10,null,null,null,null,null,10,0,null,10,null,null,null,null,null,null,null,null,null,null,null,null,null,null,null,null,null,null,null,null,null,null,null,null,null,null,null,null,null,null,null,null,null,null,null,null,null,null,null,null,null,null,null,null,null,null,null,null,null,0]
[273,20123,"新飯田",null,null,"市報・区報",{"$f":"IFERROR(VLOOKUP(F275,[1]データ!$A$2:$B$16,2,FALSE),\"\")","v":2},201232,{"$f":"R275","v":440},null,null,null,null,null,{"$f":"O273","v":350},{"$f":"P273","v":90},null,440,null,null,null,null,null,null,null,null,null,null,null,null,null,null,null,null,null,null,null,null,null,null,null,null,null,null,null,null,null,null,null,null,null,null,null,null,null,null,null,null,null,null,null,null,null,null,null,null,null,0]
[274,20124,"三条北","サポート","新アマサ日","朝刊",{"$f":"IFERROR(VLOOKUP(F276,[1]データ!$A$2:$B$16,2,FALSE),\"\")","v":1},201241,9580,null,null,null,null,null,null,null,null,0,0,null,null,null,null,null,null,null,null,null,null,null,null,null,null,null,null,null,null,null,null,null,null,null,null,null,null,null,null,null,null,null,null,null,null,null,null,null,null,null,null,null,null,null,null,null,9000,580,null,9580]
[275,20124,"三条北",null,null,"otona+",{"$f":"IFERROR(VLOOKUP(F277,[1]データ!$A$2:$B$16,2,FALSE),\"\")","v":4},201244,270,null,null,null,null,null,null,null,null,0,null,null,null,null,null,null,null,null,null,null,null,null,null,null,null,null,null,null,null,null,null,null,null,null,null,null,null,null,null,null,null,null,null,null,null,null,null,null,null,null,null,null,null,null,null,null,null,null,null,0]
[276,20125,"三条南",null,"新アマサ日","朝刊",{"$f":"IFERROR(VLOOKUP(F278,[1]データ!$A$2:$B$16,2,FALSE),\"\")","v":1},201251,2300,null,null,null,null,null,null,null,null,0,0,null,null,null,null,null,null,null,null,null,null,null,null,null,null,null,null,null,null,null,null,null,null,null,null,null,null,null,null,null,null,null,null,null,null,null,null,null,null,null,null,null,null,null,null,null,{"$f":"I278","v":2300},null,null,2300]
[277,20125,"三条南",null,null,"otona+",{"$f":"IFERROR(VLOOKUP(F279,[1]データ!$A$2:$B$16,2,FALSE),\"\")","v":4},201254,60,null,null,null,null,null,null,null,null,0,null,null,null,null,null,null,null,null,null,null,null,null,null,null,null,null,null,null,null,null,null,null,null,null,null,null,null,null,null,null,null,null,null,null,null,null,null,null,null,null,null,null,null,null,null,null,null,null,null,0]
[278,20126,"三条西",null,"新アマサ日","朝刊",{"$f":"IFERROR(VLOOKUP(F280,[1]データ!$A$2:$B$16,2,FALSE),\"\")","v":1},201261,null,null,null,null,null,null,null,null,null,0,0,null,null,null,null,null,null,null,null,null,null,null,null,null,null,null,null,null,null,null,null,null,null,null,null,null,null,null,null,null,null,null,null,null,null,null,null,null,null,null,null,null,null,null,null,null,null,null,null,0]
[279,20126,"三条西",null,null,"otona+",{"$f":"IFERROR(VLOOKUP(F281,[1]データ!$A$2:$B$16,2,FALSE),\"\")","v":4},201264,null,null,null,null,null,null,null,null,null,0,null,null,null,null,null,null,null,null,null,null,null,null,null,null,null,null,null,null,null,null,null,null,null,null,null,null,null,null,null,null,null,null,null,null,null,null,null,null,null,null,null,null,null,null,null,null,null,null,null,0]
[280,220129,"三条",null,"ヨ","朝刊",{"$f":"IFERROR(VLOOKUP(F282,[1]データ!$A$2:$B$16,2,FALSE),\"\")","v":1},2201291,5100,null,null,null,null,null,null,null,null,0,0,null,null,null,null,null,null,null,null,null,null,null,null,null,null,null,null,null,null,null,null,null,null,null,null,null,null,null,null,null,null,null,null,null,null,null,null,null,null,null,null,null,null,null,null,null,5200,190,null,5390]
[281,20130,"燕",null,"新アマサ日","朝刊",{"$f":"IFERROR(VLOOKUP(F283,[1]データ!$A$2:$B$16,2,FALSE),\"\")","v":1},201301,5700,null,null,null,null,null,null,60,null,60,60,null,null,null,null,null,null,null,60,null,null,null,null,null,null,null,5640,null,null,null,null,null,null,null,null,null,null,null,null,null,null,null,null,null,null,null,null,null,null,null,null,null,null,null,null,null,null,null,null,5700]
[282,20130,"燕",null,null,"くるみる",{"$f":"IFERROR(VLOOKUP(F284,[1]データ!$A$2:$B$16,2,FALSE),\"\")","v":3},201303,50,null,null,null,null,null,null,0,null,0,null,null,null,null,null,null,null,null,null,null,null,null,null,null,null,null,null,null,null,null,null,null,null,null,null,null,null,null,null,null,null,null,null,null,null,null,null,null,null,null,null,null,null,null,null,null,null,null,null,0]
[283,20130,"燕",null,null,"otona+",{"$f":"IFERROR(VLOOKUP(F285,[1]データ!$A$2:$B$16,2,FALSE),\"\")","v":4},201304,150,null,null,null,null,null,null,0,null,0,null,null,null,null,null,null,null,null,null,null,null,null,null,null,null,null,null,null,null,null,null,null,null,null,null,null,null,null,null,null,null,null,null,null,null,null,null,null,null,null,null,null,null,null,null,null,null,null,null,0]
[284,20130,"燕",null,null,"市報・区報",{"$f":"IFERROR(VLOOKUP(F286,[1]データ!$A$2:$B$16,2,FALSE),\"\")","v":2},201302,{"$f":"R286","v":60},null,null,null,null,null,null,{"$f":"P283","v":60},null,60,null,null,null,null,null,null,null,null,null,null,null,null,null,null,null,null,null,null,null,null,null,null,null,null,null,null,null,null,null,null,null,null,null,null,null,null,null,null,null,null,null,null,null,null,null,null,null,null,null,0]
[285,20131,"燕南",null,"新アマサ日","朝刊",{"$f":"IFERROR(VLOOKUP(F287,[1]データ!$A$2:$B$16,2,FALSE),\"\")","v":1},201311,1030,null,null,null,null,null,null,null,null,0,0,null,null,null,null,null,null,null,null,null,null,null,null,null,null,null,1000,null,null,null,null,null,null,null,null,null,null,null,null,null,null,null,null,null,null,null,null,null,null,null,null,null,null,null,null,null,30,null,null,1030]
[286,20131,"燕南",null,null,"otona+",{"$f":"IFERROR(VLOOKUP(F288,[1]データ!$A$2:$B$16,2,FALSE),\"\")","v":4},201314,30,null,null,null,null,null,null,null,null,0,null,null,null,null,null,null,null,null,null,null,null,null,null,null,null,null,null,null,null,null,null,null,null,null,null,null,null,null,null,null,null,null,null,null,null,null,null,null,null,null,null,null,null,null,null,null,null,null,null,0]
[287,220134,"燕",null,"ヨ","朝刊",{"$f":"IFERROR(VLOOKUP(F289,[1]データ!$A$2:$B$16,2,FALSE),\"\")","v":1},2201341,3250,null,null,null,null,null,null,10,null,10,10,null,null,null,null,null,null,null,10,null,null,null,null,null,null,null,3240,null,null,null,null,null,null,null,null,null,null,null,null,null,null,null,null,null,null,null,null,null,null,null,null,null,null,null,null,null,null,null,null,3250]
[288,20135,"加茂",null,"新アマサ日","朝刊",{"$f":"IFERROR(VLOOKUP(F290,[1]データ!$A$2:$B$16,2,FALSE),\"\")","v":1},201351,7150,null,null,null,null,null,30,null,null,30,30,null,null,null,null,null,null,null,null,null,30,null,null,null,null,null,null,null,null,null,null,null,null,null,null,null,null,null,null,null,null,null,null,null,null,null,null,null,null,null,null,null,null,null,2050,5100,null,null,null,7180]
[289,20135,"加茂",null,null,"くるみる",{"$f":"IFERROR(VLOOKUP(F291,[1]データ!$A$2:$B$16,2,FALSE),\"\")","v":3},201353,80,null,null,null,null,null,0,null,null,0,null,null,null,null,null,null,null,null,null,null,null,null,null,null,null,null,null,null,null,null,null,null,null,null,null,null,null,null,null,null,null,null,null,null,null,null,null,null,null,null,null,null,null,null,null,null,null,null,null,0]
[290,20135,"加茂",null,null,"otona+",{"$f":"IFERROR(VLOOKUP(F292,[1]データ!$A$2:$B$16,2,FALSE),\"\")","v":4},201354,260,null,null,null,null,null,0,null,null,0,null,null,null,null,null,null,null,null,null,null,null,null,null,null,null,null,null,null,null,null,null,null,null,null,null,null,null,null,null,null,null,null,null,null,null,null,null,null,null,null,null,null,null,null,null,null,null,null,null,0]
[291,20135,"加茂",null,null,"市報・区報",{"$f":"IFERROR(VLOOKUP(F293,[1]データ!$A$2:$B$16,2,FALSE),\"\")","v":2},201352,{"$f":"R293","v":30},null,null,null,null,null,{"$f":"O290","v":30},null,null,30,null,null,null,null,null,null,null,null,null,null,null,null,null,null,null,null,null,null,null,null,null,null,null,null,null,null,null,null,null,null,null,null,null,null,null,null,null,null,null,null,null,null,null,null,null,null,null,null,null,0]
[292,220137,"加茂",null,"ヨ","朝刊",{"$f":"IFERROR(VLOOKUP(F294,[1]データ!$A$2:$B$16,2,FALSE),\"\")","v":1},2201371,1600,null,null,null,null,null,10,null,null,10,10,null,null,null,null,null,null,null,null,null,10,null,null,null,null,null,null,null,null,null,null,null,null,null,null,null,null,null,null,null,null,null,null,null,null,null,null,null,null,null,null,null,null,null,290,1300,null,null,null,1600]
[293,20139,"下田",null,"合","朝刊",{"$f":"IFERROR(VLOOKUP(F295,[1]データ!$A$2:$B$16,2,FALSE),\"\")","v":1},201391,2000,null,null,null,null,null,null,null,null,0,0,null,null,null,null,null,null,null,null,null,null,null,null,null,null,null,null,null,null,null,null,null,null,null,null,null,null,null,null,null,null,null,null,null,null,null,null,null,null,null,null,null,null,null,null,null,null,null,{"$f":"I295","v":2000},2000]
[294,20140,"栄山嵜","栄山嵜","合","朝刊",{"$f":"IFERROR(VLOOKUP(F296,[1]データ!$A$2:$B$16,2,FALSE),\"\")","v":1},201401,1120,null,null,null,null,null,null,null,null,0,0,null,null,null,null,null,null,null,null,null,null,null,null,null,null,null,null,null,null,null,null,null,null,null,null,null,null,null,null,null,null,null,null,null,null,null,null,null,null,null,null,null,null,null,null,null,null,{"$f":"I296","v":1120},null,1120]
[295,20141,"栄吉田","栄山嵜","合","朝刊",{"$f":"IFERROR(VLOOKUP(F297,[1]データ!$A$2:$B$16,2,FALSE),\"\")","v":1},201411,300,null,null,null,null,null,null,null,null,0,0,null,null,null,null,null,null,null,null,null,null,null,null,null,null,null,null,null,null,null,null,null,null,null,null,null,null,null,null,null,null,null,null,null,null,null,null,null,null,null,null,null,null,null,null,null,null,{"$f":"I297","v":300},null,300]
[296,20143,"帯織",null,"合","朝刊",{"$f":"IFERROR(VLOOKUP(F298,[1]データ!$A$2:$B$16,2,FALSE),\"\")","v":1},201431,340,null,null,null,null,null,null,null,null,0,0,null,null,null,null,null,null,null,null,null,null,null,null,null,null,null,null,null,null,null,null,null,null,null,null,null,null,null,null,null,null,null,null,null,null,null,null,null,null,null,null,null,null,null,null,null,null,{"$f":"I298","v":340},null,340]
[297,20179,"豊栄",null,"新アマ日","朝刊",{"$f":"IFERROR(VLOOKUP(F299,[1]データ!$A$2:$B$16,2,FALSE),\"\")","v":1},201791,5490,5400,null,null,null,null,null,null,null,5400,5400,null,null,null,null,null,null,null,null,null,null,null,null,null,null,5400,null,null,null,null,90,null,null,null,null,null,null,null,null,null,null,null,null,null,null,null,null,null,null,null,null,null,null,null,null,null,null,null,null,5490]
[298,20179,"豊栄",null,null,"くるみる",{"$f":"IFERROR(VLOOKUP(F300,[1]データ!$A$2:$B$16,2,FALSE),\"\")","v":3},201793,620,620,null,null,null,null,null,null,null,620,null,null,null,null,null,null,null,null,null,null,null,null,null,null,null,null,null,null,null,null,null,null,null,null,null,null,null,null,null,null,null,null,null,null,null,null,null,null,null,null,null,null,null,null,null,null,null,null,null,0]
[299,20179,"豊栄",null,null,"otona+",{"$f":"IFERROR(VLOOKUP(F301,[1]データ!$A$2:$B$16,2,FALSE),\"\")","v":4},201794,260,260,null,null,null,null,null,null,null,260,null,null,null,null,null,null,null,null,null,null,null,null,null,null,null,null,null,null,null,null,null,null,null,null,null,null,null,null,null,null,null,null,null,null,null,null,null,null,null,null,null,null,null,null,null,null,null,null,null,0]
[300,20179,"豊栄",null,null,"assh",{"$f":"IFERROR(VLOOKUP(F302,[1]データ!$A$2:$B$16,2,FALSE),\"\")","v":5},201795,5820,5820,null,null,null,null,null,null,null,5820,null,null,null,null,null,null,null,null,null,null,null,null,null,null,null,null,null,null,null,null,null,null,null,null,null,null,null,null,null,null,null,null,null,null,null,null,null,null,null,null,null,null,null,null,null,null,null,null,null,0]
[301,20179,"豊栄",null,null,"assh・朝",{"$f":"IFERROR(VLOOKUP(F303,[1]データ!$A$2:$B$16,2,FALSE),\"\")","v":51},2017951,5400,null,null,null,null,null,null,null,null,0,null,null,null,null,null,null,null,null,null,null,null,null,null,null,null,null,null,null,null,null,null,null,null,null,null,null,null,null,null,null,null,null,null,null,null,null,null,null,null,null,null,null,null,null,null,null,null,null,null,0]
[302,20179,"豊栄",null,null,"市報・区報",{"$f":"IFERROR(VLOOKUP(F304,[1]データ!$A$2:$B$16,2,FALSE),\"\")","v":2},201792,{"$f":"R304","v":5400},{"$f":"J299","v":5400},null,null,null,null,null,null,null,5400,null,null,null,null,null,null,null,null,null,null,null,null,null,null,null,null,null,null,null,null,null,null,null,null,null,null,null,null,null,null,null,null,null,null,null,null,null,null,null,null,null,null,null,null,null,null,null,null,null,0]
[303,20144,"豊栄南",null,"新アマ日","朝刊",{"$f":"IFERROR(VLOOKUP(F305,[1]データ!$A$2:$B$16,2,FALSE),\"\")","v":1},201441,null,null,null,null,null,null,null,null,null,0,null,null,null,null,null,null,null,null,null,null,null,null,null,null,null,null,null,null,null,null,null,null,null,null,null,null,null,null,null,null,null,null,null,null,null,null,null,null,null,null,null,null,null,null,null,null,null,null,null,0]
[304,20144,"豊栄南",null,null,"くるみる",{"$f":"IFERROR(VLOOKUP(F306,[1]データ!$A$2:$B$16,2,FALSE),\"\")","v":3},201443,null,null,null,null,null,null,null,null,null,0,null,null,null,null,null,null,null,null,null,null,null,null,null,null,null,null,null,null,null,null,null,null,null,null,null,null,null,null,null,null,null,null,null,null,null,null,null,null,null,null,null,null,null,null,null,null,null,null,null,0]
[305,20144,"豊栄南",null,null,"otona+",{"$f":"IFERROR(VLOOKUP(F307,[1]データ!$A$2:$B$16,2,FALSE),\"\")","v":4},201444,null,null,null,null,null,null,null,null,null,0,null,null,null,null,null,null,null,null,null,null,null,null,null,null,null,null,null,null,null,null,null,null,null,null,null,null,null,null,null,null,null,null,null,null,null,null,null,null,null,null,null,null,null,null,null,null,null,null,null,0]
[306,20144,"豊栄南",null,null,"assh",{"$f":"IFERROR(VLOOKUP(F308,[1]データ!$A$2:$B$16,2,FALSE),\"\")","v":5},201445,null,null,null,null,null,null,null,null,null,0,null,null,null,null,null,null,null,null,null,null,null,null,null,null,null,null,null,null,null,null,null,null,null,null,null,null,null,null,null,null,null,null,null,null,null,null,null,null,null,null,null,null,null,null,null,null,null,null,null,0]
[307,20144,"豊栄南",null,null,"assh・朝",{"$f":"IFERROR(VLOOKUP(F309,[1]データ!$A$2:$B$16,2,FALSE),\"\")","v":51},2014451,null,null,null,null,null,null,null,null,null,0,null,null,null,null,null,null,null,null,null,null,null,null,null,null,null,null,null,null,null,null,null,null,null,null,null,null,null,null,null,null,null,null,null,null,null,null,null,null,null,null,null,null,null,null,null,null,null,null,null,0]
[308,20144,"豊栄南",null,null,"市報・区報",{"$f":"IFERROR(VLOOKUP(F310,[1]データ!$A$2:$B$16,2,FALSE),\"\")","v":2},201442,null,null,null,null,null,null,null,null,null,0,null,null,null,null,null,null,null,null,null,null,null,null,null,null,null,null,null,null,null,null,null,null,null,null,null,null,null,null,null,null,null,null,null,null,null,null,null,null,null,null,null,null,null,null,null,null,null,null,null,0]
[309,220145,"豊栄",null,"ヨサ日","朝刊",{"$f":"IFERROR(VLOOKUP(F311,[1]データ!$A$2:$B$16,2,FALSE),\"\")","v":1},2201451,830,830,null,null,null,null,null,null,null,830,830,null,null,null,null,null,null,null,null,null,null,null,null,null,null,{"$f":"I311","v":830},null,null,null,null,null,null,null,null,null,null,null,null,null,null,null,null,null,null,null,null,null,null,null,null,null,null,null,null,null,null,null,null,null,830]
[310,20146,"木崎",null,"合","朝刊",{"$f":"IFERROR(VLOOKUP(F312,[1]データ!$A$2:$B$16,2,FALSE),\"\")","v":1},201461,2340,2080,null,null,null,null,null,null,null,2080,2080,610,null,null,null,null,null,null,null,null,null,null,null,null,null,1470,null,null,null,null,null,null,null,null,340,null,null,null,null,null,null,null,null,null,null,null,null,null,null,null,null,null,null,null,null,null,null,null,null,1810]
[311,20146,"木崎",null,null,"くるみる",{"$f":"IFERROR(VLOOKUP(F313,[1]データ!$A$2:$B$16,2,FALSE),\"\")","v":3},201463,50,50,null,null,null,null,null,null,null,50,null,null,null,null,null,null,null,null,null,null,null,null,null,null,null,null,null,null,null,null,null,null,null,null,null,null,null,null,null,null,null,null,null,null,null,null,null,null,null,null,null,null,null,null,null,null,null,null,null,0]
[312,20146,"木崎",null,null,"otona+",{"$f":"IFERROR(VLOOKUP(F314,[1]データ!$A$2:$B$16,2,FALSE),\"\")","v":4},201464,70,70,null,null,null,null,null,null,null,70,null,null,null,null,null,null,null,null,null,null,null,null,null,null,null,null,null,null,null,null,null,null,null,null,null,null,null,null,null,null,null,null,null,null,null,null,null,null,null,null,null,null,null,null,null,null,null,null,null,0]
[313,20146,"木崎",null,null,"assh",{"$f":"IFERROR(VLOOKUP(F315,[1]データ!$A$2:$B$16,2,FALSE),\"\")","v":5},201465,1200,1200,null,null,null,null,null,null,null,1200,null,null,null,null,null,null,null,null,null,null,null,null,null,null,null,null,null,null,null,null,null,null,null,null,null,null,null,null,null,null,null,null,null,null,null,null,null,null,null,null,null,null,null,null,null,null,null,null,null,0]
[314,20146,"木崎",null,null,"assh・朝",{"$f":"IFERROR(VLOOKUP(F316,[1]データ!$A$2:$B$16,2,FALSE),\"\")","v":51},2014651,2080,null,null,null,null,null,null,null,null,0,null,null,null,null,null,null,null,null,null,null,null,null,null,null,null,null,null,null,null,null,null,null,null,null,null,null,null,null,null,null,null,null,null,null,null,null,null,null,null,null,null,null,null,null,null,null,null,null,null,0]
[317,20146,"木崎",null,null,"市報・区報",{"$f":"IFERROR(VLOOKUP(F317,[1]データ!$A$2:$B$16,2,FALSE),\"\")","v":2},201462,{"$f":"R317","v":2080},{"$f":"J312","v":2080},null,null,null,null,null,null,null,2080,null,null,null,null,null,null,null,null,null,null,null,null,null,null,null,null,null,null,null,null,null,null,null,null,null,null,null,null,null,null,null,null,null,null,null,null,null,null,null,null,null,null,null,null,null,null,null,null,null,0]
[318,20148,"新発田西","MN","新アマ日","朝刊",{"$f":"IFERROR(VLOOKUP(F318,[1]データ!$A$2:$B$16,2,FALSE),\"\")","v":1},201481,9670,null,null,null,null,null,null,null,null,0,0,null,null,null,null,null,null,null,null,null,null,null,null,null,null,null,null,null,null,null,7440,null,210,null,2160,null,null,null,null,null,null,null,null,null,null,null,null,null,null,null,null,null,null,null,null,null,null,null,null,9810]
[319,20148,"新発田西",null,null,"くるみる",{"$f":"IFERROR(VLOOKUP(F319,[1]データ!$A$2:$B$16,2,FALSE),\"\")","v":3},201483,830,null,null,null,null,null,null,null,null,0,null,null,null,null,null,null,null,null,null,null,null,null,null,null,null,null,null,null,null,null,null,null,null,null,null,null,null,null,null,null,null,null,null,null,null,null,null,null,null,null,null,null,null,null,null,null,null,null,null,0]
[null,20148,"新発田西",null,null,"otona+",{"$f":"IFERROR(VLOOKUP(F320,[1]データ!$A$2:$B$16,2,FALSE),\"\")","v":4},201484,350]
[321,20149,"新発田東","MN","新アマ日","朝刊",{"$f":"IFERROR(VLOOKUP(F321,[1]データ!$A$2:$B$16,2,FALSE),\"\")","v":1},201491,9320,null,null,null,null,null,null,null,null,0,0,null,null,null,null,null,null,null,null,null,null,null,null,null,null,null,null,null,null,null,6550,360,1100,1570,null,250,null,null,null,null,null,null,null,null,null,null,null,null,null,null,40,null,null,null,null,null,null,null,null,{"$f":"SUM(U321:BO321)","v":9870}]
[322,20149,"新発田東",null,null,"くるみる",{"$f":"IFERROR(VLOOKUP(F322,[1]データ!$A$2:$B$16,2,FALSE),\"\")","v":3},201493,580,null,null,null,null,null,null,null,null,0,null,null,null,null,null,null,null,null,null,null,null,null,null,null,null,null,null,null,null,null,null,null,null,null,null,null,null,null,null,null,null,null,null,null,null,null,null,null,null,null,null,null,null,null,null,null,null,null,null,{"$f":"SUM(U322:BO322)","v":0}]
[null,20149,"新発田東",null,null,"otona+",{"$f":"IFERROR(VLOOKUP(F323,[1]データ!$A$2:$B$16,2,FALSE),\"\")","v":4},201494,300]
[324,30148,"新発田",null,"ア","朝刊",{"$f":"IFERROR(VLOOKUP(F324,[1]データ!$A$2:$B$16,2,FALSE),\"\")","v":1},301481,null,null,null,null,null,null,null,null,null,0,{"$f":"SUM(T324:AH324)","v":0},null,null,null,null,null,null,null,null,null,null,null,null,null,null,null,null,null,null,null,null,null,null,null,null,null,null,null,null,null,null,null,null,null,null,null,null,null,null,null,null,null,null,null,null,null,null,null,null,{"$f":"SUM(U324:BO324)","v":0}]
[325,220152,"新発田",null,"ヨサ","朝刊",{"$f":"IFERROR(VLOOKUP(F325,[1]データ!$A$2:$B$16,2,FALSE),\"\")","v":1},2201521,3100,null,null,null,null,null,null,null,null,0,0,null,null,null,null,null,null,null,null,null,null,null,null,null,null,null,null,null,null,null,2210,120,100,320,300,40,null,null,null,null,null,null,null,null,null,null,null,null,null,null,10,null,null,null,null,null,null,null,null,3100]
[326,20153,"月岡",null,"合","朝刊",{"$f":"IFERROR(VLOOKUP(F326,[1]データ!$A$2:$B$16,2,FALSE),\"\")","v":1},201531,1890,10,null,null,null,null,null,null,null,10,10,null,null,null,null,null,null,null,null,null,null,null,null,null,null,10,null,null,null,null,420,1200,null,null,null,null,null,null,null,null,null,null,null,null,null,260,null,null,null,null,null,null,null,null,null,null,null,null,null,1890]
[327,20153,"月岡",null,null,"くるみる",{"$f":"IFERROR(VLOOKUP(F327,[1]データ!$A$2:$B$16,2,FALSE),\"\")","v":3},201533,30,0,null,null,null,null,null,null,null,0,null,null,null,null,null,null,null,null,null,null,null,null,null,null,null,null,null,null,null,null,null,null,null,null,null,null,null,null,null,null,null,null,null,null,null,null,null,null,null,null,null,null,null,null,null,null,null,null,null,0]
[328,20153,"月岡",null,null,"市報・区報",{"$f":"IFERROR(VLOOKUP(F328,[1]データ!$A$2:$B$16,2,FALSE),\"\")","v":2},201532,{"$f":"R328","v":10},{"$f":"J326","v":10},null,null,null,null,null,null,null,10,null,null,null,null,null,null,null,null,null,null,null,null,null,null,null,null,null,null,null,null,null,null,null,null,null,null,null,null,null,null,null,null,null,null,null,null,null,null,null,null,null,null,null,null,null,null,null,null,null,0]
[329,20154,"中条東",null,"新アマ日","朝刊",{"$f":"IFERROR(VLOOKUP(F329,[1]データ!$A$2:$B$16,2,FALSE),\"\")","v":1},201541,1800,null,null,null,null,null,null,null,null,0,0,null,null,null,null,null,null,null,null,null,null,null,null,null,null,null,null,null,null,null,null,null,null,null,null,{"$f":"I329","v":1800},null,null,null,null,null,null,null,null,null,null,null,null,null,null,null,null,null,null,null,null,null,null,null,1800]
[330,20155,"西中条",null,"新アマ日","朝刊",{"$f":"IFERROR(VLOOKUP(F330,[1]データ!$A$2:$B$16,2,FALSE),\"\")","v":1},201551,1450,null,null,null,null,null,null,null,null,0,0,null,null,null,null,null,null,null,null,null,null,null,null,null,null,null,null,null,null,null,null,null,null,null,null,{"$f":"I330","v":1450},null,null,null,null,null,null,null,null,null,null,null,null,null,null,null,null,null,null,null,null,null,null,null,1450]
[331,220156,"中条",null,"ヨ","朝刊",{"$f":"IFERROR(VLOOKUP(F331,[1]データ!$A$2:$B$16,2,FALSE),\"\")","v":1},2201561,970,null,null,null,null,null,null,null,null,0,0,null,null,null,null,null,null,null,null,null,null,null,null,null,null,null,null,null,null,null,null,null,null,null,null,{"$f":"I331","v":970},null,null,null,null,null,null,null,null,null,null,null,null,null,null,null,null,null,null,null,null,null,null,null,970]
[332,20157,"黒川",null,"合","朝刊",{"$f":"IFERROR(VLOOKUP(F332,[1]データ!$A$2:$B$16,2,FALSE),\"\")","v":1},201571,2170,null,null,null,null,null,null,null,null,0,0,null,null,null,null,null,null,null,null,null,null,null,null,null,null,null,null,null,null,null,null,null,null,null,null,1010,970,null,190,null,null,null,null,null,null,null,null,null,null,null,null,null,null,null,null,null,null,null,null,2170]
[333,20158,"水原",null,"新アマ日","朝刊",{"$f":"IFERROR(VLOOKUP(F333,[1]データ!$A$2:$B$16,2,FALSE),\"\")","v":1},201581,5700,250,null,null,null,null,null,null,null,250,250,null,null,null,null,null,null,null,null,null,null,null,null,null,null,250,null,null,null,null,null,null,null,null,null,null,null,null,null,null,null,null,null,null,3450,1070,null,1180,null,null,null,null,null,null,null,null,null,null,null,5950]
[334,20158,"水原",null,null,"くるみる",{"$f":"IFERROR(VLOOKUP(F334,[1]データ!$A$2:$B$16,2,FALSE),\"\")","v":3},201583,200,10,null,null,null,null,null,null,null,10,null,null,null,null,null,null,null,null,null,null,null,null,null,null,null,null,null,null,null,null,null,null,null,null,null,null,null,null,null,null,null,null,null,null,null,null,null,null,null,null,null,null,null,null,null,null,null,null,null,0]
[335,20158,"水原",null,null,"otona+",{"$f":"IFERROR(VLOOKUP(F335,[1]データ!$A$2:$B$16,2,FALSE),\"\")","v":4},201584,120,10,null,null,null,null,null,null,null,10,null,null,null,null,null,null,null,null,null,null,null,null,null,null,null,null,null,null,null,null,null,null,null,null,null,null,null,null,null,null,null,null,null,null,null,null,null,null,null,null,null,null,null,null,null,null,null,null,null,0]
[336,20158,"水原",null,null,"assh",{"$f":"IFERROR(VLOOKUP(F336,[1]データ!$A$2:$B$16,2,FALSE),\"\")","v":5},201585,110,110,null,null,null,null,null,null,null,{"$f":"SUM(J336:Q336)","v":110},null,null,null,null,null,null,null,null,null,null,null,null,null,null,null,null,null,null,null,null,null,null,null,null,null,null,null,null,null,null,null,null,null,null,null,null,null,null,null,null,null,null,null,null,null,null,null,null,null,0]
[337,20158,"水原",null,null,"assh・朝",{"$f":"IFERROR(VLOOKUP(F337,[1]データ!$A$2:$B$16,2,FALSE),\"\")","v":51},2015851,250,null,null,null,null,null,null,null,null,0,null,null,null,null,null,null,null,null,null,null,null,null,null,null,null,null,null,null,null,null,null,null,null,null,null,null,null,null,null,null,null,null,null,null,null,null,null,null,null,null,null,null,null,null,null,null,null,null,null,0]
[339,20158,"水原",null,null,"市報・区報",{"$f":"IFERROR(VLOOKUP(F338,[1]データ!$A$2:$B$16,2,FALSE),\"\")","v":2},201582,{"$f":"R338","v":250},{"$f":"J333","v":250},null,null,null,null,null,null,null,250,null,null,null,null,null,null,null,null,null,null,null,null,null,null,null,null,null,null,null,null,null,null,null,null,null,null,null,null,null,null,null,null,null,null,null,null,null,null,null,null,null,null,null,null,null,null,null,null,null,0]
[340,220160,"水原","亀田","ヨサ","朝刊",{"$f":"IFERROR(VLOOKUP(F339,[1]データ!$A$2:$B$16,2,FALSE),\"\")","v":1},2201601,1150,50,null,null,null,null,null,null,null,50,50,null,null,null,null,null,null,null,null,null,null,null,null,null,null,50,null,null,null,null,null,null,null,null,null,null,null,null,null,null,null,null,null,null,670,180,null,250,null,null,null,null,null,null,null,null,null,null,null,1150]
[341,20161,"保田",null,"合","朝刊",{"$f":"IFERROR(VLOOKUP(F340,[1]データ!$A$2:$B$16,2,FALSE),\"\")","v":1},201611,2450,null,null,null,null,null,null,null,null,0,0,null,null,null,null,null,null,null,null,null,null,null,null,null,null,null,null,null,null,null,null,null,null,null,null,null,null,null,null,null,null,null,null,null,null,300,2150,null,null,null,null,null,null,null,null,null,null,null,null,2450]
[342,20161,"保田",null,null,"otona+",{"$f":"IFERROR(VLOOKUP(F341,[1]データ!$A$2:$B$16,2,FALSE),\"\")","v":4},201614,110,null,null,null,null,null,null,null,null,0,null,null,null,null,null,null,null,null,null,null,null,null,null,null,null,null,null,null,null,null,null,null,null,null,null,null,null,null,null,null,null,null,null,null,null,null,null,null,null,null,null,null,null,null,null,null,null,null,null,0]
[343,20162,"村上","村上","合","朝刊",{"$f":"IFERROR(VLOOKUP(F342,[1]データ!$A$2:$B$16,2,FALSE),\"\")","v":1},201621,7340,null,null,null,null,null,null,null,null,0,0,null,null,null,null,null,null,null,null,null,null,null,null,null,null,null,null,null,null,null,null,null,null,null,null,null,null,4900,null,340,2100,null,null,null,null,null,null,null,null,null,null,null,null,null,null,null,null,null,null,7340]
[344,20163,"岩船",null,"合","朝刊",{"$f":"IFERROR(VLOOKUP(F343,[1]データ!$A$2:$B$16,2,FALSE),\"\")","v":1},201631,2200,null,null,null,null,null,null,null,null,0,0,null,null,null,null,null,null,null,null,null,null,null,null,null,null,null,null,null,null,null,null,null,null,null,null,null,null,780,null,1420,null,null,null,50,null,null,null,null,null,null,null,null,null,null,null,null,null,null,null,2250]
[345,20164,"越後早川","村上","合","朝刊",{"$f":"IFERROR(VLOOKUP(F344,[1]データ!$A$2:$B$16,2,FALSE),\"\")","v":1},201641,320,null,null,null,null,null,null,null,null,0,0,null,null,null,null,null,null,null,null,null,null,null,null,null,null,null,null,null,null,null,null,null,null,null,null,null,null,{"$f":"I344","v":320},null,null,null,null,null,null,null,null,null,null,null,null,null,null,null,null,null,null,null,null,null,320]
[346,20165,"坂町",null,"合","朝刊",{"$f":"IFERROR(VLOOKUP(F345,[1]データ!$A$2:$B$16,2,FALSE),\"\")","v":1},201651,1880,null,null,null,null,null,null,null,null,0,0,null,null,null,null,null,null,null,null,null,null,null,null,null,null,null,null,null,null,null,null,null,null,null,null,null,null,null,{"$f":"I345","v":1880},null,null,null,null,null,null,null,null,null,null,null,null,null,null,null,null,null,null,null,null,1880]
[347,20166,"平林",null,null,"朝刊",{"$f":"IFERROR(VLOOKUP(F346,[1]データ!$A$2:$B$16,2,FALSE),\"\")","v":1},201661,null,null,null,null,null,null,null,null,null,0,0,null,null,null,null,null,null,null,null,null,null,null,null,null,null,null,null,null,null,null,null,null,null,null,null,null,null,null,null,null,null,null,null,null,null,null,null,null,null,null,null,null,null,null,null,null,null,null,null,0]
[348,20167,"関川",null,"合","朝刊",{"$f":"IFERROR(VLOOKUP(F347,[1]データ!$A$2:$B$16,2,FALSE),\"\")","v":1},201671,1200,null,null,null,null,null,null,null,null,0,0,null,null,null,null,null,null,null,null,null,null,null,null,null,null,null,null,null,null,null,null,null,null,null,null,null,40,null,null,null,null,null,1160,null,null,null,null,null,null,null,null,null,null,null,null,null,null,null,null,1200]
[349,20168,"寒川桑川",null,null,"朝刊",{"$f":"IFERROR(VLOOKUP(F348,[1]データ!$A$2:$B$16,2,FALSE),\"\")","v":1},201681,null,null,null,null,null,null,null,null,null,0,0,null,null,null,null,null,null,null,null,null,null,null,null,null,null,null,null,null,null,null,null,null,null,null,null,null,null,null,null,null,null,null,null,null,null,null,null,null,null,null,null,null,null,null,null,null,null,null,null,0]
[350,20170,"府屋",null,"合","朝刊",{"$f":"IFERROR(VLOOKUP(F349,[1]データ!$A$2:$B$16,2,FALSE),\"\")","v":1},201701,960,null,null,null,null,null,null,null,null,0,0,null,null,null,null,null,null,null,null,null,null,null,null,null,null,null,null,null,null,null,null,null,null,null,null,null,null,null,null,null,null,{"$f":"I349","v":960},null,null,null,null,null,null,null,null,null,null,null,null,null,null,null,null,null,960]
[351,20172,"黒川俣",null,"合","朝刊",{"$f":"IFERROR(VLOOKUP(F350,[1]データ!$A$2:$B$16,2,FALSE),\"\")","v":1},201721,200,null,null,null,null,null,null,null,null,0,0,null,null,null,null,null,null,null,null,null,null,null,null,null,null,null,null,null,null,null,null,null,null,null,null,null,null,null,null,null,null,{"$f":"I350","v":200},null,null,null,null,null,null,null,null,null,null,null,null,null,null,null,null,null,200]
[352,20173,"津川","津川","合","朝刊",{"$f":"IFERROR(VLOOKUP(F351,[1]データ!$A$2:$B$16,2,FALSE),\"\")","v":1},201731,1600,null,null,null,null,null,null,null,null,0,0,null,null,null,null,null,null,null,null,null,null,null,null,null,null,null,null,null,null,null,null,null,null,null,null,null,null,null,null,null,null,null,null,null,null,null,null,null,950,100,null,550,null,null,null,null,null,null,null,1600]
[353,20174,"豊実","津川","合","朝刊",{"$f":"IFERROR(VLOOKUP(F352,[1]データ!$A$2:$B$16,2,FALSE),\"\")","v":1},201741,60,null,null,null,null,null,null,null,null,0,0,null,null,null,null,null,null,null,null,null,null,null,null,null,null,null,null,null,null,null,null,null,null,null,null,null,null,null,null,null,null,null,null,null,null,null,null,null,null,{"$f":"I352","v":60},null,null,null,null,null,null,null,null,null,60]
[354,20175,"日出谷","津川","合","朝刊",{"$f":"IFERROR(VLOOKUP(F353,[1]データ!$A$2:$B$16,2,FALSE),\"\")","v":1},201751,180,null,null,null,null,null,null,null,null,0,0,null,null,null,null,null,null,null,null,null,null,null,null,null,null,null,null,null,null,null,null,null,null,null,null,null,null,null,null,null,null,null,null,null,null,null,null,null,null,{"$f":"I353","v":180},null,null,null,null,null,null,null,null,null,180]
[355,20176,"鹿瀬","津川","合","朝刊",{"$f":"IFERROR(VLOOKUP(F354,[1]データ!$A$2:$B$16,2,FALSE),\"\")","v":1},201761,280,null,null,null,null,null,null,null,null,0,0,null,null,null,null,null,null,null,null,null,null,null,null,null,null,null,null,null,null,null,null,null,null,null,null,null,null,null,null,null,null,null,null,null,null,null,null,null,null,{"$f":"I354","v":280},null,null,null,null,null,null,null,null,null,280]
[356,20177,"白崎","津川","合","朝刊",{"$f":"IFERROR(VLOOKUP(F355,[1]データ!$A$2:$B$16,2,FALSE),\"\")","v":1},201771,580,null,null,null,null,null,null,null,null,0,0,null,null,null,null,null,null,null,null,null,null,null,null,null,null,null,null,null,null,null,null,null,null,null,null,null,null,null,null,null,null,null,null,null,null,null,null,null,null,null,{"$f":"I355","v":580},null,null,null,null,null,null,null,null,580]
[357,20178,"白崎・五十島","津川","合","朝刊",{"$f":"IFERROR(VLOOKUP(F356,[1]データ!$A$2:$B$16,2,FALSE),\"\")","v":1},201781,60,null,null,null,null,null,null,null,null,0,0,null,null,null,null,null,null,null,null,null,null,null,null,null,null,null,null,null,null,null,null,null,null,null,null,null,null,null,null,null,null,null,null,null,null,null,null,null,null,null,{"$f":"I356","v":60},null,null,null,null,null,null,null,null,60]
[358,20182,"保田・五十島","保田","合","朝刊",{"$f":"IFERROR(VLOOKUP(F357,[1]データ!$A$2:$B$16,2,FALSE),\"\")","v":1},201821,90,null,null,null,null,null,null,null,null,0,0,null,null,null,null,null,null,null,null,null,null,null,null,null,null,null,null,null,null,null,null,null,null,null,null,null,null,null,null,null,null,null,null,null,null,null,null,null,null,null,{"$f":"I357","v":90},null,null,null,null,null,null,null,null,90]
[359,30101,"両津","両津","新マ日","朝刊",{"$f":"IFERROR(VLOOKUP(F358,[1]データ!$A$2:$B$16,2,FALSE),\"\")","v":1},301011,2200,null,null,null,null,null,null,null,null,0,0,null,null,null,null,null,null,null,null,null,null,null,null,null,null,null,null,null,null,null,null,null,null,null,null,null,null,null,null,null,null,null,null,null,null,null,null,null,null,null,null,null,null,null,null,null,null,null,null,0]
[360,30102,"両津",null,"ア","朝刊",{"$f":"IFERROR(VLOOKUP(F359,[1]データ!$A$2:$B$16,2,FALSE),\"\")","v":1},301021,630,null,null,null,null,null,null,null,null,0,0,null,null,null,null,null,null,null,null,null,null,null,null,null,null,null,null,null,null,null,null,null,null,null,null,null,null,null,null,null,null,null,null,null,null,null,null,null,null,null,null,null,null,null,null,null,null,null,null,0]
[361,230103,"両津","両津ヨ","ヨサ","朝刊",{"$f":"IFERROR(VLOOKUP(F360,[1]データ!$A$2:$B$16,2,FALSE),\"\")","v":1},2301031,830,null,null,null,null,null,null,null,null,0,0,null,null,null,null,null,null,null,null,null,null,null,null,null,null,null,null,null,null,null,null,null,null,null,null,null,null,null,null,null,null,null,null,null,null,null,null,null,null,null,null,null,null,null,null,null,null,null,null,0]
[362,230104,"両津","両津ヨ",null,"朝刊",{"$f":"IFERROR(VLOOKUP(F361,[1]データ!$A$2:$B$16,2,FALSE),\"\")","v":1},2301041,null,null,null,null,null,null,null,null,null,0,0,null,null,null,null,null,null,null,null,null,null,null,null,null,null,null,null,null,null,null,null,null,null,null,null,null,null,null,null,null,null,null,null,null,null,null,null,null,null,null,null,null,null,null,null,null,null,null,null,0]
[363,30105,"吉井","両津","新マ日","朝刊",{"$f":"IFERROR(VLOOKUP(F362,[1]データ!$A$2:$B$16,2,FALSE),\"\")","v":1},301051,180,null,null,null,null,null,null,null,null,0,0,null,null,null,null,null,null,null,null,null,null,null,null,null,null,null,null,null,null,null,null,null,null,null,null,null,null,null,null,null,null,null,null,null,null,null,null,null,null,null,null,null,null,null,null,null,null,null,null,0]
[364,30106,"真野",null,"新サ","朝刊",{"$f":"IFERROR(VLOOKUP(F363,[1]データ!$A$2:$B$16,2,FALSE),\"\")","v":1},301061,730,null,null,null,null,null,null,null,null,0,0,null,null,null,null,null,null,null,null,null,null,null,null,null,null,null,null,null,null,null,null,null,null,null,null,null,null,null,null,null,null,null,null,null,null,null,null,null,null,null,null,null,null,null,null,null,null,null,null,0]
[365,30107,"真野",null,"アマヨサ日","朝刊",{"$f":"IFERROR(VLOOKUP(F364,[1]データ!$A$2:$B$16,2,FALSE),\"\")","v":1},301071,250,null,null,null,null,null,null,null,null,0,0,null,null,null,null,null,null,null,null,null,null,null,null,null,null,null,null,null,null,null,null,null,null,null,null,null,null,null,null,null,null,null,null,null,null,null,null,null,null,null,null,null,null,null,null,null,null,null,null,0]
[366,30108,"新穂",null,"新マサ日","朝刊",{"$f":"IFERROR(VLOOKUP(F365,[1]データ!$A$2:$B$16,2,FALSE),\"\")","v":1},301081,700,null,null,null,null,null,null,null,null,0,0,null,null,null,null,null,null,null,null,null,null,null,null,null,null,null,null,null,null,null,null,null,null,null,null,null,null,null,null,null,null,null,null,null,null,null,null,null,null,null,null,null,null,null,null,null,null,null,null,0]
[367,30109,"新穂","両津ヨ","ア","朝刊",{"$f":"IFERROR(VLOOKUP(F366,[1]データ!$A$2:$B$16,2,FALSE),\"\")","v":1},301091,70,null,null,null,null,null,null,null,null,0,0,null,null,null,null,null,null,null,null,null,null,null,null,null,null,null,null,null,null,null,null,null,null,null,null,null,null,null,null,null,null,null,null,null,null,null,null,null,null,null,null,null,null,null,null,null,null,null,null,0]
[368,30111,"畑野",null,"新","朝刊",{"$f":"IFERROR(VLOOKUP(F367,[1]データ!$A$2:$B$16,2,FALSE),\"\")","v":1},301111,690,null,null,null,null,null,null,null,null,0,0,null,null,null,null,null,null,null,null,null,null,null,null,null,null,null,null,null,null,null,null,null,null,null,null,null,null,null,null,null,null,null,null,null,null,null,null,null,null,null,null,null,null,null,null,null,null,null,null,0]
[369,30112,"畑野",null,"アマヨサ日","朝刊",{"$f":"IFERROR(VLOOKUP(F368,[1]データ!$A$2:$B$16,2,FALSE),\"\")","v":1},301121,250,null,null,null,null,null,null,null,null,0,0,null,null,null,null,null,null,null,null,null,null,null,null,null,null,null,null,null,null,null,null,null,null,null,null,null,null,null,null,null,null,null,null,null,null,null,null,null,null,null,null,null,null,null,null,null,null,null,null,0]
[370,30114,"佐和田",null,"新アマ日","朝刊",{"$f":"IFERROR(VLOOKUP(F369,[1]データ!$A$2:$B$16,2,FALSE),\"\")","v":1},301141,1420,null,null,null,null,null,null,null,null,0,0,null,null,null,null,null,null,null,null,null,null,null,null,null,null,null,null,null,null,null,null,null,null,null,null,null,null,null,null,null,null,null,null,null,null,null,null,null,null,null,null,null,null,null,null,null,null,null,null,0]
[371,230115,"佐和田","両津ヨ","ヨサ","朝刊",{"$f":"IFERROR(VLOOKUP(F370,[1]データ!$A$2:$B$16,2,FALSE),\"\")","v":1},2301151,270,null,null,null,null,null,null,null,null,0,0,null,null,null,null,null,null,null,null,null,null,null,null,null,null,null,null,null,null,null,null,null,null,null,null,null,null,null,null,null,null,null,null,null,null,null,null,null,null,null,null,null,null,null,null,null,null,null,null,0]
[372,230116,"沢根",null,"ヨア","朝刊",{"$f":"IFERROR(VLOOKUP(F371,[1]データ!$A$2:$B$16,2,FALSE),\"\")","v":1},2301161,40,null,null,null,null,null,null,null,null,0,0,null,null,null,null,null,null,null,null,null,null,null,null,null,null,null,null,null,null,null,null,null,null,null,null,null,null,null,null,null,null,null,null,null,null,null,null,null,null,null,null,null,null,null,null,null,null,null,null,0]
[373,30110,"相川",null,"合","朝刊",{"$f":"IFERROR(VLOOKUP(F372,[1]データ!$A$2:$B$16,2,FALSE),\"\")","v":1},301101,980,null,null,null,null,null,null,null,null,0,0,null,null,null,null,null,null,null,null,null,null,null,null,null,null,null,null,null,null,null,null,null,null,null,null,null,null,null,null,null,null,null,null,null,null,null,null,null,null,null,null,null,null,null,null,null,null,null,null,0]
[374,30118,"相川",null,"ア","朝刊",{"$f":"IFERROR(VLOOKUP(F373,[1]データ!$A$2:$B$16,2,FALSE),\"\")","v":1},301181,120,null,null,null,null,null,null,null,null,0,0,null,null,null,null,null,null,null,null,null,null,null,null,null,null,null,null,null,null,null,null,null,null,null,null,null,null,null,null,null,null,null,null,null,null,null,null,null,null,null,null,null,null,null,null,null,null,null,null,0]
[375,230120,"相川",null,"ヨサ","朝刊",{"$f":"IFERROR(VLOOKUP(F374,[1]データ!$A$2:$B$16,2,FALSE),\"\")","v":1},2301201,100,null,null,null,null,null,null,null,null,0,0,null,null,null,null,null,null,null,null,null,null,null,null,null,null,null,null,null,null,null,null,null,null,null,null,null,null,null,null,null,null,null,null,null,null,null,null,null,null,null,null,null,null,null,null,null,null,null,null,0]
[376,30121,"金井",null,"合","朝刊",{"$f":"IFERROR(VLOOKUP(F375,[1]データ!$A$2:$B$16,2,FALSE),\"\")","v":1},301211,850,null,null,null,null,null,null,null,null,0,0,null,null,null,null,null,null,null,null,null,null,null,null,null,null,null,null,null,null,null,null,null,null,null,null,null,null,null,null,null,null,null,null,null,null,null,null,null,null,null,null,null,null,null,null,null,null,null,null,0]
[377,30122,"羽茂",null,"合","朝刊",{"$f":"IFERROR(VLOOKUP(F376,[1]データ!$A$2:$B$16,2,FALSE),\"\")","v":1},301221,800,null,null,null,null,null,null,null,null,0,0,null,null,null,null,null,null,null,null,null,null,null,null,null,null,null,null,null,null,null,null,null,null,null,null,null,null,null,null,null,null,null,null,null,null,null,null,null,null,null,null,null,null,null,null,null,null,null,null,0]
[378,30123,"羽茂",null,null,"朝刊",{"$f":"IFERROR(VLOOKUP(F377,[1]データ!$A$2:$B$16,2,FALSE),\"\")","v":1},301231,null,null,null,null,null,null,null,null,null,0,0,null,null,null,null,null,null,null,null,null,null,null,null,null,null,null,null,null,null,null,null,null,null,null,null,null,null,null,null,null,null,null,null,null,null,null,null,null,null,null,null,null,null,null,null,null,null,null,null,0]
[379,30124,"小木",null,"新","朝刊",{"$f":"IFERROR(VLOOKUP(F378,[1]データ!$A$2:$B$16,2,FALSE),\"\")","v":1},301241,470,null,null,null,null,null,null,null,null,0,0,null,null,null,null,null,null,null,null,null,null,null,null,null,null,null,null,null,null,null,null,null,null,null,null,null,null,null,null,null,null,null,null,null,null,null,null,null,null,null,null,null,null,null,null,null,null,null,null,0]
[380,30125,"小木",null,"アマサ日","朝刊",{"$f":"IFERROR(VLOOKUP(F379,[1]データ!$A$2:$B$16,2,FALSE),\"\")","v":1},301251,150,null,null,null,null,null,null,null,null,0,0,null,null,null,null,null,null,null,null,null,null,null,null,null,null,null,null,null,null,null,null,null,null,null,null,null,null,null,null,null,null,null,null,null,null,null,null,null,null,null,null,null,null,null,null,null,null,null,null,0]
[381,230126,"小木",null,"ヨ","朝刊",{"$f":"IFERROR(VLOOKUP(F380,[1]データ!$A$2:$B$16,2,FALSE),\"\")","v":1},2301261,140,null,null,null,null,null,null,null,null,0,0,null,null,null,null,null,null,null,null,null,null,null,null,null,null,null,null,null,null,null,null,null,null,null,null,null,null,null,null,null,null,null,null,null,null,null,null,null,null,null,null,null,null,null,null,null,null,null,null,0]
[382,30127,"赤泊",null,"合","朝刊",{"$f":"IFERROR(VLOOKUP(F381,[1]データ!$A$2:$B$16,2,FALSE),\"\")","v":1},301271,450,null,null,null,null,null,null,null,null,0,0,null,null,null,null,null,null,null,null,null,null,null,null,null,null,null,null,null,null,null,null,null,null,null,null,null,null,null,null,null,null,null,null,null,null,null,null,null,null,null,null,null,null,null,null,null,null,null,null,0]
[383,30128,"赤泊",null,null,"朝刊",{"$f":"IFERROR(VLOOKUP(F382,[1]データ!$A$2:$B$16,2,FALSE),\"\")","v":1},301281,null,null,null,null,null,null,null,null,null,0,0,null,null,null,null,null,null,null,null,null,null,null,null,null,null,null,null,null,null,null,null,null,null,null,null,null,null,null,null,null,null,null,null,null,null,null,null,null,null,null,null,null,null,null,null,null,null,null,null,0]
[384,30130,"多田",null,"合","朝刊",{"$f":"IFERROR(VLOOKUP(F383,[1]データ!$A$2:$B$16,2,FALSE),\"\")","v":1},301301,130,null,null,null,null,null,null,null,null,0,0,null,null,null,null,null,null,null,null,null,null,null,null,null,null,null,null,null,null,null,null,null,null,null,null,null,null,null,null,null,null,null,null,null,null,null,null,null,null,null,null,null,null,null,null,null,null,null,null,0]
[385,40101,"長岡大手",null,"新アマサ日","朝刊",{"$f":"IFERROR(VLOOKUP(F384,[1]データ!$A$2:$B$16,2,FALSE),\"\")","v":1},401011,null,null,null,null,null,null,null,null,null,0,null,null,null,null,null,null,null,null,null,null,null,null,null,null,null,null,null,null,null,null,null,null,null,null,null,null,null,null,null,null,null,null,null,null,null,null,null,null,null,null,null,null,null,null,null,null,null,null,null,0]
[386,40101,"長岡大手",null,null,"otona+",{"$f":"IFERROR(VLOOKUP(F385,[1]データ!$A$2:$B$16,2,FALSE),\"\")","v":4},401014,null,null,null,null,null,null,null,null,null,0,null,null,null,null,null,null,null,null,null,null,null,null,null,null,null,null,null,null,null,null,null,null,null,null,null,null,null,null,null,null,null,null,null,null,null,null,null,null,null,null,null,null,null,null,null,null,null,null,null,0]
[387,40101,"長岡大手",null,null,"N-assh②",{"$f":"IFERROR(VLOOKUP(F386,[1]データ!$A$2:$B$16,2,FALSE),\"\")","v":61},4010161,null,null,null,null,null,null,null,null,null,0,null,null,null,null,null,null,null,null,null,null,null,null,null,null,null,null,null,null,null,null,null,null,null,null,null,null,null,null,null,null,null,null,null,null,null,null,null,null,null,null,null,null,null,null,null,null,null,null,null,0]
[388,40101,"長岡大手",null,null,"ｎ-assh・②朝",{"$f":"IFERROR(VLOOKUP(F387,[1]データ!$A$2:$B$16,2,FALSE),\"\")","v":62},4010162,null,null,null,null,null,null,null,null,null,0,null,null,null,null,null,null,null,null,null,null,null,null,null,null,null,null,null,null,null,null,null,null,null,null,null,null,null,null,null,null,null,null,null,null,null,null,null,null,null,null,null,null,null,null,null,null,null,null,null,0]
[389,40101,"長岡大手",null,null,"N-assh④",{"$f":"IFERROR(VLOOKUP(F388,[1]データ!$A$2:$B$16,2,FALSE),\"\")","v":63},4010163,null,null,null,null,null,null,null,null,null,0,null,null,null,null,null,null,null,null,null,null,null,null,null,null,null,null,null,null,null,null,null,null,null,null,null,null,null,null,null,null,null,null,null,null,null,null,null,null,null,null,null,null,null,null,null,null,null,null,null,{"$f":"SUM(U388:BO388)","v":0}]
[390,40101,"長岡大手",null,null,"ｎ-assh・④朝",{"$f":"IFERROR(VLOOKUP(F389,[1]データ!$A$2:$B$16,2,FALSE),\"\")","v":64},4010164,null,null,null,null,null,null,null,null,null,0,null,null,null,null,null,null,null,null,null,null,null,null,null,null,null,null,null,null,null,null,null,null,null,null,null,null,null,null,null,null,null,null,null,null,null,null,null,null,null,null,null,null,null,null,null,null,null,null,null,0]
[391,40101,"長岡大手",null,null,"くるみる",{"$f":"IFERROR(VLOOKUP(F390,[1]データ!$A$2:$B$16,2,FALSE),\"\")","v":3},401013,null,null,null,null,null,null,null,null,null,0,null,null,null,null,null,null,null,null,null,null,null,null,null,null,null,null,null,null,null,null,null,null,null,null,null,null,null,null,null,null,null,null,null,null,null,null,null,null,null,null,null,null,null,null,null,null,null,null,null,0]
[392,40102,"長岡中央","MN","新アマサ日","朝刊",{"$f":"IFERROR(VLOOKUP(F391,[1]データ!$A$2:$B$16,2,FALSE),\"\")","v":1},401021,5100,null,null,null,null,null,null,null,null,0,null,null,null,null,null,null,null,null,null,null,null,null,null,null,null,null,null,null,null,null,null,null,null,null,null,null,null,null,null,null,null,null,null,null,null,null,null,null,null,null,null,null,null,null,null,null,null,null,null,0]
[393,40102,"長岡中央",null,null,"otona+",{"$f":"IFERROR(VLOOKUP(F392,[1]データ!$A$2:$B$16,2,FALSE),\"\")","v":4},401024,490,null,null,null,null,null,null,null,null,0,null,null,null,null,null,null,null,null,null,null,null,null,null,null,null,null,null,null,null,null,null,null,null,null,null,null,null,null,null,null,null,null,null,null,null,null,null,null,null,null,null,null,null,null,null,null,null,null,null,0]
[394,40102,"長岡中央",null,null,"N-assh②",{"$f":"IFERROR(VLOOKUP(F393,[1]データ!$A$2:$B$16,2,FALSE),\"\")","v":61},4010261,4760,null,null,null,null,null,null,null,null,0,null,null,null,null,null,null,null,null,null,null,null,null,null,null,null,null,null,null,null,null,null,null,null,null,null,null,null,null,null,null,null,null,null,null,null,null,null,null,null,null,null,null,null,null,null,null,null,null,null,0]
[395,40102,"長岡中央",null,null,"ｎ-assh・②朝",{"$f":"IFERROR(VLOOKUP(F394,[1]データ!$A$2:$B$16,2,FALSE),\"\")","v":62},4010262,{"$f":"I391","v":5100},null,null,null,null,null,null,null,null,0,null,null,null,null,null,null,null,null,null,null,null,null,null,null,null,null,null,null,null,null,null,null,null,null,null,null,null,null,null,null,null,null,null,null,null,null,null,null,null,null,null,null,null,null,null,null,null,null,null,0]
[396,40102,"長岡中央",null,null,"N-assh④",{"$f":"IFERROR(VLOOKUP(F395,[1]データ!$A$2:$B$16,2,FALSE),\"\")","v":63},4010263,4760,null,null,null,null,null,null,null,null,0,null,null,null,null,null,null,null,null,null,null,null,null,null,null,null,null,null,null,null,null,null,null,null,null,null,null,null,null,null,null,null,null,null,null,null,null,null,null,null,null,null,null,null,null,null,null,null,null,null,0]
[397,40102,"長岡中央",null,null,"ｎ-assh・④朝",{"$f":"IFERROR(VLOOKUP(F396,[1]データ!$A$2:$B$16,2,FALSE),\"\")","v":64},4010264,{"$f":"I391","v":5100},null,null,null,null,null,null,null,null,0,null,null,null,null,null,null,null,null,null,null,null,null,null,null,null,null,null,null,null,null,null,null,null,null,null,null,null,null,null,null,null,null,null,null,null,null,null,null,null,null,null,null,null,null,null,null,null,null,null,0]
[398,40102,"長岡中央",null,null,"くるみる",{"$f":"IFERROR(VLOOKUP(F397,[1]データ!$A$2:$B$16,2,FALSE),\"\")","v":3},401023,660,null,null,null,null,null,null,null,null,0,null,null,null,null,null,null,null,null,null,null,null,null,null,null,null,null,null,null,null,null,null,null,null,null,null,null,null,null,null,null,null,null,null,null,null,null,null,null,null,null,null,null,null,null,null,null,null,null,null,0]
[399,40300,"長岡南",null,"新アマサ日","朝刊",{"$f":"IFERROR(VLOOKUP(F398,[1]データ!$A$2:$B$16,2,FALSE),\"\")","v":1},403001,1560,null,null,null,null,null,null,null,null,0,null,null,null,null,null,null,null,null,null,null,null,null,null,null,null,null,null,null,null,null,null,null,null,null,null,null,null,null,null,null,null,null,null,null,null,null,null,null,null,null,null,null,null,null,null,null,null,null,null,0]
[400,40300,"長岡南",null,null,"otona+",{"$f":"IFERROR(VLOOKUP(F399,[1]データ!$A$2:$B$16,2,FALSE),\"\")","v":4},403004,110,null,null,null,null,null,null,null,null,0,null,null,null,null,null,null,null,null,null,null,null,null,null,null,null,null,null,null,null,null,null,null,null,null,null,null,null,null,null,null,null,null,null,null,null,null,null,null,null,null,null,null,null,null,null,null,null,null,null,0]
[401,40300,"長岡南",null,null,"N-assh②",{"$f":"IFERROR(VLOOKUP(F400,[1]データ!$A$2:$B$16,2,FALSE),\"\")","v":61},4030061,1430,null,null,null,null,null,null,null,null,{"$f":"SUM(J400:Q400)","v":0},null,null,null,null,null,null,null,null,null,null,null,null,null,null,null,null,null,null,null,null,null,null,null,null,null,null,null,null,null,null,null,null,null,null,null,null,null,null,null,null,null,null,null,null,null,null,null,null,null,0]
[402,40300,"長岡南",null,null,"ｎ-assh・②朝",{"$f":"IFERROR(VLOOKUP(F401,[1]データ!$A$2:$B$16,2,FALSE),\"\")","v":62},4030062,1560,null,null,null,null,null,null,null,null,0,null,null,null,null,null,null,null,null,null,null,null,null,null,null,null,null,null,null,null,null,null,null,null,null,null,null,null,null,null,null,null,null,null,null,null,null,null,null,null,null,null,null,null,null,null,null,null,null,null,0]
[403,40300,"長岡南",null,null,"N-assh④",{"$f":"IFERROR(VLOOKUP(F402,[1]データ!$A$2:$B$16,2,FALSE),\"\")","v":63},4030063,1430,null,null,null,null,null,null,null,null,0,null,null,null,null,null,null,null,null,null,null,null,null,null,null,null,null,null,null,null,null,null,null,null,null,null,null,null,null,null,null,null,null,null,null,null,null,null,null,null,null,null,null,null,null,null,null,null,null,null,0]
[404,40300,"長岡南",null,null,"ｎ-assh・④朝",{"$f":"IFERROR(VLOOKUP(F403,[1]データ!$A$2:$B$16,2,FALSE),\"\")","v":64},4030064,1560,null,null,null,null,null,null,null,null,0,null,null,null,null,null,null,null,null,null,null,null,null,null,null,null,null,null,null,null,null,null,null,null,null,null,null,null,null,null,null,null,null,null,null,null,null,null,null,null,null,null,null,null,null,null,null,null,null,null,0]
[405,40300,"長岡南",null,null,"くるみる",{"$f":"IFERROR(VLOOKUP(F404,[1]データ!$A$2:$B$16,2,FALSE),\"\")","v":3},403003,30,null,null,null,null,null,null,null,null,0,null,null,null,null,null,null,null,null,null,null,null,null,null,null,null,null,null,null,null,null,null,null,null,null,null,null,null,null,null,null,null,null,null,null,null,null,null,null,null,null,null,null,null,null,null,null,null,null,null,0]
[406,40104,"長岡東","MN","新アマサ日","朝刊",{"$f":"IFERROR(VLOOKUP(F405,[1]データ!$A$2:$B$16,2,FALSE),\"\")","v":1},401041,5310,null,null,null,null,null,null,null,null,0,null,null,null,null,null,null,null,null,null,null,null,null,null,null,null,null,null,null,null,null,null,null,null,null,null,null,null,null,null,null,null,null,null,null,null,null,null,null,null,null,null,null,null,null,null,null,null,null,null,0]
[407,40104,"長岡東",null,null,"otona+",{"$f":"IFERROR(VLOOKUP(F406,[1]データ!$A$2:$B$16,2,FALSE),\"\")","v":4},401044,330,null,null,null,null,null,null,null,null,0,null,null,null,null,null,null,null,null,null,null,null,null,null,null,null,null,null,null,null,null,null,null,null,null,null,null,null,null,null,null,null,null,null,null,null,null,null,null,null,null,null,null,null,null,null,null,null,null,null,0]
[408,40104,"長岡東",null,null,"N-assh②",{"$f":"IFERROR(VLOOKUP(F407,[1]データ!$A$2:$B$16,2,FALSE),\"\")","v":61},4010461,5640,null,null,null,null,null,null,null,null,0,null,null,null,null,null,null,null,null,null,null,null,null,null,null,null,null,null,null,null,null,null,null,null,null,null,null,null,null,null,null,null,null,null,null,null,null,null,null,null,null,null,null,null,null,null,null,null,null,null,0]
[409,40104,"長岡東",null,null,"ｎ-assh・②朝",{"$f":"IFERROR(VLOOKUP(F408,[1]データ!$A$2:$B$16,2,FALSE),\"\")","v":62},4010462,{"$f":"I405","v":5310},null,null,null,null,null,null,null,null,0,null,null,null,null,null,null,null,null,null,null,null,null,null,null,null,null,null,null,null,null,null,null,null,null,null,null,null,null,null,null,null,null,null,null,null,null,null,null,null,null,null,null,null,null,null,null,null,null,null,0]
[410,40104,"長岡東",null,null,"N-assh④",{"$f":"IFERROR(VLOOKUP(F409,[1]データ!$A$2:$B$16,2,FALSE),\"\")","v":63},4010463,5640,null,null,null,null,null,null,null,null,0,null,null,null,null,null,null,null,null,null,null,null,null,null,null,null,null,null,null,null,null,null,null,null,null,null,null,null,null,null,null,null,null,null,null,null,null,null,null,null,null,null,null,null,null,null,null,null,null,null,0]
[411,40104,"長岡東",null,null,"ｎ-assh・④朝",{"$f":"IFERROR(VLOOKUP(F410,[1]データ!$A$2:$B$16,2,FALSE),\"\")","v":64},4010464,{"$f":"I405","v":5310},null,null,null,null,null,null,null,null,0,null,null,null,null,null,null,null,null,null,null,null,null,null,null,null,null,null,null,null,null,null,null,null,null,null,null,null,null,null,null,null,null,null,null,null,null,null,null,null,null,null,null,null,null,null,null,null,null,null,0]
[412,40104,"長岡東",null,null,"くるみる",{"$f":"IFERROR(VLOOKUP(F411,[1]データ!$A$2:$B$16,2,FALSE),\"\")","v":3},401043,720,null,null,null,null,null,null,null,null,0,null,null,null,null,null,null,null,null,null,null,null,null,null,null,null,null,null,null,null,null,null,null,null,null,null,null,null,null,null,null,null,null,null,null,null,null,null,null,null,null,null,null,null,null,null,null,null,null,null,0]
[413,40105,"長岡新保",null,"新アマサ日","朝刊",{"$f":"IFERROR(VLOOKUP(F412,[1]データ!$A$2:$B$16,2,FALSE),\"\")","v":1},401051,2840,null,null,null,null,null,null,null,null,0,null,null,null,null,null,null,null,null,null,null,null,null,null,null,null,null,null,null,null,null,null,null,null,null,null,null,null,null,null,null,null,null,null,null,null,null,null,null,null,null,null,null,null,null,null,null,null,null,null,0]
[414,40105,"長岡新保",null,null,"otona+",{"$f":"IFERROR(VLOOKUP(F413,[1]データ!$A$2:$B$16,2,FALSE),\"\")","v":4},401054,90,null,null,null,null,null,null,null,null,0,null,null,null,null,null,null,null,null,null,null,null,null,null,null,null,null,null,null,null,null,null,null,null,null,null,null,null,null,null,null,null,null,null,null,null,null,null,null,null,null,null,null,null,null,null,null,null,null,null,0]
[415,40105,"長岡新保",null,null,"N-assh②",{"$f":"IFERROR(VLOOKUP(F414,[1]データ!$A$2:$B$16,2,FALSE),\"\")","v":61},4010561,2540,null,null,null,null,null,null,null,null,0,null,null,null,null,null,null,null,null,null,null,null,null,null,null,null,null,null,null,null,null,null,null,null,null,null,null,null,null,null,null,null,null,null,null,null,null,null,null,null,null,null,null,null,null,null,null,null,null,null,0]
[416,40105,"長岡新保",null,null,"ｎ-assh・②朝",{"$f":"IFERROR(VLOOKUP(F415,[1]データ!$A$2:$B$16,2,FALSE),\"\")","v":62},4010562,3360,null,null,null,null,null,null,null,null,0,null,null,null,null,null,null,null,null,null,null,null,null,null,null,null,null,null,null,null,null,null,null,null,null,null,null,null,null,null,null,null,null,null,null,null,null,null,null,null,null,null,null,null,null,null,null,null,null,null,0]
[417,40105,"長岡新保",null,null,"N-assh④",{"$f":"IFERROR(VLOOKUP(F416,[1]データ!$A$2:$B$16,2,FALSE),\"\")","v":63},4010563,2540,null,null,null,null,null,null,null,null,0,null,null,null,null,null,null,null,null,null,null,null,null,null,null,null,null,null,null,null,null,null,null,null,null,null,null,null,null,null,null,null,null,null,null,null,null,null,null,null,null,null,null,null,null,null,null,null,null,null,0]
[418,40105,"長岡新保",null,null,"ｎ-assh・④朝",{"$f":"IFERROR(VLOOKUP(F417,[1]データ!$A$2:$B$16,2,FALSE),\"\")","v":64},4010564,3360,null,null,null,null,null,null,null,null,0,null,null,null,null,null,null,null,null,null,null,null,null,null,null,null,null,null,null,null,null,null,null,null,null,null,null,null,null,null,null,null,null,null,null,null,null,null,null,null,null,null,null,null,null,null,null,null,null,null,0]
[419,40105,"長岡新保",null,null,"くるみる",{"$f":"IFERROR(VLOOKUP(F418,[1]データ!$A$2:$B$16,2,FALSE),\"\")","v":3},401053,100,null,null,null,null,null,null,null,null,0,null,null,null,null,null,null,null,null,null,null,null,null,null,null,null,null,null,null,null,null,null,null,null,null,null,null,null,null,null,null,null,null,null,null,null,null,null,null,null,null,null,null,null,null,null,null,null,null,null,0]
[420,40106,"長岡悠久",null,"新アマサ日","朝刊",{"$f":"IFERROR(VLOOKUP(F419,[1]データ!$A$2:$B$16,2,FALSE),\"\")","v":1},401061,3300,null,null,null,null,null,null,null,null,0,null,null,null,null,null,null,null,null,null,null,null,null,null,null,null,null,null,null,null,null,null,null,null,null,null,null,null,null,null,null,null,null,null,null,null,null,null,null,null,null,null,null,null,null,null,null,null,null,null,0]
[421,40106,"長岡悠久",null,null,"otona+",{"$f":"IFERROR(VLOOKUP(F420,[1]データ!$A$2:$B$16,2,FALSE),\"\")","v":4},401064,120,null,null,null,null,null,null,null,null,0,null,null,null,null,null,null,null,null,null,null,null,null,null,null,null,null,null,null,null,null,null,null,null,null,null,null,null,null,null,null,null,null,null,null,null,null,null,null,null,null,null,null,null,null,null,null,null,null,null,0]
[422,40106,"長岡悠久",null,null,"N-assh②",{"$f":"IFERROR(VLOOKUP(F421,[1]データ!$A$2:$B$16,2,FALSE),\"\")","v":61},4010661,3780,null,null,null,null,null,null,null,null,0,null,null,null,null,null,null,null,null,null,null,null,null,null,null,null,null,null,null,null,null,null,null,null,null,null,null,null,null,null,null,null,null,null,null,null,null,null,null,null,null,null,null,null,null,null,null,null,null,null,0]
[423,40106,"長岡悠久",null,null,"ｎ-assh・②朝",{"$f":"IFERROR(VLOOKUP(F422,[1]データ!$A$2:$B$16,2,FALSE),\"\")","v":62},4010662,3300,null,null,null,null,null,null,null,null,0,null,null,null,null,null,null,null,null,null,null,null,null,null,null,null,null,null,null,null,null,null,null,null,null,null,null,null,null,null,null,null,null,null,null,null,null,null,null,null,null,null,null,null,null,null,null,null,null,null,0]
[424,40106,"長岡悠久",null,null,"N-assh④",{"$f":"IFERROR(VLOOKUP(F423,[1]データ!$A$2:$B$16,2,FALSE),\"\")","v":63},4010663,3780,null,null,null,null,null,null,null,null,0,null,null,null,null,null,null,null,null,null,null,null,null,null,null,null,null,null,null,null,null,null,null,null,null,null,null,null,null,null,null,null,null,null,null,null,null,null,null,null,null,null,null,null,null,null,null,null,null,null,0]
[425,40106,"長岡悠久",null,null,"ｎ-assh・④朝",{"$f":"IFERROR(VLOOKUP(F424,[1]データ!$A$2:$B$16,2,FALSE),\"\")","v":64},4010664,3300,null,null,null,null,null,null,null,null,0,null,null,null,null,null,null,null,null,null,null,null,null,null,null,null,null,null,null,null,null,null,null,null,null,null,null,null,null,null,null,null,null,null,null,null,null,null,null,null,null,null,null,null,null,null,null,null,null,null,0]
[426,40106,"長岡悠久",null,null,"くるみる",{"$f":"IFERROR(VLOOKUP(F425,[1]データ!$A$2:$B$16,2,FALSE),\"\")","v":3},401063,100,null,null,null,null,null,null,null,null,0,null,null,null,null,null,null,null,null,null,null,null,null,null,null,null,null,null,null,null,null,null,null,null,null,null,null,null,null,null,null,null,null,null,null,null,null,null,null,null,null,null,null,null,null,null,null,null,null,null,0]
[427,240109,"長岡",null,"ヨ","朝刊",{"$f":"IFERROR(VLOOKUP(F426,[1]データ!$A$2:$B$16,2,FALSE),\"\")","v":1},2401091,3370,null,null,null,null,null,null,null,null,0,null,null,null,null,null,null,null,null,null,null,null,null,null,null,null,null,null,null,null,null,null,null,null,null,null,null,null,null,null,null,null,null,null,null,null,null,null,null,null,null,null,null,null,null,null,null,null,null,null,0]
[428,240110,"長岡南部",null,"ヨ","朝刊",{"$f":"IFERROR(VLOOKUP(F427,[1]データ!$A$2:$B$16,2,FALSE),\"\")","v":1},2401101,1180,null,null,null,null,null,null,null,null,0,null,null,null,null,null,null,null,null,null,null,null,null,null,null,null,null,null,null,null,null,null,null,null,null,null,null,null,null,null,null,null,null,null,null,null,null,null,null,null,null,null,null,null,null,null,null,null,null,null,0]
[429,40111,"西長岡",null,"新アマサ日","朝刊",{"$f":"IFERROR(VLOOKUP(F428,[1]データ!$A$2:$B$16,2,FALSE),\"\")","v":1},401111,3920,null,null,null,null,null,null,null,null,0,null,null,null,null,null,null,null,null,null,null,null,null,null,null,null,null,null,null,null,null,null,null,null,null,null,null,null,null,null,null,null,null,null,null,null,null,null,null,null,null,null,null,null,null,null,null,null,null,null,0]
[430,40111,"西長岡",null,null,"otona+",{"$f":"IFERROR(VLOOKUP(F429,[1]データ!$A$2:$B$16,2,FALSE),\"\")","v":4},401114,170,null,null,null,null,null,null,null,null,0,null,null,null,null,null,null,null,null,null,null,null,null,null,null,null,null,null,null,null,null,null,null,null,null,null,null,null,null,null,null,null,null,null,null,null,null,null,null,null,null,null,null,null,null,null,null,null,null,null,0]
[431,40111,"西長岡",null,null,"N-assh②",{"$f":"IFERROR(VLOOKUP(F430,[1]データ!$A$2:$B$16,2,FALSE),\"\")","v":61},4011161,5000,null,null,null,null,null,null,null,null,0,null,null,null,null,null,null,null,null,null,null,null,null,null,null,null,null,null,null,null,null,null,null,null,null,null,null,null,null,null,null,null,null,null,null,null,null,null,null,null,null,null,null,null,null,null,null,null,null,null,0]
[432,40111,"西長岡",null,null,"ｎ-assh・②朝",{"$f":"IFERROR(VLOOKUP(F431,[1]データ!$A$2:$B$16,2,FALSE),\"\")","v":62},4011162,3920,null,null,null,null,null,null,null,null,0,null,null,null,null,null,null,null,null,null,null,null,null,null,null,null,null,null,null,null,null,null,null,null,null,null,null,null,null,null,null,null,null,null,null,null,null,null,null,null,null,null,null,null,null,null,null,null,null,null,0]
[433,40111,"西長岡",null,null,"N-assh④",{"$f":"IFERROR(VLOOKUP(F432,[1]データ!$A$2:$B$16,2,FALSE),\"\")","v":63},4011163,5000,null,null,null,null,null,null,null,null,0,null,null,null,null,null,null,null,null,null,null,null,null,null,null,null,null,null,null,null,null,null,null,null,null,null,null,null,null,null,null,null,null,null,null,null,null,null,null,null,null,null,null,null,null,null,null,null,null,null,0]
[434,40111,"西長岡",null,null,"ｎ-assh・④朝",{"$f":"IFERROR(VLOOKUP(F433,[1]データ!$A$2:$B$16,2,FALSE),\"\")","v":64},4011164,3920,null,null,null,null,null,null,null,null,0,null,null,null,null,null,null,null,null,null,null,null,null,null,null,null,null,null,null,null,null,null,null,null,null,null,null,null,null,null,null,null,null,null,null,null,null,null,null,null,null,null,null,null,null,null,null,null,null,null,0]
[435,40111,"西長岡",null,null,"くるみる",{"$f":"IFERROR(VLOOKUP(F434,[1]データ!$A$2:$B$16,2,FALSE),\"\")","v":3},401113,220,null,null,null,null,null,null,null,null,0,null,null,null,null,null,null,null,null,null,null,null,null,null,null,null,null,null,null,null,null,null,null,null,null,null,null,null,null,null,null,null,null,null,null,null,null,null,null,null,null,null,null,null,null,null,null,null,null,null,0]
[436,240112,"長岡西部",null,"ヨ","朝刊",{"$f":"IFERROR(VLOOKUP(F435,[1]データ!$A$2:$B$16,2,FALSE),\"\")","v":1},2401121,2600,null,null,null,null,null,null,null,null,0,null,null,null,null,null,null,null,null,null,null,null,null,null,null,null,null,null,null,null,null,null,null,null,null,null,null,null,null,null,null,null,null,null,null,null,null,null,null,null,null,null,null,null,null,null,null,null,null,null,0]
[437,40113,"関原",null,"新アマサ日","朝刊",{"$f":"IFERROR(VLOOKUP(F436,[1]データ!$A$2:$B$16,2,FALSE),\"\")","v":1},401131,4500,null,null,null,null,null,null,null,null,0,null,null,null,null,null,null,null,null,null,null,null,null,null,null,null,null,null,null,null,null,null,null,null,null,null,null,null,null,null,null,null,null,null,null,null,null,null,null,null,null,null,null,null,null,null,null,null,null,null,0]
[438,40113,"関原",null,null,"otona+",{"$f":"IFERROR(VLOOKUP(F437,[1]データ!$A$2:$B$16,2,FALSE),\"\")","v":4},401134,150,null,null,null,null,null,null,null,null,0,null,null,null,null,null,null,null,null,null,null,null,null,null,null,null,null,null,null,null,null,null,null,null,null,null,null,null,null,null,null,null,null,null,null,null,null,null,null,null,null,null,null,null,null,null,null,null,null,null,0]
[439,40113,"関原",null,null,"N-assh②",{"$f":"IFERROR(VLOOKUP(F438,[1]データ!$A$2:$B$16,2,FALSE),\"\")","v":61},4011361,5250,null,null,null,null,null,null,null,null,0,null,null,null,null,null,null,null,null,null,null,null,null,null,null,null,null,null,null,null,null,null,null,null,null,null,null,null,null,null,null,null,null,null,null,null,null,null,null,null,null,null,null,null,null,null,null,null,null,null,0]
[440,40113,"関原",null,null,"ｎ-assh・②朝",{"$f":"IFERROR(VLOOKUP(F439,[1]データ!$A$2:$B$16,2,FALSE),\"\")","v":62},4011362,4500,null,null,null,null,null,null,null,null,0,null,null,null,null,null,null,null,null,null,null,null,null,null,null,null,null,null,null,null,null,null,null,null,null,null,null,null,null,null,null,null,null,null,null,null,null,null,null,null,null,null,null,null,null,null,null,null,null,null,0]
[441,40113,"関原",null,null,"N-assh④",{"$f":"IFERROR(VLOOKUP(F440,[1]データ!$A$2:$B$16,2,FALSE),\"\")","v":63},4011363,5250,null,null,null,null,null,null,null,null,0,null,null,null,null,null,null,null,null,null,null,null,null,null,null,null,null,null,null,null,null,null,null,null,null,null,null,null,null,null,null,null,null,null,null,null,null,null,null,null,null,null,null,null,null,null,null,null,null,null,0]
[442,40113,"関原",null,null,"ｎ-assh・④朝",{"$f":"IFERROR(VLOOKUP(F441,[1]データ!$A$2:$B$16,2,FALSE),\"\")","v":64},4011364,4500,null,null,null,null,null,null,null,null,0,null,null,null,null,null,null,null,null,null,null,null,null,null,null,null,null,null,null,null,null,null,null,null,null,null,null,null,null,null,null,null,null,null,null,null,null,null,null,null,null,null,null,null,null,null,null,null,null,null,0]
[443,40114,"王寺川","与板","合","朝刊",{"$f":"IFERROR(VLOOKUP(F442,[1]データ!$A$2:$B$16,2,FALSE),\"\")","v":1},401141,410,null,null,null,null,null,null,null,null,0,null,null,null,null,null,null,null,null,null,null,null,null,null,null,null,null,null,null,null,null,null,null,null,null,null,null,null,null,null,null,null,null,null,null,null,null,null,null,null,null,null,null,null,null,null,null,null,null,null,0]
[444,40114,"王寺川",null,null,"N-assh②",{"$f":"IFERROR(VLOOKUP(F443,[1]データ!$A$2:$B$16,2,FALSE),\"\")","v":61},4011461,170,null,null,null,null,null,null,null,null,0,null,null,null,null,null,null,null,null,null,null,null,null,null,null,null,null,null,null,null,null,null,null,null,null,null,null,null,null,null,null,null,null,null,null,null,null,null,null,null,null,null,null,null,null,null,null,null,null,null,0]
[445,40114,"王寺川",null,null,"ｎ-assh・②朝",{"$f":"IFERROR(VLOOKUP(F444,[1]データ!$A$2:$B$16,2,FALSE),\"\")","v":62},4011462,410,null,null,null,null,null,null,null,null,0,null,null,null,null,null,null,null,null,null,null,null,null,null,null,null,null,null,null,null,null,null,null,null,null,null,null,null,null,null,null,null,null,null,null,null,null,null,null,null,null,null,null,null,null,null,null,null,null,null,0]
[446,40114,"王寺川",null,null,"N-assh④",{"$f":"IFERROR(VLOOKUP(F445,[1]データ!$A$2:$B$16,2,FALSE),\"\")","v":63},4011463,170,null,null,null,null,null,null,null,null,0,null,null,null,null,null,null,null,null,null,null,null,null,null,null,null,null,null,null,null,null,null,null,null,null,null,null,null,null,null,null,null,null,null,null,null,null,null,null,null,null,null,null,null,null,null,null,null,null,null,0]
[447,40114,"王寺川",null,null,"ｎ-assh・④朝",{"$f":"IFERROR(VLOOKUP(F446,[1]データ!$A$2:$B$16,2,FALSE),\"\")","v":64},4011464,410,null,null,null,null,null,null,null,null,0,null,null,null,null,null,null,null,null,null,null,null,null,null,null,null,null,null,null,null,null,null,null,null,null,null,null,null,null,null,null,null,null,null,null,null,null,null,null,null,null,null,null,null,null,null,null,null,null,null,0]
[448,40114,"王寺川",null,null,"くるみる",{"$f":"IFERROR(VLOOKUP(F447,[1]データ!$A$2:$B$16,2,FALSE),\"\")","v":3},401143,50,null,null,null,null,null,null,null,null,0,null,null,null,null,null,null,null,null,null,null,null,null,null,null,null,null,null,null,null,null,null,null,null,null,null,null,null,null,null,null,null,null,null,null,null,null,null,null,null,null,null,null,null,null,null,null,null,null,null,0]
[449,40115,"長岡江陽",null,"新アマサ日","朝刊",{"$f":"IFERROR(VLOOKUP(F448,[1]データ!$A$2:$B$16,2,FALSE),\"\")","v":1},401151,2000,null,null,null,null,null,null,null,null,0,null,null,null,null,null,null,null,null,null,null,null,null,null,null,null,null,null,null,null,null,null,null,null,null,null,null,null,null,null,null,null,null,null,null,null,null,null,null,null,null,null,null,null,null,null,null,null,null,null,0]
[450,40115,"長岡江陽",null,null,"otona+",{"$f":"IFERROR(VLOOKUP(F449,[1]データ!$A$2:$B$16,2,FALSE),\"\")","v":4},401154,60,null,null,null,null,null,null,null,null,0,null,null,null,null,null,null,null,null,null,null,null,null,null,null,null,null,null,null,null,null,null,null,null,null,null,null,null,null,null,null,null,null,null,null,null,null,null,null,null,null,null,null,null,null,null,null,null,null,null,0]
[451,40115,"長岡江陽",null,null,"N-assh②",{"$f":"IFERROR(VLOOKUP(F450,[1]データ!$A$2:$B$16,2,FALSE),\"\")","v":61},4011561,2500,null,null,null,null,null,null,null,null,0,null,null,null,null,null,null,null,null,null,null,null,null,null,null,null,null,null,null,null,null,null,null,null,null,null,null,null,null,null,null,null,null,null,null,null,null,null,null,null,null,null,null,null,null,null,null,null,null,null,0]
[452,40115,"長岡江陽",null,null,"ｎ-assh・②朝",{"$f":"IFERROR(VLOOKUP(F451,[1]データ!$A$2:$B$16,2,FALSE),\"\")","v":62},4011562,2000,null,null,null,null,null,null,null,null,0,null,null,null,null,null,null,null,null,null,null,null,null,null,null,null,null,null,null,null,null,null,null,null,null,null,null,null,null,null,null,null,null,null,null,null,null,null,null,null,null,null,null,null,null,null,null,null,null,null,0]
[453,40115,"長岡江陽",null,null,"N-assh④",{"$f":"IFERROR(VLOOKUP(F452,[1]データ!$A$2:$B$16,2,FALSE),\"\")","v":63},4011563,2500,null,null,null,null,null,null,null,null,0,null,null,null,null,null,null,null,null,null,null,null,null,null,null,null,null,null,null,null,null,null,null,null,null,null,null,null,null,null,null,null,null,null,null,null,null,null,null,null,null,null,null,null,null,null,null,null,null,null,{"$f":"SUM(U452:BO452)","v":0}]
[454,40115,"長岡江陽",null,null,"ｎ-assh・④朝",{"$f":"IFERROR(VLOOKUP(F453,[1]データ!$A$2:$B$16,2,FALSE),\"\")","v":64},4011564,2000,null,null,null,null,null,null,null,null,0,null,null,null,null,null,null,null,null,null,null,null,null,null,null,null,null,null,null,null,null,null,null,null,null,null,null,null,null,null,null,null,null,null,null,null,null,null,null,null,null,null,null,null,null,null,null,null,null,null,0]
[455,40115,"長岡江陽",null,null,"くるみる",{"$f":"IFERROR(VLOOKUP(F454,[1]データ!$A$2:$B$16,2,FALSE),\"\")","v":3},401153,30,null,null,null,null,null,null,null,null,0,null,null,null,null,null,null,null,null,null,null,null,null,null,null,null,null,null,null,null,null,null,null,null,null,null,null,null,null,null,null,null,null,null,null,null,null,null,null,null,null,null,null,null,null,null,null,null,null,null,0]
[456,40116,"黒条",null,"合","朝刊",{"$f":"IFERROR(VLOOKUP(F455,[1]データ!$A$2:$B$16,2,FALSE),\"\")","v":1},401161,1660,null,null,null,null,null,null,null,null,0,null,null,null,null,null,null,null,null,null,null,null,null,null,null,null,null,null,null,null,null,null,null,null,null,null,null,null,null,null,null,null,null,null,null,null,null,null,null,null,null,null,null,null,null,null,null,null,null,null,0]
[457,40116,"黒条",null,null,"otona+",{"$f":"IFERROR(VLOOKUP(F456,[1]データ!$A$2:$B$16,2,FALSE),\"\")","v":4},401164,40,null,null,null,null,null,null,null,null,0,null,null,null,null,null,null,null,null,null,null,null,null,null,null,null,null,null,null,null,null,null,null,null,null,null,null,null,null,null,null,null,null,null,null,null,null,null,null,null,null,null,null,null,null,null,null,null,null,null,0]
[458,40116,"黒条",null,null,"N-assh②",{"$f":"IFERROR(VLOOKUP(F457,[1]データ!$A$2:$B$16,2,FALSE),\"\")","v":61},4011661,1390,null,null,null,null,null,null,null,null,0,null,null,null,null,null,null,null,null,null,null,null,null,null,null,null,null,null,null,null,null,null,null,null,null,null,null,null,null,null,null,null,null,null,null,null,null,null,null,null,null,null,null,null,null,null,null,null,null,null,0]
[459,40116,"黒条",null,null,"ｎ-assh・②朝",{"$f":"IFERROR(VLOOKUP(F458,[1]データ!$A$2:$B$16,2,FALSE),\"\")","v":62},4011662,1660,null,null,null,null,null,null,null,null,0,null,null,null,null,null,null,null,null,null,null,null,null,null,null,null,null,null,null,null,null,null,null,null,null,null,null,null,null,null,null,null,null,null,null,null,null,null,null,null,null,null,null,null,null,null,null,null,null,null,0]
[460,40116,"黒条",null,null,"N-assh④",{"$f":"IFERROR(VLOOKUP(F459,[1]データ!$A$2:$B$16,2,FALSE),\"\")","v":63},4011663,1390,null,null,null,null,null,null,null,null,0,null,null,null,null,null,null,null,null,null,null,null,null,null,null,null,null,null,null,null,null,null,null,null,null,null,null,null,null,null,null,null,null,null,null,null,null,null,null,null,null,null,null,null,null,null,null,null,null,null,0]
[461,40116,"黒条",null,null,"ｎ-assh・④朝",{"$f":"IFERROR(VLOOKUP(F460,[1]データ!$A$2:$B$16,2,FALSE),\"\")","v":64},4011664,1660,null,null,null,null,null,null,null,null,0,null,null,null,null,null,null,null,null,null,null,null,null,null,null,null,null,null,null,null,null,null,null,null,null,null,null,null,null,null,null,null,null,null,null,null,null,null,null,null,null,null,null,null,null,null,null,null,null,null,0]
[462,40116,"黒条",null,null,"くるみる",{"$f":"IFERROR(VLOOKUP(F461,[1]データ!$A$2:$B$16,2,FALSE),\"\")","v":3},401163,180,null,null,null,null,null,null,null,null,0,null,null,null,null,null,null,null,null,null,null,null,null,null,null,null,null,null,null,null,null,null,null,null,null,null,null,null,null,null,null,null,null,null,null,null,null,null,null,null,null,null,null,null,null,null,null,null,null,null,0]
[463,40117,"新組",null,"合","朝刊",{"$f":"IFERROR(VLOOKUP(F462,[1]データ!$A$2:$B$16,2,FALSE),\"\")","v":1},401171,1400,null,null,null,null,null,null,null,null,0,null,null,null,null,null,null,null,null,null,null,null,null,null,null,null,null,null,null,null,null,null,null,null,null,null,null,null,null,null,null,null,null,null,null,null,null,null,null,null,null,null,null,null,null,null,null,null,null,null,0]
[464,40117,"新組",null,null,"otona+",{"$f":"IFERROR(VLOOKUP(F463,[1]データ!$A$2:$B$16,2,FALSE),\"\")","v":4},401174,20,null,null,null,null,null,null,null,null,0,null,null,null,null,null,null,null,null,null,null,null,null,null,null,null,null,null,null,null,null,null,null,null,null,null,null,null,null,null,null,null,null,null,null,null,null,null,null,null,null,null,null,null,null,null,null,null,null,null,0]
[465,40117,"新組",null,null,"N-assh②",{"$f":"IFERROR(VLOOKUP(F464,[1]データ!$A$2:$B$16,2,FALSE),\"\")","v":61},4011761,600,null,null,null,null,null,null,null,null,{"$f":"SUM(J464:Q464)","v":0},null,null,null,null,null,null,null,null,null,null,null,null,null,null,null,null,null,null,null,null,null,null,null,null,null,null,null,null,null,null,null,null,null,null,null,null,null,null,null,null,null,null,null,null,null,null,null,null,null,0]
[466,40117,"新組",null,null,"ｎ-assh・②朝",{"$f":"IFERROR(VLOOKUP(F465,[1]データ!$A$2:$B$16,2,FALSE),\"\")","v":62},4011762,1400,null,null,null,null,null,null,null,null,0,null,null,null,null,null,null,null,null,null,null,null,null,null,null,null,null,null,null,null,null,null,null,null,null,null,null,null,null,null,null,null,null,null,null,null,null,null,null,null,null,null,null,null,null,null,null,null,null,null,0]
[467,40117,"新組",null,null,"N-assh④",{"$f":"IFERROR(VLOOKUP(F466,[1]データ!$A$2:$B$16,2,FALSE),\"\")","v":63},4011763,500,null,null,null,null,null,null,null,null,0,null,null,null,null,null,null,null,null,null,null,null,null,null,null,null,null,null,null,null,null,null,null,null,null,null,null,null,null,null,null,null,null,null,null,null,null,null,null,null,null,null,null,null,null,null,null,null,null,null,0]
[468,40117,"新組",null,null,"ｎ-assh・④朝",{"$f":"IFERROR(VLOOKUP(F467,[1]データ!$A$2:$B$16,2,FALSE),\"\")","v":64},4011764,1360,null,null,null,null,null,null,null,null,0,null,null,null,null,null,null,null,null,null,null,null,null,null,null,null,null,null,null,null,null,null,null,null,null,null,null,null,null,null,null,null,null,null,null,null,null,null,null,null,null,null,null,null,null,null,null,null,null,null,0]
[469,40117,"新組",null,null,"くるみる",{"$f":"IFERROR(VLOOKUP(F468,[1]データ!$A$2:$B$16,2,FALSE),\"\")","v":3},401173,30,null,null,null,null,null,null,null,null,0,null,null,null,null,null,null,null,null,null,null,null,null,null,null,null,null,null,null,null,null,null,null,null,null,null,null,null,null,null,null,null,null,null,null,null,null,null,null,null,null,null,null,null,null,null,null,null,null,null,0]
[470,240119,"浦瀬",null,null,"朝刊",{"$f":"IFERROR(VLOOKUP(F469,[1]データ!$A$2:$B$16,2,FALSE),\"\")","v":1},2401191,null,null,null,null,null,null,null,null,null,0,null,null,null,null,null,null,null,null,null,null,null,null,null,null,null,null,null,null,null,null,null,null,null,null,null,null,null,null,null,null,null,null,null,null,null,null,null,null,null,null,null,null,null,null,null,null,null,null,null,0]
[471,40121,"長岡宮内",null,"新アマサ日","朝刊",{"$f":"IFERROR(VLOOKUP(F470,[1]データ!$A$2:$B$16,2,FALSE),\"\")","v":1},401211,4100,null,null,null,null,null,null,null,null,0,null,null,null,null,null,null,null,null,null,null,null,null,null,null,null,null,null,null,null,null,null,null,null,null,null,null,null,null,null,null,null,null,null,null,null,null,null,null,null,null,null,null,null,null,null,null,null,null,null,0]
[472,40121,"長岡宮内",null,null,"otona+",{"$f":"IFERROR(VLOOKUP(F471,[1]データ!$A$2:$B$16,2,FALSE),\"\")","v":4},401214,180,null,null,null,null,null,null,null,null,0,null,null,null,null,null,null,null,null,null,null,null,null,null,null,null,null,null,null,null,null,null,null,null,null,null,null,null,null,null,null,null,null,null,null,null,null,null,null,null,null,null,null,null,null,null,null,null,null,null,0]
[473,40121,"長岡宮内",null,null,"N-assh②",{"$f":"IFERROR(VLOOKUP(F472,[1]データ!$A$2:$B$16,2,FALSE),\"\")","v":61},4012161,5370,null,null,null,null,null,null,null,null,0,null,null,null,null,null,null,null,null,null,null,null,null,null,null,null,null,null,null,null,null,null,null,null,null,null,null,null,null,null,null,null,null,null,null,null,null,null,null,null,null,null,null,null,null,null,null,null,null,null,0]
[474,40121,"長岡宮内",null,null,"ｎ-assh・②朝",{"$f":"IFERROR(VLOOKUP(F473,[1]データ!$A$2:$B$16,2,FALSE),\"\")","v":62},4012162,4100,null,null,null,null,null,null,null,null,0,null,null,null,null,null,null,null,null,null,null,null,null,null,null,null,null,null,null,null,null,null,null,null,null,null,null,null,null,null,null,null,null,null,null,null,null,null,null,null,null,null,null,null,null,null,null,null,null,null,0]
[475,40121,"長岡宮内",null,null,"N-assh④",{"$f":"IFERROR(VLOOKUP(F474,[1]データ!$A$2:$B$16,2,FALSE),\"\")","v":63},4012163,5370,null,null,null,null,null,null,null,null,0,null,null,null,null,null,null,null,null,null,null,null,null,null,null,null,null,null,null,null,null,null,null,null,null,null,null,null,null,null,null,null,null,null,null,null,null,null,null,null,null,null,null,null,null,null,null,null,null,null,0]
[476,40121,"長岡宮内",null,null,"ｎ-assh・④朝",{"$f":"IFERROR(VLOOKUP(F475,[1]データ!$A$2:$B$16,2,FALSE),\"\")","v":64},4012164,4100,null,null,null,null,null,null,null,null,0,null,null,null,null,null,null,null,null,null,null,null,null,null,null,null,null,null,null,null,null,null,null,null,null,null,null,null,null,null,null,null,null,null,null,null,null,null,null,null,null,null,null,null,null,null,null,null,null,null,0]
[477,40121,"長岡宮内",null,null,"くるみる",{"$f":"IFERROR(VLOOKUP(F476,[1]データ!$A$2:$B$16,2,FALSE),\"\")","v":3},401213,100,null,null,null,null,null,null,null,null,0,null,null,null,null,null,null,null,null,null,null,null,null,null,null,null,null,null,null,null,null,null,null,null,null,null,null,null,null,null,null,null,null,null,null,null,null,null,null,null,null,null,null,null,null,null,null,null,null,null,0]
[478,240123,"長岡宮内","宮内ヨ","ヨ","朝刊",{"$f":"IFERROR(VLOOKUP(F477,[1]データ!$A$2:$B$16,2,FALSE),\"\")","v":1},2401231,1160,null,null,null,null,null,null,null,null,0,null,null,null,null,null,null,null,null,null,null,null,null,null,null,null,null,null,null,null,null,null,null,null,null,null,null,null,null,null,null,null,null,null,null,null,null,null,null,null,null,null,null,null,null,null,null,null,null,null,0]
[479,40124,"濁沢",null,"合","朝刊",{"$f":"IFERROR(VLOOKUP(F478,[1]データ!$A$2:$B$16,2,FALSE),\"\")","v":1},401241,260,null,null,null,null,null,null,null,null,0,null,null,null,null,null,null,null,null,null,null,null,null,null,null,null,null,null,null,null,null,null,null,null,null,null,null,null,null,null,null,null,null,null,null,null,null,null,null,null,null,null,null,null,null,null,null,null,null,null,0]
[480,40124,"濁沢",null,null,"N-assh②",{"$f":"IFERROR(VLOOKUP(F479,[1]データ!$A$2:$B$16,2,FALSE),\"\")","v":61},4012461,200,null,null,null,null,null,null,null,null,0,null,null,null,null,null,null,null,null,null,null,null,null,null,null,null,null,null,null,null,null,null,null,null,null,null,null,null,null,null,null,null,null,null,null,null,null,null,null,null,null,null,null,null,null,null,null,null,null,null,0]
[481,40124,"濁沢",null,null,"ｎ-assh・②朝",{"$f":"IFERROR(VLOOKUP(F480,[1]データ!$A$2:$B$16,2,FALSE),\"\")","v":62},4012462,260,null,null,null,null,null,null,null,null,0,null,null,null,null,null,null,null,null,null,null,null,null,null,null,null,null,null,null,null,null,null,null,null,null,null,null,null,null,null,null,null,null,null,null,null,null,null,null,null,null,null,null,null,null,null,null,null,null,null,0]
[482,40124,"濁沢",null,null,"N-assh④",{"$f":"IFERROR(VLOOKUP(F481,[1]データ!$A$2:$B$16,2,FALSE),\"\")","v":63},4012463,200,null,null,null,null,null,null,null,null,0,null,null,null,null,null,null,null,null,null,null,null,null,null,null,null,null,null,null,null,null,null,null,null,null,null,null,null,null,null,null,null,null,null,null,null,null,null,null,null,null,null,null,null,null,null,null,null,null,null,0]
[483,40124,"濁沢",null,null,"ｎ-assh・④朝",{"$f":"IFERROR(VLOOKUP(F482,[1]データ!$A$2:$B$16,2,FALSE),\"\")","v":64},4012464,260,null,null,null,null,null,null,null,null,0,null,null,null,null,null,null,null,null,null,null,null,null,null,null,null,null,null,null,null,null,null,null,null,null,null,null,null,null,null,null,null,null,null,null,null,null,null,null,null,null,null,null,null,null,null,null,null,null,null,0]
[484,40125,"岡南",null,"合","朝刊",{"$f":"IFERROR(VLOOKUP(F483,[1]データ!$A$2:$B$16,2,FALSE),\"\")","v":1},401251,760,null,null,null,null,null,null,null,null,0,null,null,null,null,null,null,null,null,null,null,null,null,null,null,null,null,null,null,null,null,null,null,null,null,null,null,null,null,null,null,null,null,null,null,null,null,null,null,null,null,null,null,null,null,null,null,null,null,null,0]
[485,40125,"岡南",null,null,"N-assh②",{"$f":"IFERROR(VLOOKUP(F484,[1]データ!$A$2:$B$16,2,FALSE),\"\")","v":61},4012561,80,null,null,null,null,null,null,null,null,0,null,null,null,null,null,null,null,null,null,null,null,null,null,null,null,null,null,null,null,null,null,null,null,null,null,null,null,null,null,null,null,null,null,null,null,null,null,null,null,null,null,null,null,null,null,null,null,null,null,0]
[486,40125,"岡南",null,null,"ｎ-assh・②朝",{"$f":"IFERROR(VLOOKUP(F485,[1]データ!$A$2:$B$16,2,FALSE),\"\")","v":62},4012562,760,null,null,null,null,null,null,null,null,0,null,null,null,null,null,null,null,null,null,null,null,null,null,null,null,null,null,null,null,null,null,null,null,null,null,null,null,null,null,null,null,null,null,null,null,null,null,null,null,null,null,null,null,null,null,null,null,null,null,0]
[487,40125,"岡南",null,null,"N-assh④",{"$f":"IFERROR(VLOOKUP(F486,[1]データ!$A$2:$B$16,2,FALSE),\"\")","v":63},4012563,80,null,null,null,null,null,null,null,null,0,null,null,null,null,null,null,null,null,null,null,null,null,null,null,null,null,null,null,null,null,null,null,null,null,null,null,null,null,null,null,null,null,null,null,null,null,null,null,null,null,null,null,null,null,null,null,null,null,null,0]
[488,40125,"岡南",null,null,"ｎ-assh・④朝",{"$f":"IFERROR(VLOOKUP(F487,[1]データ!$A$2:$B$16,2,FALSE),\"\")","v":64},4012564,760,null,null,null,null,null,null,null,null,0,null,null,null,null,null,null,null,null,null,null,null,null,null,null,null,null,null,null,null,null,null,null,null,null,null,null,null,null,null,null,null,null,null,null,null,null,null,null,null,null,null,null,null,null,null,null,null,null,null,0]
[489,40126,"六日市",null,"合","朝刊",{"$f":"IFERROR(VLOOKUP(F488,[1]データ!$A$2:$B$16,2,FALSE),\"\")","v":1},401261,350,null,null,null,null,null,null,null,null,0,null,null,null,null,null,null,null,null,null,null,null,null,null,null,null,null,null,null,null,null,null,null,null,null,null,null,null,null,null,null,null,null,null,null,null,null,null,null,null,null,null,null,null,null,null,null,null,null,null,0]
[490,40126,"六日市",null,null,"N-assh②",{"$f":"IFERROR(VLOOKUP(F489,[1]データ!$A$2:$B$16,2,FALSE),\"\")","v":61},4012661,10,null,null,null,null,null,null,null,null,0,null,null,null,null,null,null,null,null,null,null,null,null,null,null,null,null,null,null,null,null,null,null,null,null,null,null,null,null,null,null,null,null,null,null,null,null,null,null,null,null,null,null,null,null,null,null,null,null,null,0]
[491,40126,"六日市",null,null,"ｎ-assh・②朝",{"$f":"IFERROR(VLOOKUP(F490,[1]データ!$A$2:$B$16,2,FALSE),\"\")","v":62},4012662,350,null,null,null,null,null,null,null,null,0,null,null,null,null,null,null,null,null,null,null,null,null,null,null,null,null,null,null,null,null,null,null,null,null,null,null,null,null,null,null,null,null,null,null,null,null,null,null,null,null,null,null,null,null,null,null,null,null,null,0]
[492,40126,"六日市",null,null,"N-assh④",{"$f":"IFERROR(VLOOKUP(F491,[1]データ!$A$2:$B$16,2,FALSE),\"\")","v":63},4012663,10,null,null,null,null,null,null,null,null,0,null,null,null,null,null,null,null,null,null,null,null,null,null,null,null,null,null,null,null,null,null,null,null,null,null,null,null,null,null,null,null,null,null,null,null,null,null,null,null,null,null,null,null,null,null,null,null,null,null,0]
[493,40126,"六日市",null,null,"ｎ-assh・④朝",{"$f":"IFERROR(VLOOKUP(F492,[1]データ!$A$2:$B$16,2,FALSE),\"\")","v":64},4012664,350,null,null,null,null,null,null,null,null,0,null,null,null,null,null,null,null,null,null,null,null,null,null,null,null,null,null,null,null,null,null,null,null,null,null,null,null,null,null,null,null,null,null,null,null,null,null,null,null,null,null,null,null,null,null,null,null,null,null,0]
[494,40127,"栃尾",null,"新アマサ","朝刊",{"$f":"IFERROR(VLOOKUP(F493,[1]データ!$A$2:$B$16,2,FALSE),\"\")","v":1},401271,2960,null,null,null,null,null,null,null,null,0,null,null,null,null,null,null,null,null,null,null,null,null,null,null,null,null,null,null,null,null,null,null,null,null,null,null,null,null,null,null,null,null,null,null,null,null,null,null,null,null,null,null,null,null,null,null,null,null,null,0]
[495,40127,"栃尾",null,null,"N-assh②",{"$f":"IFERROR(VLOOKUP(F494,[1]データ!$A$2:$B$16,2,FALSE),\"\")","v":61},4012761,900,null,null,null,null,null,null,null,null,0,null,null,null,null,null,null,null,null,null,null,null,null,null,null,null,null,null,null,null,null,null,null,null,null,null,null,null,null,null,null,null,null,null,null,null,null,null,null,null,null,null,null,null,null,null,null,null,null,null,0]
[496,40127,"栃尾",null,null,"ｎ-assh・②朝",{"$f":"IFERROR(VLOOKUP(F495,[1]データ!$A$2:$B$16,2,FALSE),\"\")","v":62},4012762,2200,null,null,null,null,null,null,null,null,0,null,null,null,null,null,null,null,null,null,null,null,null,null,null,null,null,null,null,null,null,null,null,null,null,null,null,null,null,null,null,null,null,null,null,null,null,null,null,null,null,null,null,null,null,null,null,null,null,null,0]
[497,40127,"栃尾",null,null,"N-assh④",{"$f":"IFERROR(VLOOKUP(F496,[1]データ!$A$2:$B$16,2,FALSE),\"\")","v":63},4012763,900,null,null,null,null,null,null,null,null,0,null,null,null,null,null,null,null,null,null,null,null,null,null,null,null,null,null,null,null,null,null,null,null,null,null,null,null,null,null,null,null,null,null,null,null,null,null,null,null,null,null,null,null,null,null,null,null,null,null,0]
[498,40127,"栃尾",null,null,"ｎ-assh・④朝",{"$f":"IFERROR(VLOOKUP(F497,[1]データ!$A$2:$B$16,2,FALSE),\"\")","v":64},4012764,2200,null,null,null,null,null,null,null,null,0,null,null,null,null,null,null,null,null,null,null,null,null,null,null,null,null,null,null,null,null,null,null,null,null,null,null,null,null,null,null,null,null,null,null,null,null,null,null,null,null,null,null,null,null,null,null,null,null,null,0]
[499,240129,"栃尾",null,"ヨ日","朝刊",{"$f":"IFERROR(VLOOKUP(F498,[1]データ!$A$2:$B$16,2,FALSE),\"\")","v":1},2401291,2000,null,null,null,null,null,null,null,null,0,null,null,null,null,null,null,null,null,null,null,null,null,null,null,null,null,null,null,null,null,null,null,null,null,null,null,null,null,null,null,null,null,null,null,null,null,null,null,null,null,null,null,null,null,null,null,null,null,null,0]
[500,40130,"見附南",null,"新アマサ日","朝刊",{"$f":"IFERROR(VLOOKUP(F499,[1]データ!$A$2:$B$16,2,FALSE),\"\")","v":1},401301,2600,null,null,null,null,null,null,null,null,0,null,null,null,null,null,null,null,null,null,null,null,null,null,null,null,null,null,null,null,null,null,null,null,null,null,null,null,null,null,null,null,null,null,null,null,null,null,null,null,null,null,null,null,null,null,null,null,null,null,0]
[501,40130,"見附南",null,null,"otona+",{"$f":"IFERROR(VLOOKUP(F500,[1]データ!$A$2:$B$16,2,FALSE),\"\")","v":4},401304,90,null,null,null,null,null,null,null,null,0,null,null,null,null,null,null,null,null,null,null,null,null,null,null,null,null,null,null,null,null,null,null,null,null,null,null,null,null,null,null,null,null,null,null,null,null,null,null,null,null,null,null,null,null,null,null,null,null,null,0]
[502,40130,"見附南",null,null,"N-assh②",{"$f":"IFERROR(VLOOKUP(F501,[1]データ!$A$2:$B$16,2,FALSE),\"\")","v":61},4013061,1500,null,null,null,null,null,null,null,null,0,null,null,null,null,null,null,null,null,null,null,null,null,null,null,null,null,null,null,null,null,null,null,null,null,null,null,null,null,null,null,null,null,null,null,null,null,null,null,null,null,null,null,null,null,null,null,null,null,null,0]
[503,40130,"見附南",null,null,"ｎ-assh・②朝",{"$f":"IFERROR(VLOOKUP(F502,[1]データ!$A$2:$B$16,2,FALSE),\"\")","v":62},4013062,2600,null,null,null,null,null,null,null,null,0,null,null,null,null,null,null,null,null,null,null,null,null,null,null,null,null,null,null,null,null,null,null,null,null,null,null,null,null,null,null,null,null,null,null,null,null,null,null,null,null,null,null,null,null,null,null,null,null,null,0]
[504,40130,"見附南",null,null,"N-assh④",{"$f":"IFERROR(VLOOKUP(F503,[1]データ!$A$2:$B$16,2,FALSE),\"\")","v":63},4013063,20,null,null,null,null,null,null,null,null,0,null,null,null,null,null,null,null,null,null,null,null,null,null,null,null,null,null,null,null,null,null,null,null,null,null,null,null,null,null,null,null,null,null,null,null,null,null,null,null,null,null,null,null,null,null,null,null,null,null,0]
[505,40130,"見附南",null,null,"ｎ-assh・④朝",{"$f":"IFERROR(VLOOKUP(F504,[1]データ!$A$2:$B$16,2,FALSE),\"\")","v":64},4013064,20,null,null,null,null,null,null,null,null,0,null,null,null,null,null,null,null,null,null,null,null,null,null,null,null,null,null,null,null,null,null,null,null,null,null,null,null,null,null,null,null,null,null,null,null,null,null,null,null,null,null,null,null,null,null,null,null,null,null,0]
[506,40131,"見附北",null,"新アマ日","朝刊",{"$f":"IFERROR(VLOOKUP(F505,[1]データ!$A$2:$B$16,2,FALSE),\"\")","v":1},401311,3350,null,null,null,null,null,null,null,null,0,null,null,null,null,null,null,null,null,null,null,null,null,null,null,null,null,null,null,null,null,null,null,null,null,null,null,null,null,null,null,null,null,null,null,null,null,null,null,null,null,null,null,null,null,null,null,null,null,null,0]
[507,40131,"見附北",null,null,"otona+",{"$f":"IFERROR(VLOOKUP(F506,[1]データ!$A$2:$B$16,2,FALSE),\"\")","v":4},401314,140,null,null,null,null,null,null,null,null,0,null,null,null,null,null,null,null,null,null,null,null,null,null,null,null,null,null,null,null,null,null,null,null,null,null,null,null,null,null,null,null,null,null,null,null,null,null,null,null,null,null,null,null,null,null,null,null,null,null,0]
[508,40131,"見附北",null,null,"N-assh②",{"$f":"IFERROR(VLOOKUP(F507,[1]データ!$A$2:$B$16,2,FALSE),\"\")","v":61},4013161,3250,null,null,null,null,null,null,null,null,0,null,null,null,null,null,null,null,null,null,null,null,null,null,null,null,null,null,null,null,null,null,null,null,null,null,null,null,null,null,null,null,null,null,null,null,null,null,null,null,null,null,null,null,null,null,null,null,null,null,0]
[509,40131,"見附北",null,null,"ｎ-assh・②朝",{"$f":"IFERROR(VLOOKUP(F508,[1]データ!$A$2:$B$16,2,FALSE),\"\")","v":62},4013162,3400,null,null,null,null,null,null,null,null,0,null,null,null,null,null,null,null,null,null,null,null,null,null,null,null,null,null,null,null,null,null,null,null,null,null,null,null,null,null,null,null,null,null,null,null,null,null,null,null,null,null,null,null,null,null,null,null,null,null,0]
[510,240133,"見附","見附ヨ","ヨ","朝刊",{"$f":"IFERROR(VLOOKUP(F509,[1]データ!$A$2:$B$16,2,FALSE),\"\")","v":1},2401331,1400,null,null,null,null,null,null,null,null,0,null,null,null,null,null,null,null,null,null,null,null,null,null,null,null,null,null,null,null,null,null,null,null,null,null,null,null,null,null,null,null,null,null,null,null,null,null,null,null,null,null,null,null,null,null,null,null,null,null,0]
[511,40134,"見附",null,"サ","朝刊",{"$f":"IFERROR(VLOOKUP(F510,[1]データ!$A$2:$B$16,2,FALSE),\"\")","v":1},401341,640,null,null,null,null,null,null,null,null,0,null,null,null,null,null,null,null,null,null,null,null,null,null,null,null,null,null,null,null,null,null,null,null,null,null,null,null,null,null,null,null,null,null,null,null,null,null,null,null,null,null,null,null,null,null,null,null,null,null,0]
[512,40135,"今町",null,"新アマサ日","朝刊",{"$f":"IFERROR(VLOOKUP(F511,[1]データ!$A$2:$B$16,2,FALSE),\"\")","v":1},401351,3200,null,null,null,null,null,null,null,null,0,null,null,null,null,null,null,null,null,null,null,null,null,null,null,null,null,null,null,null,null,null,null,null,null,null,null,null,null,null,null,null,null,null,null,null,null,null,null,null,null,null,null,null,null,null,null,null,null,null,0]
[513,40135,"今町",null,null,"otona+",{"$f":"IFERROR(VLOOKUP(F512,[1]データ!$A$2:$B$16,2,FALSE),\"\")","v":4},401354,130,null,null,null,null,null,null,null,null,0,null,null,null,null,null,null,null,null,null,null,null,null,null,null,null,null,null,null,null,null,null,null,null,null,null,null,null,null,null,null,null,null,null,null,null,null,null,null,null,null,null,null,null,null,null,null,null,null,null,0]
[514,40135,"今町",null,null,"N-assh②",{"$f":"IFERROR(VLOOKUP(F513,[1]データ!$A$2:$B$16,2,FALSE),\"\")","v":61},4013561,1610,null,null,null,null,null,null,null,null,0,null,null,null,null,null,null,null,null,null,null,null,null,null,null,null,null,null,null,null,null,null,null,null,null,null,null,null,null,null,null,null,null,null,null,null,null,null,null,null,null,null,null,null,null,null,null,null,null,null,0]
[515,40135,"今町",null,null,"ｎ-assh・②朝",{"$f":"IFERROR(VLOOKUP(F514,[1]データ!$A$2:$B$16,2,FALSE),\"\")","v":62},4013562,3200,null,null,null,null,null,null,null,null,0,null,null,null,null,null,null,null,null,null,null,null,null,null,null,null,null,null,null,null,null,null,null,null,null,null,null,null,null,null,null,null,null,null,null,null,null,null,null,null,null,null,null,null,null,null,null,null,null,null,0]
[516,40135,"今町",null,null,"N-assh④",{"$f":"IFERROR(VLOOKUP(F515,[1]データ!$A$2:$B$16,2,FALSE),\"\")","v":63},4013563,460,null,null,null,null,null,null,null,null,0,null,null,null,null,null,null,null,null,null,null,null,null,null,null,null,null,null,null,null,null,null,null,null,null,null,null,null,null,null,null,null,null,null,null,null,null,null,null,null,null,null,null,null,null,null,null,null,null,null,0]
[517,40135,"今町",null,null,"ｎ-assh・④朝",{"$f":"IFERROR(VLOOKUP(F516,[1]データ!$A$2:$B$16,2,FALSE),\"\")","v":64},4013564,1600,null,null,null,null,null,null,null,null,0,null,null,null,null,null,null,null,null,null,null,null,null,null,null,null,null,null,null,null,null,null,null,null,null,null,null,null,null,null,null,null,null,null,null,null,null,null,null,null,null,null,null,null,null,null,null,null,null,null,{"$f":"SUM(U516:BO516)","v":0}]
[518,240136,"今町","見附ヨ","ヨ","朝刊",{"$f":"IFERROR(VLOOKUP(F517,[1]データ!$A$2:$B$16,2,FALSE),\"\")","v":1},2401361,600,null,null,null,null,null,null,null,null,0,null,null,null,null,null,null,null,null,null,null,null,null,null,null,null,null,null,null,null,null,null,null,null,null,null,null,null,null,null,null,null,null,null,null,null,null,null,null,null,null,null,null,null,null,null,null,null,null,null,0]
[519,40139,"越路",null,"新アマサ日","朝刊",{"$f":"IFERROR(VLOOKUP(F518,[1]データ!$A$2:$B$16,2,FALSE),\"\")","v":1},401391,2770,null,null,null,null,null,null,null,null,0,null,null,null,null,null,null,null,null,null,null,null,null,null,null,null,null,null,null,null,null,null,null,null,null,null,null,null,null,null,null,null,null,null,null,null,null,null,null,null,null,null,null,null,null,null,null,null,null,null,0]
[520,40139,"越路",null,null,"N-assh②",{"$f":"IFERROR(VLOOKUP(F519,[1]データ!$A$2:$B$16,2,FALSE),\"\")","v":61},4013961,2470,null,null,null,null,null,null,null,null,0,null,null,null,null,null,null,null,null,null,null,null,null,null,null,null,null,null,null,null,null,null,null,null,null,null,null,null,null,null,null,null,null,null,null,null,null,null,null,null,null,null,null,null,null,null,null,null,null,null,0]
[521,40139,"越路",null,null,"ｎ-assh・②朝",{"$f":"IFERROR(VLOOKUP(F520,[1]データ!$A$2:$B$16,2,FALSE),\"\")","v":62},4013962,2770,null,null,null,null,null,null,null,null,0,null,null,null,null,null,null,null,null,null,null,null,null,null,null,null,null,null,null,null,null,null,null,null,null,null,null,null,null,null,null,null,null,null,null,null,null,null,null,null,null,null,null,null,null,null,null,null,null,null,0]
[522,40139,"越路",null,null,"N-assh④",{"$f":"IFERROR(VLOOKUP(F521,[1]データ!$A$2:$B$16,2,FALSE),\"\")","v":63},4013963,2470,null,null,null,null,null,null,null,null,0,null,null,null,null,null,null,null,null,null,null,null,null,null,null,null,null,null,null,null,null,null,null,null,null,null,null,null,null,null,null,null,null,null,null,null,null,null,null,null,null,null,null,null,null,null,null,null,null,null,0]
[523,40139,"越路",null,null,"ｎ-assh・④朝",{"$f":"IFERROR(VLOOKUP(F522,[1]データ!$A$2:$B$16,2,FALSE),\"\")","v":64},4013964,2770,null,null,null,null,null,null,null,null,0,null,null,null,null,null,null,null,null,null,null,null,null,null,null,null,null,null,null,null,null,null,null,null,null,null,null,null,null,null,null,null,null,null,null,null,null,null,null,null,null,null,null,null,null,null,null,null,null,null,0]
[524,40139,"越路",null,null,"くるみる",{"$f":"IFERROR(VLOOKUP(F523,[1]データ!$A$2:$B$16,2,FALSE),\"\")","v":3},401393,50,null,null,null,null,null,null,null,null,0,null,null,null,null,null,null,null,null,null,null,null,null,null,null,null,null,null,null,null,null,null,null,null,null,null,null,null,null,null,null,null,null,null,null,null,null,null,null,null,null,null,null,null,null,null,null,null,null,null,0]
[525,240140,"来迎寺","宮内ヨ","ヨ","朝刊",{"$f":"IFERROR(VLOOKUP(F524,[1]データ!$A$2:$B$16,2,FALSE),\"\")","v":1},2401401,590,null,null,null,null,null,null,null,null,0,null,null,null,null,null,null,null,null,null,null,null,null,null,null,null,null,null,null,null,null,null,null,null,null,null,null,null,null,null,null,null,null,null,null,null,null,null,null,null,null,null,null,null,null,null,null,null,null,null,0]
[526,40141,"塚山",null,"合","朝刊",{"$f":"IFERROR(VLOOKUP(F525,[1]データ!$A$2:$B$16,2,FALSE),\"\")","v":1},401411,790,null,null,null,null,null,null,null,null,0,null,null,null,null,null,null,null,null,null,null,null,null,null,null,null,null,null,null,null,null,null,null,null,null,null,null,null,null,null,null,null,null,null,null,null,null,null,null,null,null,null,null,null,null,null,null,null,null,null,0]
[527,40141,"塚山",null,null,"N-assh②",{"$f":"IFERROR(VLOOKUP(F526,[1]データ!$A$2:$B$16,2,FALSE),\"\")","v":61},4014161,130,null,null,null,null,null,null,null,null,0,null,null,null,null,null,null,null,null,null,null,null,null,null,null,null,null,null,null,null,null,null,null,null,null,null,null,null,null,null,null,null,null,null,null,null,null,null,null,null,null,null,null,null,null,null,null,null,null,null,0]
[528,40141,"塚山",null,null,"ｎ-assh・②朝",{"$f":"IFERROR(VLOOKUP(F527,[1]データ!$A$2:$B$16,2,FALSE),\"\")","v":62},4014162,790,null,null,null,null,null,null,null,null,0,null,null,null,null,null,null,null,null,null,null,null,null,null,null,null,null,null,null,null,null,null,null,null,null,null,null,null,null,null,null,null,null,null,null,null,null,null,null,null,null,null,null,null,null,null,null,null,null,null,0]
[529,40141,"塚山",null,null,"N-assh④",{"$f":"IFERROR(VLOOKUP(F528,[1]データ!$A$2:$B$16,2,FALSE),\"\")","v":63},4014163,130,null,null,null,null,null,null,null,null,{"$f":"SUM(J528:Q528)","v":0},null,null,null,null,null,null,null,null,null,null,null,null,null,null,null,null,null,null,null,null,null,null,null,null,null,null,null,null,null,null,null,null,null,null,null,null,null,null,null,null,null,null,null,null,null,null,null,null,null,0]
[530,40141,"塚山",null,null,"ｎ-assh・④朝",{"$f":"IFERROR(VLOOKUP(F529,[1]データ!$A$2:$B$16,2,FALSE),\"\")","v":64},4014164,790,null,null,null,null,null,null,null,null,0,null,null,null,null,null,null,null,null,null,null,null,null,null,null,null,null,null,null,null,null,null,null,null,null,null,null,null,null,null,null,null,null,null,null,null,null,null,null,null,null,null,null,null,null,null,null,null,null,null,0]
[531,40142,"脇野町","与板",null,"朝刊",{"$f":"IFERROR(VLOOKUP(F530,[1]データ!$A$2:$B$16,2,FALSE),\"\")","v":1},401421,null,null,null,null,null,null,null,null,null,0,null,null,null,null,null,null,null,null,null,null,null,null,null,null,null,null,null,null,null,null,null,null,null,null,null,null,null,null,null,null,null,null,null,null,null,null,null,null,null,null,null,null,null,null,null,null,null,null,null,0]
[532,40143,"槙原",null,null,"朝刊",{"$f":"IFERROR(VLOOKUP(F531,[1]データ!$A$2:$B$16,2,FALSE),\"\")","v":1},401431,null,null,null,null,null,null,null,null,null,0,null,null,null,null,null,null,null,null,null,null,null,null,null,null,null,null,null,null,null,null,null,null,null,null,null,null,null,null,null,null,null,null,null,null,null,null,null,null,null,null,null,null,null,null,null,null,null,null,null,0]
[533,40144,"与板","与板","合","朝刊",{"$f":"IFERROR(VLOOKUP(F532,[1]データ!$A$2:$B$16,2,FALSE),\"\")","v":1},401441,2640,null,null,null,null,null,null,null,null,0,null,null,null,null,null,null,null,null,null,null,null,null,null,null,null,null,null,null,null,null,null,null,null,null,null,null,null,null,null,null,null,null,null,null,null,null,null,null,null,null,null,null,null,null,null,null,null,null,null,0]
[534,40144,"与板",null,null,"N-assh②",{"$f":"IFERROR(VLOOKUP(F533,[1]データ!$A$2:$B$16,2,FALSE),\"\")","v":61},4014461,900,null,null,null,null,null,null,null,null,0,null,null,null,null,null,null,null,null,null,null,null,null,null,null,null,null,null,null,null,null,null,null,null,null,null,null,null,null,null,null,null,null,null,null,null,null,null,null,null,null,null,null,null,null,null,null,null,null,null,0]
[535,40144,"与板",null,null,"ｎ-assh・②朝",{"$f":"IFERROR(VLOOKUP(F534,[1]データ!$A$2:$B$16,2,FALSE),\"\")","v":62},4014462,2640,null,null,null,null,null,null,null,null,0,null,null,null,null,null,null,null,null,null,null,null,null,null,null,null,null,null,null,null,null,null,null,null,null,null,null,null,null,null,null,null,null,null,null,null,null,null,null,null,null,null,null,null,null,null,null,null,null,null,0]
[536,40144,"与板",null,null,"N-assh④",{"$f":"IFERROR(VLOOKUP(F535,[1]データ!$A$2:$B$16,2,FALSE),\"\")","v":63},4014463,900,null,null,null,null,null,null,null,null,0,null,null,null,null,null,null,null,null,null,null,null,null,null,null,null,null,null,null,null,null,null,null,null,null,null,null,null,null,null,null,null,null,null,null,null,null,null,null,null,null,null,null,null,null,null,null,null,null,null,0]
[537,40144,"与板",null,null,"ｎ-assh・④朝",{"$f":"IFERROR(VLOOKUP(F536,[1]データ!$A$2:$B$16,2,FALSE),\"\")","v":64},4014464,2640,null,null,null,null,null,null,null,null,0,null,null,null,null,null,null,null,null,null,null,null,null,null,null,null,null,null,null,null,null,null,null,null,null,null,null,null,null,null,null,null,null,null,null,null,null,null,null,null,null,null,null,null,null,null,null,null,null,null,0]
[538,40144,"与板",null,null,"くるみる",{"$f":"IFERROR(VLOOKUP(F537,[1]データ!$A$2:$B$16,2,FALSE),\"\")","v":3},401443,150,null,null,null,null,null,null,null,null,0,null,null,null,null,null,null,null,null,null,null,null,null,null,null,null,null,null,null,null,null,null,null,null,null,null,null,null,null,null,null,null,null,null,null,null,null,null,null,null,null,null,null,null,null,null,null,null,null,null,0]
[539,40145,"大河津",null,"合","朝刊",{"$f":"IFERROR(VLOOKUP(F538,[1]データ!$A$2:$B$16,2,FALSE),\"\")","v":1},401451,1070,null,null,null,null,null,null,null,null,0,null,null,null,null,null,null,null,null,null,null,null,null,null,null,null,null,null,null,null,null,null,null,null,null,null,null,null,null,null,null,null,null,null,null,null,null,null,null,null,null,null,null,null,null,null,null,null,null,null,0]
[540,40146,"寺泊",null,"合","朝刊",{"$f":"IFERROR(VLOOKUP(F539,[1]データ!$A$2:$B$16,2,FALSE),\"\")","v":1},401461,1090,null,null,null,null,null,null,null,null,0,null,null,null,null,null,null,null,null,null,null,null,null,null,null,null,null,null,null,null,null,null,null,null,null,null,null,null,null,null,null,null,null,null,null,null,null,null,null,null,null,null,null,null,null,null,null,null,null,null,0]
[541,40147,"和島","小島谷ヨ","合","朝刊",{"$f":"IFERROR(VLOOKUP(F540,[1]データ!$A$2:$B$16,2,FALSE),\"\")","v":1},401471,920,null,null,null,null,null,null,null,null,0,null,null,null,null,null,null,null,null,null,null,null,null,null,null,null,null,null,null,null,null,null,null,null,null,null,null,null,null,null,null,null,null,null,null,null,null,null,null,null,null,null,null,null,null,null,null,null,null,null,0]
[542,40148,"西越",null,"合","朝刊",{"$f":"IFERROR(VLOOKUP(F541,[1]データ!$A$2:$B$16,2,FALSE),\"\")","v":1},401481,1180,null,null,null,null,null,null,null,null,0,null,null,null,null,null,null,null,null,null,null,null,null,null,null,null,null,null,null,null,null,null,null,null,null,null,null,null,null,null,null,null,null,null,null,null,null,null,null,null,null,null,null,null,null,null,null,null,null,null,0]
[543,40149,"出雲崎",null,null,"朝刊",{"$f":"IFERROR(VLOOKUP(F542,[1]データ!$A$2:$B$16,2,FALSE),\"\")","v":1},401491,null,null,null,null,null,null,null,null,null,0,null,null,null,null,null,null,null,null,null,null,null,null,null,null,null,null,null,null,null,null,null,null,null,null,null,null,null,null,null,null,null,null,null,null,null,null,null,null,null,null,null,null,null,null,null,null,null,null,null,0]
[544,40151,"小千谷中央",null,"新アマサ日","朝刊",{"$f":"IFERROR(VLOOKUP(F543,[1]データ!$A$2:$B$16,2,FALSE),\"\")","v":1},401511,3730,null,null,null,null,null,null,null,null,0,null,null,null,null,null,null,null,null,null,null,null,null,null,null,null,null,null,null,null,null,null,null,null,null,null,null,null,null,null,null,null,null,null,null,null,null,null,null,null,null,null,null,null,null,null,null,null,null,null,0]
[545,40152,"小千谷東",null,"新アマサ日","朝刊",{"$f":"IFERROR(VLOOKUP(F544,[1]データ!$A$2:$B$16,2,FALSE),\"\")","v":1},401521,1450,null,null,null,null,null,null,null,null,0,null,null,null,null,null,null,null,null,null,null,null,null,null,null,null,null,null,null,null,null,null,null,null,null,null,null,null,null,null,null,null,null,null,null,null,null,null,null,null,null,null,null,null,null,null,null,null,null,null,0]
[546,240153,"小千谷",null,"ヨ","朝刊",{"$f":"IFERROR(VLOOKUP(F545,[1]データ!$A$2:$B$16,2,FALSE),\"\")","v":1},2401531,1280,null,null,null,null,null,null,null,null,0,null,null,null,null,null,null,null,null,null,null,null,null,null,null,null,null,null,null,null,null,null,null,null,null,null,null,null,null,null,null,null,null,null,null,null,null,null,null,null,null,null,null,null,null,null,null,null,null,null,0]
[547,40154,"片貝",null,"合","朝刊",{"$f":"IFERROR(VLOOKUP(F546,[1]データ!$A$2:$B$16,2,FALSE),\"\")","v":1},401541,1440,null,null,null,null,null,null,null,null,0,null,null,null,null,null,null,null,null,null,null,null,null,null,null,null,null,null,null,null,null,null,null,null,null,null,null,null,null,null,null,null,null,null,null,null,null,null,null,null,null,null,null,null,null,null,null,null,null,null,0]
[548,40155,"岩沢",null,"合","朝刊",{"$f":"IFERROR(VLOOKUP(F547,[1]データ!$A$2:$B$16,2,FALSE),\"\")","v":1},401551,630,null,null,null,null,null,null,null,null,0,null,null,null,null,null,null,null,null,null,null,null,null,null,null,null,null,null,null,null,null,null,null,null,null,null,null,null,null,null,null,null,null,null,null,null,null,null,null,null,null,null,null,null,null,null,null,null,null,null,0]
[549,40156,"十日町西部",null,"新アマサ日","朝刊",{"$f":"IFERROR(VLOOKUP(F548,[1]データ!$A$2:$B$16,2,FALSE),\"\")","v":1},401561,2750,null,null,null,null,null,null,null,null,0,null,null,null,null,null,null,null,null,null,null,null,null,null,null,null,null,null,null,null,null,null,null,null,null,null,null,null,null,null,null,null,null,null,null,null,null,null,null,null,null,null,null,null,null,null,null,null,null,null,0]
[550,40157,"十日町東部",null,"新アマサ日","朝刊",{"$f":"IFERROR(VLOOKUP(F549,[1]データ!$A$2:$B$16,2,FALSE),\"\")","v":1},401571,1100,null,null,null,null,null,null,null,null,0,null,null,null,null,null,null,null,null,null,null,null,null,null,null,null,null,null,null,null,null,null,null,null,null,null,null,null,null,null,null,null,null,null,null,null,null,null,null,null,null,null,null,null,null,null,null,null,null,null,0]
[551,240159,"十日町",null,"ヨ日","朝刊",{"$f":"IFERROR(VLOOKUP(F550,[1]データ!$A$2:$B$16,2,FALSE),\"\")","v":1},2401591,1450,null,null,null,null,null,null,null,null,0,null,null,null,null,null,null,null,null,null,null,null,null,null,null,null,null,null,null,null,null,null,null,null,null,null,null,null,null,null,null,null,null,null,null,null,null,null,null,null,null,null,null,null,null,null,null,null,null,null,0]
[552,40162,"下条",null,"合","朝刊",{"$f":"IFERROR(VLOOKUP(F551,[1]データ!$A$2:$B$16,2,FALSE),\"\")","v":1},401621,1030,null,null,null,null,null,null,null,null,0,null,null,null,null,null,null,null,null,null,null,null,null,null,null,null,null,null,null,null,null,null,null,null,null,null,null,null,null,null,null,null,null,null,null,null,null,null,null,null,null,null,null,null,null,null,null,null,null,null,0]
[553,40163,"魚沼中条",null,"合","朝刊",{"$f":"IFERROR(VLOOKUP(F552,[1]データ!$A$2:$B$16,2,FALSE),\"\")","v":1},401631,870,null,null,null,null,null,null,null,null,0,null,null,null,null,null,null,null,null,null,null,null,null,null,null,null,null,null,null,null,null,null,null,null,null,null,null,null,null,null,null,null,null,null,null,null,null,null,null,null,null,null,null,null,null,null,null,null,null,null,0]
[554,40164,"水沢","水沢","合","朝刊",{"$f":"IFERROR(VLOOKUP(F553,[1]データ!$A$2:$B$16,2,FALSE),\"\")","v":1},401641,710,null,null,null,null,null,null,null,null,0,null,null,null,null,null,null,null,null,null,null,null,null,null,null,null,null,null,null,null,null,null,null,null,null,null,null,null,null,null,null,null,null,null,null,null,null,null,null,null,null,null,null,null,null,null,null,null,null,null,0]
[555,40165,"伊達","水沢","合","朝刊",{"$f":"IFERROR(VLOOKUP(F554,[1]データ!$A$2:$B$16,2,FALSE),\"\")","v":1},401651,320,null,null,null,null,null,null,null,null,0,null,null,null,null,null,null,null,null,null,null,null,null,null,null,null,null,null,null,null,null,null,null,null,null,null,null,null,null,null,null,null,null,null,null,null,null,null,null,null,null,null,null,null,null,null,null,null,null,null,0]
[556,40166,"川口",null,"合","朝刊",{"$f":"IFERROR(VLOOKUP(F555,[1]データ!$A$2:$B$16,2,FALSE),\"\")","v":1},401661,1050,null,null,null,null,null,null,null,null,0,null,null,null,null,null,null,null,null,null,null,null,null,null,null,null,null,null,null,null,null,null,null,null,null,null,null,null,null,null,null,null,null,null,null,null,null,null,null,null,null,null,null,null,null,null,null,null,null,null,0]
[557,40167,"堀之内",null,"合","朝刊",{"$f":"IFERROR(VLOOKUP(F556,[1]データ!$A$2:$B$16,2,FALSE),\"\")","v":1},401671,1720,null,null,null,null,null,null,null,null,0,null,null,null,null,null,null,null,null,null,null,null,null,null,null,null,null,null,null,null,null,null,null,null,null,null,null,null,null,null,null,null,null,null,null,null,null,null,null,null,null,null,null,null,null,null,null,null,null,null,0]
[558,40168,"小出",null,"新アマサ日","朝刊",{"$f":"IFERROR(VLOOKUP(F557,[1]データ!$A$2:$B$16,2,FALSE),\"\")","v":1},401681,4320,null,null,null,null,null,null,null,null,0,null,null,null,null,null,null,null,null,null,null,null,null,null,null,null,null,null,null,null,null,null,null,null,null,null,null,null,null,null,null,null,null,null,null,null,null,null,null,null,null,null,null,null,null,null,null,null,null,null,0]
[559,240170,"小出","小出","ヨ","朝刊",{"$f":"IFERROR(VLOOKUP(F558,[1]データ!$A$2:$B$16,2,FALSE),\"\")","v":1},2401701,{"$f":"2750-1490","v":1260},null,null,null,null,null,null,null,null,0,null,null,null,null,null,null,null,null,null,null,null,null,null,null,null,null,null,null,null,null,null,null,null,null,null,null,null,null,null,null,null,null,null,null,null,null,null,null,null,null,null,null,null,null,null,null,null,null,null,0]
[560,40172,"魚沼北",null,"合","朝刊",{"$f":"IFERROR(VLOOKUP(F559,[1]データ!$A$2:$B$16,2,FALSE),\"\")","v":1},401721,1980,null,null,null,null,null,null,null,null,0,null,null,null,null,null,null,null,null,null,null,null,null,null,null,null,null,null,null,null,null,null,null,null,null,null,null,null,null,null,null,null,null,null,null,null,null,null,null,null,null,null,null,null,null,null,null,null,null,null,0]
[561,40176,"浦佐",null,"合","朝刊",{"$f":"IFERROR(VLOOKUP(F560,[1]データ!$A$2:$B$16,2,FALSE),\"\")","v":1},401761,1490,null,null,null,null,null,null,null,null,0,null,null,null,null,null,null,null,null,null,null,null,null,null,null,null,null,null,null,null,null,null,null,null,null,null,null,null,null,null,null,null,null,null,null,null,null,null,null,null,null,null,null,null,null,null,null,null,null,null,0]
[562,240177,"浦佐","小出",null,"朝刊",{"$f":"IFERROR(VLOOKUP(F561,[1]データ!$A$2:$B$16,2,FALSE),\"\")","v":1},2401771,null,null,null,null,null,null,null,null,null,0,null,null,null,null,null,null,null,null,null,null,null,null,null,null,null,null,null,null,null,null,null,null,null,null,null,null,null,null,null,null,null,null,null,null,null,null,null,null,null,null,null,null,null,null,null,null,null,null,null,0]
[563,40178,"大崎",null,"合","朝刊",{"$f":"IFERROR(VLOOKUP(F562,[1]データ!$A$2:$B$16,2,FALSE),\"\")","v":1},401781,620,null,null,null,null,null,null,null,null,0,null,null,null,null,null,null,null,null,null,null,null,null,null,null,null,null,null,null,null,null,null,null,null,null,null,null,null,null,null,null,null,null,null,null,null,null,null,null,null,null,null,null,null,null,null,null,null,null,null,0]
[564,40179,"五日町",null,"合","朝刊",{"$f":"IFERROR(VLOOKUP(F563,[1]データ!$A$2:$B$16,2,FALSE),\"\")","v":1},401791,980,null,null,null,null,null,null,null,null,0,null,null,null,null,null,null,null,null,null,null,null,null,null,null,null,null,null,null,null,null,null,null,null,null,null,null,null,null,null,null,null,null,null,null,null,null,null,null,null,null,null,null,null,null,null,null,null,null,null,0]
[565,40180,"城内",null,"合","朝刊",{"$f":"IFERROR(VLOOKUP(F564,[1]データ!$A$2:$B$16,2,FALSE),\"\")","v":1},401801,850,null,null,null,null,null,null,null,null,0,null,null,null,null,null,null,null,null,null,null,null,null,null,null,null,null,null,null,null,null,null,null,null,null,null,null,null,null,null,null,null,null,null,null,null,null,null,null,null,null,null,null,null,null,null,null,null,null,null,0]
[566,40181,"六日町",null,"新アマサ日","朝刊",{"$f":"IFERROR(VLOOKUP(F565,[1]データ!$A$2:$B$16,2,FALSE),\"\")","v":1},401811,2600,null,null,null,null,null,null,null,null,0,null,null,null,null,null,null,null,null,null,null,null,null,null,null,null,null,null,null,null,null,null,null,null,null,null,null,null,null,null,null,null,null,null,null,null,null,null,null,null,null,null,null,null,null,null,null,null,null,null,0]
[567,240183,"六日町",null,"ヨ","朝刊",{"$f":"IFERROR(VLOOKUP(F566,[1]データ!$A$2:$B$16,2,FALSE),\"\")","v":1},2401831,1750,null,null,null,null,null,null,null,null,0,null,null,null,null,null,null,null,null,null,null,null,null,null,null,null,null,null,null,null,null,null,null,null,null,null,null,null,null,null,null,null,null,null,null,null,null,null,null,null,null,null,null,null,null,null,null,null,null,null,0]
[568,40184,"塩沢",null,"新アマサ日","朝刊",{"$f":"IFERROR(VLOOKUP(F567,[1]データ!$A$2:$B$16,2,FALSE),\"\")","v":1},401841,1890,null,null,null,null,null,null,null,null,0,null,null,null,null,null,null,null,null,null,null,null,null,null,null,null,null,null,null,null,null,null,null,null,null,null,null,null,null,null,null,null,null,null,null,null,null,null,null,null,null,null,null,null,null,null,null,null,null,null,0]
[569,240185,"塩沢石打",null,"ヨ","朝刊",{"$f":"IFERROR(VLOOKUP(F568,[1]データ!$A$2:$B$16,2,FALSE),\"\")","v":1},2401851,1400,null,null,null,null,null,null,null,null,0,null,null,null,null,null,null,null,null,null,null,null,null,null,null,null,null,null,null,null,null,null,null,null,null,null,null,null,null,null,null,null,null,null,null,null,null,null,null,null,null,null,null,null,null,null,null,null,null,null,0]
[570,40186,"上田",null,"合","朝刊",{"$f":"IFERROR(VLOOKUP(F569,[1]データ!$A$2:$B$16,2,FALSE),\"\")","v":1},401861,610,null,null,null,null,null,null,null,null,0,null,null,null,null,null,null,null,null,null,null,null,null,null,null,null,null,null,null,null,null,null,null,null,null,null,null,null,null,null,null,null,null,null,null,null,null,null,null,null,null,null,null,null,null,null,null,null,null,null,0]
[571,40187,"石打",null,"新アマサ日","朝刊",{"$f":"IFERROR(VLOOKUP(F570,[1]データ!$A$2:$B$16,2,FALSE),\"\")","v":1},401871,null,null,null,null,null,null,null,null,null,0,null,null,null,null,null,null,null,null,null,null,null,null,null,null,null,null,null,null,null,null,null,null,null,null,null,null,null,null,null,null,null,null,null,null,null,null,null,null,null,null,null,null,null,null,null,null,null,null,null,0]
[572,40189,"湯沢",null,"新アマサ日","朝刊",{"$f":"IFERROR(VLOOKUP(F571,[1]データ!$A$2:$B$16,2,FALSE),\"\")","v":1},401891,1450,null,null,null,null,null,null,null,null,0,null,null,null,null,null,null,null,null,null,null,null,null,null,null,null,null,null,null,null,null,null,null,null,null,null,null,null,null,null,null,null,null,null,null,null,null,null,null,null,null,null,null,null,null,null,null,null,null,null,0]
[573,240190,"湯沢",null,"ヨ","朝刊",{"$f":"IFERROR(VLOOKUP(F572,[1]データ!$A$2:$B$16,2,FALSE),\"\")","v":1},2401901,700,null,null,null,null,null,null,null,null,0,null,null,null,null,null,null,null,null,null,null,null,null,null,null,null,null,null,null,null,null,null,null,null,null,null,null,null,null,null,null,null,null,null,null,null,null,null,null,null,null,null,null,null,null,null,null,null,null,null,0]
[574,40192,"十日町川西",null,"合","朝刊",{"$f":"IFERROR(VLOOKUP(F573,[1]データ!$A$2:$B$16,2,FALSE),\"\")","v":1},401921,1420,null,null,null,null,null,null,null,null,0,null,null,null,null,null,null,null,null,null,null,null,null,null,null,null,null,null,null,null,null,null,null,null,null,null,null,null,null,null,null,null,null,null,null,null,null,null,null,null,null,null,null,null,null,null,null,null,null,null,0]
[575,40193,"仙田",null,"合","朝刊",{"$f":"IFERROR(VLOOKUP(F574,[1]データ!$A$2:$B$16,2,FALSE),\"\")","v":1},401931,160,null,null,null,null,null,null,null,null,0,null,null,null,null,null,null,null,null,null,null,null,null,null,null,null,null,null,null,null,null,null,null,null,null,null,null,null,null,null,null,null,null,null,null,null,null,null,null,null,null,null,null,null,null,null,null,null,null,null,0]
[576,40194,"田沢",null,"合","朝刊",{"$f":"IFERROR(VLOOKUP(F575,[1]データ!$A$2:$B$16,2,FALSE),\"\")","v":1},401941,1050,null,null,null,null,null,null,null,null,0,null,null,null,null,null,null,null,null,null,null,null,null,null,null,null,null,null,null,null,null,null,null,null,null,null,null,null,null,null,null,null,null,null,null,null,null,null,null,null,null,null,null,null,null,null,null,null,null,null,0]
[577,40195,"鹿渡",null,null,"朝刊",{"$f":"IFERROR(VLOOKUP(F576,[1]データ!$A$2:$B$16,2,FALSE),\"\")","v":1},401951,null,null,null,null,null,null,null,null,null,0,null,null,null,null,null,null,null,null,null,null,null,null,null,null,null,null,null,null,null,null,null,null,null,null,null,null,null,null,null,null,null,null,null,null,null,null,null,null,null,null,null,null,null,null,null,null,null,null,null,0]
[578,340197,"津南",null,"合","朝刊",{"$f":"IFERROR(VLOOKUP(F577,[1]データ!$A$2:$B$16,2,FALSE),\"\")","v":1},3401971,1700,null,null,null,null,null,null,null,null,0,null,null,null,null,null,null,null,null,null,null,null,null,null,null,null,null,null,null,null,null,null,null,null,null,null,null,null,null,null,null,null,null,null,null,null,null,null,null,null,null,null,null,null,null,null,null,null,null,null,0]
[579,40199,"上郷",null,"合","朝刊",{"$f":"IFERROR(VLOOKUP(F578,[1]データ!$A$2:$B$16,2,FALSE),\"\")","v":1},401991,330,null,null,null,null,null,null,null,null,0,null,null,null,null,null,null,null,null,null,null,null,null,null,null,null,null,null,null,null,null,null,null,null,null,null,null,null,null,null,null,null,null,null,null,null,null,null,null,null,null,null,null,null,null,null,null,null,null,null,0]
[580,40200,"森宮野原",null,"合","朝刊",{"$f":"IFERROR(VLOOKUP(F579,[1]データ!$A$2:$B$16,2,FALSE),\"\")","v":1},402001,40,null,null,null,null,null,null,null,null,0,null,null,null,null,null,null,null,null,null,null,null,null,null,null,null,null,null,null,null,null,null,null,null,null,null,null,null,null,null,null,null,null,null,null,null,null,null,null,null,null,null,null,null,null,null,null,null,null,null,0]
[581,40229,"柏崎中央",null,"新アマサ日","朝刊",{"$f":"IFERROR(VLOOKUP(F580,[1]データ!$A$2:$B$16,2,FALSE),\"\")","v":1},402291,2180,null,null,null,null,null,null,null,null,0,null,null,null,null,null,null,null,null,null,null,null,null,null,null,null,null,null,null,null,null,null,null,null,null,null,null,null,null,null,null,null,null,null,null,null,null,null,null,null,null,null,null,null,null,null,null,null,null,null,{"$f":"SUM(U580:BO580)","v":0}]
[582,40202,"柏崎","MN","新アマサ日","朝刊",{"$f":"IFERROR(VLOOKUP(F581,[1]データ!$A$2:$B$16,2,FALSE),\"\")","v":1},402021,3420,null,null,null,null,null,null,null,null,0,null,null,null,null,null,null,null,null,null,null,null,null,null,null,null,null,null,null,null,null,null,null,null,null,null,null,null,null,null,null,null,null,null,null,null,null,null,null,null,null,null,null,null,null,null,null,null,null,null,0]
[583,40202,"柏崎",null,null,"くるみる",{"$f":"IFERROR(VLOOKUP(F582,[1]データ!$A$2:$B$16,2,FALSE),\"\")","v":3},402023,420,null,null,null,null,null,null,null,null,0,null,null,null,null,null,null,null,null,null,null,null,null,null,null,null,null,null,null,null,null,null,null,null,null,null,null,null,null,null,null,null,null,null,null,null,null,null,null,null,null,null,null,null,null,null,null,null,null,null,0]
[584,40203,"柏崎南",null,"新アマサ日","朝刊",{"$f":"IFERROR(VLOOKUP(F583,[1]データ!$A$2:$B$16,2,FALSE),\"\")","v":1},402031,2670,null,null,null,null,null,null,null,null,0,null,null,null,null,null,null,null,null,null,null,null,null,null,null,null,null,null,null,null,null,null,null,null,null,null,null,null,null,null,null,null,null,null,null,null,null,null,null,null,null,null,null,null,null,null,null,null,null,null,0]
[585,240205,"柏崎西部",null,"ヨ","朝刊",{"$f":"IFERROR(VLOOKUP(F584,[1]データ!$A$2:$B$16,2,FALSE),\"\")","v":1},2402051,2280,null,null,null,null,null,null,null,null,0,null,null,null,null,null,null,null,null,null,null,null,null,null,null,null,null,null,null,null,null,null,null,null,null,null,null,null,null,null,null,null,null,null,null,null,null,null,null,null,null,null,null,null,null,null,null,null,null,null,0]
[586,240206,"柏崎東部",null,"ヨ","朝刊",{"$f":"IFERROR(VLOOKUP(F585,[1]データ!$A$2:$B$16,2,FALSE),\"\")","v":1},2402061,2070,null,null,null,null,null,null,null,null,0,null,null,null,null,null,null,null,null,null,null,null,null,null,null,null,null,null,null,null,null,null,null,null,null,null,null,null,null,null,null,null,null,null,null,null,null,null,null,null,null,null,null,null,null,null,null,null,null,null,0]
[587,40207,"柏崎東",null,"新アマサ日","朝刊",{"$f":"IFERROR(VLOOKUP(F586,[1]データ!$A$2:$B$16,2,FALSE),\"\")","v":1},402071,null,null,null,null,null,null,null,null,null,0,null,null,null,null,null,null,null,null,null,null,null,null,null,null,null,null,null,null,null,null,null,null,null,null,null,null,null,null,null,null,null,null,null,null,null,null,null,null,null,null,null,null,null,null,null,null,null,null,null,0]
[588,40211,"安田",null,"合","朝刊",{"$f":"IFERROR(VLOOKUP(F587,[1]データ!$A$2:$B$16,2,FALSE),\"\")","v":1},402111,2300,null,null,null,null,null,null,null,null,0,null,null,null,null,null,null,null,null,null,null,null,null,null,null,null,null,null,null,null,null,null,null,null,null,null,null,null,null,null,null,null,null,null,null,null,null,null,null,null,null,null,null,null,null,null,null,null,null,null,0]
[589,40212,"北条",null,"合","朝刊",{"$f":"IFERROR(VLOOKUP(F588,[1]データ!$A$2:$B$16,2,FALSE),\"\")","v":1},402121,280,null,null,null,null,null,null,null,null,0,null,null,null,null,null,null,null,null,null,null,null,null,null,null,null,null,null,null,null,null,null,null,null,null,null,null,null,null,null,null,null,null,null,null,null,null,null,null,null,null,null,null,null,null,null,null,null,null,null,0]
[590,40213,"広田",null,"合","朝刊",{"$f":"IFERROR(VLOOKUP(F589,[1]データ!$A$2:$B$16,2,FALSE),\"\")","v":1},402131,380,null,null,null,null,null,null,null,null,0,null,null,null,null,null,null,null,null,null,null,null,null,null,null,null,null,null,null,null,null,null,null,null,null,null,null,null,null,null,null,null,null,null,null,null,null,null,null,null,null,null,null,null,null,null,null,null,null,null,0]
[591,40228,"米山","米山","合","朝刊",{"$f":"IFERROR(VLOOKUP(F590,[1]データ!$A$2:$B$16,2,FALSE),\"\")","v":1},402281,320,null,null,null,null,null,null,null,null,0,null,null,null,null,null,null,null,null,null,null,null,null,null,null,null,null,null,null,null,null,null,null,null,null,null,null,null,null,null,null,null,null,null,null,null,null,null,null,null,null,null,null,null,null,null,null,null,null,null,0]
[592,40216,"笠島","米山","合","朝刊",{"$f":"IFERROR(VLOOKUP(F591,[1]データ!$A$2:$B$16,2,FALSE),\"\")","v":1},402161,60,null,null,null,null,null,null,null,null,0,null,null,null,null,null,null,null,null,null,null,null,null,null,null,null,null,null,null,null,null,null,null,null,null,null,null,null,null,null,null,null,null,null,null,null,null,null,null,null,null,null,null,null,null,null,null,null,null,null,0]
[593,40217,"高柳",null,"合","朝刊",{"$f":"IFERROR(VLOOKUP(F592,[1]データ!$A$2:$B$16,2,FALSE),\"\")","v":1},402171,320,null,null,null,null,null,null,null,null,{"$f":"SUM(J592:Q592)","v":0},null,null,null,null,null,null,null,null,null,null,null,null,null,null,null,null,null,null,null,null,null,null,null,null,null,null,null,null,null,null,null,null,null,null,null,null,null,null,null,null,null,null,null,null,null,null,null,null,null,0]
[594,40218,"小国",null,null,"朝刊",{"$f":"IFERROR(VLOOKUP(F593,[1]データ!$A$2:$B$16,2,FALSE),\"\")","v":1},402181,null,null,null,null,null,null,null,null,null,0,null,null,null,null,null,null,null,null,null,null,null,null,null,null,null,null,null,null,null,null,null,null,null,null,null,null,null,null,null,null,null,null,null,null,null,null,null,null,null,null,null,null,null,null,null,null,null,null,null,0]
[595,40219,"上小国",null,"合","朝刊",{"$f":"IFERROR(VLOOKUP(F594,[1]データ!$A$2:$B$16,2,FALSE),\"\")","v":1},402191,830,null,null,null,null,null,null,null,null,0,null,null,null,null,null,null,null,null,null,null,null,null,null,null,null,null,null,null,null,null,null,null,null,null,null,null,null,null,null,null,null,null,null,null,null,null,null,null,null,null,null,null,null,null,null,null,null,null,null,0]
[596,40220,"荒浜",null,"合","朝刊",{"$f":"IFERROR(VLOOKUP(F595,[1]データ!$A$2:$B$16,2,FALSE),\"\")","v":1},402201,1900,null,null,null,null,null,null,null,null,0,null,null,null,null,null,null,null,null,null,null,null,null,null,null,null,null,null,null,null,null,null,null,null,null,null,null,null,null,null,null,null,null,null,null,null,null,null,null,null,null,null,null,null,null,null,null,null,null,null,0]
[597,40221,"西山",null,"合","朝刊",{"$f":"IFERROR(VLOOKUP(F596,[1]データ!$A$2:$B$16,2,FALSE),\"\")","v":1},402211,1000,null,null,null,null,null,null,null,null,0,null,null,null,null,null,null,null,null,null,null,null,null,null,null,null,null,null,null,null,null,null,null,null,null,null,null,null,null,null,null,null,null,null,null,null,null,null,null,null,null,null,null,null,null,null,null,null,null,null,0]
[598,40222,"礼拝",null,null,"朝刊",{"$f":"IFERROR(VLOOKUP(F597,[1]データ!$A$2:$B$16,2,FALSE),\"\")","v":1},402221,null,null,null,null,null,null,null,null,null,0,null,null,null,null,null,null,null,null,null,null,null,null,null,null,null,null,null,null,null,null,null,null,null,null,null,null,null,null,null,null,null,null,null,null,null,null,null,null,null,null,null,null,null,null,null,null,null,null,null,0]
[599,50101,"高田","MN","新マサ日","朝刊",{"$f":"IFERROR(VLOOKUP(F598,[1]データ!$A$2:$B$16,2,FALSE),\"\")","v":1},501011,2290,null,null,null,null,null,null,null,null,0,null,null,null,null,null,null,null,null,null,null,null,null,null,null,null,null,null,null,null,null,null,null,null,null,null,null,null,null,null,null,null,null,null,null,null,null,null,null,null,null,null,null,null,null,null,null,null,null,null,0]
[600,50101,"高田",null,null,"くるみる",{"$f":"IFERROR(VLOOKUP(F599,[1]データ!$A$2:$B$16,2,FALSE),\"\")","v":3},501013,360,null,null,null,null,null,null,null,null,0,null,null,null,null,null,null,null,null,null,null,null,null,null,null,null,null,null,null,null,null,null,null,null,null,null,null,null,null,null,null,null,null,null,null,null,null,null,null,null,null,null,null,null,null,null,null,null,null,null,0]
[601,50102,"高田南",null,"新マサ日","朝刊",{"$f":"IFERROR(VLOOKUP(F600,[1]データ!$A$2:$B$16,2,FALSE),\"\")","v":1},501021,2350,null,null,null,null,null,null,null,null,0,null,null,null,null,null,null,null,null,null,null,null,null,null,null,null,null,null,null,null,null,null,null,null,null,null,null,null,null,null,null,null,null,null,null,null,null,null,null,null,null,null,null,null,null,null,null,null,null,null,0]
[602,50102,"高田南",null,null,"くるみる",{"$f":"IFERROR(VLOOKUP(F601,[1]データ!$A$2:$B$16,2,FALSE),\"\")","v":3},501023,300,null,null,null,null,null,null,null,null,0,null,null,null,null,null,null,null,null,null,null,null,null,null,null,null,null,null,null,null,null,null,null,null,null,null,null,null,null,null,null,null,null,null,null,null,null,null,null,null,null,null,null,null,null,null,null,null,null,null,0]
[603,50104,"高田",null,"ア","朝刊",{"$f":"IFERROR(VLOOKUP(F602,[1]データ!$A$2:$B$16,2,FALSE),\"\")","v":1},501041,2400,null,null,null,null,null,null,null,null,0,null,null,null,null,null,null,null,null,null,null,null,null,null,null,null,null,null,null,null,null,null,null,null,null,null,null,null,null,null,null,null,null,null,null,null,null,null,null,null,null,null,null,null,null,null,null,null,null,null,0]
[604,250105,"高田","高田","ヨ","朝刊",{"$f":"IFERROR(VLOOKUP(F603,[1]データ!$A$2:$B$16,2,FALSE),\"\")","v":1},2501051,3250,null,null,null,null,null,null,null,null,0,null,null,null,null,null,null,null,null,null,null,null,null,null,null,null,null,null,null,null,null,null,null,null,null,null,null,null,null,null,null,null,null,null,null,null,null,null,null,null,null,null,null,null,null,null,null,null,null,null,0]
[605,50103,"木田",null,"新マサ日","朝刊",{"$f":"IFERROR(VLOOKUP(F604,[1]データ!$A$2:$B$16,2,FALSE),\"\")","v":1},501031,1550,null,null,null,null,null,null,null,null,0,null,null,null,null,null,null,null,null,null,null,null,null,null,null,null,null,null,null,null,null,null,null,null,null,null,null,null,null,null,null,null,null,null,null,null,null,null,null,null,null,null,null,null,null,null,null,null,null,null,0]
[606,50103,"木田",null,null,"くるみる",{"$f":"IFERROR(VLOOKUP(F605,[1]データ!$A$2:$B$16,2,FALSE),\"\")","v":3},501033,70,null,null,null,null,null,null,null,null,0,null,null,null,null,null,null,null,null,null,null,null,null,null,null,null,null,null,null,null,null,null,null,null,null,null,null,null,null,null,null,null,null,null,null,null,null,null,null,null,null,null,null,null,null,null,null,null,null,null,0]
[607,50106,"春日山",null,"新マサ日","朝刊",{"$f":"IFERROR(VLOOKUP(F606,[1]データ!$A$2:$B$16,2,FALSE),\"\")","v":1},501061,2440,null,null,null,null,null,null,null,null,0,null,null,null,null,null,null,null,null,null,null,null,null,null,null,null,null,null,null,null,null,null,null,null,null,null,null,null,null,null,null,null,null,null,null,null,null,null,null,null,null,null,null,null,null,null,null,null,null,null,0]
[608,50106,"春日山",null,null,"くるみる",{"$f":"IFERROR(VLOOKUP(F607,[1]データ!$A$2:$B$16,2,FALSE),\"\")","v":3},501063,150,null,null,null,null,null,null,null,null,0,null,null,null,null,null,null,null,null,null,null,null,null,null,null,null,null,null,null,null,null,null,null,null,null,null,null,null,null,null,null,null,null,null,null,null,null,null,null,null,null,null,null,null,null,null,null,null,null,null,0]
[609,250107,"上越中央",null,"ヨ","朝刊",{"$f":"IFERROR(VLOOKUP(F608,[1]データ!$A$2:$B$16,2,FALSE),\"\")","v":1},2501071,2230,null,null,null,null,null,null,null,null,0,null,null,null,null,null,null,null,null,null,null,null,null,null,null,null,null,null,null,null,null,null,null,null,null,null,null,null,null,null,null,null,null,null,null,null,null,null,null,null,null,null,null,null,null,null,null,null,null,null,0]
[610,50108,"脇野田",null,"新アマサ日","朝刊",{"$f":"IFERROR(VLOOKUP(F609,[1]データ!$A$2:$B$16,2,FALSE),\"\")","v":1},501081,1680,null,null,null,null,null,null,null,null,0,null,null,null,null,null,null,null,null,null,null,null,null,null,null,null,null,null,null,null,null,null,null,null,null,null,null,null,null,null,null,null,null,null,null,null,null,null,null,null,null,null,null,null,null,null,null,null,null,null,0]
[611,50108,"脇野田",null,null,"くるみる",{"$f":"IFERROR(VLOOKUP(F610,[1]データ!$A$2:$B$16,2,FALSE),\"\")","v":3},501083,200,null,null,null,null,null,null,null,null,0,null,null,null,null,null,null,null,null,null,null,null,null,null,null,null,null,null,null,null,null,null,null,null,null,null,null,null,null,null,null,null,null,null,null,null,null,null,null,null,null,null,null,null,null,null,null,null,null,null,0]
[612,250106,"脇野田","高田","ヨ","朝刊",{"$f":"IFERROR(VLOOKUP(F611,[1]データ!$A$2:$B$16,2,FALSE),\"\")","v":1},2501061,390,null,null,null,null,null,null,null,null,0,null,null,null,null,null,null,null,null,null,null,null,null,null,null,null,null,null,null,null,null,null,null,null,null,null,null,null,null,null,null,null,null,null,null,null,null,null,null,null,null,null,null,null,null,null,null,null,null,null,0]
[613,50109,"上越東",null,"合","朝刊",{"$f":"IFERROR(VLOOKUP(F612,[1]データ!$A$2:$B$16,2,FALSE),\"\")","v":1},501091,2980,null,null,null,null,null,null,null,null,0,null,null,null,null,null,null,null,null,null,null,null,null,null,null,null,null,null,null,null,null,null,null,null,null,null,null,null,null,null,null,null,null,null,null,null,null,null,null,null,null,null,null,null,null,null,null,null,null,null,0]
[614,50109,"上越東",null,null,"くるみる",{"$f":"IFERROR(VLOOKUP(F613,[1]データ!$A$2:$B$16,2,FALSE),\"\")","v":3},501093,10,null,null,null,null,null,null,null,null,0,null,null,null,null,null,null,null,null,null,null,null,null,null,null,null,null,null,null,null,null,null,null,null,null,null,null,null,null,null,null,null,null,null,null,null,null,null,null,null,null,null,null,null,null,null,null,null,null,null,0]
[615,50112,"上越三和","上越三和","合","朝刊",{"$f":"IFERROR(VLOOKUP(F614,[1]データ!$A$2:$B$16,2,FALSE),\"\")","v":1},501121,1550,null,null,null,null,null,null,null,null,0,null,null,null,null,null,null,null,null,null,null,null,null,null,null,null,null,null,null,null,null,null,null,null,null,null,null,null,null,null,null,null,null,null,null,null,null,null,null,null,null,null,null,null,null,null,null,null,null,null,0]
[616,50113,"直江津",null,"新マサ日","朝刊",{"$f":"IFERROR(VLOOKUP(F615,[1]データ!$A$2:$B$16,2,FALSE),\"\")","v":1},501131,2340,null,null,null,null,null,null,null,null,0,null,null,null,null,null,null,null,null,null,null,null,null,null,null,null,null,null,null,null,null,null,null,null,null,null,null,null,null,null,null,null,null,null,null,null,null,null,null,null,null,null,null,null,null,null,null,null,null,null,0]
[617,50113,"直江津",null,null,"くるみる",{"$f":"IFERROR(VLOOKUP(F616,[1]データ!$A$2:$B$16,2,FALSE),\"\")","v":3},501133,150,null,null,null,null,null,null,null,null,0,null,null,null,null,null,null,null,null,null,null,null,null,null,null,null,null,null,null,null,null,null,null,null,null,null,null,null,null,null,null,null,null,null,null,null,null,null,null,null,null,null,null,null,null,null,null,null,null,null,0]
[618,50114,"直江津東",null,"新マサ日","朝刊",{"$f":"IFERROR(VLOOKUP(F617,[1]データ!$A$2:$B$16,2,FALSE),\"\")","v":1},501141,2600,null,null,null,null,null,null,null,null,0,null,null,null,null,null,null,null,null,null,null,null,null,null,null,null,null,null,null,null,null,null,null,null,null,null,null,null,null,null,null,null,null,null,null,null,null,null,null,null,null,null,null,null,null,null,null,null,null,null,0]
[619,50114,"直江津東",null,null,"くるみる",{"$f":"IFERROR(VLOOKUP(F618,[1]データ!$A$2:$B$16,2,FALSE),\"\")","v":3},501143,90,null,null,null,null,null,null,null,null,0,null,null,null,null,null,null,null,null,null,null,null,null,null,null,null,null,null,null,null,null,null,null,null,null,null,null,null,null,null,null,null,null,null,null,null,null,null,null,null,null,null,null,null,null,null,null,null,null,null,0]
[620,250115,"直江津",null,"ヨ","朝刊",{"$f":"IFERROR(VLOOKUP(F619,[1]データ!$A$2:$B$16,2,FALSE),\"\")","v":1},2501151,3880,null,null,null,null,null,null,null,null,0,null,null,null,null,null,null,null,null,null,null,null,null,null,null,null,null,null,null,null,null,null,null,null,null,null,null,null,null,null,null,null,null,null,null,null,null,null,null,null,null,null,null,null,null,null,null,null,null,null,0]
[621,50116,"直江津",null,"ア","朝刊",{"$f":"IFERROR(VLOOKUP(F620,[1]データ!$A$2:$B$16,2,FALSE),\"\")","v":1},501161,1700,null,null,null,null,null,null,null,null,0,null,null,null,null,null,null,null,null,null,null,null,null,null,null,null,null,null,null,null,null,null,null,null,null,null,null,null,null,null,null,null,null,null,null,null,null,null,null,null,null,null,null,null,null,null,null,null,null,null,0]
[622,50117,"黒井",null,"合","朝刊",{"$f":"IFERROR(VLOOKUP(F621,[1]データ!$A$2:$B$16,2,FALSE),\"\")","v":1},501171,820,null,null,null,null,null,null,null,null,0,null,null,null,null,null,null,null,null,null,null,null,null,null,null,null,null,null,null,null,null,null,null,null,null,null,null,null,null,null,null,null,null,null,null,null,null,null,null,null,null,null,null,null,null,null,null,null,null,null,0]
[623,50152,"名立谷浜","直江津","合","朝刊",{"$f":"IFERROR(VLOOKUP(F622,[1]データ!$A$2:$B$16,2,FALSE),\"\")","v":1},501521,950,null,null,null,null,null,null,null,null,0,null,null,null,null,null,null,null,null,null,null,null,null,null,null,null,null,null,null,null,null,null,null,null,null,null,null,null,null,null,null,null,null,null,null,null,null,null,null,null,null,null,null,null,null,null,null,null,null,null,0]
[624,50119,"新井",null,"合","朝刊",{"$f":"IFERROR(VLOOKUP(F623,[1]データ!$A$2:$B$16,2,FALSE),\"\")","v":1},501191,5300,null,null,null,null,null,null,null,null,0,null,null,null,null,null,null,null,null,null,null,null,null,null,null,null,null,null,null,null,null,null,null,null,null,null,null,null,null,null,null,null,null,null,null,null,null,null,null,null,null,null,null,null,null,null,null,null,null,null,0]
[625,50120,"新井学校町","新井南","合","朝刊",{"$f":"IFERROR(VLOOKUP(F624,[1]データ!$A$2:$B$16,2,FALSE),\"\")","v":1},501201,1240,null,null,null,null,null,null,null,null,0,null,null,null,null,null,null,null,null,null,null,null,null,null,null,null,null,null,null,null,null,null,null,null,null,null,null,null,null,null,null,null,null,null,null,null,null,null,null,null,null,null,null,null,null,null,null,null,null,null,0]
[626,50121,"新井南","新井南","合","朝刊",{"$f":"IFERROR(VLOOKUP(F625,[1]データ!$A$2:$B$16,2,FALSE),\"\")","v":1},501211,870,null,null,null,null,null,null,null,null,0,null,null,null,null,null,null,null,null,null,null,null,null,null,null,null,null,null,null,null,null,null,null,null,null,null,null,null,null,null,null,null,null,null,null,null,null,null,null,null,null,null,null,null,null,null,null,null,null,null,0]
[627,50122,"関山",null,"合","朝刊",{"$f":"IFERROR(VLOOKUP(F626,[1]データ!$A$2:$B$16,2,FALSE),\"\")","v":1},501221,870,null,null,null,null,null,null,null,null,0,null,null,null,null,null,null,null,null,null,null,null,null,null,null,null,null,null,null,null,null,null,null,null,null,null,null,null,null,null,null,null,null,null,null,null,null,null,null,null,null,null,null,null,null,null,null,null,null,null,0]
[628,50123,"妙高",null,"合","朝刊",{"$f":"IFERROR(VLOOKUP(F627,[1]データ!$A$2:$B$16,2,FALSE),\"\")","v":1},501231,530,null,null,null,null,null,null,null,null,0,null,null,null,null,null,null,null,null,null,null,null,null,null,null,null,null,null,null,null,null,null,null,null,null,null,null,null,null,null,null,null,null,null,null,null,null,null,null,null,null,null,null,null,null,null,null,null,null,null,0]
[629,50124,"赤倉",null,"合","朝刊",{"$f":"IFERROR(VLOOKUP(F628,[1]データ!$A$2:$B$16,2,FALSE),\"\")","v":1},501241,650,null,null,null,null,null,null,null,null,0,null,null,null,null,null,null,null,null,null,null,null,null,null,null,null,null,null,null,null,null,null,null,null,null,null,null,null,null,null,null,null,null,null,null,null,null,null,null,null,null,null,null,null,null,null,null,null,null,null,0]
[630,50125,"柿崎",null,"合","朝刊",{"$f":"IFERROR(VLOOKUP(F629,[1]データ!$A$2:$B$16,2,FALSE),\"\")","v":1},501251,2250,null,null,null,null,null,null,null,null,0,null,null,null,null,null,null,null,null,null,null,null,null,null,null,null,null,null,null,null,null,null,null,null,null,null,null,null,null,null,null,null,null,null,null,null,null,null,null,null,null,null,null,null,null,null,null,null,null,null,0]
[631,50126,"吉川",null,"合","朝刊",{"$f":"IFERROR(VLOOKUP(F630,[1]データ!$A$2:$B$16,2,FALSE),\"\")","v":1},501261,780,null,null,null,null,null,null,null,null,0,null,null,null,null,null,null,null,null,null,null,null,null,null,null,null,null,null,null,null,null,null,null,null,null,null,null,null,null,null,null,null,null,null,null,null,null,null,null,null,null,null,null,null,null,null,null,null,null,null,0]
[632,50127,"大潟",null,"合","朝刊",{"$f":"IFERROR(VLOOKUP(F631,[1]データ!$A$2:$B$16,2,FALSE),\"\")","v":1},501271,1580,null,null,null,null,null,null,null,null,0,null,null,null,null,null,null,null,null,null,null,null,null,null,null,null,null,null,null,null,null,null,null,null,null,null,null,null,null,null,null,null,null,null,null,null,null,null,null,null,null,null,null,null,null,null,null,null,null,null,0]
[633,50128,"犀潟",null,"合","朝刊",{"$f":"IFERROR(VLOOKUP(F632,[1]データ!$A$2:$B$16,2,FALSE),\"\")","v":1},501281,800,null,null,null,null,null,null,null,null,0,null,null,null,null,null,null,null,null,null,null,null,null,null,null,null,null,null,null,null,null,null,null,null,null,null,null,null,null,null,null,null,null,null,null,null,null,null,null,null,null,null,null,null,null,null,null,null,null,null,0]
[634,50129,"百間町",null,"合","朝刊",{"$f":"IFERROR(VLOOKUP(F633,[1]データ!$A$2:$B$16,2,FALSE),\"\")","v":1},501291,780,null,null,null,null,null,null,null,null,0,null,null,null,null,null,null,null,null,null,null,null,null,null,null,null,null,null,null,null,null,null,null,null,null,null,null,null,null,null,null,null,null,null,null,null,null,null,null,null,null,null,null,null,null,null,null,null,null,null,0]
[635,50130,"明治","上越三和","合","朝刊",{"$f":"IFERROR(VLOOKUP(F634,[1]データ!$A$2:$B$16,2,FALSE),\"\")","v":1},501301,350,null,null,null,null,null,null,null,null,0,null,null,null,null,null,null,null,null,null,null,null,null,null,null,null,null,null,null,null,null,null,null,null,null,null,null,null,null,null,null,null,null,null,null,null,null,null,null,null,null,null,null,null,null,null,null,null,null,null,0]
[636,50131,"浦川原","安塚","合","朝刊",{"$f":"IFERROR(VLOOKUP(F635,[1]データ!$A$2:$B$16,2,FALSE),\"\")","v":1},501311,750,null,null,null,null,null,null,null,null,0,null,null,null,null,null,null,null,null,null,null,null,null,null,null,null,null,null,null,null,null,null,null,null,null,null,null,null,null,null,null,null,null,null,null,null,null,null,null,null,null,null,null,null,null,null,null,null,null,null,0]
[637,50132,"安塚","安塚",null,"朝刊",{"$f":"IFERROR(VLOOKUP(F636,[1]データ!$A$2:$B$16,2,FALSE),\"\")","v":1},501321," ",null,null,null,null,null,null,null,null,0,null,null,null,null,null,null,null,null,null,null,null,null,null,null,null,null,null,null,null,null,null,null,null,null,null,null,null,null,null,null,null,null,null,null,null,null,null,null,null,null,null,null,null,null,null,null,null,null,null,0]
[638,50133,"上越安塚",null,"合","朝刊",{"$f":"IFERROR(VLOOKUP(F637,[1]データ!$A$2:$B$16,2,FALSE),\"\")","v":1},501331,570,null,null,null,null,null,null,null,null,0,null,null,null,null,null,null,null,null,null,null,null,null,null,null,null,null,null,null,null,null,null,null,null,null,null,null,null,null,null,null,null,null,null,null,null,null,null,null,null,null,null,null,null,null,null,null,null,null,null,0]
[639,50134,"大島",null,"合","朝刊",{"$f":"IFERROR(VLOOKUP(F638,[1]データ!$A$2:$B$16,2,FALSE),\"\")","v":1},501341,350,null,null,null,null,null,null,null,null,0,null,null,null,null,null,null,null,null,null,null,null,null,null,null,null,null,null,null,null,null,null,null,null,null,null,null,null,null,null,null,null,null,null,null,null,null,null,null,null,null,null,null,null,null,null,null,null,null,null,0]
[640,50135,"松代","松代","合","朝刊",{"$f":"IFERROR(VLOOKUP(F639,[1]データ!$A$2:$B$16,2,FALSE),\"\")","v":1},501351,700,null,null,null,null,null,null,null,null,0,null,null,null,null,null,null,null,null,null,null,null,null,null,null,null,null,null,null,null,null,null,null,null,null,null,null,null,null,null,null,null,null,null,null,null,null,null,null,null,null,null,null,null,null,null,null,null,null,null,0]
[641,50136,"松之山","松代","合","朝刊",{"$f":"IFERROR(VLOOKUP(F640,[1]データ!$A$2:$B$16,2,FALSE),\"\")","v":1},501361,460,null,null,null,null,null,null,null,null,0,null,null,null,null,null,null,null,null,null,null,null,null,null,null,null,null,null,null,null,null,null,null,null,null,null,null,null,null,null,null,null,null,null,null,null,null,null,null,null,null,null,null,null,null,null,null,null,null,null,0]
[642,50137,"糸魚川",null,"新マ","朝刊",{"$f":"IFERROR(VLOOKUP(F641,[1]データ!$A$2:$B$16,2,FALSE),\"\")","v":1},501371,2900,null,null,null,null,null,null,null,null,0,null,null,null,null,null,null,null,null,null,null,null,null,null,null,null,null,null,null,null,null,null,null,null,null,null,null,null,null,null,null,null,null,null,null,null,null,null,null,null,null,null,null,null,null,null,null,null,null,null,0]
[643,50138,"糸魚川綱島","糸魚川綱島","ヨアサ日","朝刊",{"$f":"IFERROR(VLOOKUP(F642,[1]データ!$A$2:$B$16,2,FALSE),\"\")","v":1},501381,3150,null,null,null,null,null,null,null,null,0,null,null,null,null,null,null,null,null,null,null,null,null,null,null,null,null,null,null,null,null,null,null,null,null,null,null,null,null,null,null,null,null,null,null,null,null,null,null,null,null,null,null,null,null,null,null,null,null,null,0]
[644,50139,"早川",null,null,"朝刊",{"$f":"IFERROR(VLOOKUP(F643,[1]データ!$A$2:$B$16,2,FALSE),\"\")","v":1},501391,null,null,null,null,null,null,null,null,null,0,null,null,null,null,null,null,null,null,null,null,null,null,null,null,null,null,null,null,null,null,null,null,null,null,null,null,null,null,null,null,null,null,null,null,null,null,null,null,null,null,null,null,null,null,null,null,null,null,null,0]
[645,50140,"大和川吉岡","糸魚川綱島","ヨア","朝刊",{"$f":"IFERROR(VLOOKUP(F644,[1]データ!$A$2:$B$16,2,FALSE),\"\")","v":1},501401,400,null,null,null,null,null,null,null,null,0,null,null,null,null,null,null,null,null,null,null,null,null,null,null,null,null,null,null,null,null,null,null,null,null,null,null,null,null,null,null,null,null,null,null,null,null,null,null,null,null,null,null,null,null,null,null,null,null,null,{"$f":"SUM(U644:BO644)","v":0}]
[646,50142,"糸魚川東",null,"新マ","朝刊",{"$f":"IFERROR(VLOOKUP(F645,[1]データ!$A$2:$B$16,2,FALSE),\"\")","v":1},501421,1700,null,null,null,null,null,null,null,null,0,null,null,null,null,null,null,null,null,null,null,null,null,null,null,null,null,null,null,null,null,null,null,null,null,null,null,null,null,null,null,null,null,null,null,null,null,null,null,null,null,null,null,null,null,null,null,null,null,null,0]
[647,50143,"浦本田代","糸魚川綱島","ヨア","朝刊",{"$f":"IFERROR(VLOOKUP(F646,[1]データ!$A$2:$B$16,2,FALSE),\"\")","v":1},501431,100,null,null,null,null,null,null,null,null,0,null,null,null,null,null,null,null,null,null,null,null,null,null,null,null,null,null,null,null,null,null,null,null,null,null,null,null,null,null,null,null,null,null,null,null,null,null,null,null,null,null,null,null,null,null,null,null,null,null,0]
[648,50144,"根知","糸魚川綱島","合","朝刊",{"$f":"IFERROR(VLOOKUP(F647,[1]データ!$A$2:$B$16,2,FALSE),\"\")","v":1},501441,300,null,null,null,null,null,null,null,null,0,null,null,null,null,null,null,null,null,null,null,null,null,null,null,null,null,null,null,null,null,null,null,null,null,null,null,null,null,null,null,null,null,null,null,null,null,null,null,null,null,null,null,null,null,null,null,null,null,null,0]
[649,50148,"筒石",null,"合","朝刊",{"$f":"IFERROR(VLOOKUP(F648,[1]データ!$A$2:$B$16,2,FALSE),\"\")","v":1},501481,390,null,null,null,null,null,null,null,null,0,null,null,null,null,null,null,null,null,null,null,null,null,null,null,null,null,null,null,null,null,null,null,null,null,null,null,null,null,null,null,null,null,null,null,null,null,null,null,null,null,null,null,null,null,null,null,null,null,null,0]
[650,50149,"能生",null,"合","朝刊",{"$f":"IFERROR(VLOOKUP(F649,[1]データ!$A$2:$B$16,2,FALSE),\"\")","v":1},501491,1670,null,null,null,null,null,null,null,null,0,null,null,null,null,null,null,null,null,null,null,null,null,null,null,null,null,null,null,null,null,null,null,null,null,null,null,null,null,null,null,null,null,null,null,null,null,null,null,null,null,null,null,null,null,null,null,null,null,null,0]
[651,50150,"青海",null,"合","朝刊",{"$f":"IFERROR(VLOOKUP(F650,[1]データ!$A$2:$B$16,2,FALSE),\"\")","v":1},501501,1500,null,null,null,null,null,null,null,null,0,null,null,null,null,null,null,null,null,null,null,null,null,null,null,null,null,null,null,null,null,null,null,null,null,null,null,null,null,null,null,null,null,null,null,null,null,null,null,null,null,null,null,null,null,null,null,null,null,null,0]
[]
[null,50151,"小国販売所","山形新聞",null,"朝刊",1,501511,2800]

{"sheet":"識別一覧","index":1,"n_rows":209,"n_cols":47,"rows_kept":209,"cut":false,"hidden":true,"merged":[]}
["日報",null,null,null,null,null,null,null,null,null,null,null,null,null,null,null,"読売",null,null,null,null,null,null,null,null,null,null,null,null,null,null,null,"朝日"]
[1,2,3,4,5,6,7,8,9,10,11,12,13,14,15,null,1,2,3,4,5,6,7,8,9,10,11,12,13,14,15,null,1,2,3,4,5,6,7,8,9,10,11,12,13,14,15]
["販売店","販売店コード","朝刊　識別","市報・区報","くるみる","otona+","assh","assh・朝","n-assh","N-assh②","N-assh④","ｎ-assh・②朝","ｎ-assh・④朝","ミニック","ミニック朝",null,"販売店","販売店コード","朝刊　識別","市報・区報","くるみる","otona+","assh","assh・朝","n-assh","N-assh②","N-assh④","ｎ-assh・②朝","ｎ-assh・④朝","ミニック","ミニック朝",null,"販売店","販売店コード","朝刊　識別","市報・区報","くるみる","otona+","assh","assh・朝","n-assh","N-assh②","N-assh④","ｎ-assh・②朝","ｎ-assh・④朝","ミニック","ミニック朝"]
["万代",10101,101011,101012,101013,101014,101015,1010151,101016,1010161,1010163,1010162,1010164,101017,1010131,null,"本町",210167,2101671,2101672,2101673,2101674,2101675,21016751,2101676,21016761,21016763,21016762,21016764,2101677,21016731,null,"巻",20106,201061,201062,201063,201064,201065,2010651,201066,2010661,2010663,2010662,2010664,201067,2010631]
["駅南",10102,101021,101022,101023,101024,101025,1010251,101026,1010261,1010263,1010262,1010264,101027,1010231,null,"中央",210168,2101681,2101682,2101683,2101684,2101685,21016851,2101686,21016861,21016863,21016862,21016864,2101687,21016831,null,"両津",30102,301021,301022,301023,301024,301025,3010251,301026,3010261,3010263,3010262,3010264,301027,3010231]
["木戸",10103,101031,101032,101033,101034,101035,1010351,101036,1010361,1010363,1010362,1010364,101037,1010331,null,"小針",210169,2101691,2101692,2101693,2101694,2101695,21016951,2101696,21016961,21016963,21016962,21016964,2101697,21016931,null,"真野",30107,301071,301072,301073,301074,301075,3010751,301076,3010761,3010763,3010762,3010764,301077,3010731]
["石山東",10105,101051,101052,101053,101054,101055,1010551,101056,1010561,1010563,1010562,1010564,101057,1010531,null,"寺尾",210170,2101701,2101702,2101703,2101704,2101705,21017051,2101706,21017061,21017063,21017062,21017064,2101707,21017031,null,"新穂",30109,301091,301092,301093,301094,301095,3010951,301096,3010961,3010963,3010962,3010964,301097,3010931]
["山ノ下",10107,101071,101072,101073,101074,101075,1010751,101076,1010761,1010763,1010762,1010764,101077,1010731,null,"内野",210171,2101711,2101712,2101713,2101714,2101715,21017151,2101716,21017161,21017163,21017162,21017164,2101717,21017131,null,"畑野",30112,301121,301122,301123,301124,301125,3011251,301126,3011261,3011263,3011262,3011264,301127,3011231]
["物見山",10108,101081,101082,101083,101084,101085,1010851,101086,1010861,1010863,1010862,1010864,101087,1010831,null,"小新黒埼",210172,2101721,2101722,2101723,2101724,2101725,21017251,2101726,21017261,21017263,21017262,21017264,2101727,21017231,null,"相川",30118,301181,301182,301183,301184,301185,3011851,301186,3011861,3011863,3011862,3011864,301187,3011831]
["とやの",10109,101091,101092,101093,101094,101095,1010951,101096,1010961,1010963,1010962,1010964,101097,1010931,null,"黒埼南",210179,2101791,2101792,2101793,2101794,2101795,21017951,2101796,21017961,21017963,21017962,21017964,2101797,21017931,null,"小木",30125,301251,301252,301253,301254,301255,3012551,301256,3012561,3012563,3012562,3012564,301257,3012531]
["県庁前",10111,101111,101112,101113,101114,101115,1011151,101116,1011161,1011163,1011162,1011164,101117,1011131,null,"万代",210158,2101581,2101582,2101583,2101584,2101585,21015851,2101586,21015861,21015863,21015862,21015864,2101587,21015831,null,"高田",50104,501041,501042,501043,501044,501045,5010451,501046,5010461,5010463,5010462,5010464,501047,5010431]
["愛宕",10113,101131,101132,101133,101134,101135,1011351,101136,1011361,1011363,1011362,1011364,101137,1011331,null,"県庁前",210159,2101591,2101592,2101593,2101594,2101595,21015951,2101596,21015961,21015963,21015962,21015964,2101597,21015931,null,"直江津",50116,501161,501162,501163,501164,501165,5011651,501166,5011661,5011663,5011662,5011664,501167,5011631]
["河渡",10114,101141,101142,101143,101144,101145,1011451,101146,1011461,1011463,1011462,1011464,101147,1011431,null,"駅南東",210160,2101601,2101602,2101603,2101604,2101605,21016051,2101606,21016061,21016063,21016062,21016064,2101607,21016031]
["牡丹山",10115,101151,101152,101153,101154,101155,1011551,101156,1011561,1011563,1011562,1011564,101157,1011531,null,"山木戸",210162,2101621,2101622,2101623,2101624,2101625,21016251,2101626,21016261,21016263,21016262,21016264,2101627,21016231]
["大形",10116,101161,101162,101163,101164,101165,1011651,101166,1011661,1011663,1011662,1011664,101167,1011631,null,"山ノ下",210163,2101631,2101632,2101633,2101634,2101635,21016351,2101636,21016361,21016363,21016362,21016364,2101637,21016331,null,"産経"]
["松浜",10117,101171,101172,101173,101174,101175,1011751,101176,1011761,1011763,1011762,1011764,101177,1011731,null,"松浜",210164,2101641,2101642,2101643,2101644,2101645,21016451,2101646,21016461,21016463,21016462,21016464,2101647,21016431,null,"販売店","販売店コード","朝刊　識別","市報・区報","くるみる","otona+","assh","assh・朝","n-assh","N-assh②","N-assh④","ｎ-assh・②朝","ｎ-assh・④朝","ミニック","ミニック朝"]
["新潟南",10118,101181,101182,101183,101184,101185,1011851,101186,1011861,1011863,1011862,1011864,101187,1011831,null,"亀田",210166,2101661,2101662,2101663,2101664,2101665,21016651,2101666,21016661,21016663,21016662,21016664,2101667,21016631,null,"見附",40134,401341,401342,401343,401344,401345,4013451,401346,4013461,4013463,4013462,4013464,401347,4013431]
["姥ケ山",10119,101191,101192,101193,101194,101195,1011951,101196,1011961,1011963,1011962,1011964,101197,1011931,null,"巻",220107,2201071,2201072,2201073,2201074,2201075,22010751,2201076,22010761,22010763,22010762,22010764,2201077,22010731]
["山二ツ",10120,101201,101202,101203,101204,101205,1012051,101206,1012061,1012063,1012062,1012064,101207,1012031,null,"白根",220121,2201211,2201212,2201213,2201214,2201215,22012151,2201216,22012161,22012163,22012162,22012164,2201217,22012131]
["亀田西",10122,101221,101222,101223,101224,101225,1012251,101226,1012261,1012263,1012262,1012264,101227,1012231,null,"三条",220129,2201291,2201292,2201293,2201294,2201295,22012951,2201296,22012961,22012963,22012962,22012964,2201297,22012931]
["亀田",10123,101231,101232,101233,101234,101235,1012351,101236,1012361,1012363,1012362,1012364,101237,1012331,null,"燕",220134,2201341,2201342,2201343,2201344,2201345,22013451,2201346,22013461,22013463,22013462,22013464,2201347,22013431]
["横越",10176,101761,101762,101763,101764,101765,1017651,101766,1017661,1017663,1017662,1017664,101767,1017631,null,"加茂",220137,2201371,2201372,2201373,2201374,2201375,22013751,2201376,22013761,22013763,22013762,22013764,2201377,22013731]
["有明",10177,101771,101772,101773,101774,101775,1017751,101776,1017761,1017763,1017762,1017764,101777,1017731,null,"豊栄",220145,2201451,2201452,2201453,2201454,2201455,22014551,2201456,22014561,22014563,22014562,22014564,2201457,22014531]
["小針",10127,101271,101272,101273,101274,101275,1012751,101276,1012761,1012763,1012762,1012764,101277,1012731,null,"木崎",20146,201461,201462,201463,201464,201465,2014651,201466,2014661,2014663,2014662,2014664,201467,2014631]
["中通",10128,101281,101282,101283,101284,101285,1012851,101286,1012861,1012863,1012862,1012864,101287,1012831,null,"新発田",220152,2201521,2201522,2201523,2201524,2201525,22015251,2201526,22015261,22015263,22015262,22015264,2201527,22015231]
["本町",10130,101301,101302,101303,101304,101305,1013051,101306,1013061,1013063,1013062,1013064,101307,1013031,null,"中条",220156,2201561,2201562,2201563,2201564,2201565,22015651,2201566,22015661,22015663,22015662,22015664,2201567,22015631]
["中央",10131,101311,101312,101313,101314,101315,1013151,101316,1013161,1013163,1013162,1013164,101317,1013131,null,"水原",220160,2201601,2201602,2201603,2201604,2201605,22016051,2201606,22016061,22016063,22016062,22016064,2201607,22016031]
["真砂",10133,101331,101332,101333,101334,101335,1013351,101336,1013361,1013363,1013362,1013364,101337,1013331,null,"両津",230103,2301031,2301032,2301033,2301034,2301035,23010351,2301036,23010361,23010363,23010362,23010364,2301037,23010331]
["寺尾",10134,101341,101342,101343,101344,101345,1013451,101346,1013461,1013463,1013462,1013464,101347,1013431,null,"佐和田",230115,2301151,2301152,2301153,2301154,2301155,23011551,2301156,23011561,23011563,23011562,23011564,2301157,23011531]
["新大前",10135,101351,101352,101353,101354,101355,1013551,101356,1013561,1013563,1013562,1013564,101357,1013531,null,"沢根",230116,2301161,2301162,2301163,2301164,2301165,23011651,2301166,23011661,23011663,23011662,23011664,2301167,23011631]
["内野",10136,101361,101362,101363,101364,101365,1013651,101366,1013661,1013663,1013662,1013664,101367,1013631,null,"相川",230120,2301201,2301202,2301203,2301204,2301205,23012051,2301206,23012061,23012063,23012062,23012064,2301207,23012031]
["西内野",10137,101371,101372,101373,101374,101375,1013751,101376,1013761,1013763,1013762,1013764,101377,1013731,null,"小木",230126,2301261,2301262,2301263,2301264,2301265,23012651,2301266,23012661,23012663,23012662,23012664,2301267,23012631]
["小新",10140,101401,101402,101403,101404,101405,1014051,101406,1014061,1014063,1014062,1014064,101407,1014031,null,"長岡",240109,2401091,2401092,2401093,2401094,2401095,24010951,2401096,24010961,24010963,24010962,24010964,2401097,24010931]
["寺地",10141,101411,101412,101413,101414,101415,1014151,101416,1014161,1014163,1014162,1014164,101417,1014131,null,"長岡南部",240110,2401101,2401102,2401103,2401104,2401105,24011051,2401106,24011061,24011063,24011062,24011064,2401107,24011031]
["黒埼",10178,101781,101782,101783,101784,101785,1017851,101786,1017861,1017863,1017862,1017864,101787,1017831,null,"長岡西部",240112,2401121,2401122,2401123,2401124,2401125,24011251,2401126,24011261,24011263,24011262,24011264,2401127,24011231]
["黒埼南",10143,101431,101432,101433,101434,101435,1014351,101436,1014361,1014363,1014362,1014364,101437,1014331,null,"長岡宮内",240123,2401231,2401232,2401233,2401234,2401235,24012351,2401236,24012361,24012363,24012362,24012364,2401237,24012331]
["分水",20101,201011,201012,201013,201014,201015,2010151,201016,2010161,2010163,2010162,2010164,201017,2010131,null,"栃尾",240129,2401291,2401292,2401293,2401294,2401295,24012951,2401296,24012961,24012963,24012962,24012964,2401297,24012931]
["吉田",20102,201021,201022,201023,201024,201025,2010251,201026,2010261,2010263,2010262,2010264,201027,2010231,null,"見附",240133,2401331,2401332,2401333,2401334,2401335,24013351,2401336,24013361,24013363,24013362,24013364,2401337,24013331]
["粟生津",20104,201041,201042,201043,201044,201045,2010451,201046,2010461,2010463,2010462,2010464,201047,2010431,null,"今町",240136,2401361,2401362,2401363,2401364,2401365,24013651,2401366,24013661,24013663,24013662,24013664,2401367,24013631]
["巻",20105,201051,201052,201053,201054,201055,2010551,201056,2010561,2010563,2010562,2010564,201057,2010531,null,"来迎寺",240140,2401401,2401402,2401403,2401404,2401405,24014051,2401406,24014061,24014063,24014062,24014064,2401407,24014031]
["岩室",20108,201081,201082,201083,201084,201085,2010851,201086,2010861,2010863,2010862,2010864,201087,2010831,null,"小千谷",240153,2401531,2401532,2401533,2401534,2401535,24015351,2401536,24015361,24015363,24015362,24015364,2401537,24015331]
["西川",20109,201091,201092,201093,201094,201095,2010951,201096,2010961,2010963,2010962,2010964,201097,2010931,null,"十日町",240159,2401591,2401592,2401593,2401594,2401595,24015951,2401596,24015961,24015963,24015962,24015964,2401597,24015931]
["中之口",20110,201101,201102,201103,201104,201105,2011051,201106,2011061,2011063,2011062,2011064,201107,2011031,null,"小出",240170,2401701,2401702,2401703,2401704,2401705,24017051,2401706,24017061,24017063,24017062,24017064,2401707,24017031]
["弥彦",20111,201111,201112,201113,201114,201115,2011151,201116,2011161,2011163,2011162,2011164,201117,2011131,null,"六日町",240183,2401831,2401832,2401833,2401834,2401835,24018351,2401836,24018361,24018363,24018362,24018364,2401837,24018331]
["小須戸",20112,201121,201122,201123,201124,201125,2011251,201126,2011261,2011263,2011262,2011264,201127,2011231,null,"塩沢石打",240185,2401851,2401852,2401853,2401854,2401855,24018551,2401856,24018561,24018563,24018562,24018564,2401857,24018531]
["矢代田",20113,201131,201132,201133,201134,201135,2011351,201136,2011361,2011363,2011362,2011364,201137,2011331,null,"湯沢",240190,2401901,2401902,2401903,2401904,2401905,24019051,2401906,24019061,24019063,24019062,24019064,2401907,24019031]
["村松",20114,201141,201142,201143,201144,201145,2011451,201146,2011461,2011463,2011462,2011464,201147,2011431,null,"柏崎西部",240205,2402051,2402052,2402053,2402054,2402055,24020551,2402056,24020561,24020563,24020562,24020564,2402057,24020531]
["村松",20114,201141,201142,201143,201144,201145,2011451,201146,2011461,2011463,2011462,2011464,201147,2011431,null,"柏崎東部",240206,2402061,2402062,2402063,2402064,2402065,24020651,2402066,24020661,24020663,24020662,24020664,2402067,24020631]
["新津",20116,201161,201162,201163,201164,201165,2011651,201166,2011661,2011663,2011662,2011664,201167,2011631,null,"高田",250105,2501051,2501052,2501053,2501054,2501055,25010551,2501056,25010561,25010563,25010562,25010564,2501057,25010531]
["新津・荻川",20181,201811,201812,201813,201814,201815,2018151,201816,2018161,2018163,2018162,2018164,201817,2018131,null,"上越中央",250107,2501071,2501072,2501073,2501074,2501075,25010751,2501076,25010761,25010763,25010762,25010764,2501077,25010731]
["五泉",20117,201171,201172,201173,201174,201175,2011751,201176,2011761,2011763,2011762,2011764,201177,2011731,null,"脇野田",250106,2501061,2501062,2501063,2501064,2501065,25010651,2501066,25010661,25010663,25010662,25010664,2501067,25010631]
["五泉・馬下",20119,201191,201192,201193,201194,201195,2011951,201196,2011961,2011963,2011962,2011964,201197,2011931,null,"直江津",250115,2501151,2501152,2501153,2501154,2501155,25011551,2501156,25011561,25011563,25011562,25011564,2501157,25011531]
["保田・馬下",20183,201831,201832,201833,201834,201835,2018351,201836,2018361,2018363,2018362,2018364,201837,2018331,null,"糸魚川綱島",50138,501381,501382,501383,501384,501385,5013851,501386,5013861,5013863,5013862,5013864,501387,5013831]
["白根",20120,201201,201202,201203,201204,201205,2012051,201206,2012061,2012063,2012062,2012064,201207,2012031,null,"大和川吉岡",50140,501401,501402,501403,501404,501405,5014051,501406,5014061,5014063,5014062,5014064,501407,5014031]
["月潟",20122,201221,201222,201223,201224,201225,2012251,201226,2012261,2012263,2012262,2012264,201227,2012231,null,"浦本田代",50143,501431,501432,501433,501434,501435,5014351,501436,5014361,5014363,5014362,5014364,501437,5014331]
["新飯田",20123,201231,201232,201233,201234,201235,2012351,201236,2012361,2012363,2012362,2012364,201237,2012331]
["三条北",20124,201241,201242,201243,201244,201245,2012451,201246,2012461,2012463,2012462,2012464,201247,2012431]
["三条南",20125,201251,201252,201253,201254,201255,2012551,201256,2012561,2012563,2012562,2012564,201257,2012531]
["三条西",20126,201261,201262,201263,201264,201265,2012651,201266,2012661,2012663,2012662,2012664,201267,2012631]
["燕",20130,201301,201302,201303,201304,201305,2013051,201306,2013061,2013063,2013062,2013064,201307,2013031]
["燕南",20131,201311,201312,201313,201314,201315,2013151,201316,2013161,2013163,2013162,2013164,201317,2013131]
["加茂",20135,201351,201352,201353,201354,201355,2013551,201356,2013561,2013563,2013562,2013564,201357,2013531]
["下田",20139,201391,201392,201393,201394,201395,2013951,201396,2013961,2013963,2013962,2013964,201397,2013931]
["栄山嵜",20140,201401,201402,201403,201404,201405,2014051,201406,2014061,2014063,2014062,2014064,201407,2014031]
["栄吉田",20141,201411,201412,201413,201414,201415,2014151,201416,2014161,2014163,2014162,2014164,201417,2014131]
["帯織",20143,201431,201432,201433,201434,201435,2014351,201436,2014361,2014363,2014362,2014364,201437,2014331]
["豊栄",20179,201791,201792,201793,201794,201795,2017951,201796,2017961,2017963,2017962,2017964,201797,2017931]
["木崎",20146,201461,201462,201463,201464,201465,2014651,201466,2014661,2014663,2014662,2014664,201467,2014631]
["新発田西",20148,201481,201482,201483,201484,201485,2014851,201486,2014861,2014863,2014862,2014864,201487,2014831]
["新発田東",20149,201491,201492,201493,201494,201495,2014951,201496,2014961,2014963,2014962,2014964,201497,2014931]
["月岡",20153,201531,201532,201533,201534,201535,2015351,201536,2015361,2015363,2015362,2015364,201537,2015331]
["中条東",20154,201541,201542,201543,201544,201545,2015451,201546,2015461,2015463,2015462,2015464,201547,2015431]
["西中条",20155,201551,201552,201553,201554,201555,2015551,201556,2015561,2015563,2015562,2015564,201557,2015531]
["黒川",20157,201571,201572,201573,201574,201575,2015751,201576,2015761,2015763,2015762,2015764,201577,2015731]
["水原",20158,201581,201582,201583,201584,201585,2015851,201586,2015861,2015863,2015862,2015864,201587,2015831]
["保田",20161,201611,201612,201613,201614,201615,2016151,201616,2016161,2016163,2016162,2016164,201617,2016131]
["村上",20162,201621,201622,201623,201624,201625,2016251,201626,2016261,2016263,2016262,2016264,201627,2016231]
["岩船",20163,201631,201632,201633,201634,201635,2016351,201636,2016361,2016363,2016362,2016364,201637,2016331]
["越後早川",20164,201641,201642,201643,201644,201645,2016451,201646,2016461,2016463,2016462,2016464,201647,2016431]
["坂町",20165,201651,201652,201653,201654,201655,2016551,201656,2016561,2016563,2016562,2016564,201657,2016531]
["関川",20167,201671,201672,201673,201674,201675,2016751,201676,2016761,2016763,2016762,2016764,201677,2016731]
["府屋",20170,201701,201702,201703,201704,201705,2017051,201706,2017061,2017063,2017062,2017064,201707,2017031]
["黒川俣",20172,201721,201722,201723,201724,201725,2017251,201726,2017261,2017263,2017262,2017264,201727,2017231]
["津川",20173,201731,201732,201733,201734,201735,2017351,201736,2017361,2017363,2017362,2017364,201737,2017331]
["豊実",20174,201741,201742,201743,201744,201745,2017451,201746,2017461,2017463,2017462,2017464,201747,2017431]
["日出谷",20175,201751,201752,201753,201754,201755,2017551,201756,2017561,2017563,2017562,2017564,201757,2017531]
["鹿瀬",20176,201761,201762,201763,201764,201765,2017651,201766,2017661,2017663,2017662,2017664,201767,2017631]
["白崎",20177,201771,201772,201773,201774,201775,2017751,201776,2017761,2017763,2017762,2017764,201777,2017731]
["白崎・五十島",20178,201781,201782,201783,201784,201785,2017851,201786,2017861,2017863,2017862,2017864,201787,2017831]
["保田・五十島",20182,201821,201822,201823,201824,201825,2018251,201826,2018261,2018263,2018262,2018264,201827,2018231]
["両津",30101,301011,301012,301013,301014,301015,3010151,301016,3010161,3010163,3010162,3010164,301017,3010131]
["吉井",30105,301051,301052,301053,301054,301055,3010551,301056,3010561,3010563,3010562,3010564,301057,3010531]
["真野",30106,301061,301062,301063,301064,301065,3010651,301066,3010661,3010663,3010662,3010664,301067,3010631]
["新穂",30108,301081,301082,301083,301084,301085,3010851,301086,3010861,3010863,3010862,3010864,301087,3010831]
["畑野",30111,301111,301112,301113,301114,301115,3011151,301116,3011161,3011163,3011162,3011164,301117,3011131]
["佐和田",30114,301141,301142,301143,301144,301145,3011451,301146,3011461,3011463,3011462,3011464,301147,3011431]
["相川",30110,301101,301102,301103,301104,301105,3011051,301106,3011061,3011063,3011062,3011064,301107,3011031]
["金井",30121,301211,301212,301213,301214,301215,3012151,301216,3012161,3012163,3012162,3012164,301217,3012131]
["羽茂",30122,301221,301222,301223,301224,301225,3012251,301226,3012261,3012263,3012262,3012264,301227,3012231]
["小木",30124,301241,301242,301243,301244,301245,3012451,301246,3012461,3012463,3012462,3012464,301247,3012431]
["赤泊",30127,301271,301272,301273,301274,301275,3012751,301276,3012761,3012763,3012762,3012764,301277,3012731]
["多田",30130,301301,301302,301303,301304,301305,3013051,301306,3013061,3013063,3013062,3013064,301307,3013031]
["長岡大手",40101,401011,401012,401013,401014,401015,4010151,401016,4010161,4010163,4010162,4010164,401017,4010131]
["長岡中央",40102,401021,401022,401023,401024,401025,4010251,401026,4010261,4010263,4010262,4010264,401027,4010231]
["長岡南",40300,403001,403002,403003,403004,403005,4030051,403006,4030061,4030063,4030062,4030064,403007,4030031]
["長岡東",40104,401041,401042,401043,401044,401045,4010451,401046,4010461,4010463,4010462,4010464,401047,4010431]
["長岡新保",40105,401051,401052,401053,401054,401055,4010551,401056,4010561,4010563,4010562,4010564,401057,4010531]
["長岡悠久",40106,401061,401062,401063,401064,401065,4010651,401066,4010661,4010663,4010662,4010664,401067,4010631]
["西長岡",40111,401111,401112,401113,401114,401115,4011151,401116,4011161,4011163,4011162,4011164,401117,4011131]
["関原",40113,401131,401132,401133,401134,401135,4011351,401136,4011361,4011363,4011362,4011364,401137,4011331]
["王寺川",40114,401141,401142,401143,401144,401145,4011451,401146,4011461,4011463,4011462,4011464,401147,4011431]
["長岡江陽",40115,401151,401152,401153,401154,401155,4011551,401156,4011561,4011563,4011562,4011564,401157,4011531]
["黒条",40116,401161,401162,401163,401164,401165,4011651,401166,4011661,4011663,4011662,4011664,401167,4011631]
["新組",40117,401171,401172,401173,401174,401175,4011751,401176,4011761,4011763,4011762,4011764,401177,4011731]
["長岡宮内",40121,401211,401212,401213,401214,401215,4012151,401216,4012161,4012163,4012162,4012164,401217,4012131]
["濁沢",40124,401241,401242,401243,401244,401245,4012451,401246,4012461,4012463,4012462,4012464,401247,4012431]
["岡南",40125,401251,401252,401253,401254,401255,4012551,401256,4012561,4012563,4012562,4012564,401257,4012531]
["六日市",40126,401261,401262,401263,401264,401265,4012651,401266,4012661,4012663,4012662,4012664,401267,4012631]
["栃尾",40127,401271,401272,401273,401274,401275,4012751,401276,4012761,4012763,4012762,4012764,401277,4012731]
["見附南",40130,401301,401302,401303,401304,401305,4013051,401306,4013061,4013063,4013062,4013064,401307,4013031]
["見附北",40131,401311,401312,401313,401314,401315,4013151,401316,4013161,4013163,4013162,4013164,401317,4013131]
["今町",40135,401351,401352,401353,401354,401355,4013551,401356,4013561,4013563,4013562,4013564,401357,4013531]
["越路",40139,401391,401392,401393,401394,401395,4013951,401396,4013961,4013963,4013962,4013964,401397,4013931]
["塚山",40141,401411,401412,401413,401414,401415,4014151,401416,4014161,4014163,4014162,4014164,401417,4014131]
["与板",40144,401441,401442,401443,401444,401445,4014451,401446,4014461,4014463,4014462,4014464,401447,4014431]
["大河津",40145,401451,401452,401453,401454,401455,4014551,401456,4014561,4014563,4014562,4014564,401457,4014531]
["寺泊",40146,401461,401462,401463,401464,401465,4014651,401466,4014661,4014663,4014662,4014664,401467,4014631]
["和島",40147,401471,401472,401473,401474,401475,4014751,401476,4014761,4014763,4014762,4014764,401477,4014731]
["西越",40148,401481,401482,401483,401484,401485,4014851,401486,4014861,4014863,4014862,4014864,401487,4014831]
["小千谷中央",40151,401511,401512,401513,401514,401515,4015151,401516,4015161,4015163,4015162,4015164,401517,4015131]
["小千谷東",40152,401521,401522,401523,401524,401525,4015251,401526,4015261,4015263,4015262,4015264,401527,4015231]
["片貝",40154,401541,401542,401543,401544,401545,4015451,401546,4015461,4015463,4015462,4015464,401547,4015431]
["岩沢",40155,401551,401552,401553,401554,401555,4015551,401556,4015561,4015563,4015562,4015564,401557,4015531]
["十日町西部",40156,401561,401562,401563,401564,401565,4015651,401566,4015661,4015663,4015662,4015664,401567,4015631]
["十日町東部",40157,401571,401572,401573,401574,401575,4015751,401576,4015761,4015763,4015762,4015764,401577,4015731]
["下条",40162,401621,401622,401623,401624,401625,4016251,401626,4016261,4016263,4016262,4016264,401627,4016231]
["魚沼中条",40163,401631,401632,401633,401634,401635,4016351,401636,4016361,4016363,4016362,4016364,401637,4016331]
["水沢",40164,401641,401642,401643,401644,401645,4016451,401646,4016461,4016463,4016462,4016464,401647,4016431]
["伊達",40165,401651,401652,401653,401654,401655,4016551,401656,4016561,4016563,4016562,4016564,401657,4016531]
["川口",40166,401661,401662,401663,401664,401665,4016651,401666,4016661,4016663,4016662,4016664,401667,4016631]
["堀之内",40167,401671,401672,401673,401674,401675,4016751,401676,4016761,4016763,4016762,4016764,401677,4016731]
["小出",40168,401681,401682,401683,401684,401685,4016851,401686,4016861,4016863,4016862,4016864,401687,4016831]
["魚沼北",40172,401721,401722,401723,401724,401725,4017251,401726,4017261,4017263,4017262,4017264,401727,4017231]
["浦佐",40176,401761,401762,401763,401764,401765,4017651,401766,4017661,4017663,4017662,4017664,401767,4017631]
["大崎",40178,401781,401782,401783,401784,401785,4017851,401786,4017861,4017863,4017862,4017864,401787,4017831]
["五日町",40179,401791,401792,401793,401794,401795,4017951,401796,4017961,4017963,4017962,4017964,401797,4017931]
["城内",40180,401801,401802,401803,401804,401805,4018051,401806,4018061,4018063,4018062,4018064,401807,4018031]
["六日町",40181,401811,401812,401813,401814,401815,4018151,401816,4018161,4018163,4018162,4018164,401817,4018131]
["塩沢",40184,401841,401842,401843,401844,401845,4018451,401846,4018461,4018463,4018462,4018464,401847,4018431]
["上田",40186,401861,401862,401863,401864,401865,4018651,401866,4018661,4018663,4018662,4018664,401867,4018631]
["石打",40187,401871,401872,401873,401874,401875,4018751,401876,4018761,4018763,4018762,4018764,401877,4018731]
["湯沢",40189,401891,401892,401893,401894,401895,4018951,401896,4018961,4018963,4018962,4018964,401897,4018931]
["十日町川西",40192,401921,401922,401923,401924,401925,4019251,401926,4019261,4019263,4019262,4019264,401927,4019231]
["仙田",40193,401931,401932,401933,401934,401935,4019351,401936,4019361,4019363,4019362,4019364,401937,4019331]
["田沢",40194,401941,401942,401943,401944,401945,4019451,401946,4019461,4019463,4019462,4019464,401947,4019431]
["津南",340197,3401971,3401972,3401973,3401974,3401975,3401978,3401979]
["上郷",40199,401991,401992,401993,401994,401995,4019951,401996,4019961,4019963,4019962,4019964,401997,4019931]
["森宮野原",40200,402001,402002,402003,402004,402005,4020051,402006,4020061,4020063,4020062,4020064,402007,4020031]
["柏崎中央",40229,402291,402292,402293,402294,402295,4022951,402296,4022961,4022963,4022962,4022964,402297,4022931]
["柏崎",40202,402021,402022,402023,402024,402025,4020251,402026,4020261,4020263,4020262,4020264,402027,4020231]
["柏崎",40202,402021,402022,402023,402024,402025,4020251,402026,4020261,4020263,4020262,4020264,402027,4020231]
["柏崎南",40203,402031,402032,402033,402034,402035,4020351,402036,4020361,4020363,4020362,4020364,402037,4020331]
["柏崎東",40207,402071,402072,402073,402074,402075,4020751,402076,4020761,4020763,4020762,4020764,402077,4020731]
["安田",40211,402111,402112,402113,402114,402115,4021151,402116,4021161,4021163,4021162,4021164,402117,4021131]
["北条",40212,402121,402122,402123,402124,402125,4021251,402126,4021261,4021263,4021262,4021264,402127,4021231]
["広田",40213,402131,402132,402133,402134,402135,4021351,402136,4021361,4021363,4021362,4021364,402137,4021331]
["米山",40228,402281,402282,402283,402284,402285,4022851,402286,4022861,4022863,4022862,4022864,402287,4022831]
["笠島",40216,402161,402162,402163,402164,402165,4021651,402166,4021661,4021663,4021662,4021664,402167,4021631]
["高柳",40217,402171,402172,402173,402174,402175,4021751,402176,4021761,4021763,4021762,4021764,402177,4021731]
["上小国",40219,402191,402192,402193,402194,402195,4021951,402196,4021961,4021963,4021962,4021964,402197,4021931]
["荒浜",40220,402201,402202,402203,402204,402205,4022051,402206,4022061,4022063,4022062,4022064,402207,4022031]
["西山",40221,402211,402212,402213,402214,402215,4022151,402216,4022161,4022163,4022162,4022164,402217,4022131]
["高田",50101,501011,501012,501013,501014,501015,5010151,501016,5010161,5010163,5010162,5010164,501017,5010131]
["高田南",50102,501021,501022,501023,501024,501025,5010251,501026,5010261,5010263,5010262,5010264,501027,5010231]
["木田",50103,501031,501032,501033,501034,501035,5010351,501036,5010361,5010363,5010362,5010364,501037,5010331]
["春日山",50106,501061,501062,501063,501064,501065,5010651,501066,5010661,5010663,5010662,5010664,501067,5010631]
["脇野田",50108,501081,501082,501083,501084,501085,5010851,501086,5010861,5010863,5010862,5010864,501087,5010831]
["上越東",50109,501091,501092,501093,501094,501095,5010951,501096,5010961,5010963,5010962,5010964,501097,5010931]
["上越東",50109,501091,501092,501093,501094,501095,5010951,501096,5010961,5010963,5010962,5010964,501097,5010931]
["上越三和",50112,501121,501122,501123,501124,501125,5011251,501126,5011261,5011263,5011262,5011264,501127,5011231]
["直江津",50113,501131,501132,501133,501134,501135,5011351,501136,5011361,5011363,5011362,5011364,501137,5011331]
["直江津東",50114,501141,501142,501143,501144,501145,5011451,501146,5011461,5011463,5011462,5011464,501147,5011431]
["黒井",50117,501171,501172,501173,501174,501175,5011751,501176,5011761,5011763,5011762,5011764,501177,5011731]
["名立谷浜",50152,501521,501522,501523,501524,501525,5015251,501526,5015261,5015263,5015262,5015264,501527,5015231]
["新井",50119,501191,501192,501193,501194,501195,5011951,501196,5011961,5011963,5011962,5011964,501197,5011931]
["新井学校町",50120,501201,501202,501203,501204,501205,5012051,501206,5012061,5012063,5012062,5012064,501207,5012031]
["新井南",50121,501211,501212,501213,501214,501215,5012151,501216,5012161,5012163,5012162,5012164,501217,5012131]
["関山",50122,501221,501222,501223,501224,501225,5012251,501226,5012261,5012263,5012262,5012264,501227,5012231]
["妙高",50123,501231,501232,501233,501234,501235,5012351,501236,5012361,5012363,5012362,5012364,501237,5012331]
["赤倉",50124,501241,501242,501243,501244,501245,5012451,501246,5012461,5012463,5012462,5012464,501247,5012431]
["柿崎",50125,501251,501252,501253,501254,501255,5012551,501256,5012561,5012563,5012562,5012564,501257,5012531]
["吉川",50126,501261,501262,501263,501264,501265,5012651,501266,5012661,5012663,5012662,5012664,501267,5012631]
["大潟",50127,501271,501272,501273,501274,501275,5012751,501276,5012761,5012763,5012762,5012764,501277,5012731]
["犀潟",50128,501281,501282,501283,501284,501285,5012851,501286,5012861,5012863,5012862,5012864,501287,5012831]
["百間町",50129,501291,501292,501293,501294,501295,5012951,501296,5012961,5012963,5012962,5012964,501297,5012931]
["明治",50130,501301,501302,501303,501304,501305,5013051,501306,5013061,5013063,5013062,5013064,501307,5013031]
["浦川原",50131,501311,501312,501313,501314,501315,5013151,501316,5013161,5013163,5013162,5013164,501317,5013131]
["上越安塚",50133,501331,501332,501333,501334,501335,5013351,501336,5013361,5013363,5013362,5013364,501337,5013331]
["大島",50134,501341,501342,501343,501344,501345,5013451,501346,5013461,5013463,5013462,5013464,501347,5013431]
["松代",50135,501351,501352,501353,501354,501355,5013551,501356,5013561,5013563,5013562,5013564,501357,5013531]
["松之山",50136,501361,501362,501363,501364,501365,5013651,501366,5013661,5013663,5013662,5013664,501367,5013631]
["糸魚川",50137,501371,501372,501373,501374,501375,5013751,501376,5013761,5013763,5013762,5013764,501377,5013731]
["糸魚川東",50142,501421,501422,501423,501424,501425,5014251,501426,5014261,5014263,5014262,5014264,501427,5014231]
["根知",50144,501441,501442,501443,501444,501445,5014451,501446,5014461,5014463,5014462,5014464,501447,5014431]
["筒石",50148,501481,501482,501483,501484,501485,5014851,501486,5014861,5014863,5014862,5014864,501487,5014831]
["能生",50149,501491,501492,501493,501494,501495,5014951,501496,5014961,5014963,5014962,5014964,501497,5014931]
["青海",50150,501501,501502,501503,501504,501505,5015051,501506,5015061,5015063,5015062,5015064,501507,5015031]
[]
["山形新聞小国販売所",50151,501511]

{"sheet":"表紙 ","index":2,"n_rows":31,"n_cols":19,"rows_kept":31,"cut":false,"hidden":false,"merged":[[5,3,5,8],[17,10,17,12],[23,4,24,7],[6,2,7,18]]}
[null,null,null,null,null,null,null,null,null,null,null,null,null,null,null,null,null,null,"２０２３年１２月１日 現在"]
[null,null,null,null,null,null,null,null,null,null,null,null,null,null,"　"]
[]
[]
[]
[]
[null,null,"折込広告部数表\n（新聞折込 / くるみる / Otona＋ / assh・n-assh）"]
[]
[]
[]
[]
[]
[]
[]
[]
[]
[]
[null,null,null,null,null,null,null," "]
[]
[null,null,null,null,null,null,null,null,null,null,null," "]
[]
[]
[null,null,null,null,null,null,null,null,null,null,"【　納品先　】"]
[null,null,null,null,null,null,null,null,null,null,"＜下越地区＞","流通本社　　　　　  〒950-1125  新潟市西区流通3-1-1"]
[null,null,null,null,null,null,null,null,null,null,null,null,null,"TEL 025-233-3500  FAX 025-233-3600"]
[null,null,null,null,null,null,null,null,null,null,"＜中越地区＞","長岡折込センター  〒940-2117　長岡市石動南町10-2"]
[null,null,null,null,"【　お問合せ先　】",null,null,null,null,null,null,null,null,"TEL 0258-47-4646  FAX 0258-47-4648"]
[null,null,null,null,"黒埼本社","〒950-1179  新潟市西区善久772-2",null,null,null,null,null,"柏崎営業所          〒945-0026　柏崎市藤元町14-7"]
[null,null,null,null,null,null,"TEL　０２５-３８３-８００８",null,null,null,null,null,null,"TEL 0257-22-5212  FAX 0257-24-8590"]
[null,null,null,null,null,null,"FAX　０２５-３８３-８００７",null,null,null,"＜上越地区＞","高田営業所          〒943-0823　上越市高土町1-6-4"]
[null,null,null,null,null,null,null,null,null,null,null,null,null,"TEL 025-522-2220  FAX 025-523-2950"]

{"sheet":"ご案内","index":3,"n_rows":0,"n_cols":0,"rows_kept":0,"cut":false,"hidden":false,"merged":[[27,2,27,8],[29,1,29,8],[30,1,30,8],[32,1,32,8],[32,10,32,12],[26,2,26,8],[12,1,12,8],[14,1,14,8],[16,1,16,8],[17,1,17,8],[19,1,19,8],[20,2,20,8],[21,2,21,8],[22,2,22,8],[23,1,23,8],[24,2,24,8],[25,2,25,8],[10,1,10,8],[1,1,1,8],[3,1,3,8],[5,1,5,8],[7,1,7,8],[8,1,8,8]]}

{"sheet":"新潟市","index":4,"n_rows":43,"n_cols":93,"rows_kept":43,"cut":false,"hidden":false,"merged":[[8,0,41,0],[38,16,38,18],[3,63,3,70],[4,63,4,70],[35,16,35,18],[35,25,35,27],[35,28,35,30],[29,37,29,48],[30,37,30,48],[27,37,27,48],[28,37,28,48],[25,37,25,48],[26,37,26,48],[20,49,20,51],[20,52,20,53],[21,16,21,18],[21,19,21,21],[36,37,36,48],[37,37,37,48],[37,25,37,27],[37,28,37,30],[37,31,37,33],[31,37,31,48],[26,34,26,36],[38,1,38,3],[37,16,37,18],[37,1,37,3],[37,4,37,6],[37,7,37,9],[37,10,37,12],[37,13,37,15],[38,4,38,6],[38,7,38,9],[38,10,38,12],[38,13,38,15],[37,19,37,21],[37,22,37,24],[35,31,35,33],[35,34,35,36],[36,34,36,36],[38,19,38,21],[38,22,38,24],[34,34,34,36],[34,19,34,21],[34,22,34,24],[34,25,34,27],[34,28,34,30],[34,31,34,33],[36,28,36,30],[36,31,36,33],[35,19,35,21],[35,22,35,24],[36,22,36,24],[36,25,36,27],[37,34,37,36],[31,19,31,21],[31,22,31,24],[33,19,33,21],[33,22,33,24],[26,19,26,21],[26,22,26,24],[33,37,33,48],[34,37,34,48],[35,37,35,48],[33,25,33,27],[33,28,33,30],[33,31,33,33],[33,34,33,36],[32,37,32,48],[26,25,26,27],[26,28,26,30],[26,31,26,33],[36,16,36,18],[36,19,36,21],[41,60,41,70],[41,37,41,48],[40,22,40,24],[38,25,38,27],[38,28,38,30],[38,31,38,33],[38,34,38,36],[38,37,38,48],[39,37,39,48],[40,37,40,48],[41,57,41,59],[39,22,39,24],[39,25,39,27],[41,54,41,56],[41,51,41,53],[41,49,41,50],[40,16,40,18],[40,19,40,21],[41,16,41,18],[41,19,41,21],[41,22,41,24],[41,34,41,36],[39,34,39,36],[41,1,41,2],[41,3,41,6],[41,7,41,9],[40,28,40,30],[40,31,40,33],[40,34,40,36],[39,31,39,33],[39,28,39,30],[40,10,40,12],[40,13,40,15],[39,16,39,18],[39,19,39,21],[41,10,41,12],[41,13,41,15],[40,25,40,27],[40,1,40,3],[40,4,40,6],[40,7,40,9],[39,1,39,3],[39,4,39,6],[39,7,39,9],[39,10,39,12],[39,13,39,15],[33,1,33,3],[33,4,33,6],[33,7,33,9],[33,10,33,12],[35,10,35,12],[33,13,33,15],[36,13,36,15],[35,1,35,3],[35,4,35,6],[35,7,35,9],[36,10,36,12],[34,1,34,3],[34,4,34,6],[34,7,34,9],[34,10,34,12],[34,13,34,15],[35,13,35,15],[36,1,36,3],[36,4,36,6],[36,7,36,9],[34,16,34,18],[33,16,33,18],[31,1,31,3],[31,4,31,6],[31,7,31,9],[31,10,31,12],[31,13,31,15],[32,34,32,36],[32,19,32,21],[32,22,32,24],[32,25,32,27],[32,28,32,30],[32,31,32,33],[32,1,32,3],[32,4,32,6],[32,7,32,9],[32,10,32,12],[32,13,32,15],[31,25,31,27],[31,28,31,30],[31,31,31,33],[31,34,31,36],[31,16,31,18],[32,16,32,18],[29,1,29,3],[29,4,29,6],[29,7,29,9],[29,10,29,12],[29,13,29,15],[30,34,30,36],[30,19,30,21],[30,22,30,24],[30,25,30,27],[30,28,30,30],[30,31,30,33],[30,1,30,3],[30,4,30,6],[30,7,30,9],[30,10,30,12],[30,13,30,15],[29,25,29,27],[29,28,29,30],[29,31,29,33],[29,34,29,36],[29,16,29,18],[30,16,30,18],[29,19,29,21],[29,22,29,24],[27,1,27,3],[27,4,27,6],[27,7,27,9],[27,10,27,12],[27,13,27,15],[28,34,28,36],[28,19,28,21],[28,22,28,24],[28,25,28,27],[28,28,28,30],[28,31,28,33],[28,1,28,3],[28,4,28,6],[28,7,28,9],[28,10,28,12],[28,13,28,15],[27,25,27,27],[27,28,27,30],[27,31,27,33],[27,34,27,36],[27,16,27,18],[28,16,28,18],[27,19,27,21],[27,22,27,24],[26,1,26,3],[26,4,26,6],[26,7,26,9],[26,10,26,12],[26,13,26,15],[26,16,26,18],[23,28,23,30],[23,31,23,33],[23,34,23,36],[24,31,24,33],[23,16,23,18],[23,19,23,21],[25,1,25,3],[25,4,25,6],[25,7,25,9],[25,10,25,12],[25,13,25,15],[25,25,25,27],[25,28,25,30],[25,31,25,33],[25,34,25,36],[25,16,25,18],[25,19,25,21],[25,22,25,24],[23,37,23,48],[23,22,23,24],[21,22,21,24],[22,25,22,27],[21,37,21,48],[20,37,20,48],[24,37,24,48],[23,1,23,3],[23,4,23,6],[23,7,23,9],[23,10,23,12],[23,13,23,15],[24,34,24,36],[24,16,24,18],[24,19,24,21],[24,22,24,24],[24,25,24,27],[24,28,24,30],[24,1,24,3],[24,4,24,6],[24,7,24,9],[24,10,24,12],[24,13,24,15],[23,25,23,27],[22,37,22,48],[21,1,21,3],[21,4,21,6],[21,7,21,9],[21,10,21,12],[21,13,21,15],[22,34,22,36],[22,60,22,70],[22,1,22,3],[22,4,22,6],[22,7,22,9],[22,10,22,12],[22,13,22,15],[21,25,21,27],[21,28,21,30],[21,31,21,33],[21,34,21,36],[22,28,22,30],[22,31,22,33],[21,49,21,51],[22,16,22,18],[22,19,22,21],[22,22,22,24],[21,52,21,53],[19,1,19,3],[19,4,19,6],[19,7,19,9],[19,10,19,12],[19,13,19,15],[20,34,20,36],[20,16,20,18],[20,19,20,21],[20,22,20,24],[20,25,20,27],[20,28,20,30],[20,31,20,33],[19,16,19,18],[19,19,19,21],[19,22,19,24],[20,1,20,3],[20,4,20,6],[20,7,20,9],[20,10,20,12],[19,25,19,27],[20,13,20,15],[19,28,19,30],[19,31,19,33],[19,34,19,36],[17,28,17,30],[17,31,17,33],[17,34,17,36],[17,37,17,48],[17,57,17,59],[19,37,19,48],[19,57,19,59],[18,37,18,48],[17,49,17,51],[17,52,17,53],[17,54,17,56],[18,34,18,36],[18,28,18,30],[18,31,18,33],[18,54,18,56],[18,57,18,59],[18,49,18,51],[18,52,18,53],[19,49,19,51],[19,52,19,53],[19,54,19,56],[17,16,17,18],[17,19,17,21],[17,22,17,24],[18,1,18,3],[18,4,18,6],[18,7,18,9],[18,10,18,12],[18,13,18,15],[17,25,17,27],[17,1,17,3],[17,4,17,6],[17,7,17,9],[17,10,17,12],[17,13,17,15],[18,16,18,18],[18,19,18,21],[18,22,18,24],[18,25,18,27],[16,37,16,48],[15,49,15,51],[15,52,15,53],[15,54,15,56],[16,34,16,36],[16,16,16,18],[16,19,16,21],[16,22,16,24],[16,25,16,27],[16,28,16,30],[16,31,16,33],[16,49,16,51],[16,52,16,53],[16,1,16,3],[16,4,16,6],[16,7,16,9],[16,10,16,12],[16,13,16,15],[15,1,15,3],[15,4,15,6],[15,7,15,9],[15,10,15,12],[15,13,15,15],[12,34,12,36],[12,16,12,18],[12,19,12,21],[12,22,12,24],[12,25,12,27],[12,28,12,30],[13,60,13,70],[15,37,15,48],[13,49,13,51],[13,52,13,53],[13,54,13,56],[15,34,15,36],[15,16,15,18],[15,19,15,21],[15,22,15,24],[15,25,15,27],[15,28,15,30],[15,31,15,33],[13,37,13,48],[14,49,14,51],[14,52,14,53],[15,57,15,59],[15,60,15,70],[14,37,14,48],[14,34,14,36],[14,16,14,18],[14,19,14,21],[14,22,14,24],[14,25,14,27],[14,28,14,30],[14,31,14,33],[13,28,13,30],[13,31,13,33],[13,34,13,36],[12,31,12,33],[13,16,13,18],[13,19,13,21],[13,22,13,24],[14,1,14,3],[14,4,14,6],[14,7,14,9],[14,10,14,12],[14,13,14,15],[13,25,13,27],[13,1,13,3],[13,4,13,6],[13,7,13,9],[13,10,13,12],[13,13,13,15],[11,1,11,3],[11,4,11,6],[11,7,11,9],[11,10,11,12],[11,13,11,15],[12,1,12,3],[12,4,12,6],[12,7,12,9],[12,10,12,12],[12,13,12,15],[10,34,10,36],[10,16,10,18],[10,19,10,21],[10,22,10,24],[10,25,10,27],[10,28,10,30],[10,31,10,33],[11,25,11,27],[11,28,11,30],[11,31,11,33],[11,34,11,36],[11,16,11,18],[11,19,11,21],[11,22,11,24],[12,37,12,48],[10,49,10,51],[10,52,10,53],[10,54,10,56],[9,37,9,48],[8,57,8,59],[10,37,10,48],[8,49,8,51],[8,52,8,53],[8,54,8,56],[9,54,9,56],[11,37,11,48],[9,49,9,51],[9,52,9,53],[11,49,11,51],[11,52,11,53],[12,57,12,59],[8,37,8,48],[12,49,12,51],[12,52,12,53],[12,54,12,56],[9,1,9,3],[9,4,9,6],[9,7,9,9],[9,10,9,12],[9,13,9,15],[9,16,9,18],[9,19,9,21],[9,22,9,24],[8,34,8,36],[8,16,8,18],[8,19,8,21],[8,22,8,24],[9,31,9,33],[9,34,9,36],[6,37,7,48],[6,1,6,24],[6,49,6,59],[7,4,7,6],[7,1,7,3],[7,52,7,53],[7,54,7,56],[7,57,7,59],[3,56,3,62],[7,49,7,51],[7,10,7,12],[7,28,7,30],[7,31,7,33],[7,34,7,36],[7,16,7,18],[7,19,7,21],[7,22,7,24],[0,22,0,23],[0,60,0,70],[1,0,1,11],[1,12,1,28],[1,29,1,33],[1,34,1,48],[2,34,4,48],[3,0,3,11],[3,12,3,28],[4,0,4,11],[2,27,2,28],[4,27,4,28],[2,12,2,26],[4,12,4,26],[2,0,2,11],[1,49,1,55],[2,49,2,55],[3,49,3,55],[3,29,3,33],[2,29,2,33],[4,29,4,33],[4,56,4,62],[4,49,4,55],[1,56,1,62],[6,0,7,0],[41,31,41,33],[41,28,41,30],[41,25,41,27],[8,13,8,15],[6,25,6,30],[6,31,6,36],[7,7,7,9],[7,13,7,15],[8,25,8,27],[8,28,8,30],[8,31,8,33],[8,1,8,3],[8,4,8,6],[8,7,8,9],[8,10,8,12],[10,1,10,3],[10,4,10,6],[10,7,10,9],[10,10,10,12],[10,13,10,15],[9,25,9,27],[9,28,9,30],[7,25,7,27],[1,63,1,70],[6,60,7,70],[3,72,3,73],[4,72,4,73],[10,60,10,70],[8,60,8,70],[9,57,9,59],[9,60,9,70],[11,54,11,56],[11,57,11,59],[11,60,11,70],[10,57,10,59],[2,56,2,62],[2,63,2,70],[6,87,6,90],[22,57,22,59],[22,54,22,56],[22,52,22,53],[22,49,22,51],[21,54,21,56],[21,57,21,59],[6,72,6,77],[6,82,6,85],[14,54,14,56],[14,57,14,59],[14,60,14,70],[16,54,16,56],[16,57,16,59],[16,60,16,70],[12,60,12,70],[13,57,13,59],[17,60,17,70],[18,60,18,70],[19,60,19,70],[20,57,20,59],[20,60,20,70],[20,54,20,56],[21,60,21,70]]}
[null,null,null,null,null,null,null,null,null,null,null,null,null,null,null,null,null,null,null,null,null,null,null,null,null,null,null,null,null,null,null,null,null,null,null,null,null,null,null,null,null,null,null,null,null,null,null,null,null,null,null,null,null,null,null,null,null,null,null,null,{"$f":"'表紙 '!S1","v":"２０２３年１２月１日 現在"}]
["折込日",null,null,null,null,null,null,null,null,null,null,null,"スポンサー名",null,null,null,null,null,null,null,null,null,null,null,null,null,null,null,null,"サイズ",null,null,null,null,"チラシ内容・タイトル詳細",null,null,null,null,null,null,null,null,null,null,null,null,null,null,"朝刊　小計",null,null,null,null,null,null,"Otona＋　小計",null,null,null,null,null,null,"ページ枚数"]
["2023/--/--",null,null,null,null,null,null,null,null,null,null,null,null,null,null,null,null,null,null,null,null,null,null,null,null,null,null,"様",null,null,null,null,null,null,null,null,null,null,null,null,null,null,null,null,null,null,null,null,null,{"$f":"BY42+CG42","v":0},null,null,null,null,null,null,{"$f":"AI42","v":0},null,null,null,null,null,null,{"$f":"AX3+AX5+BE3+BE5","v":0}]
["assh　ポスティング日",null,null,null,null,null,null,null,null,null,null,null,"ご請求先名",null,null,null,null,null,null,null,null,null,null,null,null,null,null,null,null,"ガタチラ 掲載",null,null,null,null,null,null,null,null,null,null,null,null,null,null,null,null,null,null,null,"くるみる　小計",null,null,null,null,null,null,"assh　小計",null,null,null,null,null,null,"総枚数",null,null,null,null,null,null,null,null,"チラシコード"]
["2023/--/--",null,null,null,null,null,null,null,null,null,null,null,null,null,null,null,null,null,null,null,null,null,null,null,null,null,null,"様",null,null,null,null,null,null,null,null,null,null,null,null,null,null,null,null,null,null,null,null,null,{"$f":"CA42","v":0},null,null,null,null,null,null,{"$f":"AC42","v":0},null,null,null,null,null,null,{"$f":"BL3+下越1!BL3+下越２!BL3+中越1!BP3+中越２!BL3+上越1!BL3+上越２!BL3","v":0},null,null,null,null,null,null,null,null,{"$f":"VLOOKUP(AD3,折込指示!$D$2:$E$23,2,FALSE)","v":{"$error":"#N/A"}}]
[]
["01","新潟日報　",null,null,null,null,null,null,null,null,null,null,null,null,null,null,null,null,null,null,null,null,null,null,null,"ポスティング（assh）",null,null,null,null,null,"Otona+",null,null,null,null,null,"備考",null,null,null,null,null,null,null,null,null,null,null,"中央紙",null,null,null,null,null,null,null,null,null,null,"備考",null,null,null,null,null,null,null,null,null,null,null,"朝刊",null,null,null,null,null,"くるみる","assh","otona",null,"中央紙　朝刊",null,null,null,null,"日報",null,null,null,null,"中央紙"]
[null,"販売店名",null,null,"取扱い紙",null,null,"朝刊＋くるみる",null,null,"配布数",null,null,"朝刊扱数",null,null,"配布数",null,null,"朝刊数",null,null,"くるみる数",null,null,"部数",null,null,"配布数",null,null,"部数",null,null,"配布数",null,null,null,null,null,null,null,null,null,null,null,null,null,null,"販売店名",null,null,"取扱い紙",null,"部数",null,null,"配布数",null,null,null,null,null,null,null,null,null,null,null,null,null,null,"販売店名","E","朝刊1","朝刊２","部","指示","部","部","部",null,"販売店名","E","部","指示",null,"朝刊","くるみる","assh","Otona+",null,"朝刊"]
["新潟市","万代",null,null,"新アマ日",null,null,{"$f":"N9+W9","v":3590},null,null,null,null,null,{"$f":"IFERROR(VLOOKUP($CJ9,・!$H$3:$I$700,2,FALSE),\"\")","v":3190},null,null,null,null,null,{"$f":"IF(K9=\"\",\"\",IF(K9<=W9,K9,K9-W9))","v":""},null,null,{"$f":"IFERROR(VLOOKUP($CK9,・!$H$3:$I$700,2,FALSE),\"\")","v":400},null,null,{"$f":"IFERROR(VLOOKUP($CL9,・!$H$3:$I$700,2,FALSE),\"\")","v":2500},null,null,null,null,null,{"$f":"IFERROR(VLOOKUP($CM9,・!$H$3:$I$700,2,FALSE),\"\")","v":550},null,null,null,null,null,null,null,null,null,null,null,null,null,null,null,null,null,"本町",null,null,"ヨサ日",null,{"$f":"IFERROR(VLOOKUP($CO9,・!$H$3:$I$700,2,FALSE),\"\")","v":750},null,null,null,null,null,null,null,null,null,null,null,null,null,null,null,null,null,"万代",10101,{"$f":"Q9","v":0},{"$f":"T9","v":""},{"$f":"SUM(BW9:BX9)","v":0},{"$f":"AL9","v":0},{"$f":"IF($K9>$W9,$W9,\"\")","v":""},{"$f":"AC9","v":0},{"$f":"AI9","v":0},null,"本町",210167,{"$f":"BF9","v":0},{"$f":"BI9","v":0},null,101011,101013,101015,101014,null,2101671]
[null,"駅南",null,null,"新アマ日",null,null,5030,null,null,null,null,null,{"$f":"IFERROR(VLOOKUP($CJ10,・!$H$3:$I$700,2,FALSE),\"\")","v":4400},null,null,null,null,null,{"$f":"IF(K10=\"\",\"\",IF(K10<=W10,K10,K10-W10))","v":""},null,null,{"$f":"IFERROR(VLOOKUP($CK10,・!$H$3:$I$700,2,FALSE),\"\")","v":630},null,null,{"$f":"IFERROR(VLOOKUP($CL10,・!$H$3:$I$700,2,FALSE),\"\")","v":7500},null,null,null,null,null,{"$f":"IFERROR(VLOOKUP($CM10,・!$H$3:$I$700,2,FALSE),\"\")","v":660},null,null,null,null,null,null,null,null,null,null,null,null,null,null,null,null,null,"中央",null,null,"ヨサ日",null,{"$f":"IFERROR(VLOOKUP($CO10,・!$H$3:$I$700,2,FALSE),\"\")","v":1450},null,null,null,null,null,null,null,null,null,null,null,null,null,null,null,null,null,"駅南",10102,0,"",{"$f":"SUM(BW10:BX10)","v":0},{"$f":"AL10","v":0},{"$f":"IF($K10>$W10,$W10,\"\")","v":""},0,0,null,"中央",210168,0,0,null,101021,101023,101025,101024,null,2101681]
[null,"木戸",null,null,"新アマ日",null,null,5430,null,null,null,null,null,{"$f":"IFERROR(VLOOKUP($CJ11,・!$H$3:$I$700,2,FALSE),\"\")","v":4680},null,null,null,null,null,"",null,null,{"$f":"IFERROR(VLOOKUP($CK11,・!$H$3:$I$700,2,FALSE),\"\")","v":750},null,null,{"$f":"IFERROR(VLOOKUP($CL11,・!$H$3:$I$700,2,FALSE),\"\")","v":6150},null,null,null,null,null,{"$f":"IFERROR(VLOOKUP($CM11,・!$H$3:$I$700,2,FALSE),\"\")","v":650},null,null,null,null,null,null,null,null,null,null,null,null,null,null,null,null,null,"小針",null,null,"ヨサ日",null,{"$f":"IFERROR(VLOOKUP($CO11,・!$H$3:$I$700,2,FALSE),\"\")","v":1050},null,null,null,null,null,null,null,null,null,null,null,null,null,null,null,null,null,"木戸",10103,0,"",{"$f":"SUM(BW11:BX11)","v":0},{"$f":"AL11","v":0},"",0,0,null,"小針",210169,0,0,null,101031,101033,101035,101034,null,2101691]
[null,"石山東",null,null,"新アマ日",null,null,6750,null,null,null,null,null,{"$f":"IFERROR(VLOOKUP($CJ12,・!$H$3:$I$700,2,FALSE),\"\")","v":5600},null,null,null,null,null,"",null,null,{"$f":"IFERROR(VLOOKUP($CK12,・!$H$3:$I$700,2,FALSE),\"\")","v":1150},null,null,{"$f":"IFERROR(VLOOKUP($CL12,・!$H$3:$I$700,2,FALSE),\"\")","v":5300},null,null,null,null,null,{"$f":"IFERROR(VLOOKUP($CM12,・!$H$3:$I$700,2,FALSE),\"\")","v":640},null,null,null,null,null,null,null,null,null,null,null,null,null,null,null,null,null,"寺尾",null,null,"ヨサ日",null,{"$f":"IFERROR(VLOOKUP($CO12,・!$H$3:$I$700,2,FALSE),\"\")","v":930},null,null,null,null,null,null,null,null,null,null,null,null,null,null,null,null,null,"石山東",10105,0,"",0,{"$f":"AL12","v":0},"",0,0,null,"寺尾",210170,0,0,null,101051,101053,101055,101054,null,2101701]
[null,"山ノ下",null,null,"新アマ日",null,null,4390,null,null,null,null,null,{"$f":"IFERROR(VLOOKUP($CJ13,・!$H$3:$I$700,2,FALSE),\"\")","v":3790},null,null,null,null,null,"",null,null,{"$f":"IFERROR(VLOOKUP($CK13,・!$H$3:$I$700,2,FALSE),\"\")","v":600},null,null,{"$f":"IFERROR(VLOOKUP($CL13,・!$H$3:$I$700,2,FALSE),\"\")","v":3750},null,null,null,null,null,{"$f":"IFERROR(VLOOKUP($CM13,・!$H$3:$I$700,2,FALSE),\"\")","v":620},null,null,null,null,null,null,null,null,null,null,null,null,null,null,null,null,null,"内野",null,null,"ヨサ日",null,{"$f":"IFERROR(VLOOKUP($CO13,・!$H$3:$I$700,2,FALSE),\"\")","v":980},null,null,null,null,null,null,null,null,null,null,null,null,null,null,null,null,null,"山ノ下",10107,0,"",0,{"$f":"AL13","v":0},"",0,0,null,"内野",210171,0,0,null,101071,101073,101075,101074,null,2101711]
[null,"物見山",null,null,"新アマ日",null,null,4090,null,null,null,null,null,{"$f":"IFERROR(VLOOKUP($CJ14,・!$H$3:$I$700,2,FALSE),\"\")","v":3510},null,null,null,null,null,"",null,null,{"$f":"IFERROR(VLOOKUP($CK14,・!$H$3:$I$700,2,FALSE),\"\")","v":580},null,null,{"$f":"IFERROR(VLOOKUP($CL14,・!$H$3:$I$700,2,FALSE),\"\")","v":3600},null,null,null,null,null,{"$f":"IFERROR(VLOOKUP($CM14,・!$H$3:$I$700,2,FALSE),\"\")","v":360},null,null,null,null,null,null,null,null,null,null,null,null,null,null,null,null,null,"小新黒埼",null,null,"ヨサ日",null,{"$f":"IFERROR(VLOOKUP($CO14,・!$H$3:$I$700,2,FALSE),\"\")","v":840},null,null,null,null,null,null,null,null,null,null,null,null,null,null,null,null,null,"物見山",10108,0,"",0,{"$f":"AL14","v":0},"",0,0,null,"小新黒埼",210172,0,0,null,101081,101083,101085,101084,null,2101721]
[null,"とやの",null,null,"新アマ日",null,null,5630,null,null,null,null,null,{"$f":"IFERROR(VLOOKUP($CJ15,・!$H$3:$I$700,2,FALSE),\"\")","v":5030},null,null,null,null,null,"",null,null,{"$f":"IFERROR(VLOOKUP($CK15,・!$H$3:$I$700,2,FALSE),\"\")","v":600},null,null,{"$f":"IFERROR(VLOOKUP($CL15,・!$H$3:$I$700,2,FALSE),\"\")","v":5800},null,null,null,null,null,{"$f":"IFERROR(VLOOKUP($CM15,・!$H$3:$I$700,2,FALSE),\"\")","v":650},null,null,null,null,null,null,null,null,null,null,null,null,null,null,null,null,null,"黒埼南",null,null,"ヨサ日",null,{"$f":"IFERROR(VLOOKUP($CO15,・!$H$3:$I$700,2,FALSE),\"\")","v":190},null,null,null,null,null,null,null,null,null,null,null,null,null,null,null,null,null,"とやの",10109,0,"",0,{"$f":"AL15","v":0},"",0,0,null,"黒埼南",210179,0,0,null,101091,101093,101095,101094,null,2101791]
[null,"県庁前",null,null,"新アマ日",null,null,4280,null,null,null,null,null,{"$f":"IFERROR(VLOOKUP($CJ16,・!$H$3:$I$700,2,FALSE),\"\")","v":4200},null,null,null,null,null,"",null,null,{"$f":"IFERROR(VLOOKUP($CK16,・!$H$3:$I$700,2,FALSE),\"\")","v":80},null,null,{"$f":"IFERROR(VLOOKUP($CL16,・!$H$3:$I$700,2,FALSE),\"\")","v":4400},null,null,null,null,null,{"$f":"IFERROR(VLOOKUP($CM16,・!$H$3:$I$700,2,FALSE),\"\")","v":500},null,null,null,null,null,null,null,null,null,null,null,null,null,null,null,null,null,"万代",null,null,"ヨサ日",null,{"$f":"IFERROR(VLOOKUP($CO16,・!$H$3:$I$700,2,FALSE),\"\")","v":1000},null,null,null,null,null,null,null,null,null,null,null,null,null,null,null,null,null,"県庁前",10111,0,"",0,0,"",0,0,null,"万代",210158,0,0,null,101111,101113,101115,101114,null,2101581]
[null,"愛宕",null,null,"新アマ日",null,null,5300,null,null,null,null,null,{"$f":"IFERROR(VLOOKUP($CJ17,・!$H$3:$I$700,2,FALSE),\"\")","v":4900},null,null,null,null,null,"",null,null,{"$f":"IFERROR(VLOOKUP($CK17,・!$H$3:$I$700,2,FALSE),\"\")","v":400},null,null,{"$f":"IFERROR(VLOOKUP($CL17,・!$H$3:$I$700,2,FALSE),\"\")","v":4040},null,null,null,null,null,{"$f":"IFERROR(VLOOKUP($CM17,・!$H$3:$I$700,2,FALSE),\"\")","v":600},null,null,null,null,null,null,null,null,null,null,null,null,null,null,null,null,null,"県庁前",null,null,"ヨサ日",null,{"$f":"IFERROR(VLOOKUP($CO17,・!$H$3:$I$700,2,FALSE),\"\")","v":2400},null,null,null,null,null,null,null,null,null,null,null,null,null,null,null,null,null,"愛宕",10113,0,"",0,{"$f":"AL17","v":0},"",0,0,null,"県庁前",210159,0,0,null,101131,101133,101135,101134,null,2101591]
[null,"河渡",null,null,"新アマ日",null,null,4800,null,null,null,null,null,{"$f":"IFERROR(VLOOKUP($CJ18,・!$H$3:$I$700,2,FALSE),\"\")","v":4600},null,null,null,null,null,"",null,null,{"$f":"IFERROR(VLOOKUP($CK18,・!$H$3:$I$700,2,FALSE),\"\")","v":200},null,null,{"$f":"IFERROR(VLOOKUP($CL18,・!$H$3:$I$700,2,FALSE),\"\")","v":4500},null,null,null,null,null,{"$f":"IFERROR(VLOOKUP($CM18,・!$H$3:$I$700,2,FALSE),\"\")","v":450},null,null,null,null,null,null,null,null,null,null,null,null,null,null,null,null,null,"駅南東",null,null,"ヨサ日",null,{"$f":"IFERROR(VLOOKUP($CO18,・!$H$3:$I$700,2,FALSE),\"\")","v":1500},null,null,null,null,null,null,null,null,null,null,null,null,null,null,null,null,null,"河渡",10114,0,"",0,0,"",0,0,null,"駅南東",210160,0,0,null,101141,101143,101145,101144,null,2101601]
[null,"牡丹山",null,null,"新アマ日",null,null,2030,null,null,null,null,null,{"$f":"IFERROR(VLOOKUP($CJ19,・!$H$3:$I$700,2,FALSE),\"\")","v":1830},null,null,null,null,null,"",null,null,{"$f":"IFERROR(VLOOKUP($CK19,・!$H$3:$I$700,2,FALSE),\"\")","v":200},null,null,{"$f":"IFERROR(VLOOKUP($CL19,・!$H$3:$I$700,2,FALSE),\"\")","v":1250},null,null,null,null,null,{"$f":"IFERROR(VLOOKUP($CM19,・!$H$3:$I$700,2,FALSE),\"\")","v":170},null,null,null,null,null,null,null,null,null,null,null,null,null,null,null,null,null,"山木戸",null,null,"ヨサ日",null,{"$f":"IFERROR(VLOOKUP($CO19,・!$H$3:$I$700,2,FALSE),\"\")","v":1130},null,null,null,null,null,null,null,null,null,null,null,null,null,null,null,null,null,"牡丹山",10115,0,"",0,0,"",0,0,null,"山木戸",210162,0,0,null,101151,101153,101155,101154,null,2101621]
[null,"大形",null,null,"新アマ日",null,null,3580,null,null,null,null,null,{"$f":"IFERROR(VLOOKUP($CJ20,・!$H$3:$I$700,2,FALSE),\"\")","v":3280},null,null,null,null,null,"",null,null,{"$f":"IFERROR(VLOOKUP($CK20,・!$H$3:$I$700,2,FALSE),\"\")","v":300},null,null,{"$f":"IFERROR(VLOOKUP($CL20,・!$H$3:$I$700,2,FALSE),\"\")","v":2900},null,null,null,null,null,{"$f":"IFERROR(VLOOKUP($CM20,・!$H$3:$I$700,2,FALSE),\"\")","v":320},null,null,null,null,null,null,null,null,null,null,null,null,null,null,null,null,null,"山ノ下",null,null,"ヨサ日",null,{"$f":"IFERROR(VLOOKUP($CO20,・!$H$3:$I$700,2,FALSE),\"\")","v":1320},null,null,null,null,null,null,null,null,null,null,null,null,null,null,null,null,null,"大形",10116,0,"",0,0,"",0,0,null,"山ノ下",210163,0,0,null,101161,101163,101165,101164,null,2101631]
[null,"松浜",null,null,"新アマ日",null,null,7010,null,null,null,null,null,{"$f":"IFERROR(VLOOKUP($CJ21,・!$H$3:$I$700,2,FALSE),\"\")","v":6510},null,null,null,null,null,"",null,null,{"$f":"IFERROR(VLOOKUP($CK21,・!$H$3:$I$700,2,FALSE),\"\")","v":500},null,null,{"$f":"IFERROR(VLOOKUP($CL21,・!$H$3:$I$700,2,FALSE),\"\")","v":5490},null,null,null,null,null,{"$f":"IFERROR(VLOOKUP($CM21,・!$H$3:$I$700,2,FALSE),\"\")","v":400},null,null,null,null,null,null,null,null,null,null,null,null,null,null,null,null,null,"松浜",null,null,"ヨサ日",null,{"$f":"IFERROR(VLOOKUP($CO21,・!$H$3:$I$700,2,FALSE),\"\")","v":460},null,null,null,null,null,null,null,null,null,null,null,null,null,null,null,null,null,"松浜",10117,0,"",0,0,"",0,0,null,"松浜",210164,0,0,null,101171,101173,101175,101174,null,2101641]
[null,"新潟南",null,null,"合",null,null,2770,null,null,null,null,null,{"$f":"IFERROR(VLOOKUP($CJ22,・!$H$3:$I$700,2,FALSE),\"\")","v":2730},null,null,null,null,null,"",null,null,{"$f":"IFERROR(VLOOKUP($CK22,・!$H$3:$I$700,2,FALSE),\"\")","v":40},null,null,{"$f":"IFERROR(VLOOKUP($CL22,・!$H$3:$I$700,2,FALSE),\"\")","v":1620},null,null,null,null,null,{"$f":"IFERROR(VLOOKUP($CM22,・!$H$3:$I$700,2,FALSE),\"\")","v":140},null,null,null,null,null,null,null,null,null,null,null,null,null,null,null,null,null,"亀田",null,null,"ヨサ日",null,{"$f":"IFERROR(VLOOKUP($CO22,・!$H$3:$I$700,2,FALSE),\"\")","v":1950},null,null,null,null,null,null,null,null,null,null,null,null,null,null,null,null,null,"新潟南",10118,0,"",0,0,"",0,0,null,"亀田",210166,0,0,null,101181,101183,101185,101184,null,2101661]
[null,"姥ケ山",null,null,"新アマ日",null,null,3000,null,null,null,null,null,{"$f":"IFERROR(VLOOKUP($CJ23,・!$H$3:$I$700,2,FALSE),\"\")","v":2600},null,null,null,null,null,"",null,null,{"$f":"IFERROR(VLOOKUP($CK23,・!$H$3:$I$700,2,FALSE),\"\")","v":400},null,null,{"$f":"IFERROR(VLOOKUP($CL23,・!$H$3:$I$700,2,FALSE),\"\")","v":2250},null,null,null,null,null,{"$f":"IFERROR(VLOOKUP($CM23,・!$H$3:$I$700,2,FALSE),\"\")","v":280},null,null,null,null,null,null,null,null,null,null,null,null,null,null,null,null,null,null,null,null,null,null,null,null,null,null,null,null,null,null,null,null,null,null,null,null,null,null,null,null,"姥ケ山",10119,0,"",0,0,"",0,0,null,null,null,0,0,null,101191,101193,101195,101194,null,""]
[null,"山二ツ",null,null,"新アマ日",null,null,2770,null,null,null,null,null,{"$f":"IFERROR(VLOOKUP($CJ24,・!$H$3:$I$700,2,FALSE),\"\")","v":2700},null,null,null,null,null,"",null,null,{"$f":"IFERROR(VLOOKUP($CK24,・!$H$3:$I$700,2,FALSE),\"\")","v":70},null,null,{"$f":"IFERROR(VLOOKUP($CL24,・!$H$3:$I$700,2,FALSE),\"\")","v":800},null,null,null,null,null,{"$f":"IFERROR(VLOOKUP($CM24,・!$H$3:$I$700,2,FALSE),\"\")","v":250},null,null,null,null,null,null,null,null,null,null,null,null,null,null,null,null,null,null,null,null,null,null,null,null,null,null,null,null,null,null,null,null,null,null,null,null,null,null,null,null,"山二ツ",10120,0,"",0,0,"",0,0,null,null,null,0,0,null,101201,101203,101205,101204]
[null,"亀田西",null,null,"新アマ日",null,null,2830,null,null,null,null,null,{"$f":"IFERROR(VLOOKUP($CJ25,・!$H$3:$I$700,2,FALSE),\"\")","v":2630},null,null,null,null,null,"",null,null,{"$f":"IFERROR(VLOOKUP($CK25,・!$H$3:$I$700,2,FALSE),\"\")","v":200},null,null,{"$f":"IFERROR(VLOOKUP($CL25,・!$H$3:$I$700,2,FALSE),\"\")","v":1600},null,null,null,null,null,{"$f":"IFERROR(VLOOKUP($CM25,・!$H$3:$I$700,2,FALSE),\"\")","v":200},null,null,null,null,null,null,null,null,null,null,null,null,null,null,null,null,null,null,null,null,null,null,null,null,null,null,null,null,null,null,null,null,null,null,null,null,null,null,null,null,"亀田西",10122,0,"",0,0,"",0,0,null,null,null,0,0,null,101221,101223,101225,101224]
[null,"亀田",null,null,"新アマ日",null,null,4230,null,null,null,null,null,{"$f":"IFERROR(VLOOKUP($CJ26,・!$H$3:$I$700,2,FALSE),\"\")","v":3680},null,null,null,null,null,"",null,null,{"$f":"IFERROR(VLOOKUP($CK26,・!$H$3:$I$700,2,FALSE),\"\")","v":550},null,null,{"$f":"IFERROR(VLOOKUP($CL26,・!$H$3:$I$700,2,FALSE),\"\")","v":3600},null,null,null,null,null,{"$f":"IFERROR(VLOOKUP($CM26,・!$H$3:$I$700,2,FALSE),\"\")","v":280},null,null,null,null,null,null,null,null,null,null,null,null,null,null,null,null,null,null,null,null,null,null,null,null,null,null,null,null,null,null,null,null,null,null,null,null,null,null,null,null,"亀田",10123,0,"",0,0,"",0,0,null,null,null,0,0,null,101231,101233,101235,101234]
[null,"横越",null,null,"新アマ日",null,null,2240,null,null,null,null,null,{"$f":"IFERROR(VLOOKUP($CJ27,・!$H$3:$I$700,2,FALSE),\"\")","v":2190},null,null,null,null,null,"",null,null,{"$f":"IFERROR(VLOOKUP($CK27,・!$H$3:$I$700,2,FALSE),\"\")","v":50},null,null,{"$f":"IFERROR(VLOOKUP($CL27,・!$H$3:$I$700,2,FALSE),\"\")","v":1200},null,null,null,null,null,{"$f":"IFERROR(VLOOKUP($CM27,・!$H$3:$I$700,2,FALSE),\"\")","v":110},null,null,null,null,null,null,null,null,null,null,null,null,null,null,null,null,null,null,null,null,null,null,null,null,null,null,null,null,null,null,null,null,null,null,null,null,null,null,null,null,"横越",10176,0,"",0,0,"",0,0,null,null,null,0,0,null,101761,101763,101765,101764]
[null,"有明",null,null,"新アマ日",null,null,6200,null,null,null,null,null,{"$f":"IFERROR(VLOOKUP($CJ28,・!$H$3:$I$700,2,FALSE),\"\")","v":5490},null,null,null,null,null,"",null,null,{"$f":"IFERROR(VLOOKUP($CK28,・!$H$3:$I$700,2,FALSE),\"\")","v":710},null,null,{"$f":"IFERROR(VLOOKUP($CL28,・!$H$3:$I$700,2,FALSE),\"\")","v":5150},null,null,null,null,null,{"$f":"IFERROR(VLOOKUP($CM28,・!$H$3:$I$700,2,FALSE),\"\")","v":1050},null,null,null,null,null,null,null,null,null,null,null,null,null,null,null,null,null,null,"■くるみる",null,null,null,null,null,null,null,null,null,null,null,null,null,null,null,null,null,null,null,null,null,"有明",10177,0,"",0,0,"",0,0,null,null,null,0,0,null,101771,101773,101775,101774]
[null,"小針",null,null,"新アマ日",null,null,7810,null,null,null,null,null,{"$f":"IFERROR(VLOOKUP($CJ29,・!$H$3:$I$700,2,FALSE),\"\")","v":6970},null,null,null,null,null,"",null,null,{"$f":"IFERROR(VLOOKUP($CK29,・!$H$3:$I$700,2,FALSE),\"\")","v":840},null,null,{"$f":"IFERROR(VLOOKUP($CL29,・!$H$3:$I$700,2,FALSE),\"\")","v":6900},null,null,null,null,null,{"$f":"IFERROR(VLOOKUP($CM29,・!$H$3:$I$700,2,FALSE),\"\")","v":1100},null,null,null,null,null,null,null,null,null,null,null,null,null,null,null,null,null,null,"　新聞無購読者向け、チラシ宅配サービスです。",null,null,null,null,null,null,null,null,null,null,null,null,null,null,null,null,null,null,null,null,null,"小針",10127,0,"",0,0,"",0,0,null,null,null,0,0,null,101271,101273,101275,101274]
[null,"中通",null,null,"新アマ日",null,null,2620,null,null,null,null,null,{"$f":"IFERROR(VLOOKUP($CJ30,・!$H$3:$I$700,2,FALSE),\"\")","v":2600},null,null,null,null,null,"",null,null,{"$f":"IFERROR(VLOOKUP($CK30,・!$H$3:$I$700,2,FALSE),\"\")","v":20},null,null,{"$f":"IFERROR(VLOOKUP($CL30,・!$H$3:$I$700,2,FALSE),\"\")","v":2800},null,null,null,null,null,{"$f":"IFERROR(VLOOKUP($CM30,・!$H$3:$I$700,2,FALSE),\"\")","v":500},null,null,null,null,null,null,null,null,null,null,null,null,null,null,null,null,null,null,"　新潟日報販売店が朝刊配達時に、チラシをお届けします。",null,null,null,null,null,null,null,null,null,null,null,null,null,null,null,null,null,null,null,null,null,"中通",10128,0,"",0,0,"",0,0,null,null,null,0,0,null,101281,101283,101285,101284]
[null,"本町",null,null,"新アマ日",null,null,3100,null,null,null,null,null,{"$f":"IFERROR(VLOOKUP($CJ31,・!$H$3:$I$700,2,FALSE),\"\")","v":2800},null,null,null,null,null,"",null,null,{"$f":"IFERROR(VLOOKUP($CK31,・!$H$3:$I$700,2,FALSE),\"\")","v":300},null,null,{"$f":"IFERROR(VLOOKUP($CL31,・!$H$3:$I$700,2,FALSE),\"\")","v":1500},null,null,null,null,null,{"$f":"IFERROR(VLOOKUP($CM31,・!$H$3:$I$700,2,FALSE),\"\")","v":480},null,null,null,null,null,null,null,null,null,null,null,null,null,null,null,null,null,null,"　新聞折込と合わせてご利用いただくことで、広告効果を高めることができます。",null,null,null,null,null,null,null,null,null,null,null,null,null,null,null,null,null,null,null,null,null,"本町",10130,0,"",0,0,"",0,0,null,null,null,0,0,null,101301,101303,101305,101304]
[null,"中央",null,null,"新アマ日",null,null,3090,null,null,null,null,null,{"$f":"IFERROR(VLOOKUP($CJ32,・!$H$3:$I$700,2,FALSE),\"\")","v":3040},null,null,null,null,null,"",null,null,{"$f":"IFERROR(VLOOKUP($CK32,・!$H$3:$I$700,2,FALSE),\"\")","v":50},null,null,{"$f":"IFERROR(VLOOKUP($CL32,・!$H$3:$I$700,2,FALSE),\"\")","v":2050},null,null,null,null,null,{"$f":"IFERROR(VLOOKUP($CM32,・!$H$3:$I$700,2,FALSE),\"\")","v":480},null,null,null,null,null,null,null,null,null,null,null,null,null,null,null,null,null,null,null,null,null,null,null,null,null,null,null,null,null,null,null,null,null,null,null,null,null,null,null,null,"中央",10131,0,"",0,0,"",0,0,null,null,null,0,0,null,101311,101313,101315,101314]
[null,"真砂",null,null,"新アマ日",null,null,2300,null,null,null,null,null,{"$f":"IFERROR(VLOOKUP($CJ33,・!$H$3:$I$700,2,FALSE),\"\")","v":2100},null,null,null,null,null,"",null,null,{"$f":"IFERROR(VLOOKUP($CK33,・!$H$3:$I$700,2,FALSE),\"\")","v":200},null,null,{"$f":"IFERROR(VLOOKUP($CL33,・!$H$3:$I$700,2,FALSE),\"\")","v":1650},null,null,null,null,null,{"$f":"IFERROR(VLOOKUP($CM33,・!$H$3:$I$700,2,FALSE),\"\")","v":460},null,null,null,null,null,null,null,null,null,null,null,null,null,null,null,null,null,null,null,null,null,null,null,null,null,null,null,null,null,null,null,null,null,null,null,null,null,null,null,null,"真砂",10133,0,"",0,0,"",0,0,null,null,null,0,0,null,101331,101333,101335,101334]
[null,"寺尾",null,null,"新アマ日",null,null,6210,null,null,null,null,null,{"$f":"IFERROR(VLOOKUP($CJ34,・!$H$3:$I$700,2,FALSE),\"\")","v":6000},null,null,null,null,null,"",null,null,{"$f":"IFERROR(VLOOKUP($CK34,・!$H$3:$I$700,2,FALSE),\"\")","v":210},null,null,{"$f":"IFERROR(VLOOKUP($CL34,・!$H$3:$I$700,2,FALSE),\"\")","v":3000},null,null,null,null,null,{"$f":"IFERROR(VLOOKUP($CM34,・!$H$3:$I$700,2,FALSE),\"\")","v":830},null,null,null,null,null,null,null,null,null,null,null,null,null,null,null,null,null,null,"■ポスティング（assh,n-assh）",null,null,null,null,null,null,null,null,null,null,null,null,null,null,null,null,null,null,null,null,null,"寺尾",10134,0,"",0,0,"",0,0,null,null,null,0,0,null,101341,101343,101345,101344]
[null,"新大前",null,null,"新アマ日",null,null,3240,null,null,null,null,null,{"$f":"IFERROR(VLOOKUP($CJ35,・!$H$3:$I$700,2,FALSE),\"\")","v":2810},null,null,null,null,null,"",null,null,{"$f":"IFERROR(VLOOKUP($CK35,・!$H$3:$I$700,2,FALSE),\"\")","v":430},null,null,{"$f":"IFERROR(VLOOKUP($CL35,・!$H$3:$I$700,2,FALSE),\"\")","v":3700},null,null,null,null,null,{"$f":"IFERROR(VLOOKUP($CM35,・!$H$3:$I$700,2,FALSE),\"\")","v":400},null,null,null,null,null,null,null,null,null,null,null,null,null,null,null,null,null,null,"　asshは新潟日報社が制作する生活情報誌です（毎月 第2・第4木曜日 発行）。",null,null,null,null,null,null,null,null,null,null,null,null,null,null,null,null,null,null,null,null,null,"新大前",10135,0,"",0,0,"",0,0,null,null,null,0,0,null,101351,101353,101355,101354]
[null,"内野",null,null,"新アマ日",null,null,4100,null,null,null,null,null,{"$f":"IFERROR(VLOOKUP($CJ36,・!$H$3:$I$700,2,FALSE),\"\")","v":3600},null,null,null,null,null,"",null,null,{"$f":"IFERROR(VLOOKUP($CK36,・!$H$3:$I$700,2,FALSE),\"\")","v":500},null,null,{"$f":"IFERROR(VLOOKUP($CL36,・!$H$3:$I$700,2,FALSE),\"\")","v":2200},null,null,null,null,null,{"$f":"IFERROR(VLOOKUP($CM36,・!$H$3:$I$700,2,FALSE),\"\")","v":340},null,null,null,null,null,null,null,null,null,null,null,null,null,null,null,null,null,null,"　新聞無購読世帯へ配布する際に、asshにチラシを折り込みポスティングします。",null,null,null,null,null,null,null,null,null,null,null,null,null,null,null,null,null,null,null,null,null,"内野",10136,0,"",0,0,"",0,0,null,null,null,0,0,null,101361,101363,101365,101364]
[null,"西内野",null,null,"新アマ日",null,null,3220,null,null,null,null,null,{"$f":"IFERROR(VLOOKUP($CJ37,・!$H$3:$I$700,2,FALSE),\"\")","v":3020},null,null,null,null,null,"",null,null,{"$f":"IFERROR(VLOOKUP($CK37,・!$H$3:$I$700,2,FALSE),\"\")","v":200},null,null,{"$f":"IFERROR(VLOOKUP($CL37,・!$H$3:$I$700,2,FALSE),\"\")","v":2300},null,null,null,null,null,{"$f":"IFERROR(VLOOKUP($CM37,・!$H$3:$I$700,2,FALSE),\"\")","v":300},null,null,null,null,null,null,null,null,null,null,null,null,null,null,null,null,null,null,"　asshポスティング単独でのご利用も可能ですが、新聞折込と合わせることで、",null,null,null,null,null,null,null,null,null,null,null,null,null,null,null,null,null,null,null,null,null,"西内野",10137,0,"",0,0,"",0,0,null,null,null,0,0,null,101371,101373,101375,101374]
[null,"小新",null,null,"新アマ日",null,null,4800,null,null,null,null,null,{"$f":"IFERROR(VLOOKUP($CJ38,・!$H$3:$I$700,2,FALSE),\"\")","v":4050},null,null,null,null,null,"",null,null,{"$f":"IFERROR(VLOOKUP($CK38,・!$H$3:$I$700,2,FALSE),\"\")","v":750},null,null,{"$f":"IFERROR(VLOOKUP($CL38,・!$H$3:$I$700,2,FALSE),\"\")","v":3600},null,null,null,null,null,{"$f":"IFERROR(VLOOKUP($CM38,・!$H$3:$I$700,2,FALSE),\"\")","v":340},null,null,null,null,null,null,null,null,null,null,null,null,null,null,null,null,null,null,"　ほぼ全世帯をカバーすることができます。　※一部、配布不可世帯を除きます。",null,null,null,null,null,null,null,null,null,null,null,null,null,null,null,null,null,null,null,null,null,"小新",10140,0,"",0,0,"",0,0,null,null,null,0,0,null,101401,101403,101405,101404]
[null,"寺地",null,null,"新アマ日",null,null,2050,null,null,null,null,null,{"$f":"IFERROR(VLOOKUP($CJ39,・!$H$3:$I$700,2,FALSE),\"\")","v":1750},null,null,null,null,null,"",null,null,{"$f":"IFERROR(VLOOKUP($CK39,・!$H$3:$I$700,2,FALSE),\"\")","v":300},null,null,{"$f":"IFERROR(VLOOKUP($CL39,・!$H$3:$I$700,2,FALSE),\"\")","v":1750},null,null,null,null,null,{"$f":"IFERROR(VLOOKUP($CM39,・!$H$3:$I$700,2,FALSE),\"\")","v":200},null,null,null,null,null,null,null,null,null,null,null,null,null,null,null,null,null,null,null,null,null,null,null,null,null,null,null,null,null,null,null,null,null,null,null,null,null,null,null,null,"寺地",10141,0,"",0,0,"",0,0,null,null,null,0,0,null,101411,101413,101415,101414]
[null,"黒埼",null,null,"新アマ日",null,null,3580,null,null,null,null,null,{"$f":"IFERROR(VLOOKUP($CJ40,・!$H$3:$I$700,2,FALSE),\"\")","v":3090},null,null,null,null,null,"",null,null,{"$f":"IFERROR(VLOOKUP($CK40,・!$H$3:$I$700,2,FALSE),\"\")","v":490},null,null,{"$f":"IFERROR(VLOOKUP($CL40,・!$H$3:$I$700,2,FALSE),\"\")","v":2100},null,null,null,null,null,{"$f":"IFERROR(VLOOKUP($CM40,・!$H$3:$I$700,2,FALSE),\"\")","v":240},null,null,null,null,null,null,null,null,null,null,null,null,null,null,null,null,null,null,null,null,null,null,null,null,null,null,null,null,null,null,null,null,null,null,null,null,null,null,null,null,"黒埼",10178,0,"",0,0,"",0,0,null,null,null,0,0,null,101781,101783,101785,101784]
[null,"黒埼南",null,null,"新アマ日",null,null,3470,null,null,null,null,null,{"$f":"IFERROR(VLOOKUP($CJ41,・!$H$3:$I$700,2,FALSE),\"\")","v":3150},null,null,null,null,null,"",null,null,{"$f":"IFERROR(VLOOKUP($CK41,・!$H$3:$I$700,2,FALSE),\"\")","v":320},null,null,{"$f":"IFERROR(VLOOKUP($CL41,・!$H$3:$I$700,2,FALSE),\"\")","v":1300},null,null,null,null,null,{"$f":"IFERROR(VLOOKUP($CM41,・!$H$3:$I$700,2,FALSE),\"\")","v":130},null,null,null,null,null,null,null,null,null,null,null,null,null,null,null,null,null,null,null,null,null,null,null,null,null,null,null,null,null,null,null,null,null,null,null,null,null,null,null,null,"黒埼南",10143,0,"",0,0,"",0,0,null,null,null,0,0,null,101431,101433,101435,101434]
[null,"010",null,"小計",null,null,null,{"$f":"SUM(H9:J41)","v":135540},null,null,{"$f":"SUM(K9:M41)","v":0},null,null,{"$f":"SUM(N9:P41)","v":122520},null,null,{"$f":"SUM(Q9:S41)","v":0},null,null,{"$f":"SUM(T9:V41)","v":0},null,null,{"$f":"CA42","v":0},null,null,{"$f":"SUM(Z9:AB41)","v":108250},null,null,{"$f":"SUM(AC9:AE41)","v":0},null,null,{"$f":"SUM(AF9:AH41)","v":14680},null,null,{"$f":"SUM(AI9:AK41)","v":0},null,null,null,null,null,null,null,null,null,null,null,null,null,null,"030",null,"小計",null,null,{"$f":"SUM(BC9:BE22)","v":15950},null,null,{"$f":"SUM(BF9:BH41)","v":0},null,null,null,null,null,null,null,null,null,null,null,null,null,null,null,null,{"$f":"SUM(BW9:BW41)","v":0},{"$f":"SUM(BX9:BX41)","v":0},0,null,{"$f":"SUM(CA9:CA41)","v":0},0,0,null,null,null,{"$f":"SUM(CG9:CG41)","v":0},null,{"$f":"SUM(BY42:CH42)","v":0}]
[null,null,null,null,null,null,null,null,null,null,null,null,null,null,null,null,null,null,null,null,null,null,null,null,null,null,null,null,null,null,null,null,null,null,null,null,null,null,null,null,null,null,null,null,null,null,null,null,null,null,null,null,null,null,null,null,null,null,null,null,null,null,null,null,null,null,null,null,null,null,null,null,null,null,null,null,{"$f":"SUM(BY42,CG42)","v":0}]

{"sheet":"下越1","index":5,"n_rows":50,"n_cols":93,"rows_kept":50,"cut":false,"hidden":false,"merged":[[10,49,15,59],[10,60,15,70],[29,22,29,24],[28,19,28,21],[28,22,28,24],[38,34,38,36],[38,31,38,33],[48,57,48,59],[45,57,45,59],[33,31,33,33],[31,19,31,21],[31,22,31,24],[32,25,33,30],[30,19,30,21],[30,22,30,24],[38,37,38,48],[38,25,38,30],[36,37,36,48],[37,37,37,48],[47,22,47,24],[47,25,47,27],[47,28,47,30],[47,31,47,33],[46,22,46,24],[48,60,48,70],[47,60,47,70],[47,34,47,36],[47,37,47,48],[47,54,47,56],[47,57,47,59],[47,49,47,53],[48,28,48,30],[48,31,48,33],[48,34,48,36],[48,37,48,48],[48,49,48,53],[48,54,48,56],[48,4,48,6],[48,7,48,9],[48,10,48,12],[48,13,48,15],[48,16,48,18],[48,19,48,21],[48,22,48,24],[48,25,48,27],[47,7,47,9],[47,10,47,12],[47,13,47,15],[47,16,47,18],[47,19,47,21],[47,4,47,6],[48,0,48,3],[17,0,27,0],[6,25,6,30],[2,56,2,62],[2,63,2,70],[6,31,6,36],[6,37,7,48],[7,1,7,3],[7,4,7,6],[7,7,7,9],[8,1,8,3],[8,4,8,6],[8,13,8,15],[8,16,8,18],[7,28,7,30],[7,10,7,12],[7,13,7,15],[7,16,7,18],[3,63,3,70],[4,49,4,55],[4,56,4,62],[4,63,4,70],[16,57,16,59],[32,60,32,70],[33,60,33,70],[45,52,45,53],[38,49,38,51],[38,52,38,53],[38,54,38,56],[38,57,38,59],[38,60,38,70],[37,60,37,70],[32,49,32,51],[32,52,32,53],[36,60,36,70],[35,60,35,70],[44,60,44,70],[34,60,34,70],[36,49,36,59],[37,57,37,59],[35,57,35,59],[40,49,43,59],[33,49,33,59],[32,54,32,56],[39,60,39,70],[40,60,43,70],[39,57,39,59],[45,54,45,56],[17,49,19,59],[19,31,19,33],[19,34,19,36],[18,31,18,33],[18,34,18,36],[17,34,17,36],[17,31,17,33],[20,16,20,18],[19,19,19,24],[18,19,18,21],[18,22,18,24],[17,25,19,30],[20,25,20,27],[20,28,20,30],[32,0,39,0],[0,22,0,23],[10,1,10,3],[10,4,10,6],[10,13,10,15],[10,16,10,18],[12,1,12,3],[12,4,12,6],[12,7,12,9],[12,10,12,12],[12,13,12,15],[12,16,12,18],[11,1,11,3],[11,4,11,6],[14,1,14,3],[14,4,14,6],[14,13,14,15],[9,1,9,3],[9,4,9,6],[9,13,9,15],[17,19,17,24],[16,19,16,21],[16,13,16,15],[19,1,19,3],[6,1,6,24],[15,1,15,3],[16,31,16,33],[16,34,16,36],[16,37,16,48],[7,25,7,27],[15,13,15,15],[15,7,15,9],[15,10,15,12],[7,22,7,24],[7,19,7,21],[16,4,16,6],[16,7,16,9],[16,10,16,12],[16,22,16,24],[11,10,11,12],[8,7,10,12],[13,13,13,15],[16,25,16,27],[16,28,16,30],[15,4,15,6],[8,25,15,30],[11,7,11,9],[16,16,16,18],[16,2,16,3],[12,37,12,48],[8,19,10,24],[14,31,15,36],[14,37,14,48],[13,16,13,18],[11,37,11,48],[12,31,12,33],[11,31,11,33],[12,34,12,36],[15,37,15,48],[9,16,9,18],[15,16,15,18],[8,37,8,48],[15,19,15,21],[15,22,15,24],[13,31,13,33],[13,34,13,36],[14,16,14,18],[13,19,13,21],[11,34,11,36],[13,1,13,3],[13,4,13,6],[13,7,13,9],[0,60,0,70],[1,34,1,48],[7,57,7,59],[1,63,1,70],[10,31,10,36],[8,31,8,36],[8,52,8,53],[9,31,9,33],[9,34,9,36],[7,31,7,33],[7,34,7,36],[7,49,7,51],[7,52,7,53],[7,54,7,56],[1,49,1,55],[1,56,1,62],[3,29,3,33],[9,37,9,48],[3,56,3,62],[2,49,2,55],[3,49,3,55],[8,49,8,51],[9,49,9,51],[9,57,9,59],[13,10,13,12],[14,19,14,24],[14,7,14,12],[11,13,11,15],[11,16,11,18],[11,19,11,21],[11,22,11,24],[12,19,12,21],[12,22,12,24],[13,22,13,24],[19,4,19,6],[19,13,19,15],[19,16,19,18],[19,7,19,12],[17,1,17,3],[18,1,18,3],[18,4,18,6],[18,7,18,9],[17,4,17,6],[17,13,17,15],[17,16,17,18],[18,16,18,18],[18,10,18,12],[18,13,18,15],[17,7,17,12],[20,10,20,12],[22,7,22,9],[22,10,22,12],[22,13,22,15],[22,16,22,18],[20,13,20,15],[20,7,20,9],[20,60,20,70],[20,19,20,21],[20,22,20,24],[20,31,20,33],[20,34,20,36],[21,34,21,36],[21,60,22,70],[22,19,22,21],[22,22,22,24],[22,31,22,33],[22,34,22,36],[21,37,21,48],[20,54,20,56],[20,57,20,59],[20,37,20,48],[21,7,21,9],[21,10,21,12],[27,19,27,21],[27,22,27,24],[27,31,27,33],[27,34,27,36],[23,34,23,36],[24,19,26,24],[28,34,28,36],[23,25,23,27],[21,13,21,15],[21,16,21,18],[21,31,21,33],[21,19,21,21],[21,22,21,24],[23,19,23,21],[23,22,23,24],[23,31,23,33],[21,25,22,30],[23,28,23,30],[27,25,27,27],[27,28,27,30],[24,25,26,30],[23,7,23,9],[23,10,23,12],[23,13,23,15],[23,16,23,18],[24,13,24,15],[24,16,24,18],[26,37,26,48],[24,7,26,12],[24,31,26,36],[23,37,23,48],[44,2,44,3],[45,7,45,9],[45,10,45,12],[45,13,45,15],[36,1,36,3],[36,4,36,6],[37,7,37,9],[37,10,37,12],[37,13,37,15],[36,13,36,15],[37,4,37,6],[37,2,37,3],[42,4,42,6],[42,13,42,15],[44,4,44,6],[39,7,39,9],[39,10,39,12],[39,13,39,15],[44,19,44,21],[39,37,39,48],[40,0,44,0],[41,13,41,15],[41,16,41,18],[45,16,45,18],[45,19,45,21],[45,22,45,24],[45,25,45,27],[45,28,45,30],[45,31,45,33],[45,0,47,0],[45,1,45,3],[45,4,45,6],[46,1,46,3],[46,19,46,21],[46,16,46,18],[46,13,46,15],[46,10,46,12],[46,7,46,9],[46,4,46,6],[46,25,46,27],[46,28,46,30],[47,2,47,3],[39,16,39,18],[44,13,44,15],[44,16,44,18],[40,13,40,15],[40,16,40,18],[43,13,43,15],[43,16,43,18],[44,7,44,9],[44,10,44,12],[46,49,46,59],[46,34,46,36],[46,60,46,70],[46,37,46,48],[44,34,44,36],[39,34,39,36],[40,31,43,36],[46,31,46,33],[45,60,45,70],[40,37,40,48],[45,34,45,36],[45,37,45,48],[45,49,45,51],[44,49,44,53],[44,54,44,56],[44,57,44,59],[44,37,44,48],[41,37,41,48],[42,37,42,48],[43,37,43,48],[39,49,39,53],[37,54,37,56],[42,16,42,18],[41,1,41,3],[41,4,41,6],[40,1,40,3],[40,4,40,6],[43,1,43,3],[43,4,43,6],[38,1,38,3],[39,19,39,21],[39,54,39,56],[37,49,37,53],[39,4,39,6],[37,19,37,21],[37,22,37,24],[40,19,43,24],[40,7,43,12],[39,2,39,3],[42,1,42,3],[38,4,38,6],[38,7,38,9],[38,10,38,12],[38,13,38,15],[38,16,38,18],[1,0,1,11],[1,12,1,28],[1,29,1,33],[2,34,4,48],[3,0,3,11],[3,12,3,28],[4,27,4,28],[2,27,2,28],[4,12,4,26],[2,12,2,26],[2,0,2,11],[4,29,4,33],[4,0,4,11],[2,29,2,33],[28,0,31,0],[35,4,35,6],[10,37,10,48],[16,54,16,56],[35,13,35,15],[35,16,35,18],[35,19,35,21],[34,37,34,48],[31,37,31,48],[28,49,28,51],[28,52,28,53],[18,37,18,48],[35,54,35,56],[13,37,13,48],[17,37,17,48],[20,4,20,6],[23,4,23,6],[27,4,27,6],[8,0,16,0],[35,1,35,3],[35,22,35,24],[31,54,31,56],[19,37,19,48],[34,54,34,56],[34,57,34,59],[35,37,35,48],[35,49,35,51],[35,52,35,53],[32,37,32,48],[22,37,22,48],[31,49,31,53],[27,37,27,48],[30,37,30,48],[28,37,28,48],[21,49,22,59],[29,49,30,59],[24,49,26,59],[33,37,33,48],[32,57,32,59],[34,49,34,53],[29,37,29,48],[23,49,23,53],[23,54,23,56],[23,57,23,59],[27,49,27,53],[27,54,27,56],[24,37,24,48],[25,37,25,48],[6,72,6,77],[6,82,6,85],[31,57,31,59],[31,60,31,70],[28,54,28,56],[28,57,28,59],[27,60,27,70],[28,60,28,70],[23,60,23,70],[16,60,16,70],[8,54,8,56],[9,54,9,56],[6,49,6,59],[6,60,7,70],[8,60,8,70],[8,57,8,59],[9,60,9,70],[29,60,30,70],[24,60,26,70],[17,60,19,70],[16,49,16,53],[20,49,20,53],[27,57,27,59],[9,52,9,53],[38,19,38,21],[38,22,38,24],[31,7,31,9],[31,10,31,12],[31,13,31,15],[31,16,31,18],[35,7,35,9],[35,10,35,12],[32,13,32,15],[32,16,32,18],[32,7,33,12],[32,19,33,24],[33,13,33,15],[34,19,34,21],[34,22,34,24],[33,16,33,18],[36,19,36,24],[37,16,37,18],[36,16,36,18],[33,34,33,36],[39,22,39,24],[39,31,39,33],[44,31,44,33],[40,25,43,30],[31,34,31,36],[34,34,34,36],[37,34,37,36],[36,34,36,36],[35,34,35,36],[37,31,37,33],[44,22,44,24],[34,25,34,27],[34,28,34,30],[37,25,37,27],[37,28,37,30],[39,25,39,27],[39,28,39,30],[44,25,44,27],[44,28,44,30],[31,25,31,27],[31,28,31,30],[29,31,30,36],[32,31,32,33],[35,25,36,30],[28,25,30,30],[32,34,32,36],[20,2,20,3],[23,2,23,3],[27,2,27,3],[31,2,31,3],[34,2,34,3],[34,31,34,33],[36,31,36,33],[35,31,35,33],[31,31,31,33],[28,31,28,33],[36,7,36,12],[34,13,34,15],[34,16,34,18],[29,19,29,21],[34,7,34,9],[34,10,34,12],[29,7,29,9],[29,10,29,12],[29,13,29,15],[21,4,21,6],[32,1,32,3],[32,4,32,6],[33,1,33,3],[33,4,33,6],[29,1,29,3],[29,4,29,6],[30,1,30,3],[30,4,30,6],[25,1,25,3],[25,4,25,6],[26,1,26,3],[26,4,26,6],[22,1,22,3],[22,4,22,6],[31,4,31,6],[6,87,6,90],[34,4,34,6],[28,1,28,3],[28,4,28,6],[24,1,24,3],[24,4,24,6],[28,10,28,12],[28,13,28,15],[28,16,28,18],[30,7,30,9],[30,10,30,12],[26,13,26,15],[26,16,26,18],[27,13,27,15],[27,16,27,18],[27,10,27,12],[27,7,27,9],[29,16,29,18],[30,13,30,15],[30,16,30,18],[28,7,28,9],[25,13,25,15],[25,16,25,18],[21,1,21,3]]}
[null,null,null,null,null,null,null,null,null,null,null,null,null,null,null,null,null,null,null,null,null,null,null,null,null,null,null,null,null,null,null,null,null,null,null,null,null,null,null,null,null,null,null,null,null,null,null,null,null,null,null,null,null,null,null,null,null,null,null,null,{"$f":"新潟市!BI1","v":"２０２３年１２月１日 現在"}]
["折込日",null,null,null,null,null,null,null,null,null,null,null,"スポンサー名",null,null,null,null,null,null,null,null,null,null,null,null,null,null,null,null,"サイズ",null,null,null,null,"チラシ内容・タイトル詳細",null,null,null,null,null,null,null,null,null,null,null,null,null,null,"朝刊　小計",null,null,null,null,null,null,"Otona＋　小計",null,null,null,null,null,null,"ページ枚数"]
[{"$f":"新潟市!A3","v":"2023/--/--"},null,null,null,null,null,null,null,null,null,null,null,{"$f":"新潟市!M3","v":0},null,null,null,null,null,null,null,null,null,null,null,null,null,null,"様",null,{"$f":"新潟市!AD3","v":0},null,null,null,null,{"$f":"新潟市!AI3","v":0},null,null,null,null,null,null,null,null,null,null,null,null,null,null,{"$f":"BY49+CG49","v":0},null,null,null,null,null,null,{"$f":"CC49","v":0},null,null,null,null,null,null,{"$f":"AX3+AX5+BE3+BE5","v":0}]
["assh　ポスティング日",null,null,null,null,null,null,null,null,null,null,null,"ご請求先名",null,null,null,null,null,null,null,null,null,null,null,null,null,null,null,null,"ガタチラ 掲載",null,null,null,null,null,null,null,null,null,null,null,null,null,null,null,null,null,null,null,"くるみる　小計",null,null,null,null,null,null,"assh　小計",null,null,null,null,null,null,"総枚数"]
[{"$f":"新潟市!A5","v":"2023/--/--"},null,null,null,null,null,null,null,null,null,null,null,{"$f":"新潟市!M5","v":0},null,null,null,null,null,null,null,null,null,null,null,null,null,null,"様",null,{"$f":"新潟市!AD5","v":0},null,null,null,null,null,null,null,null,null,null,null,null,null,null,null,null,null,null,null,{"$f":"CA49","v":0},null,null,null,null,null,null,{"$f":"CB49","v":0},null,null,null,null,null,null,{"$f":"新潟市!BL5","v":0}]
[]
[null,"新潟日報　",null,null,null,null,null,null,null,null,null,null,null,null,null,null,null,null,null,null,null,null,null,null,null,"ポスティング（assh）",null,null,null,null,null,"Otona+",null,null,null,null,null,"備考",null,null,null,null,null,null,null,null,null,null,null,"中央紙",null,null,null,null,null,null,null,null,null,null,"備考",null,null,null,null,null,null,null,null,null,null,null,"朝刊",null,null,null,null,null,"くるみる","assh","otona",null,"中央紙　朝刊",null,null,null,null,"日報",null,null,null,null,"中央紙"]
["02","販売店名",null,null,"取扱い紙",null,null,"朝刊＋くるみる",null,null,"配布数",null,null,"朝刊扱数",null,null,"配布数",null,null,"朝刊数",null,null,"くるみる数",null,null,"部数",null,null,"配布数",null,null,"部数",null,null,"配布数",null,null,null,null,null,null,null,null,null,null,null,null,null,null,"販売店名",null,null,"取扱い紙",null,"部数",null,null,"配布数",null,null,null,null,null,null,null,null,null,null,null,null,null,null,"販売店名","E","朝刊1","朝刊２","部","指示","部","部","部",null,"販売店名","E","部","指示",null,"朝刊","くるみる","assh","Otona+",null,"朝刊"]
["旧西蒲原郡","分水",null,null,"合",null,null,null,null,null,null,null,null,{"$f":"IFERROR(VLOOKUP($CJ9,・!$H$3:$I$700,2,FALSE),\"\")","v":3300},null,null,null,null,null,null,null,null,null,null,null,null,null,null,null,null,null,null,null,null,null,null,null,null,null,null,null,null,null,null,null,null,null,null,null,"巻",null,null,"アサ",null,{"$f":"IFERROR(VLOOKUP($CO9,・!$H$3:$I$700,2,FALSE),\"\")","v":640},null,null,null,null,null,null,null,null,null,null,null,null,null,null,null,null,null,"分水",20101,{"$f":"Q9","v":0},{"$f":"T9","v":0},{"$f":"SUM(BW9:BX9)","v":0},{"$f":"AL9","v":0},{"$f":"IF($K9>$W9,$W9,\"\")","v":""},{"$f":"AC9","v":0},{"$f":"AI9","v":0},null,"巻",20106,{"$f":"BF9","v":0},{"$f":"BI9","v":0},null,201011,201013,201015,201014,null,201061]
[null,"吉田",null,null,"合",null,null,null,null,null,null,null,null,{"$f":"IFERROR(VLOOKUP($CJ10,・!$H$3:$I$700,2,FALSE),\"\")","v":4300},null,null,null,null,null,null,null,null,null,null,null,null,null,null,null,null,null,{"$f":"IFERROR(VLOOKUP($CM10,・!$H$3:$I$700,2,FALSE),\"\")","v":70},null,null,null,null,null,null,null,null,null,null,null,null,null,null,null,null,null,"巻",null,null,"ヨ",null,{"$f":"IFERROR(VLOOKUP($CO10,・!$H$3:$I$700,2,FALSE),\"\")","v":650},null,null,null,null,null,null,null,null,null,null,null,null,null,null,null,null,null,"吉田",20102,0,0,0,0,"",0,0,null,"巻",220107,0,{"$f":"BI10","v":0},null,201021,201023,201025,201024,null,2201071]
[null,"粟生津",null,null,"合",null,null,null,null,null,null,null,null,{"$f":"IFERROR(VLOOKUP($CJ11,・!$H$3:$I$700,2,FALSE),\"\")","v":700},null,null,null,null,null,null,null,null,null,null,null,null,null,null,null,null,null,null,null,null,null,null,null,null,null,null,null,null,null,null,null,null,null,null,null,null,null,null,null,null,null,null,null,null,null,null,null,null,null,null,null,null,null,null,null,null,null,null,"粟生津",20104,0,0,0,0,"",0,0,null,null,null,{"$f":"BF11","v":0},0,null,201041,201043,201045,201044]
[null,"巻",null,null,"新マ日",null,null,{"$f":"N12+W12","v":6510},null,null,null,null,null,{"$f":"IFERROR(VLOOKUP($CJ12,・!$H$3:$I$700,2,FALSE),\"\")","v":6160},null,null,null,null,null,{"$f":"IF(K12=\"\",\"\",IF(K12<=W12,K12,K12-W12))","v":""},null,null,{"$f":"IFERROR(VLOOKUP($CK12,・!$H$3:$I$700,2,FALSE),\"\")","v":350},null,null,null,null,null,null,null,null,{"$f":"IFERROR(VLOOKUP($CM12,・!$H$3:$I$700,2,FALSE),\"\")","v":380},null,null,null,null,null,null,null,null,null,null,null,null,null,null,null,null,null,null,null,null,null,null,null,null,null,null,null,null,null,null,null,null,null,null,null,null,null,null,null,null,"巻",20105,0,"",0,0,"",0,0,null,null,null,0,0,null,201051,201053,201055,201054]
[null,"岩室",null,null,"新マ日",null,null,{"$f":"N13+W13","v":700},null,null,null,null,null,{"$f":"IFERROR(VLOOKUP($CJ13,・!$H$3:$I$700,2,FALSE),\"\")","v":670},null,null,null,null,null,{"$f":"IF(K13=\"\",\"\",IF(K13<=W13,K13,K13-W13))","v":""},null,null,{"$f":"IFERROR(VLOOKUP($CK13,・!$H$3:$I$700,2,FALSE),\"\")","v":30},null,null,null,null,null,null,null,null,{"$f":"IFERROR(VLOOKUP($CM13,・!$H$3:$I$700,2,FALSE),\"\")","v":40},null,null,null,null,null,null,null,null,null,null,null,null,null,null,null,null,null,null,null,null,null,null,null,null,null,null,null,null,null,null,null,null,null,null,null,null,null,null,null,null,"岩室",20108,0,"",0,0,"",0,0,null,null,null,0,0,null,201081,201083,201085,201084]
[null,"西川",null,null,"合",null,null,4300,null,null,null,null,null,{"$f":"IFERROR(VLOOKUP($CJ14,・!$H$3:$I$700,2,FALSE),\"\")","v":3800},null,null,null,null,null,"",null,null,{"$f":"IFERROR(VLOOKUP($CK14,・!$H$3:$I$700,2,FALSE),\"\")","v":500},null,null,null,null,null,null,null,null,{"$f":"IFERROR(VLOOKUP($CM14,・!$H$3:$I$700,2,FALSE),\"\")","v":200},null,null,null,null,null,null,null,null,null,null,null,null,null,null,null,null,null,null,null,null,null,null,null,null,null,null,null,null,null,null,null,null,null,null,null,null,null,null,null,null,"西川",20109,0,"",0,0,"",0,0,null,null,null,0,0,null,201091,201093,201095,201094]
[null,"中之口",null,null,"合",null,null,null,null,null,null,null,null,{"$f":"IFERROR(VLOOKUP($CJ15,・!$H$3:$I$700,2,FALSE),\"\")","v":1100},null,null,null,null,null,null,null,null,null,null,null,null,null,null,null,null,null,null,null,null,null,null,null,null,null,null,null,null,null,null,null,null,null,null,null,null,null,null,null,null,null,null,null,null,null,null,null,null,null,null,null,null,null,null,null,null,null,null,"中之口",20110,0,0,0,0,"",0,0,null,null,null,0,0,null,201101,201103,201105,201104]
[null,"弥彦",null,null,"合",null,null,{"$f":"N16+W16","v":1940},null,null,null,null,null,{"$f":"IFERROR(VLOOKUP($CJ16,・!$H$3:$I$700,2,FALSE),\"\")","v":1840},null,null,null,null,null,{"$f":"IF(K16=\"\",\"\",IF(K16<=W16,K16,K16-W16))","v":""},null,null,{"$f":"IFERROR(VLOOKUP($CK16,・!$H$3:$I$700,2,FALSE),\"\")","v":100},null,null,null,null,null,null,null,null,null,null,null,null,null,null,null,null,null,null,null,null,null,null,null,null,null,null,null,null,null,null,null,null,null,null,null,null,null,null,null,null,null,null,null,null,null,null,null,null,null,"弥彦",20111,0,"",0,0,"",0,0,null,null,null,0,0,null,201111,201113,201115,201114]
[null,"010","小計",null,{"$f":"Q17+T17+W17+AC17+AI17+BF17","v":0},null,null,{"$f":"SUM(H9:J16)","v":13450},null,null,{"$f":"SUM(K9:M16)","v":0},null,null,{"$f":"SUM(N9:P16)","v":21870},null,null,{"$f":"SUM(Q9:S16)","v":0},null,null,{"$f":"SUM(T9:V16)","v":0},null,null,{"$f":"CA17","v":0},null,null,null,null,null,null,null,null,{"$f":"SUM(AF9:AH16)","v":690},null,null,{"$f":"SUM(AI9:AK16)","v":0},null,null,null,null,null,null,null,null,null,null,null,null,null,null,"小計",null,null,null,null,{"$f":"SUM(BC9:BE16)","v":1290},null,null,{"$f":"SUM(BF9:BH16)","v":0},null,null,null,null,null,null,null,null,null,null,null,null,null,null,{"$f":"SUM(BY9:CC16,CG9:CG16)","v":0},null,{"$f":"SUM(BW9:BW16)","v":0},{"$f":"SUM(BX9:BX16)","v":0},0,null,{"$f":"SUM(CA9:CA16)","v":0},{"$f":"SUM(CB9:CB16)","v":0},0,null,null,null,{"$f":"SUM(CG9:CG16)","v":0}]
["旧中蒲原郡・旧新津・五泉市","小須戸",null,null,"合",null,null,null,null,null,null,null,null,{"$f":"IFERROR(VLOOKUP($CJ18,・!$H$3:$I$700,2,FALSE),\"\")","v":3140},null,null,null,null,null,null,null,null,null,null,null,null,null,null,null,null,null,{"$f":"IFERROR(VLOOKUP($CM18,・!$H$3:$I$700,2,FALSE),\"\")","v":60},null,null,null,null,null,null,null,null,null,null,null,null,null,null,null,null,null,null,null,null,null,null,null,null,null,null,null,null,null,null,null,null,null,null,null,null,null,null,null,null,"小須戸",20112,0,0,0,0,"",0,0,null,null,null,0,0,null,201121,201123,201125,201124]
[null,"矢代田",null,null,"合",null,null,{"$f":"N19+W19","v":990},null,null,null,null,null,{"$f":"IFERROR(VLOOKUP($CJ19,・!$H$3:$I$700,2,FALSE),\"\")","v":980},null,null,null,null,null,{"$f":"IF(K19=\"\",\"\",IF(K19<=W19,K19,K19-W19))","v":""},null,null,{"$f":"IFERROR(VLOOKUP($CK19,・!$H$3:$I$700,2,FALSE),\"\")","v":10},null,null,null,null,null,null,null,null,{"$f":"IFERROR(VLOOKUP($CM19,・!$H$3:$I$700,2,FALSE),\"\")","v":20},null,null,null,null,null,null,null,null,null,null,null,null,null,null,null,null,null,null,null,null,null,null,null,null,null,null,null,null,null,null,null,null,null,null,null,null,null,null,null,null,"矢代田",20113,0,"",0,0,"",0,0,null,null,null,0,0,null,201131,201133,201135,201134]
[null,"村松",null,null,"合",null,null,null,null,null,null,null,null,{"$f":"IFERROR(VLOOKUP($CJ20,・!$H$3:$I$700,2,FALSE),\"\")","v":3700},null,null,null,null,null,null,null,null,null,null,null,null,null,null,null,null,null,{"$f":"IFERROR(VLOOKUP($CM20,・!$H$3:$I$700,2,FALSE),\"\")","v":180},null,null,null,null,null,null,null,null,null,null,null,null,null,null,null,null,null,null,null,null,null,null,null,null,null,null,null,null,null,null,null,null,null,null,null,null,null,null,null,null,"村松",20114,0,0,0,0,"",0,0,null,null,null,0,0,null,201141,201143,201145,201144]
[null,"020","小計",null,{"$f":"Q21+T21+W21+AC21+AI21+BF21","v":0},null,null,{"$f":"SUM(H18:J20)","v":990},null,null,{"$f":"SUM(K18:M20)","v":0},null,null,{"$f":"SUM(N18:P20)","v":7820},null,null,{"$f":"SUM(Q18:S20)","v":0},null,null,{"$f":"SUM(T18:V20)","v":0},null,null,{"$f":"CA21","v":0},null,null,null,null,null,null,null,null,{"$f":"SUM(AF18:AH20)","v":260},null,null,{"$f":"SUM(AI18:AK20)","v":0},null,null,null,null,null,null,null,null,null,null,null,null,null,null,"小計",null,null,null,null,null,null,null,null,null,null,null,null,null,null,null,null,null,null,null,null,null,null,{"$f":"SUM(BY18:CC20,CG18:CG20)","v":0},null,{"$f":"SUM(BW18:BW20)","v":0},{"$f":"SUM(BX18:BX20)","v":0},0,null,{"$f":"SUM(CA18:CA20)","v":0},{"$f":"SUM(CB18:CB20)","v":0},0,null,null,null,{"$f":"SUM(CG18:CG20)","v":0}]
[null,"新津",null,null,"合",null,null,{"$f":"N22+W22","v":10900},null,null,null,null,null,{"$f":"IFERROR(VLOOKUP($CJ22,・!$H$3:$I$700,2,FALSE),\"\")","v":10800},null,null,null,null,null,{"$f":"IF(K22=\"\",\"\",IF(K22<=W22,K22,K22-W22))","v":""},null,null,{"$f":"IFERROR(VLOOKUP($CK22,・!$H$3:$I$700,2,FALSE),\"\")","v":100},null,null,null,null,null,null,null,null,{"$f":"IFERROR(VLOOKUP($CM22,・!$H$3:$I$700,2,FALSE),\"\")","v":340},null,null,null,null,null,null,null,null,null,null,null,null,null,null,null,null,null,null,null,null,null,null,null,null,null,null,null,null,null,null,null,null,null,null,null,null,null,null,null,null,"新津",20116,0,"",0,0,"",0,0,null,null,null,0,0,null,201161,201163,201165,201164]
[null,"新津・荻川",null,null,"合",null,null,{"$f":"N23+W23","v":4600},null,null,null,null,null,{"$f":"IFERROR(VLOOKUP($CJ23,・!$H$3:$I$700,2,FALSE),\"\")","v":4500},null,null,null,null,null,"",null,null,{"$f":"IFERROR(VLOOKUP($CK23,・!$H$3:$I$700,2,FALSE),\"\")","v":100},null,null,null,null,null,null,null,null,{"$f":"IFERROR(VLOOKUP($CM23,・!$H$3:$I$700,2,FALSE),\"\")","v":160},null,null,null,null,null,null,null,null,null,null,null,null,null,null,null,null,null,null,null,null,null,null,null,null,null,null,null,null,null,null,null,null,null,null,null,null,null,null,null,null,"新津・荻川",20181,0,"",0,0,"",0,0,null,null,null,0,0,null,201811,201813,201815,201814]
[null,"030","小計",null,{"$f":"Q24+T24+W24+AC24+AI24+BF24","v":0},null,null,{"$f":"SUM(H22:J23)","v":15500},null,null,{"$f":"SUM(K22:M23)","v":0},null,null,{"$f":"SUM(N22:P23)","v":15300},null,null,{"$f":"SUM(Q22:S23)","v":0},null,null,{"$f":"SUM(T22:V23)","v":0},null,null,{"$f":"CA24","v":0},null,null,null,null,null,null,null,null,{"$f":"SUM(AF22:AH23)","v":500},null,null,{"$f":"SUM(AI22:AK23)","v":0},null,null,null,null,null,null,null,null,null,null,null,null,null,null,"小計",null,null,null,null,null,null,null,null,null,null,null,null,null,null,null,null,null,null,null,null,null,null,{"$f":"SUM(BY22:CC23,CG22:CG23)","v":0},null,{"$f":"SUM(BW22:BW23)","v":0},{"$f":"SUM(BX22:BX23)","v":0},0,null,{"$f":"SUM(CA22:CA23)","v":0},{"$f":"SUM(CB22:CB23)","v":0},0,null,null,null,{"$f":"SUM(CG22:CG23)","v":0}]
[null,"五泉",null,null,"合",null,null,null,null,null,null,null,null,{"$f":"IFERROR(VLOOKUP($CJ25,・!$H$3:$I$700,2,FALSE),\"\")","v":7380},null,null,null,null,null,null,null,null,null,null,null,null,null,null,null,null,null,null,null,null,null,null,null,null,null,null,null,null,null,null,null,null,null,null,null,null,null,null,null,null,null,null,null,null,null,null,null,null,null,null,null,null,null,null,null,null,null,null,"五泉",20117,0,0,0,0,"",0,0,null,null,null,0,0,null,201171,201173,201175,201174]
[null,"五泉・馬下",null,null,"合",null,null,null,null,null,null,null,null,{"$f":"IFERROR(VLOOKUP($CJ26,・!$H$3:$I$700,2,FALSE),\"\")","v":240},null,null,null,null,null,null,null,null,null,null,null,null,null,null,null,null,null,null,null,null,null,null,null,null,null,null,null,null,null,null,null,null,null,null,null,null,null,null,null,null,null,null,null,null,null,null,null,null,null,null,null,null,null,null,null,null,null,null,"五泉・馬下",20119,0,0,0,0,"",0,0,null,null,null,0,0,null,201191,201193,201195,201194]
[null,"保田・馬下",null,null,"合",null,null,null,null,null,null,null,null,{"$f":"IFERROR(VLOOKUP($CJ27,・!$H$3:$I$700,2,FALSE),\"\")","v":150},null,null,null,null,null,null,null,null,null,null,null,null,null,null,null,null,null,null,null,null,null,null,null,null,null,null,null,null,null,null,null,null,null,null,null,null,null,null,null,null,null,null,null,null,null,null,null,null,null,null,null,null,null,null,null,null,null,null,"保田・馬下",20183,0,0,0,0,"",0,0,null,null,null,0,0,null,201831,201833,201835,201834]
[null,"040","小計",null,{"$f":"Q28+T28+W28+AC28+AI28+BF28","v":0},null,null,null,null,null,null,null,null,{"$f":"SUM(N25:P27)","v":7770},null,null,{"$f":"SUM(Q25:S27)","v":0},null,null,null,null,null,null,null,null,null,null,null,null,null,null,null,null,null,null,null,null,null,null,null,null,null,null,null,null,null,null,null,null,"小計",null,null,null,null,null,null,null,null,null,null,null,null,null,null,null,null,null,null,null,null,null,null,{"$f":"SUM(BY25:CC27,CG25:CG27)","v":0},null,{"$f":"SUM(BW25:BW27)","v":0},{"$f":"SUM(BX25:BX27)","v":0},0,null,{"$f":"SUM(CA25:CA27)","v":0},{"$f":"SUM(CB25:CB27)","v":0},0,null,null,null,{"$f":"SUM(CG25:CG27)","v":0}]
["旧白根市","白根",null,null,"新アマ日",null,null,{"$f":"N29+W29","v":3450},null,null,null,null,null,{"$f":"IFERROR(VLOOKUP($CJ29,・!$H$3:$I$700,2,FALSE),\"\")","v":3250},null,null,null,null,null,{"$f":"IF(K29=\"\",\"\",IF(K29<=W29,K29,K29-W29))","v":""},null,null,{"$f":"IFERROR(VLOOKUP($CK29,・!$H$3:$I$700,2,FALSE),\"\")","v":200},null,null,null,null,null,null,null,null,{"$f":"IFERROR(VLOOKUP($CM29,・!$H$3:$I$700,2,FALSE),\"\")","v":110},null,null,null,null,null,null,null,null,null,null,null,null,null,null,null,null,null,"白根",null,null,"ヨサ",null,{"$f":"IFERROR(VLOOKUP($CO29,・!$H$3:$I$700,2,FALSE),\"\")","v":700},null,null,null,null,null,null,null,null,null,null,null,null,null,null,null,null,null,"白根",20120,0,"",0,0,"",0,0,null,"白根",220121,0,0,null,201201,201203,201205,201204,null,2201211]
[null,"月潟",null,null,"新アマ日",null,null,{"$f":"N30+W30","v":1650},null,null,null,null,null,{"$f":"IFERROR(VLOOKUP($CJ30,・!$H$3:$I$700,2,FALSE),\"\")","v":1620},null,null,null,null,null,"",null,null,{"$f":"IFERROR(VLOOKUP($CK30,・!$H$3:$I$700,2,FALSE),\"\")","v":30},null,null,null,null,null,null,null,null,null,null,null,null,null,null,null,null,null,null,null,null,null,null,null,null,null,null,null,null,null,null,null,null,null,null,null,null,null,null,null,null,null,null,null,null,null,null,null,null,null,"月潟",20122,0,"",0,0,"",0,0,null,null,null,0,0,null,201221,201223,201225,201224]
[null,"新飯田",null,null,"合",null,null,940,null,null,null,null,null,{"$f":"IFERROR(VLOOKUP($CJ31,・!$H$3:$I$700,2,FALSE),\"\")","v":930},null,null,null,null,null,"",null,null,{"$f":"IFERROR(VLOOKUP($CK31,・!$H$3:$I$700,2,FALSE),\"\")","v":10},null,null,null,null,null,null,null,null,null,null,null,null,null,null,null,null,null,null,null,null,null,null,null,null,null,null,null,null,null,null,null,null,null,null,null,null,null,null,null,null,null,null,null,null,null,null,null,null,null,"新飯田",20123,0,"",0,0,"",0,0,null,null,null,0,0,null,201231,201233,201235,201234]
[null,"050","小計",null,{"$f":"Q32+T32+W32+AC32+AI32+BF32","v":0},null,null,{"$f":"SUM(H29:J31)","v":6040},null,null,{"$f":"SUM(K29:M31)","v":0},null,null,{"$f":"SUM(N29:P31)","v":5800},null,null,{"$f":"SUM(Q29:S31)","v":0},null,null,{"$f":"SUM(T29:V31)","v":0},null,null,{"$f":"CA32","v":0},null,null,null,null,null,null,null,null,{"$f":"SUM(AF29:AH31)","v":110},null,null,{"$f":"SUM(AI29:AK31)","v":0},null,null,null,null,null,null,null,null,null,null,null,null,null,null,"小計",null,null,null,null,{"$f":"SUM(BC29:BE31)","v":700},null,null,{"$f":"SUM(BF29:BH31)","v":0},null,null,null,null,null,null,null,null,null,null,null,null,null,null,{"$f":"SUM(BY29:CC31,CG29:CG31)","v":0},null,{"$f":"SUM(BW29:BW31)","v":0},{"$f":"SUM(BX29:BX31)","v":0},0,null,{"$f":"SUM(CA29:CA31)","v":0},{"$f":"SUM(CB29:CB31)","v":0},0,null,null,null,{"$f":"SUM(CG29:CG31)","v":0}]
["三条市・燕市・加茂市","三条北",null,null,"新アマサ日",null,null,null,null,null,null,null,null,{"$f":"IFERROR(VLOOKUP($CJ33,・!$H$3:$I$700,2,FALSE),\"\")","v":9580},null,null,null,null,null,null,null,null,null,null,null,null,null,null,null,null,null,{"$f":"IFERROR(VLOOKUP($CM33,・!$H$3:$I$700,2,FALSE),\"\")","v":270},null,null,null,null,null,null,null,null,null,null,null,null,null,null,null,null,null,"三条",null,null,"ヨ",null,{"$f":"IFERROR(VLOOKUP($CO33,・!$H$3:$I$700,2,FALSE),\"\")","v":5100},null,null,null,null,null,null,null,null,null,null,null,null,null,null,null,null,null,"三条北",20124,0,0,0,0,"",0,0,null,"三条",220129,0,0,null,201241,201243,201245,201244,null,2201291]
[null,"三条南",null,null,"新アマサ日",null,null,null,null,null,null,null,null,{"$f":"IFERROR(VLOOKUP($CJ34,・!$H$3:$I$700,2,FALSE),\"\")","v":2300},null,null,null,null,null,null,null,null,null,null,null,null,null,null,null,null,null,{"$f":"IFERROR(VLOOKUP($CM34,・!$H$3:$I$700,2,FALSE),\"\")","v":60},null,null,null,null,null,null,null,null,null,null,null,null,null,null,null,null,null,null,null,null,null,null,null,null,null,null,null,null,null,null,null,null,null,null,null,null,null,null,null,null,"三条南",20125,0,0,0,0,"",0,0,null,null,null,0,0,null,201251,201253,201255,201254]
[null,"060","小計",null,{"$f":"Q35+T35+W35+AC35+AI35+BF35","v":0},null,null,null,null,null,null,null,null,{"$f":"SUM(N33:P34)","v":11880},null,null,{"$f":"SUM(Q33:S34)","v":0},null,null,null,null,null,null,null,null,null,null,null,null,null,null,{"$f":"SUM(AF33:AH34)","v":330},null,null,{"$f":"SUM(AI33:AK34)","v":0},null,null,null,null,null,null,null,null,null,null,null,null,null,null,"小計",null,null,null,null,{"$f":"SUM(BC33:BE34)","v":5100},null,null,{"$f":"SUM(BF33:BH34)","v":0},null,null,null,null,null,null,null,null,null,null,null,null,null,null,{"$f":"SUM(BY33:CC34,CG33:CG34)","v":0},null,{"$f":"SUM(BW33:BW34)","v":0},{"$f":"SUM(BX33:BX34)","v":0},{"$f":"SUM(BY33:BY34)","v":0},null,{"$f":"SUM(CA33:CA34)","v":0},{"$f":"SUM(CB33:CB34)","v":0},{"$f":"SUM(CC33:CC34)","v":0},null,null,null,{"$f":"SUM(CG33:CG34)","v":0}]
[null,"燕",null,null,"新アマサ日",null,null,{"$f":"N36+W36","v":5750},null,null,null,null,null,{"$f":"IFERROR(VLOOKUP($CJ36,・!$H$3:$I$700,2,FALSE),\"\")","v":5700},null,null,null,null,null,{"$f":"IF(K36=\"\",\"\",IF(K36<=W36,K36,K36-W36))","v":""},null,null,{"$f":"IFERROR(VLOOKUP($CK36,・!$H$3:$I$700,2,FALSE),\"\")","v":50},null,null,null,null,null,null,null,null,{"$f":"IFERROR(VLOOKUP($CM36,・!$H$3:$I$700,2,FALSE),\"\")","v":150},null,null,null,null,null,null,null,null,null,null,null,null,null,null,null,null,null,"燕",null,null,"ヨ",null,{"$f":"IFERROR(VLOOKUP($CO36,・!$H$3:$I$700,2,FALSE),\"\")","v":3250},null,null,null,null,null,null,null,null,null,null,null,null,null,null,null,null,null,"燕",20130,0,"",0,0,"",0,0,null,"燕",220134,0,0,null,201301,201303,201305,201304,null,2201341]
[null,"燕南",null,null,"新アマサ日",null,null,null,null,null,null,null,null,{"$f":"IFERROR(VLOOKUP($CJ37,・!$H$3:$I$700,2,FALSE),\"\")","v":1030},null,null,null,null,null,null,null,null,null,null,null,null,null,null,null,null,null,{"$f":"IFERROR(VLOOKUP($CM37,・!$H$3:$I$700,2,FALSE),\"\")","v":30},null,null,null,null,null,null,null,null,null,null,null,null,null,null,null,null,null,null,null,null,null,null,null,null,null,null,null,null,null,null,null,null,null,null,null,null,null,null,null,null,"燕南",20131,0,0,0,0,"",0,0,null,null,null,0,0,null,201311,201313,201315,201314]
[null,"070","小計",null,{"$f":"Q38+T38+W38+AC38+AI38+BF38","v":0},null,null,{"$f":"SUM(H36:J37)","v":5750},null,null,{"$f":"SUM(K36:M37)","v":0},null,null,{"$f":"SUM(N36:P37)","v":6730},null,null,{"$f":"SUM(Q36:S37)","v":0},null,null,{"$f":"SUM(T36:V37)","v":0},null,null,{"$f":"CA38","v":0},null,null,null,null,null,null,null,null,{"$f":"SUM(AF36:AH37)","v":180},null,null,{"$f":"SUM(AI36:AK37)","v":0},null,null,null,null,null,null,null,null,null,null,null,null,null,null,"小計",null,null,null,null,{"$f":"SUM(BC36:BE37)","v":3250},null,null,{"$f":"SUM(BF36:BH37)","v":0},null,null,null,null,null,null,null,null,null,null,null,null,null,null,{"$f":"SUM(BY36:CC37,CG36:CG37)","v":0},null,{"$f":"SUM(BW36:BW37)","v":0},{"$f":"SUM(BX36:BX37)","v":0},0,null,{"$f":"SUM(CA36:CA37)","v":0},{"$f":"SUM(CB36:CB37)","v":0},0,null,null,null,{"$f":"SUM(CG36:CG37)","v":0}]
[null,"加茂",null,null,"新アマサ日",null,null,{"$f":"N39+W39","v":7230},null,null,null,null,null,{"$f":"IFERROR(VLOOKUP($CJ39,・!$H$3:$I$700,2,FALSE),\"\")","v":7150},null,null,null,null,null,{"$f":"IF(K39=\"\",\"\",IF(K39<=W39,K39,K39-W39))","v":""},null,null,{"$f":"IFERROR(VLOOKUP($CK39,・!$H$3:$I$700,2,FALSE),\"\")","v":80},null,null,null,null,null,null,null,null,{"$f":"IFERROR(VLOOKUP($CM39,・!$H$3:$I$700,2,FALSE),\"\")","v":260},null,null,null,null,null,null,null,null,null,null,null,null,null,null,null,null,null,"加茂",null,null,"ヨ",null,{"$f":"IFERROR(VLOOKUP($CO39,・!$H$3:$I$700,2,FALSE),\"\")","v":1600},null,null,null,null,null,null,null,null,null,null,null,null,null,null,null,null,null,"加茂",20135,0,"",0,0,"",0,0,null,"加茂",220137,0,0,null,201351,201353,201355,201354,null,2201371]
[null,"080","小計",null,{"$f":"Q40+T40+W40+AC40+AI40+BF40","v":0},null,null,{"$f":"SUM(H39)","v":7230},null,null,{"$f":"SUM(K39)","v":0},null,null,{"$f":"SUM(N39)","v":7150},null,null,{"$f":"SUM(Q39)","v":0},null,null,{"$f":"SUM(T39)","v":0},null,null,{"$f":"CA40","v":0},null,null,null,null,null,null,null,null,{"$f":"SUM(AF39)","v":260},null,null,{"$f":"SUM(AI39)","v":0},null,null,null,null,null,null,null,null,null,null,null,null,null,null,"小計",null,null,null,null,{"$f":"SUM(BC39)","v":1600},null,null,{"$f":"SUM(BF39)","v":0},null,null,null,null,null,null,null,null,null,null,null,null,null,null,{"$f":"SUM(BY39:CC39,CG39)","v":0},null,{"$f":"SUM(BW39)","v":0},{"$f":"SUM(BX39)","v":0},0,null,{"$f":"SUM(CA39)","v":0},{"$f":"SUM(CB39)","v":0},0,null,null,null,{"$f":"SUM(CG39)","v":0}]
["旧南蒲原郡","下田",null,null,"合",null,null,null,null,null,null,null,null,{"$f":"IFERROR(VLOOKUP($CJ41,・!$H$3:$I$700,2,FALSE),\"\")","v":2000},null,null,null,null,null,null,null,null,null,null,null,null,null,null,null,null,null,null,null,null,null,null,null,null,null,null,null,null,null,null,null,null,null,null,null,null,null,null,null,null,null,null,null,null,null,null,null,null,null,null,null,null,null,null,null,null,null,null,"下田",20139,0,0,0,0,"",0,0,null,null,null,0,0,null,201391,201393,201395,201394]
[null,"栄山嵜",null,null,"合",null,null,null,null,null,null,null,null,{"$f":"IFERROR(VLOOKUP($CJ42,・!$H$3:$I$700,2,FALSE),\"\")","v":1120},null,null,null,null,null,null,null,null,null,null,null,null,null,null,null,null,null,null,null,null,null,null,null,null,null,null,null,null,null,null,null,null,null,null,null,null,null,null,null,null,null,null,null,null,null,null,null,null,null,null,null,null,null,null,null,null,null,null,"栄山嵜",20140,0,0,0,0,"",0,0,null,null,null,0,0,null,201401,201403,201405,201404]
[null,"栄吉田",null,null,"合",null,null,null,null,null,null,null,null,{"$f":"IFERROR(VLOOKUP($CJ43,・!$H$3:$I$700,2,FALSE),\"\")","v":300},null,null,null,null,null,null,null,null,null,null,null,null,null,null,null,null,null,null,null,null,null,null,null,null,null,null,null,null,null,null,null,null,null,null,null,null,null,null,null,null,null,null,null,null,null,null,null,null,null,null,null,null,null,null,null,null,null,null,"栄吉田",20141,0,0,0,0,"",0,0,null,null,null,0,0,null,201411,201413,201415,201414]
[null,"帯織",null,null,"合",null,null,null,null,null,null,null,null,{"$f":"IFERROR(VLOOKUP($CJ44,・!$H$3:$I$700,2,FALSE),\"\")","v":340},null,null,null,null,null,null,null,null,null,null,null,null,null,null,null,null,null,null,null,null,null,null,null,null,null,null,null,null,null,null,null,null,null,null,null,null,null,null,null,null,null,null,null,null,null,null,null,null,null,null,null,null,null,null,null,null,null,null,"帯織",20143,0,0,0,0,"",0,0,null,null,null,0,0,null,201431,201433,201435,201434]
[null,"090","小計",null,{"$f":"Q45+T45+W45+AC45+AI45+BF45","v":0},null,null,null,null,null,null,null,null,{"$f":"SUM(N41:P44)","v":3760},null,null,{"$f":"SUM(Q41:S44)","v":0},null,null,null,null,null,null,null,null,null,null,null,null,null,null,null,null,null,null,null,null,null,null,null,null,null,null,null,null,null,null,null,null,"小計",null,null,null,null,null,null,null,null,null,null,null,null,null,null,null,null,null,null,null,null,null,null,{"$f":"SUM(BY41:CC44,CG41:CG44)","v":0},null,{"$f":"SUM(BW41:BW44)","v":0},{"$f":"SUM(BX41:BX44)","v":0},0,null,{"$f":"SUM(CA41:CA44)","v":0},{"$f":"SUM(CB41:CB44)","v":0},0,null,null,null,{"$f":"SUM(CG41:CG44)","v":0}]
["旧豊栄市","豊栄",null,null,"新アマ日",null,null,{"$f":"N46+W46","v":6110},null,null,null,null,null,{"$f":"IFERROR(VLOOKUP($CJ46,・!$H$3:$I$700,2,FALSE),\"\")","v":5490},null,null,null,null,null,{"$f":"IF(K46=\"\",\"\",IF(K46<=W46,K46,K46-W46))","v":""},null,null,{"$f":"IFERROR(VLOOKUP($CK46,・!$H$3:$I$700,2,FALSE),\"\")","v":620},null,null,{"$f":"IFERROR(VLOOKUP(CL46,・!$H$3:$I$700,2,FALSE),\"\")","v":5820},null,null,null,null,null,{"$f":"IFERROR(VLOOKUP($CM46,・!$H$3:$I$700,2,FALSE),\"\")","v":260},null,null,null,null,null,null,null,null,null,null,null,null,null,null,null,null,null,"豊栄",null,null,"ヨサ日",null,{"$f":"IFERROR(VLOOKUP($CO46,・!$H$3:$I$700,2,FALSE),\"\")","v":830},null,null,null,null,null,null,null,null,null,null,null,null,null,null,null,null,null,"豊栄",20179,{"$f":"Q46","v":0},{"$f":"T46","v":""},{"$f":"SUM(BW46:BX46)","v":0},{"$f":"AL46","v":0},"",{"$f":"AC46","v":0},{"$f":"AI46","v":0},null,"豊栄",220145,0,0,null,201791,201793,201795,201794,null,2201451]
[null,"木崎",null,null,"合",null,null,{"$f":"N47+W47","v":2390},null,null,null,null,null,{"$f":"IFERROR(VLOOKUP($CJ47,・!$H$3:$I$700,2,FALSE),\"\")","v":2340},null,null,null,null,null,"",null,null,{"$f":"IFERROR(VLOOKUP($CK47,・!$H$3:$I$700,2,FALSE),\"\")","v":50},null,null,{"$f":"IFERROR(VLOOKUP(CL47,・!$H$3:$I$700,2,FALSE),\"\")","v":1200},null,null,null,null,null,{"$f":"IFERROR(VLOOKUP($CM47,・!$H$3:$I$700,2,FALSE),\"\")","v":70},null,null,null,null,null,null,null,null,null,null,null,null,null,null,null,null,null,null,null,null,null,null,null,null,null,null,null,null,null,null,null,null,null,null,null,null,null,null,null,null,"木崎",20146,{"$f":"Q47","v":0},{"$f":"T47","v":""},{"$f":"SUM(BW47:BX47)","v":0},{"$f":"AL47","v":0},{"$f":"IF($K47>$W47,$W47,\"\")","v":""},{"$f":"AC47","v":0},{"$f":"AI47","v":0},null,null,null,0,0,null,201461,201463,201465,201464]
[null,"100","小計",null,{"$f":"Q48+T48+W48+AC48+AI48+BF48","v":0},null,null,{"$f":"SUM(H46:J47)","v":8500},null,null,{"$f":"SUM(K46:M47)","v":0},null,null,{"$f":"SUM(N46:P47)","v":7830},null,null,{"$f":"SUM(Q46:S47)","v":0},null,null,{"$f":"SUM(T46:V47)","v":0},null,null,{"$f":"CA48","v":0},null,null,{"$f":"SUM(Z46:AB47)","v":7020},null,null,{"$f":"SUM(AC46:AE47)","v":0},null,null,{"$f":"SUM(AF46:AH47)","v":330},null,null,{"$f":"SUM(AI46:AK47)","v":0},null,null,null,null,null,null,null,null,null,null,null,null,null,null,"小計",null,null,null,null,{"$f":"SUM(BC46:BE47)","v":830},null,null,{"$f":"SUM(BF46:BH47)","v":0},null,null,null,null,null,null,null,null,null,null,null,null,null,null,{"$f":"SUM(BY46:CC47,CG46:CG47)","v":0},null,{"$f":"SUM(BW46:BW47)","v":0},{"$f":"SUM(BX46:BX47)","v":0},{"$f":"SUM(BY46:BY47)","v":0},null,{"$f":"SUM(CA46:CA47)","v":0},{"$f":"SUM(CB46:CB47)","v":0},{"$f":"SUM(CC46:CC47)","v":0},null,null,null,{"$f":"SUM(CG46:CG47)","v":0}]
["合計",null,null,null,{"$f":"SUM(E48,E45,E40,E38,E35,E32,E28,E24,E21,E17)","v":0},null,null,{"$f":"SUM(H48,H45,H40,H38,H35,H32,H28,H24,H21,H17)","v":57460},null,null,{"$f":"SUM(K48,K45,K40,K38,K35,K32,K28,K24,K21,K17)","v":0},null,null,{"$f":"SUM(N48,N45,N40,N38,N35,N32,N28,N24,N21,N17)","v":95910},null,null,{"$f":"SUM(Q48,Q45,Q40,Q38,Q35,Q32,Q28,Q24,Q21,Q17)","v":0},null,null,{"$f":"SUM(T48,T45,T40,T38,T35,T32,T28,T24,T21,T17)","v":0},null,null,{"$f":"SUM(W48,W45,W40,W38,W35,W32,W28,W24,W21,W17)","v":0},null,null,{"$f":"SUM(Z48,Z45,Z40,Z38,Z35,Z32,Z28,Z24,Z21,Z17)","v":7020},null,null,{"$f":"SUM(AC48,AC45,AC40,AC38,AC35,AC32,AC28,AC24,AC21,AC17)","v":0},null,null,{"$f":"SUM(AF48,AF45,AF40,AF38,AF35,AF32,AF28,AF24,AF21,AF17)","v":2660},null,null,{"$f":"SUM(AI48,AI45,AI40,AI38,AI35,AI32,AI28,AI24,AI21,AI17)","v":0},null,null,null,null,null,null,null,null,null,null,null,null,null,null,"合計",null,null,null,null,{"$f":"SUM(BC48,BC45,BC40,BC38,BC35,BC32,BC28,BC24,BC21,BC17)","v":12770},null,null,{"$f":"SUM(BF48,BF45,BF40,BF38,BF35,BF32,BF28,BF24,BF21,BF17)","v":0},null,null,null,null,null,null,null,null,null,null,null,null,null,null,{"$f":"SUM(BU48,BU45,BU40,BU38,BU35,BU32,BU28,BU24,BU21,BU17)","v":0},null,{"$f":"SUM(BW48,BW45,BW40,BW38,BW35,BW32,BW28,BW24,BW21,BW17)","v":0},{"$f":"SUM(BX48,BX45,BX40,BX38,BX35,BX32,BX28,BX24,BX21,BX17)","v":0},{"$f":"SUM(BY48,BY45,BY40,BY38,BY35,BY32,BY28,BY24,BY21,BY17)","v":0},null,{"$f":"SUM(CA48,CA45,CA40,CA38,CA35,CA32,CA28,CA24,CA21,CA17)","v":0},{"$f":"SUM(CB48,CB45,CB40,CB38,CB35,CB32,CB28,CB24,CB21,CB17)","v":0},{"$f":"SUM(CC48,CC45,CC40,CC38,CC35,CC32,CC28,CC24,CC21,CC17)","v":0},null,null,null,{"$f":"SUM(CG48,CG45,CG40,CG38,CG35,CG32,CG28,CG24,CG21,CG17)","v":0},null,{"$f":"SUM(BY49:CH49)","v":0}]
[null,null,null,null,null,null,null,null,null,null,null,null,null,null,null,null,null,null,null,null,null,null,null,null,null,null,null,null,null,null,null,"■Otona+ ※ がある販売店は一部朝刊時宅配エリアがございます。",null,null,null,null,null,null,null,null,null,null,null,null,null,null,null,null,null,null,null,null,null,null,null,null,null,null,null,null,null,null,null,null,null,null,null,null,null,null,null,null,null,null,null,null,{"$f":"SUM(BY49,CG49)","v":0}]

{"sheet":"下越２","index":6,"n_rows":53,"n_cols":94,"rows_kept":53,"cut":false,"hidden":false,"merged":[[4,27,4,28],[2,27,2,28],[4,12,4,26],[24,13,24,15],[23,16,23,18],[36,16,36,18],[31,16,31,18],[33,16,33,18],[34,16,34,18],[7,25,7,27],[7,28,7,30],[10,16,10,18],[11,10,11,12],[11,13,11,15],[11,16,11,18],[10,13,10,15],[10,19,10,21],[12,7,14,12],[15,10,15,12],[21,22,21,24],[11,7,11,9],[6,25,6,30],[29,16,29,18],[36,7,36,9],[12,57,12,59],[12,52,12,53],[8,52,8,53],[8,37,8,48],[12,54,12,56],[7,31,7,33],[12,49,12,51],[8,49,8,51],[51,19,51,21],[51,22,51,24],[51,25,51,27],[37,37,37,48],[12,19,14,24],[15,37,15,48],[28,37,28,48],[27,19,33,24],[21,19,21,21],[11,25,11,27],[24,37,24,48],[44,52,44,53],[44,49,44,51],[50,28,50,30],[50,31,50,33],[50,34,50,36],[3,63,3,70],[4,49,4,55],[4,56,4,62],[4,63,4,70],[2,29,2,33],[3,29,3,33],[4,29,4,33],[2,63,2,70],[2,56,2,62],[3,49,3,55],[3,56,3,62],[9,60,10,70],[11,54,11,56],[11,57,11,59],[11,49,11,53],[7,49,7,51],[7,52,7,53],[8,1,8,3],[8,4,8,6],[51,28,51,30],[51,31,51,33],[51,34,51,36],[51,37,51,48],[51,49,51,53],[51,54,51,56],[51,57,51,59],[51,60,51,70],[51,4,51,6],[51,7,51,9],[51,10,51,12],[51,13,51,15],[51,16,51,18],[14,37,14,48],[15,7,15,9],[11,28,11,30],[51,0,51,3],[12,37,12,48],[47,13,47,15],[26,37,26,48],[27,37,27,48],[11,19,11,21],[11,31,11,33],[11,34,11,36],[15,19,15,21],[15,34,15,36],[35,37,35,48],[22,37,22,48],[25,37,25,48],[13,37,13,48],[27,31,33,36],[50,13,50,15],[50,16,50,18],[49,13,49,15],[48,13,48,15],[49,16,49,18],[48,16,48,18],[48,37,48,48],[45,13,45,15],[50,25,50,27],[50,60,50,70],[40,25,49,30],[23,37,23,48],[26,19,26,21],[2,0,2,11],[13,13,13,15],[13,16,13,18],[12,1,12,3],[12,4,12,6],[14,13,14,15],[14,16,14,18],[12,13,12,15],[12,16,12,18],[10,10,10,12],[9,1,9,3],[9,4,9,6],[9,7,9,9],[10,4,10,6],[4,0,4,11],[6,1,6,24],[6,0,7,0],[3,0,3,11],[3,12,3,28],[8,22,8,24],[50,37,50,48],[47,49,47,51],[50,19,50,21],[50,22,50,24],[47,16,47,18],[44,13,44,15],[49,60,49,70],[17,10,17,12],[23,1,23,3],[42,57,42,59],[22,60,25,70],[26,60,26,70],[39,60,39,70],[41,60,41,70],[39,54,39,56],[39,57,39,59],[21,37,21,48],[17,57,17,59],[22,31,25,36],[27,49,33,59],[22,49,25,59],[35,49,35,59],[34,37,34,48],[37,57,37,59],[41,13,41,15],[39,4,39,6],[35,19,35,24],[45,60,45,70],[46,60,46,70],[17,60,17,70],[21,60,21,70],[13,57,13,59],[40,54,40,56],[40,57,40,59],[40,60,40,70],[15,25,15,27],[15,28,15,30],[17,34,17,36],[17,37,17,48],[19,37,19,48],[19,13,19,15],[18,25,20,30],[46,13,46,15],[43,13,43,15],[42,13,42,15],[40,37,40,48],[40,13,40,15],[44,16,44,18],[47,60,47,70],[45,57,45,59],[47,54,47,56],[44,54,44,56],[48,60,48,70],[41,54,41,56],[41,57,41,59],[45,54,45,56],[42,60,42,70],[43,60,43,70],[44,60,44,70],[42,54,42,56],[44,57,44,59],[1,34,1,48],[2,34,4,48],[8,0,11,0],[39,49,39,53],[1,56,1,62],[2,49,2,55],[7,54,7,56],[7,57,7,59],[37,49,37,51],[37,60,37,70],[37,52,37,53],[37,54,37,56],[38,60,38,70],[13,52,13,53],[36,60,36,70],[38,52,38,53],[38,49,38,51],[38,54,38,56],[38,57,38,59],[18,60,20,70],[27,60,33,70],[14,60,16,70],[35,60,35,70],[34,60,34,70],[10,1,10,3],[10,7,10,9],[11,22,11,24],[13,54,13,56],[0,22,0,23],[0,60,0,70],[6,37,7,48],[6,49,6,59],[6,60,7,70],[10,37,10,48],[9,22,9,24],[9,31,9,33],[9,34,9,36],[8,31,8,33],[8,60,8,70],[1,63,1,70],[2,12,2,26],[9,37,9,48],[1,49,1,55],[7,10,7,12],[7,13,7,15],[1,0,1,11],[1,12,1,28],[1,29,1,33],[7,1,7,3],[7,4,7,6],[7,16,7,18],[7,19,7,21],[7,22,7,24],[9,13,9,15],[9,16,9,18],[9,19,9,21],[8,7,8,9],[8,10,8,12],[8,13,8,15],[8,16,8,18],[9,10,9,12],[7,7,7,9],[8,19,8,21],[6,31,6,36],[12,25,14,30],[16,19,16,24],[10,22,10,24],[11,37,11,48],[8,34,8,36],[8,25,10,30],[10,31,10,36],[7,34,7,36],[39,13,39,15],[39,16,39,18],[15,31,15,33],[15,22,15,24],[16,13,16,15],[16,16,16,18],[18,37,18,48],[17,28,17,30],[17,25,17,27],[17,16,17,18],[18,31,20,36],[16,37,16,48],[16,31,16,33],[16,34,16,36],[17,13,17,15],[15,13,15,15],[15,16,15,18],[16,25,16,30],[31,37,31,48],[30,37,30,48],[33,37,33,48],[29,37,29,48],[32,37,32,48],[27,16,27,18],[46,16,46,18],[45,16,45,18],[41,37,41,48],[39,37,39,48],[36,37,36,48],[36,19,36,21],[36,22,36,24],[43,37,43,48],[44,37,44,48],[40,16,40,18],[41,16,41,18],[42,16,42,18],[43,16,43,18],[37,25,38,30],[38,37,38,48],[37,31,38,36],[38,4,38,6],[37,1,37,3],[37,4,37,6],[34,19,34,21],[37,13,37,15],[38,13,38,15],[38,16,38,18],[37,16,37,18],[34,4,34,6],[36,13,36,15],[35,7,35,12],[30,4,30,6],[36,10,36,12],[34,22,34,24],[34,7,34,9],[34,10,34,12],[26,31,26,33],[26,34,26,36],[29,1,29,3],[29,4,29,6],[32,1,32,3],[32,4,32,6],[33,4,33,6],[31,4,31,6],[27,25,33,30],[34,31,34,33],[33,13,33,15],[34,13,34,15],[35,16,35,18],[32,13,32,15],[35,13,35,15],[32,16,32,18],[30,13,30,15],[17,22,17,24],[18,19,20,24],[29,13,29,15],[27,13,27,15],[26,13,26,15],[23,13,23,15],[28,13,28,15],[28,16,28,18],[28,4,28,6],[30,16,30,18],[31,13,31,15],[26,16,26,18],[22,19,25,24],[22,7,25,12],[25,13,25,15],[26,7,26,9],[26,22,26,24],[26,10,26,12],[16,7,16,12],[22,13,22,15],[25,16,25,18],[24,16,24,18],[17,19,17,21],[20,13,20,15],[20,16,20,18],[17,7,17,9],[22,16,22,18],[18,7,20,12],[19,16,19,18],[18,49,20,59],[14,49,16,59],[13,60,13,70],[13,49,13,51],[12,31,14,36],[17,4,17,6],[21,4,21,6],[18,1,18,3],[18,4,18,6],[21,13,21,15],[21,16,21,18],[20,1,20,3],[20,4,20,6],[17,54,17,56],[18,13,18,15],[18,16,18,18],[17,49,17,53],[17,31,17,33],[21,7,21,9],[21,10,21,12],[19,4,19,6],[21,34,21,36],[21,31,21,33],[20,37,20,48],[41,49,41,51],[45,52,45,53],[45,49,45,51],[42,49,42,51],[46,37,46,48],[47,37,47,48],[40,19,49,24],[40,31,49,36],[45,37,45,48],[42,37,42,48],[49,37,49,48],[48,52,48,53],[48,49,48,51],[43,49,43,51],[40,49,40,51],[42,52,42,53],[46,52,46,53],[40,52,40,53],[41,52,41,53],[50,57,50,59],[49,49,49,51],[49,52,49,53],[49,54,49,56],[49,57,49,59],[50,49,50,53],[46,57,46,59],[46,49,46,51],[43,52,43,53],[43,54,43,56],[43,57,43,59],[48,57,48,59],[46,54,46,56],[47,52,47,53],[50,54,50,56],[47,57,47,59],[48,54,48,56],[11,2,11,3],[24,1,24,3],[24,4,24,6],[27,1,27,3],[27,4,27,6],[22,4,22,6],[25,4,25,6],[26,4,26,6],[13,1,13,3],[13,4,13,6],[23,4,23,6],[22,1,22,3],[14,4,14,6],[15,1,15,3],[15,4,15,6],[19,1,19,3],[11,4,11,6],[16,1,16,3],[16,4,16,6],[25,1,25,3],[50,4,50,6],[35,1,35,3],[35,4,35,6],[36,4,36,6],[44,1,44,3],[44,4,44,6],[40,1,40,3],[40,4,40,6],[48,1,48,3],[48,4,48,6],[47,1,47,3],[45,4,45,6],[49,4,49,6],[43,1,43,3],[47,4,47,6],[46,1,46,3],[46,4,46,6],[45,1,45,3],[43,4,43,6],[42,1,42,3],[42,4,42,6],[41,1,41,3],[41,4,41,6],[38,1,38,3],[50,2,50,3],[18,0,21,0],[49,1,49,3],[12,0,17,0],[14,1,14,3],[38,0,50,0],[27,0,36,0],[33,1,33,3],[28,1,28,3],[22,0,26,0],[17,2,17,3],[21,2,21,3],[26,2,26,3],[34,2,34,3],[36,2,36,3],[39,2,39,3],[31,1,31,3],[30,1,30,3],[11,60,11,70],[8,57,8,59],[39,7,39,9],[39,10,39,12],[50,7,50,9],[50,10,50,12],[27,7,33,12],[37,7,38,12],[40,7,49,12],[21,25,21,27],[21,28,21,30],[26,25,26,27],[26,28,26,30],[34,25,34,27],[34,28,34,30],[36,25,36,27],[36,28,36,30],[39,25,39,27],[39,28,39,30],[35,25,35,30],[22,25,25,30],[39,19,39,21],[39,22,39,24],[37,19,38,24],[8,54,8,56],[12,60,12,70],[34,34,34,36],[36,31,36,33],[36,34,36,36],[39,31,39,33],[39,34,39,36],[35,31,35,36],[6,87,6,91],[36,57,36,59],[21,49,21,53],[21,54,21,56],[21,57,21,59],[26,49,26,53],[26,54,26,56],[26,57,26,59],[34,49,34,53],[34,54,34,56],[34,57,34,59],[36,49,36,53],[36,54,36,56],[6,72,6,77],[6,82,6,85],[9,49,10,59]]}
[null,null,null,null,null,null,null,null,null,null,null,null,null,null,null,null,null,null,null,null,null,null,null,null,null,null,null,null,null,null,null,null,null,null,null,null,null,null,null,null,null,null,null,null,null,null,null,null,null,null,null,null,null,null,null,null,null,null,null,null,{"$f":"新潟市!BI1","v":"２０２３年１２月１日 現在"}]
["折込日",null,null,null,null,null,null,null,null,null,null,null,"スポンサー名",null,null,null,null,null,null,null,null,null,null,null,null,null,null,null,null,"サイズ",null,null,null,null,"チラシ内容・タイトル詳細",null,null,null,null,null,null,null,null,null,null,null,null,null,null,"朝刊　小計",null,null,null,null,null,null,"Otona＋　小計",null,null,null,null,null,null,"ページ枚数"]
[{"$f":"新潟市!A3","v":"2023/--/--"},null,null,null,null,null,null,null,null,null,null,null,{"$f":"新潟市!M3","v":0},null,null,null,null,null,null,null,null,null,null,null,null,null,null,"様",null,{"$f":"新潟市!AD3","v":0},null,null,null,null,{"$f":"新潟市!AI3","v":0},null,null,null,null,null,null,null,null,null,null,null,null,null,null,{"$f":"BY52+CG52","v":0},null,null,null,null,null,null,{"$f":"CC52","v":0},null,null,null,null,null,null,{"$f":"SUM(AX3,BE3,AX5,BE5)","v":0}]
["assh　ポスティング日",null,null,null,null,null,null,null,null,null,null,null,"ご請求先名",null,null,null,null,null,null,null,null,null,null,null,null,null,null,null,null,"ガタチラ 掲載",null,null,null,null,null,null,null,null,null,null,null,null,null,null,null,null,null,null,null,"くるみる　小計",null,null,null,null,null,null,"assh　小計",null,null,null,null,null,null,"総枚数"]
[{"$f":"新潟市!A5","v":"2023/--/--"},null,null,null,null,null,null,null,null,null,null,null,{"$f":"新潟市!M5","v":0},null,null,null,null,null,null,null,null,null,null,null,null,null,null,"様",null,{"$f":"新潟市!AD5","v":0},null,null,null,null,null,null,null,null,null,null,null,null,null,null,null,null,null,null,null,{"$f":"CA52","v":0},null,null,null,null,null,null,{"$f":"CB52","v":0},null,null,null,null,null,null,{"$f":"新潟市!BL5","v":0}]
[]
["02","新潟日報　",null,null,null,null,null,null,null,null,null,null,null,null,null,null,null,null,null,null,null,null,null,null,null,"ポスティング（assh）",null,null,null,null,null,"Otona+",null,null,null,null,null,"備考",null,null,null,null,null,null,null,null,null,null,null,"中央紙",null,null,null,null,null,null,null,null,null,null,"備考",null,null,null,null,null,null,null,null,null,null,null,"朝刊",null,null,null,null,null,"くるみる","assh","otona",null,"中央紙　朝刊",null,null,null,null,"日報",null,null,null,null,null,"中央紙"]
[null,"販売店名",null,null,"取扱い紙",null,null,"朝刊＋くるみる",null,null,"配布数",null,null,"朝刊扱数",null,null,"配布数",null,null,"朝刊数",null,null,"くるみる数",null,null,"部数",null,null,"配布数",null,null,"部数",null,null,"配布数",null,null,null,null,null,null,null,null,null,null,null,null,null,null,"販売店名",null,null,"取扱い紙",null,"部数",null,null,"配布数",null,null,null,null,null,null,null,null,null,null,null,null,null,null,"販売店名","E","朝刊1","朝刊２","部","指示","部","部","部",null,"販売店名","E","部","指示",null,"朝刊","くるみる","assh","Otona+","ミニック",null,"朝刊"]
["新発田市","新発田西",null,null,"新アマ日",null,null,{"$f":"N9+W9","v":10500},null,null,null,null,null,{"$f":"IFERROR(VLOOKUP($CJ9,・!$H$3:$I$700,2,FALSE),\"\")","v":9670},null,null,null,null,null,{"$f":"IF(K9=\"\",\"\",IF(K9<=W9,K9,K9-W9))","v":""},null,null,{"$f":"IFERROR(VLOOKUP(CK9,・!$H$3:$I$700,2,FALSE),\"\")","v":830},null,null,null,null,null,null,null,null,{"$f":"IFERROR(VLOOKUP($CM9,・!$H$3:$I$700,2,FALSE),\"\")","v":350},null,null,null,null,null,null,null,null,null,null,null,null,null,null,null,null,null,"新発田",null,null,"ヨサ",null,{"$f":"IFERROR(VLOOKUP($CP9,・!$H$3:$I$700,2,FALSE),\"\")","v":3100},null,null,null,null,null,null,null,null,null,null,null,null,null,null,null,null,null,"新発田西",20148,{"$f":"Q9","v":0},{"$f":"T9","v":""},{"$f":"SUM(BW9:BX9)","v":0},{"$f":"AL9","v":0},{"$f":"IF($K9>$W9,$W9,\"\")","v":""},{"$f":"AC9","v":0},{"$f":"AI9","v":0},null,"新発田",220152,{"$f":"BF9","v":0},{"$f":"BI9","v":0},null,201481,201483,201485,201484,201487,null,2201521]
[null,"新発田東",null,null,"新アマ日",null,null,{"$f":"N10+W10","v":9900},null,null,null,null,null,{"$f":"IFERROR(VLOOKUP($CJ10,・!$H$3:$I$700,2,FALSE),\"\")","v":9320},null,null,null,null,null,{"$f":"IF(K10=\"\",\"\",IF(K10<=W10,K10,K10-W10))","v":""},null,null,{"$f":"IFERROR(VLOOKUP(CK10,・!$H$3:$I$700,2,FALSE),\"\")","v":580},null,null,null,null,null,null,null,null,{"$f":"IFERROR(VLOOKUP($CM10,・!$H$3:$I$700,2,FALSE),\"\")","v":300},null,null,null,null,null,null,null,null,null,null,null,null,null,null,null,null,null,null,null,null,null,null,null,null,null,null,null,null,null,null,null,null,null,null,null,null,null,null,null,null,"新発田東",20149,{"$f":"Q10","v":0},{"$f":"T10","v":""},{"$f":"SUM(BW10:BX10)","v":0},{"$f":"AL10","v":0},{"$f":"IF($K10>$W10,$W10,\"\")","v":""},{"$f":"AC10","v":0},{"$f":"AI10","v":0},null,null,null,{"$f":"BF10","v":0},null,null,201491,201493,201495,201494,201497]
[null,"月岡",null,null,"合",null,null,1920,null,null,null,null,null,{"$f":"IFERROR(VLOOKUP($CJ11,・!$H$3:$I$700,2,FALSE),\"\")","v":1890},null,null,null,null,null,{"$f":"IF(K11=\"\",\"\",IF(K11<=W11,K11,K11-W11))","v":""},null,null,{"$f":"IFERROR(VLOOKUP(CK11,・!$H$3:$I$700,2,FALSE),\"\")","v":30},null,null,null,null,null,null,null,null,null,null,null,null,null,null,null,null,null,null,null,null,null,null,null,null,null,null,null,null,null,null,null,null,null,null,null,null,null,null,null,null,null,null,null,null,null,null,null,null,null,"月岡",20153,0,"",0,0,"",0,0,null,null,null,0,null,null,201531,201533,201535,201534,201537]
[null,110,"小計",null,{"$f":"Q12+T12+W12+AC12+AI12+BF12","v":0},null,null,{"$f":"SUM(H9:J11)","v":22320},null,null,{"$f":"SUM(K9:M11)","v":0},null,null,{"$f":"SUM(N9:P11)","v":20880},null,null,{"$f":"SUM(Q9:S11)","v":0},null,null,{"$f":"SUM(T9:V11)","v":0},null,null,{"$f":"CA12","v":0},null,null,{"$f":"SUM(Z9:AB11)","v":0},null,null,{"$f":"SUM(AC9:AE11)","v":0},null,null,{"$f":"SUM(AF9:AH11)","v":650},null,null,{"$f":"SUM(AI9:AK11)","v":0},null,null,null,null,null,null,null,null,null,null,null,null,null,null,"小計",null,null,null,null,{"$f":"SUM(BC9:BE11)","v":3100},null,null,{"$f":"SUM(BF9:BH11)","v":0},null,null,null,null,null,null,null,null,null,null,null,null,null,null,{"$f":"SUM(BY12,CA12:CC12,CG12)","v":0},null,{"$f":"SUM(BW9:BW11)","v":0},0,0,0,0,0,0,null,null,null,{"$f":"SUM(CG9:CG11)","v":0}]
["旧北蒲原郡","中条東",null,null,"新アマ日",null,null,null,null,null,null,null,null,{"$f":"IFERROR(VLOOKUP($CJ13,・!$H$3:$I$700,2,FALSE),\"\")","v":1800},null,null,null,null,null,null,null,null,null,null,null,null,null,null,null,null,null,null,null,null,null,null,null,null,null,null,null,null,null,null,null,null,null,null,null,"中条",null,null,"ヨ",null,{"$f":"IFERROR(VLOOKUP($CP13,・!$H$3:$I$700,2,FALSE),\"\")","v":970},null,null,null,null,null,null,null,null,null,null,null,null,null,null,null,null,null,"中条東",20154,0,0,0,0,"",0,0,null,"中条",220156,0,{"$f":"BI13","v":0},null,201541,201543,201545,201544,201547,null,2201561]
[null,"西中条",null,null,"新アマ日",null,null,null,null,null,null,null,null,{"$f":"IFERROR(VLOOKUP($CJ14,・!$H$3:$I$700,2,FALSE),\"\")","v":1450},null,null,null,null,null,null,null,null,null,null,null,null,null,null,null,null,null,null,null,null,null,null,null,null,null,null,null,null,null,null,null,null,null,null,null,"水原",null,null,"ヨサ",null,{"$f":"IFERROR(VLOOKUP($CP14,・!$H$3:$I$700,2,FALSE),\"\")","v":1150},null,null,null,null,null,null,null,null,null,null,null,null,null,null,null,null,null,"西中条",20155,0,0,0,0,"",0,0,null,"水原",220160,0,0,null,201551,201553,201555,201554,201557,null,2201601]
[null,"黒川",null,null,"合",null,null,null,null,null,null,null,null,{"$f":"IFERROR(VLOOKUP($CJ15,・!$H$3:$I$700,2,FALSE),\"\")","v":2170},null,null,null,null,null,null,null,null,null,null,null,null,null,null,null,null,null,null,null,null,null,null,null,null,null,null,null,null,null,null,null,null,null,null,null,null,null,null,null,null,null,null,null,null,null,null,null,null,null,null,null,null,null,null,null,null,null,null,"黒川",20157,0,0,0,0,"",0,0,null,null,null,0,null,null,201571,201573,201575,201574,201577]
[null,"水原",null,null,"新アマ日",null,null,{"$f":"N16+W16","v":5900},null,null,null,null,null,{"$f":"IFERROR(VLOOKUP($CJ16,・!$H$3:$I$700,2,FALSE),\"\")","v":5700},null,null,null,null,null,{"$f":"IF(K16=\"\",\"\",IF(K16<=W16,K16,K16-W16))","v":""},null,null,{"$f":"IFERROR(VLOOKUP(CK16,・!$H$3:$I$700,2,FALSE),\"\")","v":200},null,null,{"$f":"IFERROR(VLOOKUP(CL16,・!$H$3:$I$700,2,FALSE),\"\")","v":110},null,null,null,null,null,{"$f":"IFERROR(VLOOKUP($CM16,・!$H$3:$I$700,2,FALSE),\"\")","v":120},null,null,null,null,null,null,null,null,null,null,null,null,null,null,null,null,null,null,null,null,null,null,null,null,null,null,null,null,null,null,null,null,null,null,null,null,null,null,null,null,"水原",20158,0,"",0,0,"",0,0,null,null,null,0,null,null,201581,201583,201585,201584,201587]
[null,"保田",null,null,"合",null,null,null,null,null,null,null,null,{"$f":"IFERROR(VLOOKUP($CJ17,・!$H$3:$I$700,2,FALSE),\"\")","v":2450},null,null,null,null,null,null,null,null,null,null,null,null,null,null,null,null,null,{"$f":"IFERROR(VLOOKUP($CM17,・!$H$3:$I$700,2,FALSE),\"\")","v":110},null,null,null,null,null,null,null,null,null,null,null,null,null,null,null,null,null,null,null,null,null,null,null,null,null,null,null,null,null,null,null,null,null,null,null,null,null,null,null,null,"保田",20161,0,0,0,0,"",0,0,null,null,null,0,null,null,201611,201613,201615,201614,201617]
[null,"120","小計",null,{"$f":"Q18+T18+W18+AC18+AI18+BF18","v":0},null,null,{"$f":"SUM(H13:J17)","v":5900},null,null,{"$f":"SUM(K13:M17)","v":0},null,null,{"$f":"SUM(N13:P17)","v":13570},null,null,{"$f":"SUM(Q13:S17)","v":0},null,null,{"$f":"SUM(T13:V17)","v":0},null,null,{"$f":"CA18","v":0},null,null,{"$f":"SUM(Z13:AB17)","v":110},null,null,{"$f":"SUM(AC13:AE17)","v":0},null,null,{"$f":"SUM(AF13:AH17)","v":230},null,null,{"$f":"SUM(AI13:AK17)","v":0},null,null,null,null,null,null,null,null,null,null,null,null,null,null,"小計",null,null,null,null,{"$f":"SUM(BC13:BE17)","v":2120},null,null,{"$f":"SUM(BF13:BH17)","v":0},null,null,null,null,null,null,null,null,null,null,null,null,null,null,{"$f":"SUM(BY18,CA18:CC18,CG18)","v":0},null,{"$f":"SUM(BW13:BW17)","v":0},{"$f":"SUM(BX13:BX17)","v":0},0,null,{"$f":"SUM(CA13:CA17)","v":0},{"$f":"SUM(CB13:CB17)","v":0},0,null,null,null,{"$f":"SUM(CG13:CG17)","v":0}]
["村上市","村上",null,null,"合",null,null,null,null,null,null,null,null,{"$f":"IFERROR(VLOOKUP($CJ19,・!$H$3:$I$700,2,FALSE),\"\")","v":7340},null,null,null,null,null,null,null,null,null,null,null,null,null,null,null,null,null,null,null,null,null,null,null,null,null,null,null,null,null,null,null,null,null,null,null,null,null,null,null,null,null,null,null,null,null,null,null,null,null,null,null,null,null,null,null,null,null,null,"村上",20162,0,0,0,0,"",0,0,null,null,null,0,null,null,201621,201623,201625,201624,201627]
[null,"岩船",null,null,"合",null,null,null,null,null,null,null,null,{"$f":"IFERROR(VLOOKUP($CJ20,・!$H$3:$I$700,2,FALSE),\"\")","v":2200},null,null,null,null,null,null,null,null,null,null,null,null,null,null,null,null,null,null,null,null,null,null,null,null,null,null,null,null,null,null,null,null,null,null,null,null,null,null,null,null,null,null,null,null,null,null,null,null,null,null,null,null,null,null,null,null,null,null,"岩船",20163,0,0,0,0,"",0,0,null,null,null,0,null,null,201631,201633,201635,201634,201637]
[null,"越後早川",null,null,"合",null,null,null,null,null,null,null,null,{"$f":"IFERROR(VLOOKUP($CJ21,・!$H$3:$I$700,2,FALSE),\"\")","v":320},null,null,null,null,null,null,null,null,null,null,null,null,null,null,null,null,null,null,null,null,null,null,null,null,null,null,null,null,null,null,null,null,null,null,null,null,null,null,null,null,null,null,null,null,null,null,null,null,null,null,null,null,null,null,null,null,null,null,"越後早川",20164,0,0,0,0,"",0,0,null,null,null,0,null,null,201641,201643,201645,201644,201647]
[null,"130","小計",null,{"$f":"Q22+T22+W22+AC22+AI22+BF22","v":0},null,null,null,null,null,null,null,null,{"$f":"SUM(N19:P21)","v":9860},null,null,{"$f":"SUM(Q19:S21)","v":0},null,null,null,null,null,null,null,null,null,null,null,null,null,null,null,null,null,null,null,null,null,null,null,null,null,null,null,null,null,null,null,null,"小計",null,null,null,null,null,null,null,null,null,null,null,null,null,null,null,null,null,null,null,null,null,null,{"$f":"SUM(BY22,CA22:CC22,CG22)","v":0},null,{"$f":"SUM(BW19:BW21)","v":0},{"$f":"SUM(BX19:BX21)","v":0},0,null,{"$f":"SUM(CA19:CA21)","v":0},{"$f":"SUM(CB19:CB21)","v":0},0,null,null,null,{"$f":"SUM(CG19:CG21)","v":0}]
["岩船郡","坂町",null,null,"合",null,null,null,null,null,null,null,null,{"$f":"IFERROR(VLOOKUP($CJ23,・!$H$3:$I$700,2,FALSE),\"\")","v":1880},null,null,null,null,null,null,null,null,null,null,null,null,null,null,null,null,null,null,null,null,null,null,null,null,null,null,null,null,null,null,null,null,null,null,null,null,null,null,null,null,null,null,null,null,null,null,null,null,null,null,null,null,null,null,null,null,null,null,"坂町",20165,0,0,0,0,"",0,0,null,null,null,0,{"$f":"BI50","v":0},null,201651,201653,201655,201654,201657]
[null,"関川",null,null,"合",null,null,null,null,null,null,null,null,{"$f":"IFERROR(VLOOKUP($CJ24,・!$H$3:$I$700,2,FALSE),\"\")","v":1200},null,null,null,null,null,null,null,null,null,null,null,null,null,null,null,null,null,null,null,null,null,null,null,null,null,null,null,null,null,null,null,null,null,null,null,null,null,null,null,null,null,null,null,null,null,null,null,null,null,null,null,null,null,null,null,null,null,null,"関川",20167,0,0,0,0,"",0,0,null,null,null,0,0,null,201671,201673,201675,201674,201677]
[null,"府屋",null,null,"合",null,null,null,null,null,null,null,null,{"$f":"IFERROR(VLOOKUP($CJ25,・!$H$3:$I$700,2,FALSE),\"\")","v":960},null,null,null,null,null,null,null,null,null,null,null,null,null,null,null,null,null,null,null,null,null,null,null,null,null,null,null,null,null,null,null,null,null,null,null,null,null,null,null,null,null,null,null,null,null,null,null,null,null,null,null,null,null,null,null,null,null,null,"府屋",20170,0,0,0,0,"",0,0,null,null,null,0,{"$f":"BI53","v":0},null,201701,201703,201705,201704,201707]
[null,"黒川俣",null,null,"合",null,null,null,null,null,null,null,null,{"$f":"IFERROR(VLOOKUP($CJ26,・!$H$3:$I$700,2,FALSE),\"\")","v":200},null,null,null,null,null,null,null,null,null,null,null,null,null,null,null,null,null,null,null,null,null,null,null,null,null,null,null,null,null,null,null,null,null,null,null,null,null,null,null,null,null,null,null,null,null,null,null,null,null,null,null,null,null,null,null,null,null,null,"黒川俣",20172,0,0,0,0,"",0,0,null,null,null,0,{"$f":"BI52","v":0},null,201721,201723,201725,201724,201727]
[null,"140","小計",null,{"$f":"Q27+T27+W27+AC27+AI27+BF27","v":0},null,null,null,null,null,null,null,null,{"$f":"SUM(N23:P26)","v":4240},null,null,{"$f":"SUM(Q23:S26)","v":0},null,null,null,null,null,null,null,null,null,null,null,null,null,null,null,null,null,null,null,null,null,null,null,null,null,null,null,null,null,null,null,null,"小計",null,null,null,null,null,null,null,null,null,null,null,null,null,null,null,null,null,null,null,null,null,null,{"$f":"SUM(BY27,CA27:CC27,CG27)","v":0},null,{"$f":"SUM(BW23:BW26)","v":0},{"$f":"SUM(BX23:BX26)","v":0},0,null,{"$f":"SUM(CA23:CA26)","v":0},{"$f":"SUM(CB23:CB26)","v":0},0,null,null,null,{"$f":"SUM(CG23:CG26)","v":0}]
["旧東蒲原郡・※山形県","津川",null,null,"合",null,null,null,null,null,null,null,null,{"$f":"IFERROR(VLOOKUP($CJ28,・!$H$3:$I$700,2,FALSE),\"\")","v":1600},null,null,null,null,null,null,null,null,null,null,null,null,null,null,null,null,null,null,null,null,null,null,null,null,null,null,null,null,null,null,null,null,null,null,null,null,null,null,null,null,null,null,null,null,null,null,null,null,null,null,null,null,null,null,null,null,null,null,"津川",20173,0,0,0,0,"",0,0,null,null,null,0,null,null,201731,201733,201735,201734,201737]
[null,"豊実",null,null,"合",null,null,null,null,null,null,null,null,{"$f":"IFERROR(VLOOKUP($CJ29,・!$H$3:$I$700,2,FALSE),\"\")","v":60},null,null,null,null,null,null,null,null,null,null,null,null,null,null,null,null,null,null,null,null,null,null,null,null,null,null,null,null,null,null,null,null,null,null,null,null,null,null,null,null,null,null,null,null,null,null,null,null,null,null,null,null,null,null,null,null,null,null,"豊実",20174,0,0,0,0,"",0,0,null,null,null,0,null,null,201741,201743,201745,201744,201747]
[null,"日出谷",null,null,"合",null,null,null,null,null,null,null,null,{"$f":"IFERROR(VLOOKUP($CJ30,・!$H$3:$I$700,2,FALSE),\"\")","v":180},null,null,null,null,null,null,null,null,null,null,null,null,null,null,null,null,null,null,null,null,null,null,null,null,null,null,null,null,null,null,null,null,null,null,null,null,null,null,null,null,null,null,null,null,null,null,null,null,null,null,null,null,null,null,null,null,null,null,"日出谷",20175,0,0,0,0,"",0,0,null,null,null,0,null,null,201751,201753,201755,201754,201757]
[null,"鹿瀬",null,null,"合",null,null,null,null,null,null,null,null,{"$f":"IFERROR(VLOOKUP($CJ31,・!$H$3:$I$700,2,FALSE),\"\")","v":280},null,null,null,null,null,null,null,null,null,null,null,null,null,null,null,null,null,null,null,null,null,null,null,null,null,null,null,null,null,null,null,null,null,null,null,null,null,null,null,null,null,null,null,null,null,null,null,null,null,null,null,null,null,null,null,null,null,null,"鹿瀬",20176,0,0,0,0,"",0,0,null,null,null,0,null,null,201761,201763,201765,201764,201767]
[null,"白崎",null,null,"合",null,null,null,null,null,null,null,null,{"$f":"IFERROR(VLOOKUP($CJ32,・!$H$3:$I$700,2,FALSE),\"\")","v":580},null,null,null,null,null,null,null,null,null,null,null,null,null,null,null,null,null,null,null,null,null,null,null,null,null,null,null,null,null,null,null,null,null,null,null,null,null,null,null,null,null,null,null,null,null,null,null,null,null,null,null,null,null,null,null,null,null,null,"白崎",20177,0,0,0,0,"",0,0,null,null,null,0,null,null,201771,201773,201775,201774,201777]
[null,"白崎・五十島",null,null,"合",null,null,null,null,null,null,null,null,{"$f":"IFERROR(VLOOKUP($CJ33,・!$H$3:$I$700,2,FALSE),\"\")","v":60},null,null,null,null,null,null,null,null,null,null,null,null,null,null,null,null,null,null,null,null,null,null,null,null,null,null,null,null,null,null,null,null,null,null,null,null,null,null,null,null,null,null,null,null,null,null,null,null,null,null,null,null,null,null,null,null,null,null,"白崎・五十島",20178,0,0,0,0,"",0,0,null,null,null,0,null,null,201781,201783,201785,201784,201787]
[null,"保田・五十島",null,null,"合",null,null,null,null,null,null,null,null,{"$f":"IFERROR(VLOOKUP($CJ34,・!$H$3:$I$700,2,FALSE),\"\")","v":90},null,null,null,null,null,null,null,null,null,null,null,null,null,null,null,null,null,null,null,null,null,null,null,null,null,null,null,null,null,null,null,null,null,null,null,null,null,null,null,null,null,null,null,null,null,null,null,null,null,null,null,null,null,null,null,null,null,null,"保田・五十島",20182,0,0,0,0,"",0,0,null,null,null,0,null,null,201821,201823,201825,201824,201827]
[null,"150","小計",null,{"$f":"Q35+T35+W35+AC35+AI35+BF35","v":0},null,null,null,null,null,null,null,null,{"$f":"SUM(N28:P34)","v":2850},null,null,{"$f":"SUM(Q28:S34)","v":0},null,null,null,null,null,null,null,null,null,null,null,null,null,null,null,null,null,null,null,null,null,null,null,null,null,null,null,null,null,null,null,null,"小計",null,null,null,null,null,null,null,null,null,null,null,null,null,null,null,null,null,null,null,null,null,null,{"$f":"SUM(BY35,CA35:CC35,CG35)","v":0},null,{"$f":"SUM(BW28:BW34)","v":0},{"$f":"SUM(BX28:BX34)","v":0},0,null,{"$f":"SUM(CA28:CA34)","v":0},null,null,null,null,null,{"$f":"SUM(CG28:CG34)","v":0}]
[null,"小国",null,null,"合",null,null,null,null,null,null,null,null,{"$f":"IFERROR(VLOOKUP($CJ36,・!$H$3:$I$700,2,FALSE),\"\")","v":2800},null,null,null,null,null,null,null,null,null,null,null,null,null,null,null,null,null,null,null,null,null,null,null,null,null,null,null,null,null,null,null,null,null,null,null,null,null,null,null,null,null,null,null,null,null,null,null,null,null,null,null,null,null,null,null,null,null,null,"小国",20201,0,0,0,0,"",0,0,null,null,null,0,null,null,501511,"","","",""]
[null,"160","小計",null,{"$f":"Q37+T37+W37+AC37+AI37+BF37","v":0},null,null,null,null,null,null,null,null,{"$f":"SUM(N36)","v":2800},null,null,{"$f":"SUM(Q36)","v":0},null,null,null,null,null,null,null,null,null,null,null,null,null,null,null,null,null,null,null,null,null,null,null,null,null,null,null,null,null,null,null,null,"小計",null,null,null,null,null,null,null,null,null,null,null,null,null,null,null,null,null,null,null,null,null,null,{"$f":"SUM(BY37,CA37:CC37,CG37)","v":0},null,{"$f":"SUM(BW36)","v":0},{"$f":"SUM(BX36)","v":0},0,null,{"$f":"SUM(CA36)","v":0},null,null,null,null,null,{"$f":"SUM(CG36)","v":0}]
["03","両津",null,null,"新マ日",null,null,null,null,null,null,null,null,{"$f":"IFERROR(VLOOKUP($CJ38,・!$H$3:$I$700,2,FALSE),\"\")","v":2200},null,null,null,null,null,null,null,null,null,null,null,null,null,null,null,null,null,null,null,null,null,null,null,null,null,null,null,null,null,null,null,null,null,null,null,"両津",null,null,"ア",null,{"$f":"IFERROR(VLOOKUP($CP38,・!$H$3:$I$700,2,FALSE),\"\")","v":630},null,null,null,null,null,null,null,null,null,null,null,null,null,null,null,null,null,"両津",30101,0,0,0,0,"",0,0,null,"両津",30102,0,{"$f":"BI38","v":0},null,301011,301013,301015,301014,301017,null,301021]
["旧両津市・旧佐渡郡","吉井",null,null,"新マ日",null,null,null,null,null,null,null,null,{"$f":"IFERROR(VLOOKUP($CJ39,・!$H$3:$I$700,2,FALSE),\"\")","v":180},null,null,null,null,null,null,null,null,null,null,null,null,null,null,null,null,null,null,null,null,null,null,null,null,null,null,null,null,null,null,null,null,null,null,null,"両津",null,null,"ヨサ",null,{"$f":"IFERROR(VLOOKUP($CP39,・!$H$3:$I$700,2,FALSE),\"\")","v":830},null,null,null,null,null,null,null,null,null,null,null,null,null,null,null,null,null,"吉井",30105,0,0,0,0,"",0,0,null,"両津",230103,0,0,null,301051,301053,301055,301054,301057,null,2301031]
[null,"010","小計",null,{"$f":"Q40+T40+W40+AC40+AI40+BF40","v":0},null,null,null,null,null,null,null,null,{"$f":"SUM(N38:P39)","v":2380},null,null,{"$f":"SUM(Q38:S39)","v":0},null,null,null,null,null,null,null,null,null,null,null,null,null,null,null,null,null,null,null,null,null,null,null,null,null,null,null,null,null,null,null,null,"小計",null,null,null,null,{"$f":"SUM(BC38:BE39)","v":1460},null,null,{"$f":"SUM(BF38:BH39)","v":0},null,null,null,null,null,null,null,null,null,null,null,null,null,null,{"$f":"SUM(BY40,CA40:CC40,CG40)","v":0},null,{"$f":"SUM(BW38:BW39)","v":0},{"$f":"SUM(BX38:BX39)","v":0},0,null,{"$f":"SUM(CA38:CA39)","v":0},null,null,null,null,null,{"$f":"SUM(CG38:CG39)","v":0}]
[null,"真野",null,null,"新サ",null,null,null,null,null,null,null,null,{"$f":"IFERROR(VLOOKUP($CJ41,・!$H$3:$I$700,2,FALSE),\"\")","v":730},null,null,null,null,null,null,null,null,null,null,null,null,null,null,null,null,null,null,null,null,null,null,null,null,null,null,null,null,null,null,null,null,null,null,null,"真野",null,null,"アマヨサ日",null,{"$f":"IFERROR(VLOOKUP($CP41,・!$H$3:$I$700,2,FALSE),\"\")","v":250},null,null,null,null,null,null,null,null,null,null,null,null,null,null,null,null,null,"真野",30106,0,0,0,0,"",0,0,null,"真野",30107,0,{"$f":"BI41","v":0},null,301061,301063,301065,301064,301067,null,301071]
[null,"新穂",null,null,"新マサ日",null,null,null,null,null,null,null,null,{"$f":"IFERROR(VLOOKUP($CJ42,・!$H$3:$I$700,2,FALSE),\"\")","v":700},null,null,null,null,null,null,null,null,null,null,null,null,null,null,null,null,null,null,null,null,null,null,null,null,null,null,null,null,null,null,null,null,null,null,null,"新穂",null,null,"ア",null,{"$f":"IFERROR(VLOOKUP($CP42,・!$H$3:$I$700,2,FALSE),\"\")","v":70},null,null,null,null,null,null,null,null,null,null,null,null,null,null,null,null,null,"新穂",30108,0,0,0,0,"",0,0,null,"新穂",30109,0,0,null,301081,301083,301085,301084,301087,null,301091]
[null,"畑野",null,null,"新",null,null,null,null,null,null,null,null,{"$f":"IFERROR(VLOOKUP($CJ43,・!$H$3:$I$700,2,FALSE),\"\")","v":690},null,null,null,null,null,null,null,null,null,null,null,null,null,null,null,null,null,null,null,null,null,null,null,null,null,null,null,null,null,null,null,null,null,null,null,"畑野",null,null,"アマヨサ日",null,{"$f":"IFERROR(VLOOKUP($CP43,・!$H$3:$I$700,2,FALSE),\"\")","v":250},null,null,null,null,null,null,null,null,null,null,null,null,null,null,null,null,null,"畑野",30111,0,0,0,0,"",0,0,null,"畑野",30112,0,0,null,301111,301113,301115,301114,301117,null,301121]
[null,"佐和田",null,null,"新アマ日",null,null,null,null,null,null,null,null,{"$f":"IFERROR(VLOOKUP($CJ44,・!$H$3:$I$700,2,FALSE),\"\")","v":1420},null,null,null,null,null,null,null,null,null,null,null,null,null,null,null,null,null,null,null,null,null,null,null,null,null,null,null,null,null,null,null,null,null,null,null,"佐和田",null,null,"ヨサ",null,{"$f":"IFERROR(VLOOKUP($CP44,・!$H$3:$I$700,2,FALSE),\"\")","v":270},null,null,null,null,null,null,null,null,null,null,null,null,null,null,null,null,null,"佐和田",30114,0,0,0,0,"",0,0,null,"佐和田",230115,0,0,null,301141,301143,301145,301144,301147,null,2301151]
[null,"相川",null,null,"合",null,null,null,null,null,null,null,null,{"$f":"IFERROR(VLOOKUP($CJ45,・!$H$3:$I$700,2,FALSE),\"\")","v":980},null,null,null,null,null,null,null,null,null,null,null,null,null,null,null,null,null,null,null,null,null,null,null,null,null,null,null,null,null,null,null,null,null,null,null,"沢根",null,null,"ヨア",null,{"$f":"IFERROR(VLOOKUP($CP45,・!$H$3:$I$700,2,FALSE),\"\")","v":40},null,null,null,null,null,null,null,null,null,null,null,null,null,null,null,null,null,"相川",30110,0,0,0,0,"",0,0,null,"沢根",230116,0,0,null,301101,301103,301105,301104,301107,null,2301161]
[null,"金井",null,null,"合",null,null,null,null,null,null,null,null,{"$f":"IFERROR(VLOOKUP($CJ46,・!$H$3:$I$700,2,FALSE),\"\")","v":850},null,null,null,null,null,null,null,null,null,null,null,null,null,null,null,null,null,null,null,null,null,null,null,null,null,null,null,null,null,null,null,null,null,null,null,"相川",null,null,"ア",null,{"$f":"IFERROR(VLOOKUP($CP46,・!$H$3:$I$700,2,FALSE),\"\")","v":120},null,null,null,null,null,null,null,null,null,null,null,null,null,null,null,null,null,"金井",30121,0,0,0,0,"",0,0,null,"相川",30118,0,0,null,301211,301213,301215,301214,301217,null,301181]
[null,"羽茂",null,null,"合",null,null,null,null,null,null,null,null,{"$f":"IFERROR(VLOOKUP($CJ47,・!$H$3:$I$700,2,FALSE),\"\")","v":800},null,null,null,null,null,null,null,null,null,null,null,null,null,null,null,null,null,null,null,null,null,null,null,null,null,null,null,null,null,null,null,null,null,null,null,"相川",null,null,"ヨサ",null,{"$f":"IFERROR(VLOOKUP($CP47,・!$H$3:$I$700,2,FALSE),\"\")","v":100},null,null,null,null,null,null,null,null,null,null,null,null,null,null,null,null,null,"羽茂",30122,0,0,0,0,"",0,0,null,"相川",230120,0,0,null,301221,301223,301225,301224,301227,null,2301201]
[null,"小木",null,null,"新",null,null,null,null,null,null,null,null,{"$f":"IFERROR(VLOOKUP($CJ48,・!$H$3:$I$700,2,FALSE),\"\")","v":470},null,null,null,null,null,null,null,null,null,null,null,null,null,null,null,null,null,null,null,null,null,null,null,null,null,null,null,null,null,null,null,null,null,null,null,"小木",null,null,"アマサ日",null,{"$f":"IFERROR(VLOOKUP($CP48,・!$H$3:$I$700,2,FALSE),\"\")","v":150},null,null,null,null,null,null,null,null,null,null,null,null,null,null,null,null,null,"小木",30124,0,0,0,0,"",0,0,null,"小木",30125,0,0,null,301241,301243,301245,301244,301247,null,301251]
[null,"赤泊",null,null,"合",null,null,null,null,null,null,null,null,{"$f":"IFERROR(VLOOKUP($CJ49,・!$H$3:$I$700,2,FALSE),\"\")","v":450},null,null,null,null,null,null,null,null,null,null,null,null,null,null,null,null,null,null,null,null,null,null,null,null,null,null,null,null,null,null,null,null,null,null,null,"小木",null,null,"ヨ",null,{"$f":"IFERROR(VLOOKUP($CP49,・!$H$3:$I$700,2,FALSE),\"\")","v":140},null,null,null,null,null,null,null,null,null,null,null,null,null,null,null,null,null,"赤泊",30127,0,0,0,0,"",0,0,null,"小木",230126,0,0,null,301271,301273,301275,301274,301277,null,2301261]
[null,"多田",null,null,"合",null,null,null,null,null,null,null,null,{"$f":"IFERROR(VLOOKUP($CJ50,・!$H$3:$I$700,2,FALSE),\"\")","v":130},null,null,null,null,null,null,null,null,null,null,null,null,null,null,null,null,null,null,null,null,null,null,null,null,null,null,null,null,null,null,null,null,null,null,null,null,null,null,null,null,{"$f":"IFERROR(VLOOKUP($CP50,・!$H$3:$I$700,2,FALSE),\"\")","v":""},null,null,null,null,null,null,null,null,null,null,null,null,null,null,null,null,null,"多田",30130,0,0,0,0,"",0,0,null,null,null,0,null,null,301301,301303,301305,301304,301307]
[null,"020","小計",null,{"$f":"Q51+T51+W51+AC51+AI51+BF51","v":0},null,null,null,null,null,null,null,null,{"$f":"SUM(N41:P50)","v":7220},null,null,{"$f":"SUM(Q41:S50)","v":0},null,null,null,null,null,null,null,null,null,null,null,null,null,null,null,null,null,null,null,null,null,null,null,null,null,null,null,null,null,null,null,null,"小計",null,null,null,null,{"$f":"SUM(BC41:BE50)","v":1390},null,null,{"$f":"SUM(BF41:BH50)","v":0},null,null,null,null,null,null,null,null,null,null,null,null,null,null,{"$f":"SUM(BY51,CA51:CC51,CG51)","v":0},null,{"$f":"SUM(BW41:BW50)","v":0},{"$f":"SUM(BX41:BX50)","v":0},0,null,{"$f":"SUM(CA41:CA50)","v":0},{"$f":"SUM(CB41:CB50)","v":0},0,null,null,null,{"$f":"SUM(CG41:CG50)","v":0}]
["合計",null,null,null,{"$f":"SUM(E51,E40,E37,E35,E27,E22,E18,E12)","v":0},null,null,{"$f":"SUM(H51,H40,H37,H35,H27,H22,H18,H12)","v":28220},null,null,{"$f":"SUM(K51,K40,K37,K35,K27,K22,K18,K12)","v":0},null,null,{"$f":"SUM(N51,N40,N37,N35,N27,N22,N18,N12)","v":63800},null,null,{"$f":"SUM(Q51,Q40,Q37,Q35,Q27,Q22,Q18,Q12)","v":0},null,null,{"$f":"SUM(T51,T40,T37,T35,T27,T22,T18,T12)","v":0},null,null,{"$f":"SUM(W51,W40,W37,W35,W27,W22,W18,W12)","v":0},null,null,{"$f":"SUM(Z51,Z40,Z37,Z35,Z27,Z22,Z18,Z12)","v":110},null,null,{"$f":"SUM(AC51,AC40,AC37,AC35,AC27,AC22,AC18,AC12)","v":0},null,null,{"$f":"SUM(AF51,AF40,AF37,AF35,AF27,AF22,AF18,AF12)","v":880},null,null,{"$f":"SUM(AI51,AI40,AI37,AI35,AI27,AI22,AI18,AI12)","v":0},null,null,null,null,null,null,null,null,null,null,null,null,null,null,"合計",null,null,null,null,{"$f":"SUM(BC51,BC40,BC37,BC35,BC27,BC22,BC18,BC12)","v":8070},null,null,{"$f":"SUM(BF51,BF40,BF37,BF35,BF27,BF22,BF18,BF12)","v":0},null,null,null,null,null,null,null,null,null,null,null,null,null,null,{"$f":"SUM(BU51,BU40,BU37,BU35,BU27,BU22,BU18,BU12)","v":0},null,{"$f":"SUM(BW51,BW40,BW37,BW35,BW27,BW22,BW18,BW12)","v":0},{"$f":"SUM(BX51,BX40,BX37,BX35,BX27,BX22,BX18,BX12)","v":0},0,null,{"$f":"SUM(CA51,CA40,CA37,CA35,CA27,CA22,CA18,CA12)","v":0},{"$f":"SUM(CB51,CB40,CB37,CB35,CB27,CB22,CB18,CB12)","v":0},0,null,null,null,{"$f":"SUM(CG51,CG40,CG37,CG35,CG27,CG22,CG18,CG12)","v":0},null,{"$f":"SUM(BY52:CH52)","v":0}]
[null,null,null,null,null,null,null,null,null,null,null,null,null,null,null,null,null,null,null,null,null,null,null,null,null,null,null,null,null,null,null,"■Otona+ ※ がある販売店は一部朝刊時宅配エリアがございます。",null,null,null,null,null,null,null,null,null,null,null,null,null,null,null,null,null,null,null,null,null,null,null,null,null,null,null,null,null,null,null,null,null,null,null,null,null,null,null,null,null,null,null,null,{"$f":"SUM(BY52,CG52)","v":0}]

{"sheet":"中越1","index":7,"n_rows":40,"n_cols":100,"rows_kept":40,"cut":false,"hidden":false,"merged":[[8,0,23,0],[12,54,22,64],[12,65,22,75],[8,62,8,64],[8,59,8,61],[8,57,8,58],[8,54,8,56],[16,25,16,27],[30,0,36,0],[26,65,26,75],[27,65,27,75],[28,65,28,75],[30,62,30,64],[31,43,31,53],[30,43,30,53],[29,43,29,53],[13,10,13,12],[15,7,15,9],[15,10,15,12],[15,13,15,15],[13,13,13,15],[16,1,16,3],[15,1,15,3],[19,4,19,6],[38,65,38,75],[38,4,38,6],[38,7,38,9],[38,10,38,12],[38,13,38,15],[38,16,38,18],[38,19,38,21],[38,22,38,24],[38,25,38,27],[38,28,38,30],[38,31,38,33],[38,34,38,36],[38,37,38,39],[38,40,38,42],[38,43,38,53],[38,54,38,58],[38,59,38,61],[38,62,38,64],[37,59,37,61],[6,0,7,0],[8,4,8,6],[8,1,8,3],[7,4,7,6],[7,28,7,30],[7,7,7,9],[7,10,7,12],[7,16,7,18],[7,19,7,21],[7,22,7,24],[7,13,7,15],[7,25,7,27],[8,7,8,9],[8,10,8,12],[8,16,8,18],[7,1,7,3],[32,25,32,27],[31,13,31,15],[30,28,30,30],[30,59,30,61],[30,54,30,56],[29,37,29,39],[30,37,36,42],[38,0,38,3],[23,22,23,24],[28,13,28,15],[37,31,37,33],[37,25,37,27],[24,0,29,0],[19,25,19,27],[24,4,24,6],[24,16,24,18],[24,13,24,15],[24,7,24,12],[30,1,30,3],[30,13,30,15],[28,1,28,3],[28,4,28,6],[26,7,28,12],[32,1,32,3],[27,1,27,3],[37,16,37,18],[37,13,37,15],[32,7,32,9],[32,10,32,12],[30,7,30,9],[30,10,30,12],[37,62,37,64],[37,37,37,39],[18,37,18,39],[23,37,23,39],[18,31,18,33],[19,31,19,33],[22,31,22,33],[20,37,22,42],[22,34,22,36],[37,54,37,58],[37,34,37,36],[27,31,27,36],[37,40,37,42],[31,54,36,64],[32,34,32,36],[32,31,32,33],[29,62,29,64],[23,54,23,58],[26,57,26,58],[26,62,26,64],[23,62,23,64],[23,59,23,61],[23,31,23,33],[23,40,23,42],[22,4,22,6],[18,1,18,3],[18,4,18,6],[14,7,14,12],[16,7,16,9],[16,10,16,12],[17,7,17,9],[17,10,17,12],[16,4,16,6],[22,1,22,3],[19,7,19,9],[20,7,22,12],[19,10,19,12],[21,4,21,6],[21,1,21,3],[19,1,19,3],[20,1,20,3],[20,4,20,6],[14,4,14,6],[15,4,15,6],[18,7,18,9],[14,37,14,39],[14,31,14,33],[14,13,14,15],[12,34,12,36],[11,37,11,39],[12,37,12,39],[15,22,15,24],[10,34,10,36],[12,22,12,24],[11,22,11,24],[15,37,15,42],[13,22,13,24],[0,22,0,23],[0,66,0,75],[7,62,7,64],[7,37,7,39],[8,28,8,30],[7,31,7,33],[7,34,7,36],[8,34,8,36],[8,37,8,39],[8,31,8,33],[8,40,8,42],[6,25,6,30],[6,31,6,36],[2,67,2,75],[2,59,2,66],[3,59,3,66],[4,59,4,66],[4,67,4,75],[3,67,3,75],[1,59,1,66],[1,67,1,75],[1,51,1,58],[4,30,4,34],[3,30,3,34],[25,43,25,53],[24,43,24,53],[26,28,26,30],[26,40,26,42],[25,62,25,64],[25,28,25,30],[25,34,25,36],[26,59,26,61],[26,54,26,56],[25,59,25,61],[25,31,25,33],[26,31,26,33],[26,43,26,53],[24,28,24,30],[24,31,24,33],[25,40,25,42],[24,34,24,36],[26,34,26,36],[27,57,27,58],[27,28,27,30],[28,59,28,61],[28,54,28,56],[28,57,28,58],[28,31,28,33],[28,43,28,53],[27,43,27,53],[28,37,28,39],[27,37,27,39],[28,28,28,30],[28,34,28,36],[27,40,27,42],[28,40,28,42],[16,37,16,39],[17,40,17,42],[16,40,16,42],[15,34,15,36],[17,37,17,39],[22,28,22,30],[18,28,18,30],[16,34,16,36],[17,34,17,36],[20,31,20,33],[21,28,21,30],[17,28,17,30],[16,31,16,33],[16,28,16,30],[18,13,18,15],[12,1,12,3],[11,1,11,3],[13,16,13,18],[13,1,13,3],[13,4,13,6],[14,1,14,3],[12,4,12,6],[17,1,17,3],[17,4,17,6],[17,16,17,18],[17,13,17,15],[18,16,18,18],[16,16,16,18],[16,13,16,15],[14,16,14,18],[15,16,15,18],[18,10,18,12],[17,22,17,24],[9,1,9,3],[9,4,9,6],[6,1,6,24],[8,13,8,15],[10,4,10,6],[10,7,10,9],[10,10,10,12],[9,16,9,18],[9,13,9,15],[9,7,9,9],[9,10,9,12],[11,4,11,6],[10,16,10,18],[11,7,11,9],[11,10,11,12],[12,7,12,9],[12,10,12,12],[13,7,13,9],[10,1,10,3],[8,19,8,21],[8,22,8,24],[16,19,16,21],[16,22,16,24],[18,25,18,27],[22,25,22,27],[21,25,21,27],[23,28,23,30],[18,40,18,42],[18,34,18,36],[19,40,19,42],[19,37,19,39],[17,25,17,27],[20,13,20,15],[19,13,19,15],[22,16,22,18],[23,25,23,27],[19,34,19,36],[21,34,21,36],[21,31,21,33],[19,19,19,21],[23,19,23,21],[20,19,22,24],[20,28,20,30],[20,34,20,36],[19,28,19,30],[22,13,22,15],[21,13,21,15],[23,34,23,36],[21,16,21,18],[19,22,19,24],[19,16,19,18],[20,16,20,18],[20,25,20,27],[36,4,36,6],[24,37,24,42],[25,16,25,18],[27,16,27,18],[29,40,29,42],[29,34,29,36],[26,1,26,3],[28,16,28,18],[26,19,28,24],[28,25,28,27],[27,25,27,27],[26,25,26,27],[25,25,25,27],[24,25,24,27],[30,19,30,21],[30,22,30,24],[31,7,31,12],[33,7,36,12],[31,19,31,24],[33,19,36,24],[24,19,24,24],[26,37,26,39],[25,13,25,15],[35,1,35,3],[35,4,35,6],[30,4,30,6],[30,16,30,18],[27,4,27,6],[23,13,23,15],[23,16,23,18],[35,16,35,18],[34,1,34,3],[34,4,34,6],[33,1,33,3],[26,4,26,6],[26,16,26,18],[31,16,31,18],[24,1,24,3],[32,4,32,6],[27,13,27,15],[31,1,31,3],[31,4,31,6],[35,13,35,15],[34,13,34,15],[33,13,33,15],[29,13,29,15],[23,10,23,12],[23,7,23,9],[25,4,25,6],[29,4,29,6],[37,4,37,6],[30,57,30,58],[33,16,33,18],[36,13,36,15],[23,2,23,3],[29,2,29,3],[37,2,37,3],[25,2,25,3],[32,16,32,18],[33,4,33,6],[25,54,25,58],[29,54,29,58],[24,54,24,56],[36,1,36,3],[32,43,32,53],[33,43,33,53],[34,43,34,53],[35,43,35,53],[36,43,36,53],[37,43,37,53],[23,4,23,6],[37,7,37,9],[6,88,6,91],[6,54,6,64],[6,37,6,42],[7,40,7,42],[7,54,7,56],[7,57,7,58],[6,77,6,82],[7,59,7,61],[9,57,9,58],[9,59,9,61],[9,62,9,64],[9,37,9,39],[9,25,9,27],[10,13,10,15],[10,28,10,30],[15,28,15,30],[11,31,11,33],[11,25,11,27],[15,25,15,27],[15,19,15,21],[11,28,11,30],[10,31,10,33],[11,19,11,21],[12,19,12,21],[11,16,11,18],[11,13,11,15],[10,22,10,24],[10,19,10,21],[14,25,14,27],[13,25,13,27],[13,19,13,21],[15,31,15,33],[9,19,9,21],[9,22,9,24],[10,25,10,27],[37,65,37,75],[8,43,8,53],[9,43,9,53],[10,43,10,53],[11,43,11,53],[12,43,12,53],[13,43,13,53],[14,43,14,53],[15,43,15,53],[16,43,16,53],[17,43,17,53],[18,43,18,53],[19,43,19,53],[20,43,20,53],[21,43,21,53],[22,43,22,53],[29,59,29,61],[11,62,11,64],[9,54,9,56],[27,59,27,61],[24,62,24,64],[24,57,24,58],[23,43,23,53],[27,54,27,56],[28,62,28,64],[27,62,27,64],[10,62,10,64],[24,65,24,75],[25,65,25,75],[24,59,24,61],[1,13,1,29],[2,13,2,27],[3,13,3,29],[4,13,4,27],[9,31,9,33],[9,34,9,36],[11,34,11,36],[12,25,12,27],[12,28,12,30],[9,28,9,30],[12,13,12,15],[13,28,13,30],[12,16,12,18],[13,40,13,42],[13,34,13,36],[12,40,12,42],[13,31,13,33],[13,37,13,39],[4,0,4,12],[3,0,3,12],[2,0,2,12],[1,0,1,12],[3,51,3,58],[2,51,2,58],[4,51,4,58],[2,35,4,50],[1,35,1,50],[2,30,2,34],[1,30,1,34],[37,10,37,12],[29,16,29,18],[32,19,32,21],[32,22,32,24],[25,10,25,12],[25,7,25,9],[23,65,23,75],[2,28,2,29],[4,28,4,29],[11,40,11,42],[14,19,14,24],[6,65,7,75],[6,43,7,53],[8,65,8,75],[11,65,11,75],[10,65,10,75],[9,65,9,75],[30,65,30,75],[29,65,29,75],[14,34,14,36],[14,40,14,42],[9,40,9,42],[11,54,11,56],[37,28,37,30],[33,31,36,36],[33,25,36,30],[34,16,34,18],[32,13,32,15],[30,34,30,36],[26,13,26,15],[30,25,30,27],[29,25,29,27],[37,19,37,21],[37,22,37,24],[32,28,32,30],[29,28,29,30],[31,34,31,36],[31,31,31,33],[29,31,29,33],[30,31,30,33],[31,28,31,30],[31,25,31,27],[6,93,6,97],[29,7,29,9],[29,10,29,12],[25,19,25,21],[25,22,25,24],[29,19,29,21],[29,22,29,24],[25,37,25,39],[36,16,36,18],[11,59,11,61],[11,57,11,58],[10,40,10,42],[10,37,10,39],[10,54,10,56],[10,57,10,58],[10,59,10,61],[18,19,18,21],[18,22,18,24],[17,31,17,33],[31,65,36,75],[14,28,14,30],[8,25,8,27],[17,19,17,21],[12,31,12,33]]}
[null,null,null,null,null,null,null,null,null,null,null,null,null,null,null,null,null,null,null,null,null,null,null,null,null,null,null,null,null,null,null,null,null,null,null,null,null,null,null,null,null,null,null,null,null,null,null,null,null,null,null,null,null,null,null,null,null,null,null,null,null,null,null,null,null,null,{"$f":"新潟市!BI1","v":"２０２３年１２月１日 現在"}]
["折込日",null,null,null,null,null,null,null,null,null,null,null,null,"スポンサー名",null,null,null,null,null,null,null,null,null,null,null,null,null,null,null,null,"サイズ",null,null,null,null,"チラシ内容・タイトル詳細",null,null,null,null,null,null,null,null,null,null,null,null,null,null,null,"朝刊　小計",null,null,null,null,null,null,null,"Otona＋　小計",null,null,null,null,null,null,null,"ページ枚数"]
[{"$f":"新潟市!A3","v":"2023/--/--"},null,null,null,null,null,null,null,null,null,null,null,null,{"$f":"新潟市!M3","v":0},null,null,null,null,null,null,null,null,null,null,null,null,null,null,"様",null,{"$f":"新潟市!AD3","v":0},null,null,null,null,{"$f":"新潟市!AI3","v":0},null,null,null,null,null,null,null,null,null,null,null,null,null,null,null,{"$f":"CD39+CM39","v":0},null,null,null,null,null,null,null,{"$f":"CI39","v":0},null,null,null,null,null,null,null,{"$f":"SUM(AZ3,BH3,AZ5,BH5)","v":0}]
["assh　ポスティング日",null,null,null,null,null,null,null,null,null,null,null,null,"ご請求先名",null,null,null,null,null,null,null,null,null,null,null,null,null,null,null,null,"ガタチラ 掲載",null,null,null,null,null,null,null,null,null,null,null,null,null,null,null,null,null,null,null,null,"くるみる　小計",null,null,null,null,null,null,null,"assh　小計",null,null,null,null,null,null,null,"総枚数"]
[{"$f":"新潟市!A5","v":"2023/--/--"},null,null,null,null,null,null,null,null,null,null,null,null,{"$f":"新潟市!M5","v":0},null,null,null,null,null,null,null,null,null,null,null,null,null,null,"様",null,{"$f":"新潟市!AD5","v":0},null,null,null,null,null,null,null,null,null,null,null,null,null,null,null,null,null,null,null,null,{"$f":"CF39","v":0},null,null,null,null,null,null,null,{"$f":"CG39+CH39","v":0},null,null,null,null,null,null,null,{"$f":"新潟市!BL5","v":0}]
[]
["04","新潟日報　",null,null,null,null,null,null,null,null,null,null,null,null,null,null,null,null,null,null,null,null,null,null,null,"ポスティング\n（ｎ-assh）2週目",null,null,null,null,null,"ポスティング\n（ｎ-assh）4週目",null,null,null,null,null,"Otona+",null,null,null,null,null,"備考",null,null,null,null,null,null,null,null,null,null,"中央紙",null,null,null,null,null,null,null,null,null,null,"備考",null,null,null,null,null,null,null,null,null,null,null,"朝刊",null,null,null,null,null,"くるみる","assh","assh","otona",null,"中央紙　朝刊",null,null,null,null,"日報",null,null,null,null,null,"中央紙"]
[null,"販売店名",null,null,"取扱い紙",null,null,"朝刊＋くるみる",null,null,"配布数",null,null,"朝刊扱数",null,null,"配布数",null,null,"朝刊数",null,null,"くるみる数",null,null,"部数",null,null,"配布数",null,null,"部数",null,null,"配布数",null,null,"部数",null,null,"配布数",null,null,null,null,null,null,null,null,null,null,null,null,null,"販売店名",null,null,"取扱い紙",null,"部数",null,null,"配布数",null,null,null,null,null,null,null,null,null,null,null,null,null,null,"販売店名","E","朝刊1","朝刊２","部","指示","部","部","部","部",null,"販売店名","E","部","指示",null,"朝刊","くるみる","N-assh②","N-assh④","Otona+",null,"朝刊"]
["旧長岡市","長岡中央",null,null,"新アマサ日",null,null,{"$f":"N9+W9","v":5760},null,null,null,null,null,{"$f":"IFERROR(VLOOKUP($CP9,・!$H$3:$I$700,2,FALSE),\"\")","v":5100},null,null,null,null,null,{"$f":"IF(K9=\"\",\"\",IF(K9<=W9,K9,K9-W9))","v":""},null,null,{"$f":"IFERROR(VLOOKUP($CQ9,・!$H$3:$I$700,2,FALSE),\"\")","v":660},null,null,{"$f":"IFERROR(VLOOKUP($CR9,・!$H$3:$I$700,2,FALSE),\"\")","v":4760},null,null,null,null,null,{"$f":"IFERROR(VLOOKUP($CS9,・!$H$3:$I$700,2,FALSE),\"\")","v":4760},null,null,null,null,null,{"$f":"IFERROR(VLOOKUP($CT9,・!$H$3:$I$700,2,FALSE),\"\")","v":490},null,null,null,null,null,null,null,null,null,null,null,null,null,null,null,null,"長岡",null,null,"ヨ",null,{"$f":"IFERROR(VLOOKUP($CV9,・!$H$3:$I$700,2,FALSE),\"\")","v":3370},null,null,null,null,null,null,null,null,null,null,null,null,null,null,null,null,null,"長岡中央",40102,{"$f":"Q9","v":0},{"$f":"T9","v":""},{"$f":"SUM(CB9:CC9)","v":0},{"$f":"AR9","v":0},{"$f":"IF($K9>$W9,$W9,\"\")","v":""},{"$f":"AC9","v":0},{"$f":"AI9","v":0},{"$f":"AO9","v":0},null,"長岡",240109,{"$f":"BK9","v":0},{"$f":"BN9","v":0},null,401021,401023,4010261,4010263,401024,null,2401091]
[null,"長岡南",null,null,"新アマサ日",null,null,{"$f":"N10+W10","v":1590},null,null,null,null,null,{"$f":"IFERROR(VLOOKUP($CP10,・!$H$3:$I$700,2,FALSE),\"\")","v":1560},null,null,null,null,null,{"$f":"IF(K10=\"\",\"\",IF(K10<=W10,K10,K10-W10))","v":""},null,null,{"$f":"IFERROR(VLOOKUP($CQ10,・!$H$3:$I$700,2,FALSE),\"\")","v":30},null,null,{"$f":"IFERROR(VLOOKUP($CR10,・!$H$3:$I$700,2,FALSE),\"\")","v":1430},null,null,null,null,null,{"$f":"IFERROR(VLOOKUP($CS10,・!$H$3:$I$700,2,FALSE),\"\")","v":1430},null,null,null,null,null,{"$f":"IFERROR(VLOOKUP($CT10,・!$H$3:$I$700,2,FALSE),\"\")","v":110},null,null,null,null,null,null,null,null,null,null,null,null,null,null,null,null,"長岡南部",null,null,"ヨ",null,{"$f":"IFERROR(VLOOKUP($CV10,・!$H$3:$I$700,2,FALSE),\"\")","v":1180},null,null,null,null,null,null,null,null,null,null,null,null,null,null,null,null,null,"長岡南",40300,0,"",{"$f":"SUM(CB10:CC10)","v":0},0,"",0,0,0,null,"長岡南部",240110,0,{"$f":"BN10","v":0},null,403001,403003,4030061,4030063,403004,null,2401101]
[null,"長岡東",null,null,"新アマサ日",null,null,{"$f":"N11+W11","v":6030},null,null,null,null,null,{"$f":"IFERROR(VLOOKUP($CP11,・!$H$3:$I$700,2,FALSE),\"\")","v":5310},null,null,null,null,null,{"$f":"IF(K11=\"\",\"\",IF(K11<=W11,K11,K11-W11))","v":""},null,null,{"$f":"IFERROR(VLOOKUP($CQ11,・!$H$3:$I$700,2,FALSE),\"\")","v":720},null,null,{"$f":"IFERROR(VLOOKUP($CR11,・!$H$3:$I$700,2,FALSE),\"\")","v":5640},null,null,null,null,null,{"$f":"IFERROR(VLOOKUP($CS11,・!$H$3:$I$700,2,FALSE),\"\")","v":5640},null,null,null,null,null,{"$f":"IFERROR(VLOOKUP($CT11,・!$H$3:$I$700,2,FALSE),\"\")","v":330},null,null,null,null,null,null,null,null,null,null,null,null,null,null,null,null,"長岡西部",null,null,"ヨ",null,{"$f":"IFERROR(VLOOKUP($CV11,・!$H$3:$I$700,2,FALSE),\"\")","v":2600},null,null,null,null,null,null,null,null,null,null,null,null,null,null,null,null,null,"長岡東",40104,0,"",{"$f":"SUM(CB11:CC11)","v":0},0,"",0,0,0,null,"長岡西部",240112,0,{"$f":"BN11","v":0},null,401041,401043,4010461,4010463,401044,null,2401121]
[null,"長岡新保",null,null,"新アマサ日",null,null,{"$f":"N12+W12","v":2940},null,null,null,null,null,{"$f":"IFERROR(VLOOKUP($CP12,・!$H$3:$I$700,2,FALSE),\"\")","v":2840},null,null,null,null,null,{"$f":"IF(K12=\"\",\"\",IF(K12<=W12,K12,K12-W12))","v":""},null,null,{"$f":"IFERROR(VLOOKUP($CQ12,・!$H$3:$I$700,2,FALSE),\"\")","v":100},null,null,{"$f":"IFERROR(VLOOKUP($CR12,・!$H$3:$I$700,2,FALSE),\"\")","v":2540},null,null,null,null,null,{"$f":"IFERROR(VLOOKUP($CS12,・!$H$3:$I$700,2,FALSE),\"\")","v":2540},null,null,null,null,null,{"$f":"IFERROR(VLOOKUP($CT12,・!$H$3:$I$700,2,FALSE),\"\")","v":90},null,null,null,null,null,null,null,null,null,null,null,null,null,null,null,null,"長岡宮内",null,null,"ヨ",null,{"$f":"IFERROR(VLOOKUP($CV12,・!$H$3:$I$700,2,FALSE),\"\")","v":1160},null,null,null,null,null,null,null,null,null,null,null,null,null,null,null,null,null,"長岡新保",40105,0,"",{"$f":"SUM(CB12:CC12)","v":0},0,"",0,0,0,null,"長岡宮内",240123,0,{"$f":"BN12","v":0},null,401051,401053,4010561,4010563,401054,null,2401231]
[null,"長岡悠久",null,null,"新アマサ日",null,null,3400,null,null,null,null,null,{"$f":"IFERROR(VLOOKUP($CP13,・!$H$3:$I$700,2,FALSE),\"\")","v":3300},null,null,null,null,null,"",null,null,{"$f":"IFERROR(VLOOKUP($CQ13,・!$H$3:$I$700,2,FALSE),\"\")","v":100},null,null,{"$f":"IFERROR(VLOOKUP($CR13,・!$H$3:$I$700,2,FALSE),\"\")","v":3780},null,null,null,null,null,{"$f":"IFERROR(VLOOKUP($CS13,・!$H$3:$I$700,2,FALSE),\"\")","v":3780},null,null,null,null,null,{"$f":"IFERROR(VLOOKUP($CT13,・!$H$3:$I$700,2,FALSE),\"\")","v":120},null,null,null,null,null,null,null,null,null,null,null,null,null,null,null,null,null,null,null,null,null,null,null,null,null,null,null,null,null,null,null,null,null,null,null,null,null,null,null,"長岡悠久",40106,0,"",0,0,"",0,0,0,null,null,null,0,null,null,401061,401063,4010661,4010663,401064]
[null,"西長岡",null,null,"新アマサ日",null,null,4140,null,null,null,null,null,{"$f":"IFERROR(VLOOKUP($CP14,・!$H$3:$I$700,2,FALSE),\"\")","v":3920},null,null,null,null,null,"",null,null,{"$f":"IFERROR(VLOOKUP($CQ14,・!$H$3:$I$700,2,FALSE),\"\")","v":220},null,null,{"$f":"IFERROR(VLOOKUP($CR14,・!$H$3:$I$700,2,FALSE),\"\")","v":5000},null,null,null,null,null,{"$f":"IFERROR(VLOOKUP($CS14,・!$H$3:$I$700,2,FALSE),\"\")","v":5000},null,null,null,null,null,{"$f":"IFERROR(VLOOKUP($CT14,・!$H$3:$I$700,2,FALSE),\"\")","v":170},null,null,null,null,null,null,null,null,null,null,null,null,null,null,null,null,null,null,null,null,null,null,null,null,null,null,null,null,null,null,null,null,null,null,null,null,null,null,null,"西長岡",40111,0,"",0,0,"",0,0,0,null,null,null,0,null,null,401111,401113,4011161,4011163,401114]
[null,"関原",null,null,"新アマサ日",null,null,null,null,null,null,null,null,{"$f":"IFERROR(VLOOKUP($CP15,・!$H$3:$I$700,2,FALSE),\"\")","v":4500},null,null,null,null,null,null,null,null,null,null,null,{"$f":"IFERROR(VLOOKUP($CR15,・!$H$3:$I$700,2,FALSE),\"\")","v":5250},null,null,null,null,null,{"$f":"IFERROR(VLOOKUP($CS15,・!$H$3:$I$700,2,FALSE),\"\")","v":5250},null,null,null,null,null,{"$f":"IFERROR(VLOOKUP($CT15,・!$H$3:$I$700,2,FALSE),\"\")","v":150},null,null,null,null,null,null,null,null,null,null,null,null,null,null,null,null,null,null,null,null,null,null,null,null,null,null,null,null,null,null,null,null,null,null,null,null,null,null,null,"関原",40113,0,0,0,0,"",0,0,0,null,null,null,0,null,null,401131,401133,4011361,4011363,401134]
[null,"王寺川",null,null,"合",null,null,{"$f":"N16+W16","v":460},null,null,null,null,null,{"$f":"IFERROR(VLOOKUP($CP16,・!$H$3:$I$700,2,FALSE),\"\")","v":410},null,null,null,null,null,{"$f":"IF(K16=\"\",\"\",IF(K16<=W16,K16,K16-W16))","v":""},null,null,{"$f":"IFERROR(VLOOKUP($CQ16,・!$H$3:$I$700,2,FALSE),\"\")","v":50},null,null,{"$f":"IFERROR(VLOOKUP($CR16,・!$H$3:$I$700,2,FALSE),\"\")","v":170},null,null,null,null,null,{"$f":"IFERROR(VLOOKUP($CS16,・!$H$3:$I$700,2,FALSE),\"\")","v":170},null,null,null,null,null,null,null,null,null,null,null,null,null,null,null,null,null,null,null,null,null,null,null,null,null,null,null,null,null,null,null,null,null,null,null,null,null,null,null,null,null,null,null,null,null,"王寺川",40114,0,"",0,0,"",0,0,0,null,null,null,0,null,null,401141,401143,4011461,4011463,401144]
[null,"長岡江陽",null,null,"新アマサ日",null,null,{"$f":"N17+W17","v":2030},null,null,null,null,null,{"$f":"IFERROR(VLOOKUP($CP17,・!$H$3:$I$700,2,FALSE),\"\")","v":2000},null,null,null,null,null,{"$f":"IF(K17=\"\",\"\",IF(K17<=W17,K17,K17-W17))","v":""},null,null,{"$f":"IFERROR(VLOOKUP($CQ17,・!$H$3:$I$700,2,FALSE),\"\")","v":30},null,null,{"$f":"IFERROR(VLOOKUP($CR17,・!$H$3:$I$700,2,FALSE),\"\")","v":2500},null,null,null,null,null,{"$f":"IFERROR(VLOOKUP($CS17,・!$H$3:$I$700,2,FALSE),\"\")","v":2500},null,null,null,null,null,{"$f":"IFERROR(VLOOKUP($CT17,・!$H$3:$I$700,2,FALSE),\"\")","v":60},null,null,null,null,null,null,null,null,null,null,null,null,null,null,null,null,null,null,null,null,null,null,null,null,null,null,null,null,null,null,null,null,null,null,null,null,null,null,null,"長岡江陽",40115,0,"",0,0,"",0,0,0,null,null,null,0,null,null,401151,401153,4011561,4011563,401154]
[null,"黒条",null,null,"合",null,null,{"$f":"N18+W18","v":1840},null,null,null,null,null,{"$f":"IFERROR(VLOOKUP($CP18,・!$H$3:$I$700,2,FALSE),\"\")","v":1660},null,null,null,null,null,"",null,null,{"$f":"IFERROR(VLOOKUP($CQ18,・!$H$3:$I$700,2,FALSE),\"\")","v":180},null,null,{"$f":"IFERROR(VLOOKUP($CR18,・!$H$3:$I$700,2,FALSE),\"\")","v":1390},null,null,null,null,null,{"$f":"IFERROR(VLOOKUP($CS18,・!$H$3:$I$700,2,FALSE),\"\")","v":1390},null,null,null,null,null,{"$f":"IFERROR(VLOOKUP($CT18,・!$H$3:$I$700,2,FALSE),\"\")","v":40},null,null,null,null,null,null,null,null,null,null,null,null,null,null,null,null,null,null,null,null,null,null,null,null,null,null,null,null,null,null,null,null,null,null,null,null,null,null,null,"黒条",40116,0,"",0,0,"",0,0,0,null,null,null,0,null,null,401161,401163,4011661,4011663,401164]
[null,"新組",null,null,"合",null,null,{"$f":"N19+W19","v":1430},null,null,null,null,null,{"$f":"IFERROR(VLOOKUP($CP19,・!$H$3:$I$700,2,FALSE),\"\")","v":1400},null,null,null,null,null,"",null,null,{"$f":"IFERROR(VLOOKUP($CQ19,・!$H$3:$I$700,2,FALSE),\"\")","v":30},null,null,{"$f":"IFERROR(VLOOKUP($CR19,・!$H$3:$I$700,2,FALSE),\"\")","v":600},null,null,null,null,null,{"$f":"IFERROR(VLOOKUP($CS19,・!$H$3:$I$700,2,FALSE),\"\")","v":500},null,null,null,null,null,{"$f":"IFERROR(VLOOKUP($CT19,・!$H$3:$I$700,2,FALSE),\"\")","v":20},null,null,null,null,null,null,null,null,null,null,null,null,null,null,null,null,null,null,null,null,null,null,null,null,null,null,null,null,null,null,null,null,null,null,null,null,null,null,null,"新組",40117,0,"",0,0,"",0,0,0,null,null,null,0,null,null,401171,401173,4011761,4011763,401174]
[null,"長岡宮内",null,null,"新アマサ日",null,null,{"$f":"N20+W20","v":4200},null,null,null,null,null,{"$f":"IFERROR(VLOOKUP($CP20,・!$H$3:$I$700,2,FALSE),\"\")","v":4100},null,null,null,null,null,"",null,null,{"$f":"IFERROR(VLOOKUP($CQ20,・!$H$3:$I$700,2,FALSE),\"\")","v":100},null,null,{"$f":"IFERROR(VLOOKUP($CR20,・!$H$3:$I$700,2,FALSE),\"\")","v":5370},null,null,null,null,null,{"$f":"IFERROR(VLOOKUP($CS20,・!$H$3:$I$700,2,FALSE),\"\")","v":5370},null,null,null,null,null,{"$f":"IFERROR(VLOOKUP($CT20,・!$H$3:$I$700,2,FALSE),\"\")","v":180},null,null,null,null,null,null,null,null,null,null,null,null,null,null,null,null,null,null,null,null,null,null,null,null,null,null,null,null,null,null,null,null,null,null,null,null,null,null,null,"長岡宮内",40121,0,"",0,0,"",0,0,0,null,null,null,0,null,null,401211,401213,4012161,4012163,401214]
[null,"濁沢",null,null,"合",null,null,null,null,null,null,null,null,{"$f":"IFERROR(VLOOKUP($CP21,・!$H$3:$I$700,2,FALSE),\"\")","v":260},null,null,null,null,null,null,null,null,null,null,null,{"$f":"IFERROR(VLOOKUP($CR21,・!$H$3:$I$700,2,FALSE),\"\")","v":200},null,null,null,null,null,{"$f":"IFERROR(VLOOKUP($CS21,・!$H$3:$I$700,2,FALSE),\"\")","v":200},null,null,null,null,null,null,null,null,null,null,null,null,null,null,null,null,null,null,null,null,null,null,null,null,null,null,null,null,null,null,null,null,null,null,null,null,null,null,null,null,null,null,null,null,null,"濁沢",40124,0,0,0,0,"",0,0,0,null,null,null,0,null,null,401241,401243,4012461,4012463,401244]
[null,"岡南",null,null,"合",null,null,null,null,null,null,null,null,{"$f":"IFERROR(VLOOKUP($CP22,・!$H$3:$I$700,2,FALSE),\"\")","v":760},null,null,null,null,null,null,null,null,null,null,null,{"$f":"IFERROR(VLOOKUP($CR22,・!$H$3:$I$700,2,FALSE),\"\")","v":80},null,null,null,null,null,{"$f":"IFERROR(VLOOKUP($CS22,・!$H$3:$I$700,2,FALSE),\"\")","v":80},null,null,null,null,null,null,null,null,null,null,null,null,null,null,null,null,null,null,null,null,null,null,null,null,null,null,null,null,null,null,null,null,null,null,null,null,null,null,null,null,null,null,null,null,null,"岡南",40125,0,0,0,0,"",0,0,0,null,null,null,0,null,null,401251,401253,4012561,4012563,401254]
[null,"六日市",null,null,"合",null,null,null,null,null,null,null,null,{"$f":"IFERROR(VLOOKUP($CP23,・!$H$3:$I$700,2,FALSE),\"\")","v":350},null,null,null,null,null,null,null,null,null,null,null,{"$f":"IFERROR(VLOOKUP($CR23,・!$H$3:$I$700,2,FALSE),\"\")","v":10},null,null,null,null,null,{"$f":"IFERROR(VLOOKUP($CS23,・!$H$3:$I$700,2,FALSE),\"\")","v":10},null,null,null,null,null,null,null,null,null,null,null,null,null,null,null,null,null,null,null,null,null,null,null,null,null,null,null,null,null,null,null,null,null,null,null,null,null,null,null,null,null,null,null,null,null,"六日市",40126,0,0,0,0,"",0,0,0,null,null,null,0,null,null,401261,401263,4012661,4012663,401264]
[null,"010","小計",null,{"$f":"Q24+T24+W24+AC24+AI24+AO24+BK24","v":0},null,null,{"$f":"SUM(H9:J23)","v":33820},null,null,{"$f":"SUM(K9:M23)","v":0},null,null,{"$f":"SUM(N9:P23)","v":37470},null,null,{"$f":"SUM(Q9:S23)","v":0},null,null,{"$f":"SUM(T9:V23)","v":0},null,null,{"$f":"CF24","v":0},null,null,{"$f":"SUM(Z9:AB23)","v":38720},null,null,{"$f":"SUM(AC9:AE23)","v":0},null,null,{"$f":"SUM(AF9:AH23)","v":38620},null,null,{"$f":"SUM(AI9:AK23)","v":0},null,null,{"$f":"SUM(AL9:AN23)","v":1760},null,null,{"$f":"SUM(AO9:AQ15,AO17:AQ20)","v":0},null,null,null,null,null,null,null,null,null,null,null,null,null,"小計",null,null,null,null,{"$f":"SUM(BH9:BJ23)","v":8310},null,null,{"$f":"SUM(BK9:BM23)","v":0},null,null,null,null,null,null,null,null,null,null,null,null,null,null,{"$f":"SUM(CD24,CF24:CI24,CM24)","v":0},null,{"$f":"SUM(CB9:CB23)","v":0},{"$f":"SUM(CC9:CC23)","v":0},{"$f":"SUM(CD9:CD23)","v":0},null,{"$f":"SUM(CF9:CF23)","v":0},{"$f":"SUM(CG9:CG23)","v":0},{"$f":"SUM(CH9:CH23)","v":0},{"$f":"SUM(CI9:CI23)","v":0},null,null,null,{"$f":"SUM(CM9:CM23)","v":0}]
["旧栃尾市・見附市","栃尾",null,null,"新アマサ",null,null,null,null,null,null,null,null,{"$f":"IFERROR(VLOOKUP($CP25,・!$H$3:$I$700,2,FALSE),\"\")","v":2960},null,null,null,null,null,null,null,null,null,null,null,{"$f":"IFERROR(VLOOKUP($CR25,・!$H$3:$I$700,2,FALSE),\"\")","v":900},null,null,null,null,null,{"$f":"IFERROR(VLOOKUP($CS25,・!$H$3:$I$700,2,FALSE),\"\")","v":900},null,null,null,null,null,null,null,null,null,null,null,null,null,null,null,null,null,null,null,null,null,null,"栃尾",null,null,"ヨ日",null,{"$f":"IFERROR(VLOOKUP($CV25,・!$H$3:$I$700,2,FALSE),\"\")","v":2000},null,null,null,null,null,null,null,null,null,null,null,null,null,null,null,null,null,"栃尾",40127,{"$f":"Q25","v":0},{"$f":"T25","v":0},0,{"$f":"AR25","v":0},{"$f":"IF($K25>$W25,$W25,\"\")","v":""},{"$f":"AC25","v":0},{"$f":"AI25","v":0},{"$f":"AO25","v":0},null,"栃尾",240129,{"$f":"BK25","v":0},{"$f":"BN25","v":0},null,401271,401273,4012761,4012763,401274,null,2401291]
[null,"020","小計",null,{"$f":"Q26+T26+W26+AC26+AI26+AO26+BK26","v":0},null,null,null,null,null,null,null,null,{"$f":"SUM(N25)","v":2960},null,null,{"$f":"SUM(Q25)","v":0},null,null,null,null,null,{"$f":"CF26","v":0},null,null,{"$f":"SUM(Z25)","v":900},null,null,{"$f":"SUM(AC25)","v":0},null,null,{"$f":"SUM(AF25)","v":900},null,null,{"$f":"SUM(AI25)","v":0},null,null,null,null,null,null,null,null,null,null,null,null,null,null,null,null,null,null,null,"小計",null,null,null,null,{"$f":"SUM(BH25)","v":2000},null,null,{"$f":"SUM(BK25)","v":0},null,null,null,null,null,null,null,null,null,null,null,null,null,null,{"$f":"SUM(CD26,CF26:CI26,CM26)","v":0},null,{"$f":"SUM(CB25)","v":0},{"$f":"SUM(CC25)","v":0},0,null,{"$f":"SUM(CF25)","v":0},{"$f":"SUM(CG25)","v":0},0,0,null,null,null,{"$f":"SUM(CM25)","v":0}]
[null,"見附南",null,null,"新アマサ日",null,null,null,null,null,null,null,null,{"$f":"IFERROR(VLOOKUP($CP27,・!$H$3:$I$700,2,FALSE),\"\")","v":2600},null,null,null,null,null,null,null,null,null,null,null,{"$f":"IFERROR(VLOOKUP($CR27,・!$H$3:$I$700,2,FALSE),\"\")","v":1500},null,null,null,null,null,{"$f":"IFERROR(VLOOKUP($CS27,・!$H$3:$I$700,2,FALSE),\"\")","v":20},null,null,null,null,null,{"$f":"IFERROR(VLOOKUP($CT27,・!$H$3:$I$700,2,FALSE),\"\")","v":90},null,null,null,null,null,null,null,null,null,null,null,null,null,null,null,null,"見附",null,null,"ヨ",null,{"$f":"IFERROR(VLOOKUP($CV27,・!$H$3:$I$700,2,FALSE),\"\")","v":1400},null,null,null,null,null,null,null,null,null,null,null,null,null,null,null,null,null,"見附南",40130,{"$f":"Q27","v":0},{"$f":"T27","v":0},0,{"$f":"AR27","v":0},{"$f":"IF($K27>$W27,$W27,\"\")","v":""},{"$f":"AC27","v":0},{"$f":"AI27","v":0},{"$f":"AO27","v":0},null,"見附",240133,{"$f":"BK27","v":0},{"$f":"BN27","v":0},null,401301,401303,4013061,4013063,401304,null,2401331]
[null,"見附北",null,null,"新アマ日",null,null,null,null,null,null,null,null,{"$f":"IFERROR(VLOOKUP($CP28,・!$H$3:$I$700,2,FALSE),\"\")","v":3350},null,null,null,null,null,null,null,null,null,null,null,{"$f":"IFERROR(VLOOKUP($CR28,・!$H$3:$I$700,2,FALSE),\"\")","v":3250},null,null,null,null,null,0,null,null,null,null,null,{"$f":"IFERROR(VLOOKUP($CT28,・!$H$3:$I$700,2,FALSE),\"\")","v":140},null,null,null,null,null,null,null,null,null,null,null,null,null,null,null,null,"見附",null,null,"サ",null,{"$f":"IFERROR(VLOOKUP($CV28,・!$H$3:$I$700,2,FALSE),\"\")","v":640},null,null,null,null,null,null,null,null,null,null,null,null,null,null,null,null,null,"見附北",40131,{"$f":"Q28","v":0},{"$f":"T28","v":0},0,{"$f":"AR28","v":0},{"$f":"IF($K28>$W28,$W28,\"\")","v":""},{"$f":"AC28","v":0},{"$f":"AI28","v":0},{"$f":"AO28","v":0},null,"見附",40134,{"$f":"BK28","v":0},{"$f":"BN28","v":0},null,401311,401313,4013161,4013163,401314,null,401341]
[null,"今町",null,null,"新アマサ日",null,null,null,null,null,null,null,null,{"$f":"IFERROR(VLOOKUP($CP29,・!$H$3:$I$700,2,FALSE),\"\")","v":3200},null,null,null,null,null,null,null,null,null,null,null,{"$f":"IFERROR(VLOOKUP($CR29,・!$H$3:$I$700,2,FALSE),\"\")","v":1610},null,null,null,null,null,{"$f":"IFERROR(VLOOKUP($CS29,・!$H$3:$I$700,2,FALSE),\"\")","v":460},null,null,null,null,null,{"$f":"IFERROR(VLOOKUP($CT29,・!$H$3:$I$700,2,FALSE),\"\")","v":130},null,null,null,null,null,null,null,null,null,null,null,null,null,null,null,null,"今町",null,null,"ヨ",null,{"$f":"IFERROR(VLOOKUP($CV29,・!$H$3:$I$700,2,FALSE),\"\")","v":600},null,null,null,null,null,null,null,null,null,null,null,null,null,null,null,null,null,"今町",40135,{"$f":"Q29","v":0},{"$f":"T29","v":0},0,{"$f":"AR29","v":0},{"$f":"IF($K29>$W29,$W29,\"\")","v":""},{"$f":"AC29","v":0},{"$f":"AI29","v":0},{"$f":"AO29","v":0},null,"今町",240136,{"$f":"BK29","v":0},{"$f":"BN29","v":0},null,401351,401353,4013561,4013563,401354,null,2401361]
[null,"030","小計",null,{"$f":"Q30+T30+W30+AC30+AI30+AO30+BK30","v":0},null,null,null,null,null,null,null,null,{"$f":"SUM(N27:P29)","v":9150},null,null,{"$f":"SUM(Q27:S29)","v":0},null,null,null,null,null,{"$f":"CF30","v":0},null,null,{"$f":"SUM(Z27:AA29)","v":6360},null,null,{"$f":"SUM(AC27:AE29)","v":0},null,null,{"$f":"SUM(AF27:AH29)","v":480},null,null,{"$f":"SUM(AI27:AK29)","v":0},null,null,{"$f":"SUM(AL27:AN29)","v":360},null,null,{"$f":"SUM(AO27:AQ29)","v":0},null,null,null,null,null,null,null,null,null,null,null,null,null,"小計",null,null,null,null,{"$f":"SUM(BH27:BI29)","v":2640},null,null,{"$f":"SUM(BK27:BM29)","v":0},null,null,null,null,null,null,null,null,null,null,null,null,null,null,{"$f":"SUM(CD30,CF30:CI30,CM30)","v":0},null,{"$f":"SUM(CB27:CB29)","v":0},{"$f":"SUM(CC27:CC29)","v":0},0,null,{"$f":"SUM(CF27:CF29)","v":0},{"$f":"SUM(CG27:CG29)","v":0},0,0,null,null,null,{"$f":"SUM(CM27:CM29)","v":0}]
["旧三島郡","越路",null,null,"新アマサ日",null,null,{"$f":"N31+W31","v":2820},null,null,null,null,null,{"$f":"IFERROR(VLOOKUP($CP31,・!$H$3:$I$700,2,FALSE),\"\")","v":2770},null,null,null,null,null,{"$f":"IF(K31=\"\",\"\",IF(K31<=W31,K31,K31-W31))","v":""},null,null,{"$f":"IFERROR(VLOOKUP($CQ31,・!$H$3:$I$700,2,FALSE),\"\")","v":50},null,null,{"$f":"IFERROR(VLOOKUP($CR31,・!$H$3:$I$700,2,FALSE),\"\")","v":2470},null,null,null,null,null,{"$f":"IFERROR(VLOOKUP($CS31,・!$H$3:$I$700,2,FALSE),\"\")","v":2470},null,null,null,null,null,0,null,null,null,null,null,null,null,null,null,null,null,null,null,null,null,null,"来迎寺",null,null,"ヨ",null,{"$f":"IFERROR(VLOOKUP($CV31,・!$H$3:$I$700,2,FALSE),\"\")","v":590},null,null,null,null,null,null,null,null,null,null,null,null,null,null,null,null,null,"越路",40139,{"$f":"Q31","v":0},{"$f":"T31","v":""},0,{"$f":"AR31","v":0},{"$f":"IF($K31>$W31,$W31,\"\")","v":""},{"$f":"AC31","v":0},{"$f":"AI31","v":0},{"$f":"AO31","v":0},null,"来迎寺",240140,{"$f":"BK31","v":0},{"$f":"BN31","v":0},null,401391,401393,4013961,4013963,401394,null,2401401]
[null,"塚山",null,null,"合",null,null,null,null,null,null,null,null,{"$f":"IFERROR(VLOOKUP($CP32,・!$H$3:$I$700,2,FALSE),\"\")","v":790},null,null,null,null,null,null,null,null,null,null,null,{"$f":"IFERROR(VLOOKUP($CR32,・!$H$3:$I$700,2,FALSE),\"\")","v":130},null,null,null,null,null,{"$f":"IFERROR(VLOOKUP($CS32,・!$H$3:$I$700,2,FALSE),\"\")","v":130},null,null,null,null,null,null,null,null,null,null,null,null,null,null,null,null,null,null,null,null,null,null,null,null,null,null,null,null,null,null,null,null,null,null,null,null,null,null,null,null,null,null,null,null,null,"塚山",40141,0,0,0,0,"",0,0,0,null,null,null,0,null,null,401411,401413,4014161,4014163,401414]
[null,"与板",null,null,"合",null,null,{"$f":"N33+W33","v":2790},null,null,null,null,null,{"$f":"IFERROR(VLOOKUP($CP33,・!$H$3:$I$700,2,FALSE),\"\")","v":2640},null,null,null,null,null,{"$f":"IF(K33=\"\",\"\",IF(K33<=W33,K33,K33-W33))","v":""},null,null,{"$f":"IFERROR(VLOOKUP($CQ33,・!$H$3:$I$700,2,FALSE),\"\")","v":150},null,null,{"$f":"IFERROR(VLOOKUP($CR33,・!$H$3:$I$700,2,FALSE),\"\")","v":900},null,null,null,null,null,{"$f":"IFERROR(VLOOKUP($CS33,・!$H$3:$I$700,2,FALSE),\"\")","v":900},null,null,null,null,null,null,null,null,null,null,null,null,null,null,null,null,null,null,null,null,null,null,null,null,null,null,null,null,null,null,null,null,null,null,null,null,null,null,null,null,null,null,null,null,null,"与板",40144,0,"",0,0,"",0,0,0,null,null,null,0,null,null,401441,401443,4014461,4014463,401444]
[null,"大河津",null,null,"合",null,null,null,null,null,null,null,null,{"$f":"IFERROR(VLOOKUP($CP34,・!$H$3:$I$700,2,FALSE),\"\")","v":1070},null,null,null,null,null,null,null,null,null,null,null,null,null,null,null,null,null,null,null,null,null,null,null,null,null,null,null,null,null,null,null,null,null,null,null,null,null,null,null,null,null,null,null,null,null,null,null,null,null,null,null,null,null,null,null,null,null,null,null,null,null,null,null,"大河津",40145,0,0,0,0,"",0,0,0,null,null,null,0,null,null,401451,401453,4014561,4014563,401454]
[null,"寺泊",null,null,"合",null,null,null,null,null,null,null,null,{"$f":"IFERROR(VLOOKUP($CP35,・!$H$3:$I$700,2,FALSE),\"\")","v":1090},null,null,null,null,null,null,null,null,null,null,null,null,null,null,null,null,null,null,null,null,null,null,null,null,null,null,null,null,null,null,null,null,null,null,null,null,null,null,null,null,null,null,null,null,null,null,null,null,null,null,null,null,null,null,null,null,null,null,null,null,null,null,null,"寺泊",40146,0,0,0,0,"",0,0,0,null,null,null,0,null,null,401461,401463,4014661,4014663,401464]
[null,"和島",null,null,"合",null,null,null,null,null,null,null,null,{"$f":"IFERROR(VLOOKUP($CP36,・!$H$3:$I$700,2,FALSE),\"\")","v":920},null,null,null,null,null,null,null,null,null,null,null,null,null,null,null,null,null,null,null,null,null,null,null,null,null,null,null,null,null,null,null,null,null,null,null,null,null,null,null,null,null,null,null,null,null,null,null,null,null,null,null,null,null,null,null,null,null,null,null,null,null,null,null,"和島",40147,0,0,0,0,"",0,0,0,null,null,null,0,null,null,401471,401473,4014761,4014763,401474]
[null,"西越",null,null,"合",null,null,null,null,null,null,null,null,{"$f":"IFERROR(VLOOKUP($CP37,・!$H$3:$I$700,2,FALSE),\"\")","v":1180},null,null,null,null,null,null,null,null,null,null,null,null,null,null,null,null,null,null,null,null,null,null,null,null,null,null,null,null,null,null,null,null,null,null,null,null,null,null,null,null,null,null,null,null,null,null,null,null,null,null,null,null,null,null,null,null,null,null,null,null,null,null,null,"西越",40148,0,0,0,0,"",0,0,0,null,null,null,0,null,null,401481,401483,4014861,4014863,401484]
[null,"040","小計",null,{"$f":"Q38+T38+W38+AC38+AI38+AO38+BK38","v":0},null,null,{"$f":"SUM(H31:J37)","v":5610},null,null,{"$f":"SUM(K31:M37)","v":0},null,null,{"$f":"SUM(N31:P37)","v":10460},null,null,{"$f":"SUM(Q31:S37)","v":0},null,null,{"$f":"SUM(T31:V37)","v":0},null,null,{"$f":"CF38","v":0},null,null,{"$f":"SUM(Z31:AB37)","v":3500},null,null,{"$f":"SUM(AC31:AE37)","v":0},null,null,{"$f":"SUM(AF31:AH37)","v":3500},null,null,{"$f":"SUM(AI31:AK37)","v":0},null,null,null,null,null,null,null,null,null,null,null,null,null,null,null,null,null,null,null,"小計",null,null,null,null,{"$f":"SUM(BH31:BJ37)","v":590},null,null,{"$f":"SUM(BK31:BM37)","v":0},null,null,null,null,null,null,null,null,null,null,null,null,null,null,{"$f":"SUM(CD38,CF38:CI38,CM38)","v":0},null,{"$f":"SUM(CB31:CB37)","v":0},{"$f":"SUM(CC31:CC37)","v":0},{"$f":"SUM(CD31:CD37)","v":0},{"$f":"SUM(CE8:CE37)","v":0},{"$f":"SUM(CF31:CF37)","v":0},{"$f":"SUM(CG31:CG37)","v":0},0,0,null,null,null,{"$f":"SUM(CM31:CM37)","v":0}]
["合計",null,null,null,{"$f":"SUM(E38,E30,E26,E24)","v":0},null,null,{"$f":"SUM(H38,H30,H26,H24)","v":39430},null,null,{"$f":"SUM(K38,K30,K26,K24)","v":0},null,null,{"$f":"SUM(N38,N30,N26,N24)","v":60040},null,null,{"$f":"SUM(Q38,Q30,Q26,Q24)","v":0},null,null,{"$f":"SUM(T38,T30,T26,T24)","v":0},null,null,{"$f":"SUM(W38,W30,W26,W24)","v":0},null,null,{"$f":"SUM(Z38,Z30,Z26,Z24)","v":49480},null,null,{"$f":"SUM(AC38,AC30,AC26,AC24)","v":0},null,null,{"$f":"SUM(AF38,AF30,AF26,AF24)","v":43500},null,null,{"$f":"SUM(AI38,AI30,AI26,AI24)","v":0},null,null,{"$f":"SUM(AL38,AL30,AL26,AL24)","v":2120},null,null,{"$f":"SUM(AO38,AO30,AO26,AO24)","v":0},null,null,null,null,null,null,null,null,null,null,null,null,null,"合計",null,null,null,null,{"$f":"SUM(BH38,BH30,BH26,BH24)","v":13540},null,null,{"$f":"SUM(BK38,BK30,BK26,BK24)","v":0},null,null,null,null,null,null,null,null,null,null,null,null,null,null,{"$f":"SUM(BZ38,BZ30,BZ26,BZ24)","v":0},null,{"$f":"SUM(CB38,CB30,CB26,CB24)","v":0},{"$f":"SUM(CC38,CC30,CC26,CC24)","v":0},0,null,{"$f":"SUM(CF24,CF26,CF30,CF38)","v":0},{"$f":"SUM(CG38,CG30,CG26,CG24)","v":0},0,{"$f":"SUM(CI38,CI30,CI26,CI24)","v":0},null,null,null,{"$f":"SUM(CM38,CM30,CM26,CM24)","v":0},null,{"$f":"SUM(CD39:CN39)","v":0}]
[null,null,null,null,null,null,null,null,null,null,null,null,null,null,null,null,null,null,null,null,null,null,null,null,null,null,null,null,null,null,null,null,null,null,null,null,null,"■Otona+ ※ がある販売店は一部朝刊時宅配エリアがございます。",null,null,null,null,null,null,null,null,null,null,null,null,null,null,null,null,null,null,null,null,null,null,null,null,null,null,null,null,null,null,null,null,null,null,null,null,null,null,null,null,null,null,null,{"$f":"SUM(CD39,CM39)","v":0}]

{"sheet":"中越２","index":8,"n_rows":43,"n_cols":91,"rows_kept":43,"cut":false,"hidden":false,"merged":[[41,57,41,59],[41,60,41,70],[41,31,41,36],[41,25,41,30],[41,4,41,6],[41,13,41,15],[41,16,41,18],[41,0,41,3],[25,52,25,53],[25,49,25,51],[30,13,30,15],[26,13,26,15],[34,60,39,70],[38,13,38,15],[38,16,38,18],[36,16,36,18],[34,16,34,18],[37,13,37,15],[39,13,39,15],[40,31,40,36],[40,25,40,30],[40,13,40,15],[40,16,40,18],[36,13,36,15],[3,63,3,70],[4,49,4,55],[4,56,4,62],[4,63,4,70],[2,63,2,70],[2,56,2,62],[19,54,19,56],[19,57,19,59],[13,54,13,56],[13,57,13,59],[12,49,12,53],[14,60,18,70],[6,60,7,70],[9,60,11,70],[9,49,11,59],[7,54,7,56],[8,60,8,70],[8,49,8,51],[8,52,8,53],[8,54,8,56],[8,57,8,59],[7,49,7,51],[7,52,7,53],[36,1,36,3],[36,4,36,6],[34,4,34,6],[4,29,4,33],[34,13,34,15],[25,7,32,12],[32,13,32,15],[31,1,31,3],[31,4,31,6],[27,1,27,3],[27,4,27,6],[27,13,27,15],[31,13,31,15],[30,1,30,3],[30,4,30,6],[26,1,26,3],[26,4,26,6],[28,13,28,15],[34,19,39,24],[6,31,6,36],[8,7,11,12],[7,13,7,15],[9,1,9,3],[9,4,9,6],[1,49,1,55],[1,56,1,62],[2,49,2,55],[3,49,3,55],[3,56,3,62],[40,60,40,70],[36,37,36,48],[39,37,39,48],[37,37,37,48],[38,37,38,48],[40,37,40,48],[33,54,33,56],[33,57,33,59],[33,60,33,70],[33,37,33,48],[33,49,33,53],[25,54,25,56],[25,57,25,59],[25,60,25,70],[26,54,26,56],[26,57,26,59],[29,37,29,48],[31,37,31,48],[19,37,19,48],[35,37,35,48],[34,37,34,48],[34,25,39,30],[34,49,39,59],[34,31,39,36],[19,60,19,70],[19,49,19,53],[27,16,27,18],[27,37,27,48],[26,49,26,51],[25,31,32,36],[25,25,32,30],[25,37,25,48],[27,57,27,59],[24,37,24,48],[26,37,26,48],[26,60,26,70],[27,54,27,56],[27,60,27,70],[32,37,32,48],[27,49,27,51],[27,52,27,53],[30,37,30,48],[28,49,32,59],[28,60,32,70],[25,19,32,24],[30,16,30,18],[28,16,28,18],[20,60,20,70],[20,37,20,48],[20,49,20,51],[20,52,20,53],[21,37,21,48],[20,54,20,56],[20,57,20,59],[20,31,23,36],[24,31,24,36],[21,60,23,70],[22,37,22,48],[21,49,23,59],[24,54,24,56],[24,57,24,59],[24,60,24,70],[16,37,16,48],[12,60,12,70],[12,54,12,56],[12,31,12,36],[12,57,12,59],[14,37,14,48],[13,52,13,53],[13,49,13,51],[13,37,13,48],[14,49,18,59],[17,37,17,48],[12,37,12,48],[12,4,12,6],[8,19,11,24],[7,34,7,36],[11,37,11,48],[10,37,10,48],[9,37,9,48],[7,19,7,21],[8,13,8,15],[6,37,7,48],[12,2,12,3],[12,10,12,12],[12,7,12,9],[12,22,12,24],[4,0,4,11],[8,0,12,0],[12,16,12,18],[2,29,2,33],[3,29,3,33],[10,1,10,3],[7,16,7,18],[11,4,11,6],[11,1,11,3],[7,1,7,3],[7,4,7,6],[10,4,10,6],[8,1,8,3],[8,4,8,6],[7,25,7,27],[7,28,7,30],[7,31,7,33],[6,25,6,30],[8,16,8,18],[6,1,6,24],[13,0,19,0],[19,13,19,15],[19,16,19,18],[0,60,0,70],[1,0,1,11],[1,12,1,28],[1,29,1,33],[1,34,1,48],[7,57,7,59],[2,12,2,26],[3,12,3,28],[4,12,4,26],[2,34,4,48],[0,22,0,23],[7,10,7,12],[6,0,7,0],[1,63,1,70],[7,7,7,9],[7,22,7,24],[4,27,4,28],[2,27,2,28],[2,0,2,11],[6,49,6,59],[3,0,3,11],[34,0,40,0],[25,0,32,0],[25,16,25,18],[23,4,23,6],[20,1,20,3],[20,4,20,6],[20,0,24,0],[21,16,21,18],[20,13,20,15],[25,1,25,3],[25,4,25,6],[25,13,25,15],[29,13,29,15],[29,16,29,18],[29,1,29,3],[29,4,29,6],[28,4,28,6],[21,1,21,3],[22,1,22,3],[23,1,23,3],[20,7,23,12],[26,16,26,18],[32,4,32,6],[24,10,24,12],[6,72,6,77],[6,82,6,85],[22,13,22,15],[21,13,21,15],[17,13,17,15],[18,13,18,15],[18,16,18,18],[13,16,13,18],[15,37,15,48],[13,60,13,70],[9,13,9,15],[9,16,9,18],[10,13,10,15],[10,16,10,18],[11,13,11,15],[11,16,11,18],[15,16,15,18],[14,13,14,15],[14,16,14,18],[15,13,15,15],[8,31,11,36],[8,25,11,30],[12,13,12,15],[8,37,8,48],[19,2,19,3],[24,2,24,3],[33,2,33,3],[39,16,39,18],[37,16,37,18],[13,19,18,24],[18,1,18,3],[18,4,18,6],[17,1,17,3],[17,4,17,6],[22,4,22,6],[21,4,21,6],[15,4,15,6],[13,1,13,3],[13,4,13,6],[16,1,16,3],[16,4,16,6],[15,1,15,3],[14,1,14,3],[14,4,14,6],[19,4,19,6],[22,16,22,18],[13,7,18,12],[17,16,17,18],[40,2,40,3],[24,4,24,6],[33,4,33,6],[40,4,40,6],[31,16,31,18],[32,16,32,18],[35,13,35,15],[35,16,35,18],[33,16,33,18],[28,1,28,3],[38,4,38,6],[35,4,35,6],[37,4,37,6],[39,1,39,3],[39,4,39,6],[32,1,32,3],[34,1,34,3],[33,13,33,15],[38,1,38,3],[35,1,35,3],[37,1,37,3],[24,16,24,18],[24,7,24,9],[24,13,24,15],[40,7,40,9],[40,10,40,12],[41,7,41,9],[41,10,41,12],[33,7,33,9],[33,10,33,12],[12,19,12,21],[19,19,19,21],[24,19,24,21],[33,19,33,21],[16,16,16,18],[16,13,16,15],[13,13,13,15],[20,19,23,24],[23,13,23,15],[19,7,19,9],[19,10,19,12],[19,22,19,24],[23,16,23,18],[20,16,20,18],[24,22,24,24],[34,7,39,12],[33,22,33,24],[40,19,40,21],[6,87,6,88],[40,22,40,24],[41,19,41,21],[41,22,41,24],[12,25,12,30],[40,49,40,53],[40,54,40,56],[40,57,40,59],[19,31,19,36],[19,25,19,30],[13,31,18,36],[13,25,18,30],[24,49,24,53],[23,37,23,48],[20,25,23,30],[24,25,24,30],[26,52,26,53],[28,37,28,48],[33,31,33,36],[33,25,33,30],[41,37,41,48],[41,49,41,53],[41,54,41,56],[18,37,18,48]]}
[null,null,null,null,null,null,null,null,null,null,null,null,null,null,null,null,null,null,null,null,null,null,null,null,null,null,null,null,null,null,null,null,null,null,null,null,null,null,null,null,null,null,null,null,null,null,null,null,null,null,null,null,null,null,null,null,null,null,null,null,{"$f":"新潟市!BI1","v":"２０２３年１２月１日 現在"}]
["折込日",null,null,null,null,null,null,null,null,null,null,null,"スポンサー名",null,null,null,null,null,null,null,null,null,null,null,null,null,null,null,null,"サイズ",null,null,null,null,"チラシ内容・タイトル詳細",null,null,null,null,null,null,null,null,null,null,null,null,null,null,"朝刊　小計",null,null,null,null,null,null,"Otona＋　小計",null,null,null,null,null,null,"ページ枚数"]
[{"$f":"新潟市!A3","v":"2023/--/--"},null,null,null,null,null,null,null,null,null,null,null,{"$f":"新潟市!M3","v":0},null,null,null,null,null,null,null,null,null,null,null,null,null,null,"様",null,{"$f":"新潟市!AD3","v":0},null,null,null,null,{"$f":"新潟市!AI3","v":0},null,null,null,null,null,null,null,null,null,null,null,null,null,null,{"$f":"BY42+CG42","v":0},null,null,null,null,null,null,null,null,null,null,null,null,null,{"$f":"SUM(AX3,BE3,BE5,AX5)","v":0}]
["assh　ポスティング日",null,null,null,null,null,null,null,null,null,null,null,"ご請求先名",null,null,null,null,null,null,null,null,null,null,null,null,null,null,null,null,"ガタチラ 掲載",null,null,null,null,null,null,null,null,null,null,null,null,null,null,null,null,null,null,null,"くるみる　小計",null,null,null,null,null,null,"assh　小計",null,null,null,null,null,null,"総枚数"]
[{"$f":"新潟市!A5","v":"2023/--/--"},null,null,null,null,null,null,null,null,null,null,null,{"$f":"新潟市!M5","v":0},null,null,null,null,null,null,null,null,null,null,null,null,null,null,"様",null,{"$f":"新潟市!AD5","v":0},null,null,null,null,null,null,null,null,null,null,null,null,null,null,null,null,null,null,null,{"$f":"CA42","v":0},null,null,null,null,null,null,null,null,null,null,null,null,null,{"$f":"新潟市!BL5","v":0}]
[]
["04","新潟日報　",null,null,null,null,null,null,null,null,null,null,null,null,null,null,null,null,null,null,null,null,null,null,null,"ポスティング",null,null,null,null,null,"Otona+",null,null,null,null,null,"備考",null,null,null,null,null,null,null,null,null,null,null,"中央紙",null,null,null,null,null,null,null,null,null,null,"備考",null,null,null,null,null,null,null,null,null,null,null,"朝刊",null,null,null,null,null,"くるみる","assh","otona",null,"中央紙　朝刊",null,null,null,null,"日報",null,null,"中央紙"]
[null,"販売店名",null,null,"取扱い紙",null,null,"朝刊＋くるみる",null,null,"配布数",null,null,"朝刊扱数",null,null,"配布数",null,null,"朝刊数",null,null,"くるみる数",null,null,"部数",null,null,"配布数",null,null,"部数",null,null,"配布数",null,null,null,null,null,null,null,null,null,null,null,null,null,null,"販売店名",null,null,"取扱い紙",null,"部数",null,null,"配布数",null,null,null,null,null,null,null,null,null,null,null,null,null,null,"販売店名","E","朝刊1","朝刊２","部","指示","部","部","部",null,"販売店名","E","部","指示",null,"朝刊","くるみる",null,"朝刊"]
["小千谷市","小千谷中央",null,null,"新アマサ日",null,null,null,null,null,null,null,null,{"$f":"IFERROR(VLOOKUP($CJ9,・!$H$3:$I$700,2,FALSE),\"\")","v":3730},null,null,null,null,null,null,null,null,null,null,null,null,null,null,null,null,null,null,null,null,null,null,null,null,null,null,null,null,null,null,null,null,null,null,null,"小千谷",null,null,"ヨ",null,{"$f":"IFERROR(VLOOKUP($CM9,・!$H$3:$I$700,2,FALSE),\"\")","v":1280},null,null,null,null,null,null,null,null,null,null,null,null,null,null,null,null,null,"小千谷中央",40151,{"$f":"Q9","v":0},{"$f":"W9","v":0},{"$f":"SUM(BW9:BX9)","v":0},{"$f":"AL9","v":0},null,null,null,null,"小千谷",240153,{"$f":"BF9","v":0},{"$f":"BI9","v":0},null,401511,401513,null,2401531]
[null,"小千谷東",null,null,"新アマサ日",null,null,null,null,null,null,null,null,{"$f":"IFERROR(VLOOKUP($CJ10,・!$H$3:$I$700,2,FALSE),\"\")","v":1450},null,null,null,null,null,null,null,null,null,null,null,null,null,null,null,null,null,null,null,null,null,null,null,null,null,null,null,null,null,null,null,null,null,null,null,null,null,null,null,null,null,null,null,null,null,null,null,null,null,null,null,null,null,null,null,null,null,null,"小千谷東",40152,{"$f":"Q10","v":0},{"$f":"W10","v":0},{"$f":"SUM(BW10:BX10)","v":0},{"$f":"AL10","v":0},null,null,null,null,null,null,{"$f":"BF10","v":0},{"$f":"BI10","v":0},null,401521,401523]
[null,"片貝",null,null,"合",null,null,null,null,null,null,null,null,{"$f":"IFERROR(VLOOKUP($CJ11,・!$H$3:$I$700,2,FALSE),\"\")","v":1440},null,null,null,null,null,null,null,null,null,null,null,null,null,null,null,null,null,null,null,null,null,null,null,null,null,null,null,null,null,null,null,null,null,null,null,null,null,null,null,null,null,null,null,null,null,null,null,null,null,null,null,null,null,null,null,null,null,null,"片貝",40154,0,0,0,0,null,null,null,null,null,null,0,0,null,401541,401543]
[null,"岩沢",null,null,"合",null,null,null,null,null,null,null,null,{"$f":"IFERROR(VLOOKUP($CJ12,・!$H$3:$I$700,2,FALSE),\"\")","v":630},null,null,null,null,null,null,null,null,null,null,null,null,null,null,null,null,null,null,null,null,null,null,null,null,null,null,null,null,null,null,null,null,null,null,null,null,null,null,null,null,null,null,null,null,null,null,null,null,null,null,null,null,null,null,null,null,null,null,"岩沢",40155,0,0,0,0,null,null,null,null,null,null,0,0,null,401551,401553]
[null,"050","小計",null,{"$f":"Q13+T13+W13+BF13","v":0},null,null,null,null,null,null,null,null,{"$f":"SUM(N9:P12)","v":7250},null,null,{"$f":"SUM(Q9:S12)","v":0},null,null,null,null,null,null,null,null,null,null,null,null,null,null,null,null,null,null,null,null,null,null,null,null,null,null,null,null,null,null,null,null,"小計",null,null,null,null,{"$f":"SUM(BC9:BE12)","v":1280},null,null,{"$f":"SUM(BF9:BH12)","v":0},null,null,null,null,null,null,null,null,null,null,null,null,null,null,{"$f":"SUM(BY13,CA13:CC13,CG13)","v":0},null,{"$f":"SUM(BW9:BW12)","v":0},{"$f":"SUM(BX9:BX12)","v":0},0,null,{"$f":"SUM(CA9:CA12)","v":0},0,0,null,null,null,{"$f":"SUM(CG9:CG12)","v":0}]
["十日町市","十日町西部",null,null,"新アマサ日",null,null,null,null,null,null,null,null,{"$f":"IFERROR(VLOOKUP($CJ14,・!$H$3:$I$700,2,FALSE),\"\")","v":2750},null,null,null,null,null,null,null,null,null,null,null,null,null,null,null,null,null,null,null,null,null,null,null,null,null,null,null,null,null,null,null,null,null,null,null,"十日町",null,null,"ヨ日",null,{"$f":"IFERROR(VLOOKUP($CM14,・!$H$3:$I$700,2,FALSE),\"\")","v":1450},null,null,null,null,null,null,null,null,null,null,null,null,null,null,null,null,null,"十日町西部",40156,0,0,0,0,null,null,null,null,"十日町",240159,0,0,null,401561,401563,null,2401591]
[null,"十日町東部",null,null,"新アマサ日",null,null,null,null,null,null,null,null,{"$f":"IFERROR(VLOOKUP($CJ15,・!$H$3:$I$700,2,FALSE),\"\")","v":1100},null,null,null,null,null,null,null,null,null,null,null,null,null,null,null,null,null,null,null,null,null,null,null,null,null,null,null,null,null,null,null,null,null,null,null,null,null,null,null,null,null,null,null,null,null,null,null,null,null,null,null,null,null,null,null,null,null,null,"十日町東部",40157,0,0,0,0,null,null,null,null,null,null,0,0,null,401571,401573]
[null,"下条",null,null,"合",null,null,null,null,null,null,null,null,{"$f":"IFERROR(VLOOKUP($CJ16,・!$H$3:$I$700,2,FALSE),\"\")","v":1030},null,null,null,null,null,null,null,null,null,null,null,null,null,null,null,null,null,null,null,null,null,null,null,null,null,null,null,null,null,null,null,null,null,null,null,null,null,null,null,null,null,null,null,null,null,null,null,null,null,null,null,null,null,null,null,null,null,null,"下条",40162,0,0,0,0,null,null,null,null,null,null,0,0,null,401621,401623]
[null,"魚沼中条",null,null,"合",null,null,null,null,null,null,null,null,{"$f":"IFERROR(VLOOKUP($CJ17,・!$H$3:$I$700,2,FALSE),\"\")","v":870},null,null,null,null,null,null,null,null,null,null,null,null,null,null,null,null,null,null,null,null,null,null,null,null,null,null,null,null,null,null,null,null,null,null,null,null,null,null,null,null,null,null,null,null,null,null,null,null,null,null,null,null,null,null,null,null,null,null,"魚沼中条",40163,0,0,0,0,null,null,null,null,null,null,0,0,null,401631,401633]
[null,"水沢",null,null,"合",null,null,null,null,null,null,null,null,{"$f":"IFERROR(VLOOKUP($CJ18,・!$H$3:$I$700,2,FALSE),\"\")","v":710},null,null,null,null,null,null,null,null,null,null,null,null,null,null,null,null,null,null,null,null,null,null,null,null,null,null,null,null,null,null,null,null,null,null,null,null,null,null,null,null,null,null,null,null,null,null,null,null,null,null,null,null,null,null,null,null,null,null,"水沢",40164,0,0,0,0,null,null,null,null,null,null,0,0,null,401641,401643]
[null,"伊達",null,null,"合",null,null,null,null,null,null,null,null,{"$f":"IFERROR(VLOOKUP($CJ19,・!$H$3:$I$700,2,FALSE),\"\")","v":320},null,null,null,null,null,null,null,null,null,null,null,null,null,null,null,null,null,null,null,null,null,null,null,null,null,null,null,null,null,null,null,null,null,null,null,null,null,null,null,null,null,null,null,null,null,null,null,null,null,null,null,null,null,null,null,null,null,null,"伊達",40165,0,0,0,0,null,null,null,null,null,null,0,0,null,401651,401653]
[null,"060","小計",null,{"$f":"Q20+T20+W20+BF20","v":0},null,null,null,null,null,null,null,null,{"$f":"SUM(N14:P19)","v":6780},null,null,{"$f":"SUM(Q14:S19)","v":0},null,null,null,null,null,null,null,null,null,null,null,null,null,null,null,null,null,null,null,null,null,null,null,null,null,null,null,null,null,null,null,null,"小計",null,null,null,null,{"$f":"SUM(BC14:BE19)","v":1450},null,null,{"$f":"SUM(BF14:BH19)","v":0},null,null,null,null,null,null,null,null,null,null,null,null,null,null,{"$f":"SUM(BY20,CA20:CC20,CG20)","v":0},null,{"$f":"SUM(BW14:BW19)","v":0},{"$f":"SUM(BX14:BX19)","v":0},0,null,{"$f":"SUM(CA14:CA19)","v":0},0,0,null,null,null,{"$f":"SUM(CG14:CG19)","v":0}]
["旧北魚沼郡","川口",null,null,"合",null,null,null,null,null,null,null,null,{"$f":"IFERROR(VLOOKUP($CJ21,・!$H$3:$I$700,2,FALSE),\"\")","v":1050},null,null,null,null,null,null,null,null,null,null,null,null,null,null,null,null,null,null,null,null,null,null,null,null,null,null,null,null,null,null,null,null,null,null,null,"小出",null,null,"ヨ",null,{"$f":"IFERROR(VLOOKUP($CM21,・!$H$3:$I$700,2,FALSE),\"\")","v":1260},null,null,null,null,null,null,null,null,null,null,null,null,null,null,null,null,null,"川口",40166,0,0,0,0,null,null,null,null,"小出",240170,0,0,null,401661,401663,null,2401701]
[null,"堀之内",null,null,"合",null,null,null,null,null,null,null,null,{"$f":"IFERROR(VLOOKUP($CJ22,・!$H$3:$I$700,2,FALSE),\"\")","v":1720},null,null,null,null,null,null,null,null,null,null,null,null,null,null,null,null,null,null,null,null,null,null,null,null,null,null,null,null,null,null,null,null,null,null,null,null,null,null,null,null,null,null,null,null,null,null,null,null,null,null,null,null,null,null,null,null,null,null,"堀之内",40167,0,0,0,0,null,null,null,null,null,null,0,0,null,401671,401673]
[null,"小出",null,null,"新アマサ日",null,null,null,null,null,null,null,null,{"$f":"IFERROR(VLOOKUP($CJ23,・!$H$3:$I$700,2,FALSE),\"\")","v":4320},null,null,null,null,null,null,null,null,null,null,null,null,null,null,null,null,null,null,null,null,null,null,null,null,null,null,null,null,null,null,null,null,null,null,null,null,null,null,null,null,null,null,null,null,null,null,null,null,null,null,null,null,null,null,null,null,null,null,"小出",40168,0,0,0,0,null,null,null,null,null,null,0,0,null,401681,401683]
[null,"魚沼北",null,null,"合",null,null,null,null,null,null,null,null,{"$f":"IFERROR(VLOOKUP($CJ24,・!$H$3:$I$700,2,FALSE),\"\")","v":1980},null,null,null,null,null,null,null,null,null,null,null,null,null,null,null,null,null,null,null,null,null,null,null,null,null,null,null,null,null,null,null,null,null,null,null,null,null,null,null,null,null,null,null,null,null,null,null,null,null,null,null,null,null,null,null,null,null,null,"魚沼北",40172,0,0,0,0,null,null,null,null,null,null,0,0,null,401721,401723]
[null,"070","小計",null,{"$f":"Q25+T25+W25+BF25","v":0},null,null,null,null,null,null,null,null,{"$f":"SUM(N21:P24)","v":9070},null,null,{"$f":"SUM(Q21:S24)","v":0},null,null,null,null,null,null,null,null,null,null,null,null,null,null,null,null,null,null,null,null,null,null,null,null,null,null,null,null,null,null,null,null,"小計",null,null,null,null,{"$f":"SUM(BC21:BE24)","v":1260},null,null,{"$f":"SUM(BF21:BH24)","v":0},null,null,null,null,null,null,null,null,null,null,null,null,null,null,{"$f":"SUM(BY25,CA25:CC25,CG25)","v":0},null,{"$f":"SUM(BW21:BW24)","v":0},{"$f":"SUM(BX21:BX24)","v":0},0,null,{"$f":"SUM(CA21:CA24)","v":0},0,0,null,null,null,{"$f":"SUM(CG21:CG24)","v":0}]
["旧南魚沼郡","浦佐",null,null,"合",null,null,null,null,null,null,null,null,{"$f":"IFERROR(VLOOKUP($CJ26,・!$H$3:$I$700,2,FALSE),\"\")","v":1490},null,null,null,null,null,null,null,null,null,null,null,null,null,null,null,null,null,null,null,null,null,null,null,null,null,null,null,null,null,null,null,null,null,null,null,"六日町",null,null,"ヨ",null,{"$f":"IFERROR(VLOOKUP($CM26,・!$H$3:$I$700,2,FALSE),\"\")","v":1750},null,null,null,null,null,null,null,null,null,null,null,null,null,null,null,null,null,"浦佐",40176,0,0,0,0,null,null,null,null,"六日町",240183,0,0,null,401761,401763,null,2401831]
[null,"大崎",null,null,"合",null,null,null,null,null,null,null,null,{"$f":"IFERROR(VLOOKUP($CJ27,・!$H$3:$I$700,2,FALSE),\"\")","v":620},null,null,null,null,null,null,null,null,null,null,null,null,null,null,null,null,null,null,null,null,null,null,null,null,null,null,null,null,null,null,null,null,null,null,null,"塩沢石打",null,null,"ヨ",null,{"$f":"IFERROR(VLOOKUP($CM27,・!$H$3:$I$700,2,FALSE),\"\")","v":1400},null,null,null,null,null,null,null,null,null,null,null,null,null,null,null,null,null,"大崎",40178,0,0,0,0,null,null,null,null,"塩沢石打",240185,0,0,null,401781,401783,null,2401851]
[null,"五日町",null,null,"合",null,null,null,null,null,null,null,null,{"$f":"IFERROR(VLOOKUP($CJ28,・!$H$3:$I$700,2,FALSE),\"\")","v":980},null,null,null,null,null,null,null,null,null,null,null,null,null,null,null,null,null,null,null,null,null,null,null,null,null,null,null,null,null,null,null,null,null,null,null,"湯沢",null,null,"ヨ",null,{"$f":"IFERROR(VLOOKUP($CM28,・!$H$3:$I$700,2,FALSE),\"\")","v":700},null,null,null,null,null,null,null,null,null,null,null,null,null,null,null,null,null,"五日町",40179,0,0,0,0,null,null,null,null,"湯沢",240190,0,0,null,401791,401793,null,2401901]
[null,"城内",null,null,"合",null,null,null,null,null,null,null,null,{"$f":"IFERROR(VLOOKUP($CJ29,・!$H$3:$I$700,2,FALSE),\"\")","v":850},null,null,null,null,null,null,null,null,null,null,null,null,null,null,null,null,null,null,null,null,null,null,null,null,null,null,null,null,null,null,null,null,null,null,null,null,null,null,null,null,null,null,null,null,null,null,null,null,null,null,null,null,null,null,null,null,null,null,"城内",40180,0,0,0,0,null,null,null,null,null,null,0,0,null,401801,401803]
[null,"六日町",null,null,"新アマサ日",null,null,null,null,null,null,null,null,{"$f":"IFERROR(VLOOKUP($CJ30,・!$H$3:$I$700,2,FALSE),\"\")","v":2600},null,null,null,null,null,null,null,null,null,null,null,null,null,null,null,null,null,null,null,null,null,null,null,null,null,null,null,null,null,null,null,null,null,null,null,null,null,null,null,null,null,null,null,null,null,null,null,null,null,null,null,null,null,null,null,null,null,null,"六日町",40181,0,0,0,0,null,null,null,null,null,null,0,0,null,401811,401813]
[null,"塩沢",null,null,"新アマサ日",null,null,null,null,null,null,null,null,{"$f":"IFERROR(VLOOKUP($CJ31,・!$H$3:$I$700,2,FALSE),\"\")","v":1890},null,null,null,null,null,null,null,null,null,null,null,null,null,null,null,null,null,null,null,null,null,null,null,null,null,null,null,null,null,null,null,null,null,null,null,null,null,null,null,null,null,null,null,null,null,null,null,null,null,null,null,null,null,null,null,null,null,null,"塩沢",40184,{"$f":"Q31","v":0},0,0,0,null,null,null,null,null,null,0,0,null,401841,401843]
[null,"上田",null,null,"合",null,null,null,null,null,null,null,null,{"$f":"IFERROR(VLOOKUP($CJ32,・!$H$3:$I$700,2,FALSE),\"\")","v":610},null,null,null,null,null,null,null,null,null,null,null,null,null,null,null,null,null,null,null,null,null,null,null,null,null,null,null,null,null,null,null,null,null,null,null,null,null,null,null,null,null,null,null,null,null,null,null,null,null,null,null,null,null,null,null,null,null,null,"上田",40186,0,0,0,0,null,null,null,null,null,null,0,0,null,401861,401863]
[null,"湯沢",null,null,"新アマサ日",null,null,null,null,null,null,null,null,{"$f":"IFERROR(VLOOKUP($CJ33,・!$H$3:$I$700,2,FALSE),\"\")","v":1450},null,null,null,null,null,null,null,null,null,null,null,null,null,null,null,null,null,null,null,null,null,null,null,null,null,null,null,null,null,null,null,null,null,null,null,null,null,null,null,null,null,null,null,null,null,null,null,null,null,null,null,null,null,null,null,null,null,null,"湯沢",40189,0,0,0,0,null,null,null,null,null,null,0,0,null,401891,401893]
[null,"080","小計",null,{"$f":"Q34+T34+W34+BF34","v":0},null,null,null,null,null,null,null,null,{"$f":"SUM(N26:P33)","v":10490},null,null,{"$f":"SUM(Q26:S33)","v":0},null,null,null,null,null,null,null,null,null,null,null,null,null,null,null,null,null,null,null,null,null,null,null,null,null,null,null,null,null,null,null,null,"小計",null,null,null,null,{"$f":"SUM(BC26:BE33)","v":3850},null,null,{"$f":"SUM(BF26:BH33)","v":0},null,null,null,null,null,null,null,null,null,null,null,null,null,null,{"$f":"SUM(BY34,CA34:CC34,CG34)","v":0},null,{"$f":"SUM(BW26:BW33)","v":0},{"$f":"SUM(BX26:BX33)","v":0},{"$f":"SUM(BY26:BY33)","v":0},null,{"$f":"SUM(CA26:CA33)","v":0},{"$f":"SUM(CB26:CB33)","v":0},{"$f":"SUM(CC26:CC33)","v":0},null,null,null,{"$f":"SUM(CG26:CG33)","v":0}]
["旧中魚沼郡","十日町川西",null,null,"合",null,null,null,null,null,null,null,null,{"$f":"IFERROR(VLOOKUP($CJ35,・!$H$3:$I$700,2,FALSE),\"\")","v":1420},null,null,null,null,null,null,null,null,null,null,null,null,null,null,null,null,null,null,null,null,null,null,null,null,null,null,null,null,null,null,null,null,null,null,null,null,null,null,null,null,null,null,null,null,null,null,null,null,null,null,null,null,null,null,null,null,null,null,"十日町川西",40192,0,0,0,0,null,null,null,null,null,null,0,0,null,401921,401923]
[null,"仙田",null,null,"合",null,null,null,null,null,null,null,null,{"$f":"IFERROR(VLOOKUP($CJ36,・!$H$3:$I$700,2,FALSE),\"\")","v":160},null,null,null,null,null,null,null,null,null,null,null,null,null,null,null,null,null,null,null,null,null,null,null,null,null,null,null,null,null,null,null,null,null,null,null,null,null,null,null,null,null,null,null,null,null,null,null,null,null,null,null,null,null,null,null,null,null,null,"仙田",40193,0,0,0,0,null,null,null,null,null,null,0,0,null,401931,401933]
[null,"田沢",null,null,"合",null,null,null,null,null,null,null,null,{"$f":"IFERROR(VLOOKUP($CJ37,・!$H$3:$I$700,2,FALSE),\"\")","v":1050},null,null,null,null,null,null,null,null,null,null,null,null,null,null,null,null,null,null,null,null,null,null,null,null,null,null,null,null,null,null,null,null,null,null,null,null,null,null,null,null,null,null,null,null,null,null,null,null,null,null,null,null,null,null,null,null,null,null,"田沢",40194,0,0,0,0,null,null,null,null,null,null,0,0,null,401941,401943]
[null,"津南",null,null,"合",null,null,null,null,null,null,null,null,{"$f":"IFERROR(VLOOKUP($CJ38,・!$H$3:$I$700,2,FALSE),\"\")","v":1700},null,null,null,null,null,null,null,null,null,null,null,null,null,null,null,null,null,null,null,null,null,null,null,null,null,null,null,null,null,null,null,null,null,null,null,null,null,null,null,null,null,null,null,null,null,null,null,null,null,null,null,null,null,null,null,null,null,null,"津南",340197,0,0,0,0,null,null,null,null,null,null,0,0,null,3401971,3401973]
[null,"上郷",null,null,"合",null,null,null,null,null,null,null,null,{"$f":"IFERROR(VLOOKUP($CJ39,・!$H$3:$I$700,2,FALSE),\"\")","v":330},null,null,null,null,null,null,null,null,null,null,null,null,null,null,null,null,null,null,null,null,null,null,null,null,null,null,null,null,null,null,null,null,null,null,null,null,null,null,null,null,null,null,null,null,null,null,null,null,null,null,null,null,null,null,null,null,null,null,"上郷",40199,0,0,0,0,null,null,null,null,null,null,0,0,null,401991,401993]
[null,"森宮野原",null,null,"合",null,null,null,null,null,null,null,null,{"$f":"IFERROR(VLOOKUP($CJ40,・!$H$3:$I$700,2,FALSE),\"\")","v":40},null,null,null,null,null,null,null,null,null,null,null,null,null,null,null,null,null,null,null,null,null,null,null,null,null,null,null,null,null,null,null,null,null,null,null,null,null,null,null,null,null,null,null,null,null,null,null,null,null,null,null,null,null,null,null,null,null,null,"森宮野原",40200,0,0,0,0,null,null,null,null,null,null,0,0,null,402001,402003]
[null,"090","小計",null,{"$f":"Q41+T41+W41+BF41","v":0},null,null,null,null,null,null,null,null,{"$f":"SUM(N35:P40)","v":4700},null,null,{"$f":"SUM(Q35:S40)","v":0},null,null,null,null,null,null,null,null,null,null,null,null,null,null,null,null,null,null,null,null,null,null,null,null,null,null,null,null,null,null,null,null,"小計",null,null,null,null,null,null,null,null,null,null,null,null,null,null,null,null,null,null,null,null,null,null,{"$f":"SUM(BY41,CA41:CC41,CG41)","v":0},null,{"$f":"SUM(BW35:BW40)","v":0},{"$f":"SUM(BX35:BX40)","v":0},0,null,{"$f":"SUM(CA35:CA40)","v":0},0,0,null,null,null,{"$f":"SUM(CG35:CG40)","v":0}]
["合計",null,null,null,{"$f":"SUM(E41,E34,E25,E20,E13)","v":0},null,null,null,null,null,null,null,null,{"$f":"SUM(N41,N34,N25,N20,N13)","v":38290},null,null,{"$f":"SUM(Q41,Q34,Q25,Q20,Q13)","v":0},null,null,null,null,null,null,null,null,{"$f":"SUM(Z40)","v":0},null,null,null,null,null,{"$f":"SUM(AF40,AF32,AF30,AF27,AF23,AF15,AF12,AF8)","v":0},null,null,null,null,null,null,null,null,null,null,null,null,null,null,null,null,null,"合計",null,null,null,null,{"$f":"SUM(BC41,BC34,BC25,BC20,BC13)","v":7840},null,null,{"$f":"SUM(BF41,BF34,BF25,BF20,BF13)","v":0},null,null,null,null,null,null,null,null,null,null,null,null,null,null,{"$f":"SUM(BU41,BU34,BU25,BU20,BU13)","v":0},null,{"$f":"SUM(BW41,BW34,BW25,BW20,BW13)","v":0},{"$f":"SUM(BX41,BX34,BX25,BX20,BX13)","v":0},{"$f":"SUM(BY41,BY34,BY25,BY20,BY13)","v":0},null,{"$f":"SUM(CA41,CA34,CA25,CA20,CA13)","v":0},{"$f":"SUM(CB41,CB34,CB25,CB20,CB13)","v":0},{"$f":"SUM(CC41,CC34,CC25,CC20,CC13)","v":0},null,null,null,{"$f":"SUM(CG41,CG34,CG25,CG20,CG13)","v":0},null,{"$f":"SUM(BY42:CH42)","v":0}]
[null,null,null,null,null,null,null,null,null,null,null,null,null,null,null,null,null,null,null,null,null,null,null,null,null,null,null,null,null,null,null,null,null,null,null,null,null,null,null,null,null,null,null,null,null,null,null,null,null,null,null,null,null,null,null,null,null,null,null,null,null,null,null,null,null,null,null,null,null,null,null,null,null,null,null,null,{"$f":"SUM(BY42,CG42)","v":0}]

{"sheet":"上越1","index":9,"n_rows":44,"n_cols":91,"rows_kept":44,"cut":false,"hidden":false,"merged":[[42,25,42,30],[42,0,42,3],[42,22,42,24],[42,37,42,48],[42,49,42,53],[42,54,42,56],[42,57,42,59],[42,4,42,6],[42,7,42,9],[42,10,42,12],[42,13,42,15],[42,16,42,18],[42,19,42,21],[12,60,16,70],[17,60,17,70],[12,49,16,59],[25,54,25,56],[25,57,25,59],[32,19,33,24],[32,7,33,12],[29,19,29,24],[24,7,24,9],[24,10,24,12],[24,19,24,21],[24,22,24,24],[25,10,25,12],[25,19,25,21],[25,22,25,24],[23,60,23,70],[23,54,23,56],[23,57,23,59],[22,60,22,70],[18,49,21,59],[18,60,21,70],[29,49,33,59],[28,52,28,53],[17,25,17,30],[42,60,42,70],[42,31,42,36],[26,19,26,21],[26,22,26,24],[27,7,27,9],[27,10,27,12],[27,19,27,21],[27,22,27,24],[24,60,24,70],[25,13,25,15],[25,7,25,9],[25,49,25,51],[34,60,34,70],[34,54,34,56],[34,57,34,59],[25,52,25,53],[29,60,33,70],[26,60,26,70],[25,60,25,70],[28,60,28,70],[27,60,27,70],[28,54,28,56],[28,57,28,59],[28,49,28,51],[29,37,29,48],[20,16,20,18],[21,13,21,15],[34,49,34,53],[27,57,27,59],[11,31,11,36],[27,37,27,48],[26,49,26,51],[26,52,26,53],[27,54,27,56],[17,31,17,36],[26,57,26,59],[27,49,27,51],[27,52,27,53],[17,49,17,53],[17,54,17,56],[17,57,17,59],[22,49,22,53],[22,54,22,56],[22,57,22,59],[11,37,11,48],[11,49,11,53],[12,31,16,36],[11,25,11,30],[0,60,0,70],[6,60,7,70],[16,37,16,48],[15,37,15,48],[12,37,12,48],[14,37,14,48],[13,37,13,48],[30,37,30,48],[2,56,2,62],[2,63,2,70],[7,52,7,53],[8,52,8,53],[26,54,26,56],[24,37,24,48],[24,49,24,51],[24,52,24,53],[24,54,24,56],[24,57,24,59],[11,60,11,70],[23,37,23,48],[23,49,23,51],[23,52,23,53],[26,37,26,48],[25,37,25,48],[1,0,1,11],[1,12,1,28],[1,29,1,33],[1,34,1,48],[6,1,6,24],[6,25,6,30],[6,31,6,36],[6,37,7,48],[6,49,6,59],[7,1,7,3],[7,4,7,6],[2,34,4,48],[3,0,3,11],[3,12,3,28],[7,54,7,56],[7,57,7,59],[7,7,7,9],[7,10,7,12],[7,13,7,15],[7,16,7,18],[7,19,7,21],[3,56,3,62],[4,49,4,55],[4,56,4,62],[0,22,0,23],[1,63,1,70],[2,29,2,33],[3,29,3,33],[4,29,4,33],[1,56,1,62],[11,54,11,56],[11,57,11,59],[7,22,7,24],[2,27,2,28],[4,12,4,26],[2,12,2,26],[3,63,3,70],[4,63,4,70],[8,60,8,70],[8,57,8,59],[9,57,9,59],[9,60,9,70],[10,60,10,70],[1,49,1,55],[2,49,2,55],[3,49,3,55],[7,25,7,27],[10,49,10,59],[9,52,9,53],[9,37,9,48],[7,28,7,30],[7,31,7,33],[7,34,7,36],[7,49,7,51],[8,37,8,48],[8,49,8,51],[8,54,8,56],[8,31,10,36],[9,54,9,56],[9,49,9,51],[10,37,10,48],[12,25,16,30],[12,19,16,24],[14,4,14,6],[14,13,14,15],[14,16,14,18],[16,13,16,15],[16,16,16,18],[8,25,10,30],[16,4,16,6],[8,4,8,6],[8,19,8,24],[8,7,8,12],[9,19,9,21],[9,22,9,24],[12,7,16,12],[11,2,11,3],[8,13,8,15],[8,16,8,18],[11,19,11,21],[11,22,11,24],[11,10,11,12],[11,13,11,15],[11,16,11,18],[10,19,10,24],[9,1,9,3],[9,4,9,6],[9,7,9,9],[9,10,9,12],[9,13,9,15],[9,16,9,18],[10,1,10,3],[8,1,8,3],[10,4,10,6],[10,13,10,15],[10,16,10,18],[11,7,11,9],[10,7,10,12],[11,4,11,6],[12,1,12,3],[12,4,12,6],[12,13,12,15],[12,16,12,18],[15,1,15,3],[15,4,15,6],[15,13,15,15],[15,16,15,18],[13,16,13,18],[13,1,13,3],[13,4,13,6],[13,13,13,15],[14,1,14,3],[30,19,30,21],[30,22,30,24],[26,1,26,3],[26,4,26,6],[26,13,26,15],[26,16,26,18],[27,1,27,3],[27,4,27,6],[27,13,27,15],[27,16,27,18],[30,10,30,12],[28,16,28,18],[30,7,30,9],[28,13,28,15],[26,7,26,9],[28,19,28,21],[28,22,28,24],[30,13,30,15],[30,16,30,18],[29,13,29,15],[29,16,29,18],[16,1,16,3],[23,7,23,9],[23,10,23,12],[23,1,23,3],[21,4,21,6],[18,7,21,12],[18,1,18,3],[18,4,18,6],[28,37,28,48],[17,13,17,15],[17,16,17,18],[23,13,23,15],[23,16,23,18],[18,37,18,48],[17,37,17,48],[20,37,20,48],[21,37,21,48],[23,25,33,30],[24,13,24,15],[24,16,24,18],[23,19,23,21],[23,22,23,24],[23,31,33,36],[25,16,25,18],[36,13,36,15],[6,82,6,85],[4,27,4,28],[6,72,6,77],[19,1,19,3],[19,4,19,6],[19,13,19,15],[19,16,19,18],[22,13,22,15],[22,16,22,18],[22,31,22,36],[22,25,22,30],[18,31,21,36],[18,25,21,30],[22,37,22,48],[19,37,19,48],[4,0,4,11],[17,2,17,3],[22,2,22,3],[21,1,21,3],[18,16,18,18],[20,1,20,3],[20,4,20,6],[20,13,20,15],[35,7,40,12],[21,16,21,18],[28,1,28,3],[28,4,28,6],[2,0,2,11],[8,0,17,0],[6,0,7,0],[37,13,37,15],[18,0,22,0],[35,0,41,0],[38,1,38,3],[17,4,17,6],[22,4,22,6],[34,4,34,6],[41,4,41,6],[33,1,33,3],[37,4,37,6],[23,4,23,6],[37,1,37,3],[36,1,36,3],[36,4,36,6],[38,4,38,6],[35,1,35,3],[35,4,35,6],[35,19,40,24],[35,31,40,36],[35,25,40,30],[40,13,40,15],[40,16,40,18],[39,13,39,15],[41,2,41,3],[24,0,34,0],[40,1,40,3],[40,4,40,6],[39,1,39,3],[39,4,39,6],[31,4,31,6],[29,1,29,3],[29,4,29,6],[32,1,32,3],[32,4,32,6],[30,4,30,6],[24,1,24,3],[24,4,24,6],[25,1,25,3],[25,4,25,6],[30,1,30,3],[26,10,26,12],[34,2,34,3],[32,37,32,48],[32,13,32,15],[32,16,32,18],[31,37,31,48],[34,25,34,30],[31,7,31,9],[34,31,34,36],[34,37,34,48],[34,19,34,21],[34,22,34,24],[33,37,33,48],[33,16,33,18],[31,10,31,12],[31,19,31,21],[31,22,31,24],[33,13,33,15],[33,4,33,6],[31,1,31,3],[41,60,41,70],[41,37,41,48],[41,13,41,15],[41,16,41,18],[41,31,41,36],[41,25,41,30],[39,37,39,48],[40,37,40,48],[35,60,40,70],[35,49,40,59],[36,37,36,48],[36,16,36,18],[35,37,35,48],[35,16,35,18],[38,37,38,48],[35,13,35,15],[39,16,39,18],[37,16,37,18],[38,13,38,15],[38,16,38,18],[41,49,41,53],[41,54,41,56],[41,57,41,59],[37,37,37,48],[6,87,6,88],[17,10,17,12],[17,7,17,9],[22,7,22,9],[22,10,22,12],[41,7,41,9],[41,10,41,12],[17,19,17,21],[17,22,17,24],[22,19,22,21],[22,22,22,24],[41,19,41,21],[41,22,41,24],[18,19,21,24],[28,7,28,9],[28,10,28,12],[29,7,29,12],[18,13,18,15],[34,7,34,9],[34,10,34,12],[34,13,34,15],[34,16,34,18],[31,13,31,15],[31,16,31,18]]}
[null,null,null,null,null,null,null,null,null,null,null,null,null,null,null,null,null,null,null,null,null,null,null,null,null,null,null,null,null,null,null,null,null,null,null,null,null,null,null,null,null,null,null,null,null,null,null,null,null,null,null,null,null,null,null,null,null,null,null,null,{"$f":"新潟市!BI1","v":"２０２３年１２月１日 現在"}]
["折込日",null,null,null,null,null,null,null,null,null,null,null,"スポンサー名",null,null,null,null,null,null,null,null,null,null,null,null,null,null,null,null,"サイズ",null,null,null,null,"チラシ内容・タイトル詳細",null,null,null,null,null,null,null,null,null,null,null,null,null,null,"朝刊　小計",null,null,null,null,null,null,"Otona＋　小計",null,null,null,null,null,null,"ページ枚数"]
[{"$f":"新潟市!A3","v":"2023/--/--"},null,null,null,null,null,null,null,null,null,null,null,{"$f":"新潟市!M3","v":0},null,null,null,null,null,null,null,null,null,null,null,null,null,null,"様",null,{"$f":"新潟市!AD3","v":0},null,null,null,null,{"$f":"新潟市!AI3","v":0},null,null,null,null,null,null,null,null,null,null,null,null,null,null,{"$f":"BY43+CG43","v":0},null,null,null,null,null,null,null,null,null,null,null,null,null,{"$f":"SUM(AX3,BE3,AX5,BE5)","v":0}]
["assh　ポスティング日",null,null,null,null,null,null,null,null,null,null,null,"ご請求先名",null,null,null,null,null,null,null,null,null,null,null,null,null,null,null,null,"ガタチラ 掲載",null,null,null,null,null,null,null,null,null,null,null,null,null,null,null,null,null,null,null,"くるみる　小計",null,null,null,null,null,null,"assh　小計",null,null,null,null,null,null,"総枚数"]
[{"$f":"新潟市!A5","v":"2023/--/--"},null,null,null,null,null,null,null,null,null,null,null,{"$f":"新潟市!M5","v":0},null,null,null,null,null,null,null,null,null,null,null,null,null,null,"様",null,{"$f":"新潟市!AD5","v":0},null,null,null,null,null,null,null,null,null,null,null,null,null,null,null,null,null,null,null,{"$f":"CA43","v":0},null,null,null,null,null,null,null,null,null,null,null,null,null,{"$f":"新潟市!BL5","v":0}]
[]
["04","新潟日報　",null,null,null,null,null,null,null,null,null,null,null,null,null,null,null,null,null,null,null,null,null,null,null,"ポスティング",null,null,null,null,null,"Otona+",null,null,null,null,null,"備考",null,null,null,null,null,null,null,null,null,null,null,"中央紙",null,null,null,null,null,null,null,null,null,null,"備考",null,null,null,null,null,null,null,null,null,null,null,"朝刊",null,null,null,null,null,"くるみる","assh","otona",null,"中央紙　朝刊",null,null,null,null,"日報",null,null,"中央紙"]
[null,"販売店名",null,null,"取扱い紙",null,null,"朝刊＋くるみる",null,null,"配布数",null,null,"朝刊扱数",null,null,"配布数",null,null,"朝刊数",null,null,"くるみる数",null,null,"部数",null,null,"配布数",null,null,"部数",null,null,"配布数",null,null,null,null,null,null,null,null,null,null,null,null,null,null,"販売店名",null,null,"取扱い紙",null,"部数",null,null,"配布数",null,null,null,null,null,null,null,null,null,null,null,null,null,null,"販売店名","E","朝刊1","朝刊２","部","指示","部","部","部",null,"販売店名","E","部","指示",null,"朝刊","くるみる",null,"朝刊"]
["柏崎市","柏崎中央",null,null,"新アマサ日",null,null,null,null,null,null,null,null,{"$f":"IFERROR(VLOOKUP($CJ9,・!$H$3:$I$700,2,FALSE),\"\")","v":2180},null,null,null,null,null,null,null,null,null,null,null,null,null,null,null,null,null,null,null,null,null,null,null,null,null,null,null,null,null,null,null,null,null,null,null,"柏崎西部",null,null,"ヨ",null,{"$f":"IFERROR(VLOOKUP($CM9,・!$H$3:$I$700,2,FALSE),\"\")","v":2280},null,null,null,null,null,null,null,null,null,null,null,null,null,null,null,null,null,"柏崎中央",40229,{"$f":"Q9","v":0},{"$f":"T9","v":0},{"$f":"SUM(BW9:BX9)","v":0},{"$f":"AL9","v":0},{"$f":"IF($K9>$W9,$W9,\"\")","v":""},null,null,null,"柏崎西部",240205,{"$f":"BF9","v":0},{"$f":"BI9","v":0},null,402291,402293,null,2402051]
[null,"柏崎",null,null,"新アマサ日",null,null,{"$f":"N10+W10","v":3840},null,null,null,null,null,{"$f":"IFERROR(VLOOKUP($CJ10,・!$H$3:$I$700,2,FALSE),\"\")","v":3420},null,null,null,null,null,{"$f":"IF(K10=\"\",\"\",IF(K10<=W10,K10,K10-W10))","v":""},null,null,{"$f":"IFERROR(VLOOKUP($CK10,・!$H$3:$I$700,2,FALSE),\"\")","v":420},null,null,null,null,null,null,null,null,null,null,null,null,null,null,null,null,null,null,null,null,null,null,null,null,null,null,"柏崎東部",null,null,"ヨ",null,{"$f":"IFERROR(VLOOKUP($CM10,・!$H$3:$I$700,2,FALSE),\"\")","v":2070},null,null,null,null,null,null,null,null,null,null,null,null,null,null,null,null,null,"柏崎",40202,{"$f":"Q10","v":0},{"$f":"T10","v":""},{"$f":"SUM(BW10:BX10)","v":0},{"$f":"AL10","v":0},{"$f":"IF($K10>$W10,$W10,\"\")","v":""},null,null,null,"柏崎東部",240206,{"$f":"BF10","v":0},{"$f":"BI10","v":0},null,402021,402023,null,2402061]
[null,"柏崎南",null,null,"新アマサ日",null,null,null,null,null,null,null,null,{"$f":"IFERROR(VLOOKUP($CJ11,・!$H$3:$I$700,2,FALSE),\"\")","v":2670},null,null,null,null,null,null,null,null,null,null,null,null,null,null,null,null,null,null,null,null,null,null,null,null,null,null,null,null,null,null,null,null,null,null,null,null,null,null,null,null,null,null,null,null,null,null,null,null,null,null,null,null,null,null,null,null,null,null,"柏崎南",40203,{"$f":"Q11","v":0},{"$f":"T11","v":0},{"$f":"SUM(BW11:BX11)","v":0},{"$f":"AL11","v":0},"",null,null,null,null,null,0,0,null,402031,402033]
[null,"100","小計",null,{"$f":"Q12+T12+W12+BF12","v":0},null,null,{"$f":"SUM(H10)","v":3840},null,null,{"$f":"SUM(K10)","v":0},null,null,{"$f":"SUM(N9:P11)","v":8270},null,null,{"$f":"SUM(Q9:S11)","v":0},null,null,{"$f":"SUM(T9:V11)","v":0},null,null,{"$f":"CA12","v":0},null,null,null,null,null,null,null,null,null,null,null,null,null,null,null,null,null,null,null,null,null,null,null,null,null,null,"小計",null,null,null,null,{"$f":"SUM(BC9:BE11)","v":4350},null,null,{"$f":"SUM(BF9:BH11)","v":0},null,null,null,null,null,null,null,null,null,null,null,null,null,null,{"$f":"SUM(BY12,CA12:CC12,CG12)","v":0},null,{"$f":"SUM(BW9:BW11)","v":0},{"$f":"SUM(BX9:BX11)","v":0},0,null,{"$f":"SUM(CA9:CA11)","v":0},{"$f":"SUM(CB9:CB11)","v":0},0,null,null,null,{"$f":"SUM(CG9:CG11)","v":0}]
[null,"安田",null,null,"合",null,null,null,null,null,null,null,null,{"$f":"IFERROR(VLOOKUP($CJ13,・!$H$3:$I$700,2,FALSE),\"\")","v":2300},null,null,null,null,null,null,null,null,null,null,null,null,null,null,null,null,null,null,null,null,null,null,null,null,null,null,null,null,null,null,null,null,null,null,null,null,null,null,null,null,null,null,null,null,null,null,null,null,null,null,null,null,null,null,null,null,null,null,"安田",40211,0,0,0,0,"",null,null,null,null,null,0,0,null,402111,402113]
[null,"北条",null,null,"合",null,null,null,null,null,null,null,null,{"$f":"IFERROR(VLOOKUP($CJ14,・!$H$3:$I$700,2,FALSE),\"\")","v":280},null,null,null,null,null,null,null,null,null,null,null,null,null,null,null,null,null,null,null,null,null,null,null,null,null,null,null,null,null,null,null,null,null,null,null,null,null,null,null,null,null,null,null,null,null,null,null,null,null,null,null,null,null,null,null,null,null,null,"北条",40212,0,0,0,0,"",null,null,null,null,null,0,0,null,402121,402123]
[null,"広田",null,null,"合",null,null,null,null,null,null,null,null,{"$f":"IFERROR(VLOOKUP($CJ15,・!$H$3:$I$700,2,FALSE),\"\")","v":380},null,null,null,null,null,null,null,null,null,null,null,null,null,null,null,null,null,null,null,null,null,null,null,null,null,null,null,null,null,null,null,null,null,null,null,null,null,null,null,null,null,null,null,null,null,null,null,null,null,null,null,null,null,null,null,null,null,null,"広田",40213,0,0,0,0,"",null,null,null,null,null,0,0,null,402131,402133]
[null,"米山",null,null,"合",null,null,null,null,null,null,null,null,{"$f":"IFERROR(VLOOKUP($CJ16,・!$H$3:$I$700,2,FALSE),\"\")","v":320},null,null,null,null,null,null,null,null,null,null,null,null,null,null,null,null,null,null,null,null,null,null,null,null,null,null,null,null,null,null,null,null,null,null,null,null,null,null,null,null,null,null,null,null,null,null,null,null,null,null,null,null,null,null,null,null,null,null,"米山",40228,0,0,0,0,"",null,null,null,null,null,0,0,null,402281,402283]
[null,"笠島",null,null,"合",null,null,null,null,null,null,null,null,{"$f":"IFERROR(VLOOKUP($CJ17,・!$H$3:$I$700,2,FALSE),\"\")","v":60},null,null,null,null,null,null,null,null,null,null,null,null,null,null,null,null,null,null,null,null,null,null,null,null,null,null,null,null,null,null,null,null,null,null,null,null,null,null,null,null,null,null,null,null,null,null,null,null,null,null,null,null,null,null,null,null,null,null,"笠島",40216,0,0,0,0,"",null,null,null,null,null,0,0,null,402161,402163]
[null,"110","小計",null,{"$f":"Q18+T18+W18+BF18","v":0},null,null,null,null,null,null,null,null,{"$f":"SUM(N13:P17)","v":3340},null,null,{"$f":"SUM(Q13:S17)","v":0},null,null,null,null,null,null,null,null,null,null,null,null,null,null,null,null,null,null,null,null,null,null,null,null,null,null,null,null,null,null,null,null,"小計",null,null,null,null,null,null,null,null,null,null,null,null,null,null,null,null,null,null,null,null,null,null,{"$f":"SUM(BY18,CA18:CC18,CG18)","v":0},null,{"$f":"SUM(BW13:BW17)","v":0},{"$f":"SUM(BX13:BX17)","v":0},{"$f":"SUM(BY13:BY17)","v":0},null,{"$f":"SUM(CA13:CA17)","v":0},{"$f":"SUM(CB13:CB17)","v":0},{"$f":"SUM(CC13:CC17)","v":0},null,null,null,{"$f":"SUM(CG13:CG17)","v":0}]
["旧刈羽郡","高柳",null,null,"合",null,null,null,null,null,null,null,null,{"$f":"IFERROR(VLOOKUP($CJ19,・!$H$3:$I$700,2,FALSE),\"\")","v":320},null,null,null,null,null,null,null,null,null,null,null,null,null,null,null,null,null,null,null,null,null,null,null,null,null,null,null,null,null,null,null,null,null,null,null,null,null,null,null,null,null,null,null,null,null,null,null,null,null,null,null,null,null,null,null,null,null,null,"高柳",40217,0,0,0,0,"",null,null,null,null,null,0,0,null,402171,402173]
[null,"上小国",null,null,"合",null,null,null,null,null,null,null,null,{"$f":"IFERROR(VLOOKUP($CJ20,・!$H$3:$I$700,2,FALSE),\"\")","v":830},null,null,null,null,null,null,null,null,null,null,null,null,null,null,null,null,null,null,null,null,null,null,null,null,null,null,null,null,null,null,null,null,null,null,null,null,null,null,null,null,null,null,null,null,null,null,null,null,null,null,null,null,null,null,null,null,null,null,"上小国",40219,0,0,0,0,"",null,null,null,null,null,0,0,null,402191,402193]
[null,"荒浜",null,null,"合",null,null,null,null,null,null,null,null,{"$f":"IFERROR(VLOOKUP($CJ21,・!$H$3:$I$700,2,FALSE),\"\")","v":1900},null,null,null,null,null,null,null,null,null,null,null,null,null,null,null,null,null,null,null,null,null,null,null,null,null,null,null,null,null,null,null,null,null,null,null,null,null,null,null,null,null,null,null,null,null,null,null,null,null,null,null,null,null,null,null,null,null,null,"荒浜",40220,0,0,0,0,"",null,null,null,null,null,0,0,null,402201,402203]
[null,"西山",null,null,"合",null,null,null,null,null,null,null,null,{"$f":"IFERROR(VLOOKUP($CJ22,・!$H$3:$I$700,2,FALSE),\"\")","v":1000},null,null,null,null,null,null,null,null,null,null,null,null,null,null,null,null,null,null,null,null,null,null,null,null,null,null,null,null,null,null,null,null,null,null,null,null,null,null,null,null,null,null,null,null,null,null,null,null,null,null,null,null,null,null,null,null,null,null,"西山",40221,0,0,0,0,"",null,null,null,null,null,0,0,null,402211,402213]
[null,"120","小計",null,{"$f":"Q23+T23+W23+BF23","v":0},null,null,null,null,null,null,null,null,{"$f":"SUM(N19:P22)","v":4050},null,null,{"$f":"SUM(Q19:S22)","v":0},null,null,null,null,null,null,null,null,null,null,null,null,null,null,null,null,null,null,null,null,null,null,null,null,null,null,null,null,null,null,null,null,"小計",null,null,null,null,null,null,null,null,null,null,null,null,null,null,null,null,null,null,null,null,null,null,{"$f":"SUM(BY23,CA23:CC23,CG23)","v":0},null,{"$f":"SUM(BW19:BW22)","v":0},{"$f":"SUM(BX19:BX22)","v":0},0,null,{"$f":"SUM(CA19:CA22)","v":0},{"$f":"SUM(CB19:CB22)","v":0},0,null,null,null,{"$f":"SUM(CG19:CG22)","v":0}]
["05","高田",null,null,"新マサ日",null,null,{"$f":"N24+W24","v":2650},null,null,null,null,null,{"$f":"IFERROR(VLOOKUP($CJ24,・!$H$3:$I$700,2,FALSE),\"\")","v":2290},null,null,null,null,null,{"$f":"IF(K24=\"\",\"\",IF(K24<=W24,K24,K24-W24))","v":""},null,null,{"$f":"IFERROR(VLOOKUP($CK24,・!$H$3:$I$700,2,FALSE),\"\")","v":360},null,null,null,null,null,null,null,null,null,null,null,null,null,null,null,null,null,null,null,null,null,null,null,null,null,null,"高田",null,null,"ア",null,{"$f":"IFERROR(VLOOKUP($CM24,・!$H$3:$I$700,2,FALSE),\"\")","v":2400},null,null,null,null,null,null,null,null,null,null,null,null,null,null,null,null,null,"高田",50101,0,"",0,0,"",null,null,null,"高田",50104,0,0,null,501011,501013,null,501041]
["上越市","高田南",null,null,"新マサ日",null,null,2650,null,null,null,null,null,{"$f":"IFERROR(VLOOKUP($CJ25,・!$H$3:$I$700,2,FALSE),\"\")","v":2350},null,null,null,null,null,{"$f":"IF(K25=\"\",\"\",IF(K25<=W25,K25,K25-W25))","v":""},null,null,{"$f":"IFERROR(VLOOKUP($CK25,・!$H$3:$I$700,2,FALSE),\"\")","v":300},null,null,null,null,null,null,null,null,null,null,null,null,null,null,null,null,null,null,null,null,null,null,null,null,null,null,"高田",null,null,"ヨ",null,{"$f":"IFERROR(VLOOKUP($CM25,・!$H$3:$I$700,2,FALSE),\"\")","v":3250},null,null,null,null,null,null,null,null,null,null,null,null,null,null,null,null,null,"高田南",50102,0,"",0,0,"",null,null,null,"高田",250105,0,0,null,501021,501023,null,2501051]
[null,"木田",null,null,"新マサ日",null,null,1620,null,null,null,null,null,{"$f":"IFERROR(VLOOKUP($CJ26,・!$H$3:$I$700,2,FALSE),\"\")","v":1550},null,null,null,null,null,"",null,null,{"$f":"IFERROR(VLOOKUP($CK26,・!$H$3:$I$700,2,FALSE),\"\")","v":70},null,null,null,null,null,null,null,null,null,null,null,null,null,null,null,null,null,null,null,null,null,null,null,null,null,null,"上越中央",null,null,"ヨ",null,{"$f":"IFERROR(VLOOKUP($CM26,・!$H$3:$I$700,2,FALSE),\"\")","v":2230},null,null,null,null,null,null,null,null,null,null,null,null,null,null,null,null,null,"木田",50103,0,"",0,0,"",null,null,null,"上越中央",250107,0,0,null,501031,501033,null,2501071]
[null,"春日山",null,null,"新マサ日",null,null,2590,null,null,null,null,null,{"$f":"IFERROR(VLOOKUP($CJ27,・!$H$3:$I$700,2,FALSE),\"\")","v":2440},null,null,null,null,null,"",null,null,{"$f":"IFERROR(VLOOKUP($CK27,・!$H$3:$I$700,2,FALSE),\"\")","v":150},null,null,null,null,null,null,null,null,null,null,null,null,null,null,null,null,null,null,null,null,null,null,null,null,null,null,"脇野田",null,null,"ヨ",null,{"$f":"IFERROR(VLOOKUP($CM27,・!$H$3:$I$700,2,FALSE),\"\")","v":390},null,null,null,null,null,null,null,null,null,null,null,null,null,null,null,null,null,"春日山",50106,0,"",0,0,"",null,null,null,"脇野田",250106,0,0,null,501061,501063,null,2501061]
[null,"脇野田",null,null,"新アマサ日",null,null,1880,null,null,null,null,null,{"$f":"IFERROR(VLOOKUP($CJ28,・!$H$3:$I$700,2,FALSE),\"\")","v":1680},null,null,null,null,null,"",null,null,{"$f":"IFERROR(VLOOKUP($CK28,・!$H$3:$I$700,2,FALSE),\"\")","v":200},null,null,null,null,null,null,null,null,null,null,null,null,null,null,null,null,null,null,null,null,null,null,null,null,null,null,"直江津",null,null,"ヨ",null,{"$f":"IFERROR(VLOOKUP($CM28,・!$H$3:$I$700,2,FALSE),\"\")","v":3880},null,null,null,null,null,null,null,null,null,null,null,null,null,null,null,null,null,"脇野田",50108,0,"",0,0,"",null,null,null,"直江津",250115,0,0,null,501081,501083,null,2501151]
[null,"上越東",null,null,"合",null,null,2990,null,null,null,null,null,{"$f":"IFERROR(VLOOKUP($CJ29,・!$H$3:$I$700,2,FALSE),\"\")","v":2980},null,null,null,null,null,"",null,null,{"$f":"IFERROR(VLOOKUP($CK29,・!$H$3:$I$700,2,FALSE),\"\")","v":10},null,null,null,null,null,null,null,null,null,null,null,null,null,null,null,null,null,null,null,null,null,null,null,null,null,null,"直江津",null,null,"ア",null,{"$f":"IFERROR(VLOOKUP($CM29,・!$H$3:$I$700,2,FALSE),\"\")","v":1700},null,null,null,null,null,null,null,null,null,null,null,null,null,null,null,null,null,"上越東",50109,0,"",0,0,"",null,null,null,"直江津",50116,0,0,null,501091,501093,null,501161]
[null,"上越三和",null,null,"合",null,null,null,null,null,null,null,null,{"$f":"IFERROR(VLOOKUP($CJ30,・!$H$3:$I$700,2,FALSE),\"\")","v":1550},null,null,null,null,null,null,null,null,null,null,null,null,null,null,null,null,null,null,null,null,null,null,null,null,null,null,null,null,null,null,null,null,null,null,null,null,null,null,null,null,null,null,null,null,null,null,null,null,null,null,null,null,null,null,null,null,null,null,"上越三和",50112,0,0,0,0,"",null,null,null,null,null,0,0,null,501121,501123]
[null,"直江津",null,null,"新マサ日",null,null,{"$f":"N31+W31","v":2490},null,null,null,null,null,{"$f":"IFERROR(VLOOKUP($CJ31,・!$H$3:$I$700,2,FALSE),\"\")","v":2340},null,null,null,null,null,{"$f":"IF(K31=\"\",\"\",IF(K31<=W31,K31,K31-W31))","v":""},null,null,{"$f":"IFERROR(VLOOKUP($CK31,・!$H$3:$I$700,2,FALSE),\"\")","v":150},null,null,null,null,null,null,null,null,null,null,null,null,null,null,null,null,null,null,null,null,null,null,null,null,null,null,null,null,null,null,null,null,null,null,null,null,null,null,null,null,null,null,null,null,null,null,null,null,null,"直江津",50113,0,"",0,0,"",null,null,null,null,null,0,0,null,501131,501133]
[null,"直江津東",null,null,"新マサ日",null,null,{"$f":"N32+W32","v":2690},null,null,null,null,null,{"$f":"IFERROR(VLOOKUP($CJ32,・!$H$3:$I$700,2,FALSE),\"\")","v":2600},null,null,null,null,null,{"$f":"IF(K32=\"\",\"\",IF(K32<=W32,K32,K32-W32))","v":""},null,null,{"$f":"IFERROR(VLOOKUP($CK32,・!$H$3:$I$700,2,FALSE),\"\")","v":90},null,null,null,null,null,null,null,null,null,null,null,null,null,null,null,null,null,null,null,null,null,null,null,null,null,null,null,null,null,null,null,null,null,null,null,null,null,null,null,null,null,null,null,null,null,null,null,null,null,"直江津東",50114,0,"",0,0,"",null,null,null,null,null,0,0,null,501141,501143]
[null,"黒井",null,null,"合",null,null,null,null,null,null,null,null,{"$f":"IFERROR(VLOOKUP($CJ33,・!$H$3:$I$700,2,FALSE),\"\")","v":820},null,null,null,null,null,null,null,null,null,null,null,null,null,null,null,null,null,null,null,null,null,null,null,null,null,null,null,null,null,null,null,null,null,null,null,null,null,null,null,null,null,null,null,null,null,null,null,null,null,null,null,null,null,null,null,null,null,null,"黒井",50117,0,0,0,0,"",null,null,null,null,null,0,0,null,501171,501173]
[null,"名立谷浜",null,null,"合",null,null,null,null,null,null,null,null,{"$f":"IFERROR(VLOOKUP($CJ34,・!$H$3:$I$700,2,FALSE),\"\")","v":950},null,null,null,null,null,null,null,null,null,null,null,null,null,null,null,null,null,null,null,null,null,null,null,null,null,null,null,null,null,null,null,null,null,null,null,null,null,null,null,null,null,null,null,null,null,null,null,null,null,null,null,null,null,null,null,null,null,null,"名立谷浜",50152,0,0,0,0,"",null,null,null,null,null,0,0,null,501521,501523]
[null,"010","小計",null,{"$f":"Q35+T35+W35+BF35","v":0},null,null,{"$f":"SUM(H24:J34)","v":19560},null,null,{"$f":"SUM(K24:M34)","v":0},null,null,{"$f":"SUM(N24:P34)","v":21550},null,null,{"$f":"SUM(Q24:S34)","v":0},null,null,{"$f":"SUM(T24:V34)","v":0},null,null,{"$f":"CA35","v":0},null,null,{"$f":"SUM(Z24:AB34)","v":0},null,null,null,null,null,null,null,null,null,null,null,null,null,null,null,null,null,null,null,null,null,null,null,"小計",null,null,null,null,{"$f":"SUM(BC24:BE34)","v":13850},null,null,{"$f":"SUM(BF24:BH34)","v":0},null,null,null,null,null,null,null,null,null,null,null,null,null,null,{"$f":"SUM(BY35,CA35:CC35,CG35)","v":0},null,{"$f":"SUM(BW24:BW34)","v":0},{"$f":"SUM(BX24:BX34)","v":0},0,null,{"$f":"SUM(CA24:CA34)","v":0},{"$f":"SUM(CB24:CB34)","v":0},0,null,null,null,{"$f":"SUM(CG24:CG34)","v":0}]
["旧新井市","新井",null,null,"合",null,null,null,null,null,null,null,null,{"$f":"IFERROR(VLOOKUP($CJ36,・!$H$3:$I$700,2,FALSE),\"\")","v":5300},null,null,null,null,null,null,null,null,null,null,null,null,null,null,null,null,null,null,null,null,null,null,null,null,null,null,null,null,null,null,null,null,null,null,null,null,null,null,null,null,null,null,null,null,null,null,null,null,null,null,null,null,null,null,null,null,null,null,"新井",50119,0,0,0,0,"",null,null,null,null,null,0,0,null,501191,501193]
[null,"新井学校町",null,null,"合",null,null,null,null,null,null,null,null,{"$f":"IFERROR(VLOOKUP($CJ37,・!$H$3:$I$700,2,FALSE),\"\")","v":1240},null,null,null,null,null,null,null,null,null,null,null,null,null,null,null,null,null,null,null,null,null,null,null,null,null,null,null,null,null,null,null,null,null,null,null,null,null,null,null,null,null,null,null,null,null,null,null,null,null,null,null,null,null,null,null,null,null,null,"新井学校町",50120,0,0,0,0,"",null,null,null,null,null,0,0,null,501201,501203]
[null,"新井南",null,null,"合",null,null,null,null,null,null,null,null,{"$f":"IFERROR(VLOOKUP($CJ38,・!$H$3:$I$700,2,FALSE),\"\")","v":870},null,null,null,null,null,null,null,null,null,null,null,null,null,null,null,null,null,null,null,null,null,null,null,null,null,null,null,null,null,null,null,null,null,null,null,null,null,null,null,null,null,null,null,null,null,null,null,null,null,null,null,null,null,null,null,null,null,null,"新井南",50121,0,0,0,0,"",null,null,null,null,null,0,0,null,501211,501213]
[null,"関山",null,null,"合",null,null,null,null,null,null,null,null,{"$f":"IFERROR(VLOOKUP($CJ39,・!$H$3:$I$700,2,FALSE),\"\")","v":870},null,null,null,null,null,null,null,null,null,null,null,null,null,null,null,null,null,null,null,null,null,null,null,null,null,null,null,null,null,null,null,null,null,null,null,null,null,null,null,null,null,null,null,null,null,null,null,null,null,null,null,null,null,null,null,null,null,null,"関山",50122,0,0,0,0,"",null,null,null,null,null,0,0,null,501221,501223]
[null,"妙高",null,null,"合",null,null,null,null,null,null,null,null,{"$f":"IFERROR(VLOOKUP($CJ40,・!$H$3:$I$700,2,FALSE),\"\")","v":530},null,null,null,null,null,null,null,null,null,null,null,null,null,null,null,null,null,null,null,null,null,null,null,null,null,null,null,null,null,null,null,null,null,null,null,null,null,null,null,null,null,null,null,null,null,null,null,null,null,null,null,null,null,null,null,null,null,null,"妙高",50123,0,0,0,0,"",null,null,null,null,null,0,0,null,501231,501233]
[null,"赤倉",null,null,"合",null,null,null,null,null,null,null,null,{"$f":"IFERROR(VLOOKUP($CJ41,・!$H$3:$I$700,2,FALSE),\"\")","v":650},null,null,null,null,null,null,null,null,null,null,null,null,null,null,null,null,null,null,null,null,null,null,null,null,null,null,null,null,null,null,null,null,null,null,null,null,null,null,null,null,null,null,null,null,null,null,null,null,null,null,null,null,null,null,null,null,null,null,"赤倉",50124,0,0,0,0,"",null,null,null,null,null,0,0,null,501241,501243]
[null,"020","小計",null,{"$f":"Q42+T42+W42+BF42","v":0},null,null,null,null,null,null,null,null,{"$f":"SUM(N36:P41)","v":9460},null,null,{"$f":"SUM(Q36:S41)","v":0},null,null,null,null,null,null,null,null,null,null,null,null,null,null,null,null,null,null,null,null,null,null,null,null,null,null,null,null,null,null,null,null,"小計",null,null,null,null,null,null,null,null,null,null,null,null,null,null,null,null,null,null,null,null,null,null,{"$f":"SUM(BY42,CA42:CC42,CG42)","v":0},null,{"$f":"SUM(BW36:BW41)","v":0},{"$f":"SUM(BX36:BX41)","v":0},0,null,{"$f":"SUM(CA36:CA41)","v":0},{"$f":"SUM(CB36:CB41)","v":0},0,null,null,null,{"$f":"SUM(CG36:CG41)","v":0}]
["合計",null,null,null,{"$f":"SUM(E42,E35,E23,E18,E12)","v":0},null,null,{"$f":"SUM(H42,H35,H23,H18,H12)","v":23400},null,null,{"$f":"SUM(K42,K35,K23,K18,K12)","v":0},null,null,{"$f":"SUM(N42,N35,N23,N18,N12)","v":46670},null,null,{"$f":"SUM(Q42,Q35,Q23,Q18,Q12)","v":0},null,null,{"$f":"SUM(T42,T35,T23,T18,T12)","v":0},null,null,{"$f":"SUM(W42,W35,W23,W18,W12)","v":0},null,null,{"$f":"SUM(Z41)","v":0},null,null,null,null,null,null,null,null,null,null,null,null,null,null,null,null,null,null,null,null,null,null,null,"合計",null,null,null,null,{"$f":"SUM(BC42,BC35,BC23,BC18,BC12)","v":18200},null,null,{"$f":"SUM(BF42,BF35,BF23,BF18,BF12)","v":0},null,null,null,null,null,null,null,null,null,null,null,null,null,null,{"$f":"SUM(BU42,BU35,BU23,BU18,BU12)","v":0},null,{"$f":"SUM(BW42,BW35,BW23,BW18,BW12)","v":0},{"$f":"SUM(BX42,BX35,BX23,BX18,BX12)","v":0},{"$f":"SUM(BY42,BY35,BY23,BY18,BY12)","v":0},null,{"$f":"SUM(CA42,CA35,CA23,CA18,CA12)","v":0},{"$f":"SUM(CB42,CB35,CB23,CB18,CB12)","v":0},{"$f":"SUM(CC42,CC35,CC23,CC18,CC12)","v":0},null,null,null,{"$f":"SUM(CG42,CG35,CG23,CG18,CG12)","v":0},null,{"$f":"SUM(BY43:CH43)","v":0}]
[null,null,null,null,null,null,null,null,null,null,null,null,null,null,null,null,null,null,null,null,null,null,null,null,null,null,null,null,null,null,null,null,null,null,null,null,null,null,null,null,null,null,null,null,null,null,null,null,null,null,null,null,null,null,null,null,null,null,null,null,null,null,null,null,null,null,null,null,null,null,null,null,null,null,null,null,{"$f":"SUM(BY43,CG43)","v":0}]

{"sheet":"上越２","index":10,"n_rows":31,"n_cols":91,"rows_kept":31,"cut":false,"hidden":false,"merged":[[29,37,29,48],[29,49,29,53],[29,54,29,56],[29,57,29,59],[29,60,29,70],[29,31,29,36],[29,25,29,30],[29,4,29,6],[29,13,29,15],[29,16,29,18],[29,19,29,21],[29,22,29,24],[14,31,14,36],[15,25,19,30],[20,25,20,30],[14,19,14,21],[14,22,14,24],[20,19,20,21],[20,22,20,24],[22,49,22,51],[22,52,22,53],[20,49,20,53],[26,1,26,3],[26,4,26,6],[26,13,26,15],[23,54,23,56],[22,57,22,59],[24,13,24,15],[23,16,23,18],[23,13,23,15],[25,13,25,15],[26,16,26,18],[25,16,25,18],[22,54,22,56],[25,19,27,24],[24,19,24,21],[24,22,24,24],[29,0,29,3],[21,0,28,0],[21,31,23,36],[21,25,23,30],[21,19,23,24],[21,7,23,12],[28,16,28,18],[28,13,28,15],[25,37,25,48],[28,2,28,3],[24,4,24,6],[28,4,28,6],[24,2,24,3],[25,1,25,3],[25,4,25,6],[27,4,27,6],[25,7,27,12],[29,7,29,9],[29,10,29,12],[28,7,28,9],[28,10,28,12],[27,13,27,15],[27,16,27,18],[27,1,27,3],[20,54,20,56],[14,60,14,70],[8,49,13,59],[13,37,13,48],[8,37,8,48],[15,60,19,70],[8,60,13,70],[21,37,21,48],[20,60,20,70],[10,37,10,48],[12,37,12,48],[21,54,21,56],[15,37,15,48],[21,49,21,51],[21,52,21,53],[14,49,14,53],[14,54,14,56],[14,57,14,59],[20,57,20,59],[16,37,16,48],[15,49,19,59],[23,60,23,70],[28,60,28,70],[28,37,28,48],[23,57,23,59],[27,37,27,48],[24,57,24,59],[23,37,23,48],[25,60,27,70],[23,49,23,51],[23,52,23,53],[26,37,26,48],[25,49,27,59],[24,49,24,53],[16,1,16,3],[16,4,16,6],[16,13,16,15],[16,16,16,18],[23,1,23,3],[22,1,22,3],[20,13,20,15],[20,4,20,6],[20,2,20,3],[23,4,23,6],[19,1,19,3],[19,13,19,15],[19,16,19,18],[18,1,18,3],[18,4,18,6],[18,13,18,15],[18,16,18,18],[17,1,17,3],[17,4,17,6],[17,13,17,15],[15,4,15,6],[15,13,15,15],[17,37,17,48],[17,16,17,18],[20,16,20,18],[22,4,22,6],[22,13,22,15],[22,16,22,18],[22,37,22,48],[21,16,21,18],[19,4,19,6],[15,19,19,24],[20,37,20,48],[20,31,20,36],[15,31,19,36],[18,37,18,48],[19,37,19,48],[0,60,0,70],[1,0,1,11],[1,12,1,28],[1,29,1,33],[1,34,1,48],[1,63,1,70],[4,0,4,11],[2,0,2,11],[1,49,1,55],[1,56,1,62],[2,49,2,55],[3,49,3,55],[3,56,3,62],[3,63,3,70],[4,49,4,55],[4,56,4,62],[4,63,4,70],[2,29,2,33],[3,29,3,33],[4,29,4,33],[2,56,2,62],[2,63,2,70],[3,0,3,11],[3,12,3,28],[0,22,0,23],[8,4,8,6],[8,13,8,15],[8,0,14,0],[13,1,13,3],[11,1,11,3],[13,16,13,18],[10,1,10,3],[10,4,10,6],[12,1,12,3],[12,4,12,6],[12,13,12,15],[11,4,11,6],[13,4,13,6],[13,13,13,15],[7,4,7,6],[9,4,9,6],[10,13,10,15],[8,7,13,12],[11,13,11,15],[11,16,11,18],[12,16,12,18],[10,16,10,18],[8,19,13,24],[14,4,14,6],[14,2,14,3],[6,49,6,59],[7,54,7,56],[15,0,20,0],[21,1,21,3],[21,4,21,6],[21,13,21,15],[7,52,7,53],[8,1,8,3],[9,16,9,18],[6,31,6,36],[6,0,7,0],[6,1,6,24],[6,25,6,30],[6,37,7,48],[7,1,7,3],[8,16,8,18],[8,31,13,36],[9,37,9,48],[11,37,11,48],[8,25,13,30],[15,16,15,18],[15,1,15,3],[9,1,9,3],[2,34,4,48],[4,27,4,28],[2,27,2,28],[4,12,4,26],[2,12,2,26],[6,60,7,70],[7,7,7,9],[7,10,7,12],[7,13,7,15],[7,16,7,18],[7,19,7,21],[7,22,7,24],[7,57,7,59],[7,31,7,33],[7,34,7,36],[7,49,7,51],[7,25,7,27],[7,28,7,30],[14,13,14,15],[14,16,14,18],[6,87,6,88],[14,10,14,12],[14,7,14,9],[20,7,20,9],[20,10,20,12],[24,7,24,9],[24,10,24,12],[14,37,14,48],[15,7,19,12],[14,25,14,30],[24,16,24,18],[6,72,6,77],[6,82,6,85],[9,13,9,15],[24,31,24,36],[24,25,24,30],[24,60,24,70],[21,57,21,59],[24,54,24,56],[24,37,24,48],[21,60,21,70],[22,60,22,70],[28,19,28,21],[28,22,28,24],[28,49,28,53],[28,54,28,56],[28,57,28,59],[28,31,28,36],[28,25,28,30],[25,31,27,36],[25,25,27,30]]}
[null,null,null,null,null,null,null,null,null,null,null,null,null,null,null,null,null,null,null,null,null,null,null,null,null,null,null,null,null,null,null,null,null,null,null,null,null,null,null,null,null,null,null,null,null,null,null,null,null,null,null,null,null,null,null,null,null,null,null,null,{"$f":"新潟市!BI1","v":"２０２３年１２月１日 現在"}]
["折込日",null,null,null,null,null,null,null,null,null,null,null,"スポンサー名",null,null,null,null,null,null,null,null,null,null,null,null,null,null,null,null,"サイズ",null,null,null,null,"チラシ内容・タイトル詳細",null,null,null,null,null,null,null,null,null,null,null,null,null,null,"朝刊　小計",null,null,null,null,null,null,"Otona＋　小計",null,null,null,null,null,null,"ページ枚数"]
[{"$f":"新潟市!A3","v":"2023/--/--"},null,null,null,null,null,null,null,null,null,null,null,{"$f":"新潟市!M3","v":0},null,null,null,null,null,null,null,null,null,null,null,null,null,null,"様",null,{"$f":"新潟市!AD3","v":0},null,null,null,null,{"$f":"新潟市!AI3","v":0},null,null,null,null,null,null,null,null,null,null,null,null,null,null,{"$f":"BY30+CG30","v":0},null,null,null,null,null,null,null,null,null,null,null,null,null,{"$f":"SUM(AX3,BE3,AX5,BE5)","v":0}]
["assh　ポスティング日",null,null,null,null,null,null,null,null,null,null,null,"ご請求先名",null,null,null,null,null,null,null,null,null,null,null,null,null,null,null,null,"ガタチラ 掲載",null,null,null,null,null,null,null,null,null,null,null,null,null,null,null,null,null,null,null,"くるみる　小計",null,null,null,null,null,null,"assh　小計",null,null,null,null,null,null,"総枚数"]
[{"$f":"新潟市!A5","v":"2023/--/--"},null,null,null,null,null,null,null,null,null,null,null,{"$f":"新潟市!M5","v":0},null,null,null,null,null,null,null,null,null,null,null,null,null,null,"様",null,{"$f":"新潟市!AD5","v":0},null,null,null,null,null,null,null,null,null,null,null,null,null,null,null,null,null,null,null,{"$f":"CA30","v":0},null,null,null,null,null,null,null,null,null,null,null,null,null,{"$f":"新潟市!BL5","v":0}]
[]
["05","新潟日報　",null,null,null,null,null,null,null,null,null,null,null,null,null,null,null,null,null,null,null,null,null,null,null,"ポスティング",null,null,null,null,null,"Otona+",null,null,null,null,null,"備考",null,null,null,null,null,null,null,null,null,null,null,"中央紙",null,null,null,null,null,null,null,null,null,null,"備考",null,null,null,null,null,null,null,null,null,null,null,"朝刊",null,null,null,null,null,"くるみる","assh","otona",null,"中央紙　朝刊",null,null,null,null,"日報",null,null,"中央紙"]
[null,"販売店名",null,null,"取扱い紙",null,null,"朝刊＋くるみる",null,null,"配布数",null,null,"朝刊扱数",null,null,"配布数",null,null,"朝刊数",null,null,"くるみる数",null,null,"部数",null,null,"配布数",null,null,"部数",null,null,"配布数",null,null,null,null,null,null,null,null,null,null,null,null,null,null,"販売店名",null,null,"取扱い紙",null,"部数",null,null,"配布数",null,null,null,null,null,null,null,null,null,null,null,null,null,null,"販売店名","E","朝刊1","朝刊２","部","指示","部","部","部",null,"販売店名","E","部","指示",null,"朝刊","くるみる",null,"朝刊"]
["旧中頸城郡","柿崎",null,null,"合",null,null,null,null,null,null,null,null,{"$f":"IFERROR(VLOOKUP($CJ9,・!$H$3:$I$700,2,FALSE),\"\")","v":2250},null,null,null,null,null,null,null,null,null,null,null,null,null,null,null,null,null,null,null,null,null,null,null,null,null,null,null,null,null,null,null,null,null,null,null,null,null,null,null,null,null,null,null,null,null,null,null,null,null,null,null,null,null,null,null,null,null,null,"柿崎",50125,{"$f":"Q9","v":0},{"$f":"W9","v":0},{"$f":"SUM(BW9:BX9)","v":0},{"$f":"AL9","v":0},null,null,null,null,null,null,{"$f":"BF9","v":0},null,null,501251,501253]
[null,"吉川",null,null,"合",null,null,null,null,null,null,null,null,{"$f":"IFERROR(VLOOKUP($CJ10,・!$H$3:$I$700,2,FALSE),\"\")","v":780},null,null,null,null,null,null,null,null,null,null,null,null,null,null,null,null,null,null,null,null,null,null,null,null,null,null,null,null,null,null,null,null,null,null,null,null,null,null,null,null,null,null,null,null,null,null,null,null,null,null,null,null,null,null,null,null,null,null,"吉川",50126,{"$f":"Q10","v":0},{"$f":"W10","v":0},{"$f":"SUM(BW10:BX10)","v":0},{"$f":"AL10","v":0},null,null,null,null,null,null,0,null,null,501261,501263]
[null,"大潟",null,null,"合",null,null,null,null,null,null,null,null,{"$f":"IFERROR(VLOOKUP($CJ11,・!$H$3:$I$700,2,FALSE),\"\")","v":1580},null,null,null,null,null,null,null,null,null,null,null,null,null,null,null,null,null,null,null,null,null,null,null,null,null,null,null,null,null,null,null,null,null,null,null,null,null,null,null,null,null,null,null,null,null,null,null,null,null,null,null,null,null,null,null,null,null,null,"大潟",50127,0,0,0,0,null,null,null,null,null,null,0,null,null,501271,501273]
[null,"犀潟",null,null,"合",null,null,null,null,null,null,null,null,{"$f":"IFERROR(VLOOKUP($CJ12,・!$H$3:$I$700,2,FALSE),\"\")","v":800},null,null,null,null,null,null,null,null,null,null,null,null,null,null,null,null,null,null,null,null,null,null,null,null,null,null,null,null,null,null,null,null,null,null,null,null,null,null,null,null,null,null,null,null,null,null,null,null,null,null,null,null,null,null,null,null,null,null,"犀潟",50128,0,0,0,0,null,null,null,null,null,null,0,null,null,501281,501283]
[null,"百間町",null,null,"合",null,null,null,null,null,null,null,null,{"$f":"IFERROR(VLOOKUP($CJ13,・!$H$3:$I$700,2,FALSE),\"\")","v":780},null,null,null,null,null,null,null,null,null,null,null,null,null,null,null,null,null,null,null,null,null,null,null,null,null,null,null,null,null,null,null,null,null,null,null,null,null,null,null,null,null,null,null,null,null,null,null,null,null,null,null,null,null,null,null,null,null,null,"百閒町",50129,0,0,0,0,null,null,null,null,null,null,0,null,null,501291,501293]
[null,"明治",null,null,"合",null,null,null,null,null,null,null,null,{"$f":"IFERROR(VLOOKUP($CJ14,・!$H$3:$I$700,2,FALSE),\"\")","v":350},null,null,null,null,null,null,null,null,null,null,null,null,null,null,null,null,null,null,null,null,null,null,null,null,null,null,null,null,null,null,null,null,null,null,null,null,null,null,null,null,null,null,null,null,null,null,null,null,null,null,null,null,null,null,null,null,null,null,"明治",50130,0,0,0,0,null,null,null,null,null,null,0,null,null,501301,501303]
[null,"030","小計",null,{"$f":"Q15+T15+W15+BF15","v":0},null,null,null,null,null,null,null,null,{"$f":"SUM(N9:P14)","v":6540},null,null,{"$f":"SUM(Q9:S14)","v":0},null,null,null,null,null,null,null,null,null,null,null,null,null,null,null,null,null,null,null,null,null,null,null,null,null,null,null,null,null,null,null,null,"小計",null,null,null,null,null,null,null,null,null,null,null,null,null,null,null,null,null,null,null,null,null,null,{"$f":"SUM(BY15:CC15,CG15)","v":0},null,{"$f":"SUM(BW9:BW14)","v":0},{"$f":"SUM(BX9:BX14)","v":0},0,null,{"$f":"SUM(CA9:CA14)","v":0},0,{"$f":"SUM(CC9:CC14)","v":0},null,null,null,{"$f":"SUM(CG9:CG14)","v":0}]
["旧東頚城郡","浦川原",null,null,"合",null,null,null,null,null,null,null,null,{"$f":"IFERROR(VLOOKUP($CJ16,・!$H$3:$I$700,2,FALSE),\"\")","v":750},null,null,null,null,null,null,null,null,null,null,null,null,null,null,null,null,null,null,null,null,null,null,null,null,null,null,null,null,null,null,null,null,null,null,null,null,null,null,null,null,null,null,null,null,null,null,null,null,null,null,null,null,null,null,null,null,null,null,"浦川原",50131,{"$f":"Q16","v":0},{"$f":"W16","v":0},{"$f":"SUM(BW16:BX16)","v":0},{"$f":"AL16","v":0},null,null,null,null,null,null,{"$f":"BF16","v":0},null,null,501311,501313]
[null,"上越安塚",null,null,"合",null,null,null,null,null,null,null,null,{"$f":"IFERROR(VLOOKUP($CJ17,・!$H$3:$I$700,2,FALSE),\"\")","v":570},null,null,null,null,null,null,null,null,null,null,null,null,null,null,null,null,null,null,null,null,null,null,null,null,null,null,null,null,null,null,null,null,null,null,null,null,null,null,null,null,null,null,null,null,null,null,null,null,null,null,null,null,null,null,null,null,null,null,"上越安塚",50133,0,0,0,0,null,null,null,null,null,null,0,null,null,501331,501333]
[null,"大島",null,null,"合",null,null,null,null,null,null,null,null,{"$f":"IFERROR(VLOOKUP($CJ18,・!$H$3:$I$700,2,FALSE),\"\")","v":350},null,null,null,null,null,null,null,null,null,null,null,null,null,null,null,null,null,null,null,null,null,null,null,null,null,null,null,null,null,null,null,null,null,null,null,null,null,null,null,null,null,null,null,null,null,null,null,null,null,null,null,null,null,null,null,null,null,null,"大島",50134,0,0,0,0,null,null,null,null,null,null,0,null,null,501341,501343]
[null,"松代",null,null,"合",null,null,null,null,null,null,null,null,{"$f":"IFERROR(VLOOKUP($CJ19,・!$H$3:$I$700,2,FALSE),\"\")","v":700},null,null,null,null,null,null,null,null,null,null,null,null,null,null,null,null,null,null,null,null,null,null,null,null,null,null,null,null,null,null,null,null,null,null,null,null,null,null,null,null,null,null,null,null,null,null,null,null,null,null,null,null,null,null,null,null,null,null,"松代",50135,0,0,0,0,null,null,null,null,null,null,0,null,null,501351,501353]
[null,"松之山",null,null,"合",null,null,null,null,null,null,null,null,{"$f":"IFERROR(VLOOKUP($CJ20,・!$H$3:$I$700,2,FALSE),\"\")","v":460},null,null,null,null,null,null,null,null,null,null,null,null,null,null,null,null,null,null,null,null,null,null,null,null,null,null,null,null,null,null,null,null,null,null,null,null,null,null,null,null,null,null,null,null,null,null,null,null,null,null,null,null,null,null,null,null,null,null,"松之山",50136,0,0,0,0,null,null,null,null,null,null,0,null,null,501361,501363]
[null,"040","小計",null,{"$f":"Q21+T21+W21+BF21","v":0},null,null,null,null,null,null,null,null,{"$f":"SUM(N16:P20)","v":2830},null,null,{"$f":"SUM(Q16:S20)","v":0},null,null,null,null,null,null,null,null,null,null,null,null,null,null,null,null,null,null,null,null,null,null,null,null,null,null,null,null,null,null,null,null,"小計",null,null,null,null,null,null,null,null,null,null,null,null,null,null,null,null,null,null,null,null,null,null,{"$f":"SUM(BY21:CC21,CG21)","v":0},null,{"$f":"SUM(BW16:BW20)","v":0},{"$f":"SUM(BX16:BX20)","v":0},0,null,{"$f":"SUM(CA16:CA20)","v":0},0,0,null,null,null,{"$f":"SUM(CG16:CG20)","v":0}]
["糸魚川市・旧西頸城郡","糸魚川",null,null,"新マ",null,null,null,null,null,null,null,null,{"$f":"IFERROR(VLOOKUP($CJ22,・!$H$3:$I$700,2,FALSE),\"\")","v":2900},null,null,null,null,null,null,null,null,null,null,null,null,null,null,null,null,null,null,null,null,null,null,null,null,null,null,null,null,null,null,null,null,null,null,null,"糸魚川綱島",null,null,"ヨアサ日",null,{"$f":"IFERROR(VLOOKUP($CM22,・!$H$3:$I$700,2,FALSE),\"\")","v":3150},null,null,null,null,null,null,null,null,null,null,null,null,null,null,null,null,null,"糸魚川",50137,{"$f":"Q22","v":0},{"$f":"W22","v":0},{"$f":"SUM(BW22:BX22)","v":0},{"$f":"AL22","v":0},null,null,null,null,"糸魚川綱島",50138,{"$f":"BF22","v":0},{"$f":"BI22","v":0},null,501371,501373,null,501381]
[null,"糸魚川東",null,null,"新マ",null,null,null,null,null,null,null,null,{"$f":"IFERROR(VLOOKUP($CJ23,・!$H$3:$I$700,2,FALSE),\"\")","v":1700},null,null,null,null,null,null,null,null,null,null,null,null,null,null,null,null,null,null,null,null,null,null,null,null,null,null,null,null,null,null,null,null,null,null,null,"大和川吉岡",null,null,"ヨア",null,{"$f":"IFERROR(VLOOKUP($CM23,・!$H$3:$I$700,2,FALSE),\"\")","v":400},null,null,null,null,null,null,null,null,null,null,null,null,null,null,null,null,null,"糸魚川東",50142,0,0,0,0,null,null,null,null,"大和川吉岡",50140,{"$f":"BF23","v":0},{"$f":"BI23","v":0},null,501421,501423,null,501401]
[null,"根知",null,null,"合",null,null,null,null,null,null,null,null,{"$f":"IFERROR(VLOOKUP($CJ24,・!$H$3:$I$700,2,FALSE),\"\")","v":300},null,null,null,null,null,null,null,null,null,null,null,null,null,null,null,null,null,null,null,null,null,null,null,null,null,null,null,null,null,null,null,null,null,null,null,"浦本田代",null,null,"ヨア",null,{"$f":"IFERROR(VLOOKUP($CM24,・!$H$3:$I$700,2,FALSE),\"\")","v":100},null,null,null,null,null,null,null,null,null,null,null,null,null,null,null,null,null,"根知",50144,0,0,0,0,null,null,null,null,"浦本田代",50143,0,0,null,501441,501443,null,501431]
[null,"050","小計",null,{"$f":"Q25+T25+W25+BF25","v":0},null,null,null,null,null,null,null,null,{"$f":"SUM(N22:P24)","v":4900},null,null,{"$f":"SUM(Q22:S24)","v":0},null,null,null,null,null,null,null,null,null,null,null,null,null,null,null,null,null,null,null,null,null,null,null,null,null,null,null,null,null,null,null,null,"小計",null,null,null,null,{"$f":"SUM(BC22:BE24)","v":3650},null,null,{"$f":"SUM(BF22:BH24)","v":0},null,null,null,null,null,null,null,null,null,null,null,null,null,null,{"$f":"SUM(BY25:CC25,CG25)","v":0},null,{"$f":"SUM(BW22:BW24)","v":0},{"$f":"SUM(BX22:BX24)","v":0},0,null,{"$f":"SUM(CA22:CA24)","v":0},0,0,null,null,null,{"$f":"SUM(CG22:CG24)","v":0}]
[null,"筒石",null,null,"合",null,null,null,null,null,null,null,null,{"$f":"IFERROR(VLOOKUP($CJ26,・!$H$3:$I$700,2,FALSE),\"\")","v":390},null,null,null,null,null,null,null,null,null,null,null,null,null,null,null,null,null,null,null,null,null,null,null,null,null,null,null,null,null,null,null,null,null,null,null,null,null,null,null,null,null,null,null,null,null,null,null,null,null,null,null,null,null,null,null,null,null,null,"筒石",50148,{"$f":"Q26","v":0},{"$f":"W26","v":0},{"$f":"SUM(BW26:BX26)","v":0},{"$f":"AL26","v":0},null,null,null,null,null,null,{"$f":"BF26","v":0},null,null,501481,501483]
[null,"能生",null,null,"合",null,null,null,null,null,null,null,null,{"$f":"IFERROR(VLOOKUP($CJ27,・!$H$3:$I$700,2,FALSE),\"\")","v":1670},null,null,null,null,null,null,null,null,null,null,null,null,null,null,null,null,null,null,null,null,null,null,null,null,null,null,null,null,null,null,null,null,null,null,null,null,null,null,null,null,null,null,null,null,null,null,null,null,null,null,null,null,null,null,null,null,null,null,"能生",50149,0,0,0,0,null,null,null,null,null,null,0,null,null,501491,501493]
[null,"青海",null,null,"合",null,null,null,null,null,null,null,null,{"$f":"IFERROR(VLOOKUP($CJ28,・!$H$3:$I$700,2,FALSE),\"\")","v":1500},null,null,null,null,null,null,null,null,null,null,null,null,null,null,null,null,null,null,null,null,null,null,null,null,null,null,null,null,null,null,null,null,null,null,null,null,null,null,null,null,null,null,null,null,null,null,null,null,null,null,null,null,null,null,null,null,null,null,"青梅",50150,0,0,0,0,null,null,null,null,null,null,0,null,null,501501,501503]
[null,"060","小計",null,{"$f":"Q29+T29+W29+BF29","v":0},null,null,null,null,null,null,null,null,{"$f":"SUM(N26:P28)","v":3560},null,null,{"$f":"SUM(Q26:S28)","v":0},null,null,null,null,null,null,null,null,null,null,null,null,null,null,null,null,null,null,null,null,null,null,null,null,null,null,null,null,null,null,null,null,"小計",null,null,null,null,null,null,null,null,null,null,null,null,null,null,null,null,null,null,null,null,null,null,{"$f":"SUM(BY29:CC29,CG29)","v":0},null,{"$f":"SUM(BW26:BW28)","v":0},{"$f":"SUM(BX26:BX28)","v":0},0,null,{"$f":"SUM(CA26:CA28)","v":0},0,0,null,null,null,{"$f":"SUM(CG26:CG28)","v":0}]
["合計",null,null,null,{"$f":"SUM(E29,E25,E21,E15)","v":0},null,null,null,null,null,null,null,null,{"$f":"SUM(N29,N25,N21,N15)","v":17830},null,null,{"$f":"SUM(Q29,Q25,Q21,Q15)","v":0},null,null,null,null,null,null,null,null,null,null,null,null,null,null,null,null,null,null,null,null,null,null,null,null,null,null,null,null,null,null,null,null,"合計",null,null,null,null,{"$f":"SUM(BC29,BC25,BC21,BC15)","v":3650},null,null,{"$f":"SUM(BF29,BF25,BF21,BF15)","v":0},null,null,null,null,null,null,null,null,null,null,null,null,null,null,{"$f":"SUM(BU29,BU25,BU21,BU15)","v":0},null,{"$f":"SUM(BW29,BW25,BW21,BW15)","v":0},{"$f":"SUM(BX29,BX25,BX21,BX15)","v":0},0,null,{"$f":"SUM(CA29,CA25,CA21,CA15)","v":0},0,0,null,null,null,{"$f":"SUM(CG29,CG25,CG21,CG15)","v":0},null,{"$f":"SUM(BY30:CH30)","v":0}]
[null,null,null,null,null,null,null,null,null,null,null,null,null,null,null,null,null,null,null,null,null,null,null,null,null,null,null,null,null,null,null,null,null,null,null,null,null,null,null,null,null,null,null,null,null,null,null,null,null,null,null,null,null,null,null,null,null,null,null,null,null,null,null,null,null,null,null,null,null,null,null,null,null,null,null,null,{"$f":"SUM(BY30,CG30)","v":0}]

{"sheet":"地区集計","index":11,"n_rows":45,"n_cols":17,"rows_kept":45,"cut":false,"hidden":false,"merged":[[1,11,4,16],[43,8,43,9],[0,1,0,16],[6,0,23,0],[24,0,34,0],[35,0,40,0],[1,2,4,4],[44,1,44,7],[1,6,4,6],[1,7,4,7],[43,1,43,7],[1,8,4,10],[42,1,42,7],[1,5,4,5],[44,8,44,9],[41,0,41,1],[1,0,4,1]]}
[null,"新潟県地区別/媒体別　折込部数・配布部数表"]
["エリア",null,"新潟日報＋くるみる",null,null,"assh\nn-assh\n1回目\n","n-assh\n2回目","Ｏｔｏｎａ+","中央紙",null,null,"販売店件数"]
[]
[]
[]
["地区","市郡","朝刊+くるみる","朝刊","くるみる","部数","部数","配布数","朝日新聞","読売新聞","産経新聞","新潟日報","朝日新聞","読売新聞","産経新聞","計","くるみる"]
["下越・佐渡地区","旧新潟市",{"$f":"SUM(D7:E7)","v":135540},{"$f":"新潟市!N42","v":122520},{"$f":"SUM(新潟市!W9:Y41)","v":13020},{"$f":"新潟市!Z42","v":108250},null,{"$f":"新潟市!AF42","v":14680},null,{"$f":"SUM(新潟市!BC9:BE22)","v":15950},null,{"$f":"SUM(COUNTIF(新潟市!E9:G41,{\"新アマ日\",\"合\"}))","v":33},null,{"$f":"SUM(COUNTIF(新潟市!BA9:BB22,{\"ヨサ日\"}))","v":14},null,{"$f":"SUM(L7:O7)","v":47},{"$f":"COUNTA(新潟市!W9:Y41)","v":33}]
[null,"旧西蒲原郡",{"$f":"SUM(D8:E8)","v":22850},{"$f":"下越1!N17","v":21870},{"$f":"SUM(下越1!W9:Y16)","v":980},null,null,{"$f":"SUM(下越1!AF9:AH16)","v":690},{"$f":"下越1!BC9","v":640},{"$f":"下越1!BC10","v":650},null,{"$f":"SUM(COUNTIF(下越1!E9:G16,{\"新アマヨ日\",\"新マ日\",\"合\"}))","v":8},{"$f":"SUM(COUNTIF(下越1!BA9:BB11,{\"アサ\"}))","v":1},{"$f":"SUM(COUNTIF(下越1!BA9:BB11,{\"ヨ\"}))","v":1},null,{"$f":"SUM(L8:O8)","v":10},{"$f":"COUNTA(下越1!W12:Y16)","v":4}]
[null,"旧中蒲原郡",7830,{"$f":"SUM(下越1!N18:P20)","v":7820},{"$f":"SUM(下越1!W18:W20)","v":10},null,null,{"$f":"SUM(下越1!AF18:AH20)","v":260},null,null,null,{"$f":"SUM(COUNTIF(下越1!E18:G20,{\"合\"}))","v":3},null,null,null,3,{"$f":"COUNTA(下越1!W19)","v":1}]
[null,"旧新津市",{"$f":"SUM(D10:E10)","v":15500},{"$f":"SUM(下越1!N22:P23)","v":15300},{"$f":"SUM(下越1!W22:W23)","v":200},null,null,{"$f":"SUM(下越1!AF24)","v":500},null,null,null,{"$f":"SUM(COUNTIF(下越1!E22:G23,{\"合\"}))","v":2},null,null,null,2,{"$f":"COUNTA(下越1!W22:Y23)","v":2}]
[null,"五泉市",{"$f":"SUM(D11:E11)","v":7770},{"$f":"SUM(下越1!N25:P27)","v":7770},null,null,null,null,null,null,null,{"$f":"SUM(COUNTIF(下越1!E25:G27,{\"合\"}))","v":3},null,null,null,3]
[null,"旧白根市",{"$f":"SUM(D12:E12)","v":6040},{"$f":"SUM(下越1!N29:P31)","v":5800},{"$f":"SUM(下越1!W29:Y31)","v":240},null,null,{"$f":"SUM(下越1!AF29:AF31)","v":110},null,{"$f":"下越1!BC32","v":700},null,{"$f":"SUM(COUNTIF(下越1!E29:G31,{\"新アマ日\",\"合\"}))","v":3},null,{"$f":"SUM(COUNTIF(下越1!BA29,{\"ヨサ\"}))","v":1},null,4,{"$f":"COUNTA(下越1!W29:Y31)","v":3}]
[null,"三条市",{"$f":"SUM(D13:E13)","v":11880},{"$f":"SUM(下越1!N33:P34)","v":11880},null,null,null,{"$f":"SUM(下越1!AF35)","v":330},null,{"$f":"下越1!BC35","v":5100},null,{"$f":"SUM(COUNTIF(下越1!E33:G34,{\"新アマサ日\"}))","v":2},null,{"$f":"SUM(COUNTIF(下越1!BA33,{\"ヨ\"}))","v":1},null,3]
[null,"燕市",{"$f":"SUM(D14:E14)","v":6780},{"$f":"下越1!N38","v":6730},{"$f":"SUM(下越1!W36:W37)","v":50},null,null,{"$f":"下越1!AF38","v":180},null,{"$f":"下越1!BC38","v":3250},null,{"$f":"SUM(COUNTIF(下越1!E36:G37,{\"新アマサ日\"}))","v":2},null,{"$f":"SUM(COUNTIF(下越1!BA36,{\"ヨ\"}))","v":1},null,3,{"$f":"COUNTA(下越1!W36)","v":1}]
[null,"加茂市",7230,{"$f":"下越1!N40","v":7150},{"$f":"SUM(下越1!W39)","v":80},null,null,{"$f":"SUM(下越1!AF40)","v":260},null,{"$f":"下越1!BC40","v":1600},null,{"$f":"SUM(COUNTIF(下越1!E39,{\"新アマサ日\"}))","v":1},null,{"$f":"SUM(COUNTIF(下越1!BA39,{\"ヨ\"}))","v":1},null,2,{"$f":"COUNTA(下越1!W39)","v":1}]
[null,"旧南蒲原郡",{"$f":"SUM(D16:E16)","v":3760},{"$f":"SUM(下越1!N45)","v":3760},null,null,null,null,null,null,null,{"$f":"SUM(COUNTIF(下越1!E41:G44,{\"合\"}))","v":4},null,null,null,4]
[null,"旧豊栄市",8500,{"$f":"SUM(下越1!N48)","v":7830},{"$f":"SUM(下越1!W46:Y47)","v":670},{"$f":"下越1!Z48","v":7020},null,{"$f":"SUM(下越1!AF48)","v":330},null,{"$f":"下越1!BC46","v":830},null,{"$f":"SUM(COUNTIF(下越1!E46:G47,{\"新アマ日\",\"合\"}))","v":2},null,{"$f":"SUM(COUNTIF(下越1!BA46,{\"ヨサ日\"}))","v":1},null,3,{"$f":"COUNTA(下越1!W46:Y47)","v":2}]
[null,"新発田市",22320,{"$f":"SUM(下越２!N12)","v":20880},{"$f":"SUM(下越２!W9:Y11)","v":1440},{"$f":"SUM(下越２!Z12)","v":0},null,{"$f":"SUM(下越２!AF12)","v":650},null,{"$f":"下越２!BC9","v":3100},null,{"$f":"SUM(COUNTIF(下越２!E9:G11,{\"新アマ日\",\"合\"}))","v":3},null,{"$f":"SUM(COUNTIF(下越２!BA9,{\"ヨサ\"}))","v":1},null,4,{"$f":"COUNTA(下越２!W9:Y11)","v":3}]
[null,"旧北蒲原郡",13770,{"$f":"SUM(下越２!N18)","v":13570},{"$f":"SUM(下越２!W13:W17)","v":200},{"$f":"下越２!Z18","v":110},null,{"$f":"下越２!AF18","v":230},null,{"$f":"下越２!BC18","v":2120},null,{"$f":"SUM(COUNTIF(下越２!E13:G17,{\"新アマ日\",\"合\"}))","v":5},null,{"$f":"SUM(COUNTIF(下越２!BA13:BB14,{\"ヨサ\",\"ヨ\"}))","v":2},null,7,{"$f":"COUNTA(下越２!W16)","v":1}]
[null,"村上市",{"$f":"SUM(D20:E20)","v":9860},{"$f":"SUM(下越２!N22)","v":9860},null,null,null,null,null,null,null,{"$f":"SUM(COUNTIF(下越２!E19:G21,{\"合\"}))","v":3},null,null,null,3]
[null,"岩船郡",4240,{"$f":"SUM(下越２!N27)","v":4240},null,null,null,null,null,null,null,{"$f":"SUM(COUNTIF(下越２!E23:G26,{\"合\"}))","v":4},null,null,null,4]
[null,"旧東蒲原郡",2850,{"$f":"SUM(下越２!N35)","v":2850},null,null,null,null,null,null,null,{"$f":"SUM(COUNTIF(下越２!E28:G34,{\"合\"}))","v":7},null,null,null,7]
[null,"旧両津市",2380,{"$f":"SUM(下越２!N40)","v":2380},null,null,null,null,{"$f":"下越２!BC38","v":630},{"$f":"下越２!BC39","v":830},null,{"$f":"SUM(COUNTIF(下越２!E38:G39,{\"新マサ日\",\"新マ日\"}))","v":2},{"$f":"SUM(COUNTIF(下越２!BA38:BB39,{\"ア\"}))","v":1},{"$f":"SUM(COUNTIF(下越２!BA38:BB39,{\"ヨサ\"}))","v":1},null,4]
[null,"旧佐渡郡",7220,{"$f":"SUM(下越２!N51)","v":7220},null,null,null,null,{"$f":"SUM(下越２!BC41:BE43,下越２!BC46,下越２!BC48)","v":840},{"$f":"SUM(下越２!BC44:BE45,下越２!BC47,下越２!BC49)","v":550},null,{"$f":"SUM(COUNTIF(下越２!E41:G50,{\"新サ\",\"新マサ日\",\"新\",\"新アマ日\",\"合\"}))","v":10},{"$f":"SUM(COUNTIF(下越２!BA41:BB49,{\"アマヨサ日\",\"アマサ日\",\"ア\"}))","v":5},{"$f":"SUM(COUNTIF(下越２!BA41:BB49,{\"ヨサ\",\"ヨア\",\"ヨ\"}))","v":4},null,19]
["中越地区","旧長岡市",39690,{"$f":"SUM(中越1!N24)","v":37470},{"$f":"SUM(中越1!W9:W23)","v":2220},{"$f":"中越1!Z24","v":38720},{"$f":"中越1!AF24","v":38620},{"$f":"中越1!AL24","v":1760},null,{"$f":"中越1!BH24","v":8310},null,{"$f":"SUM(COUNTIF(中越1!E9:G23,{\"新アマサ日\",\"合\"}))","v":15},null,{"$f":"SUM(COUNTIF(中越1!BF9:BG12,{\"ヨ\"}))","v":4},null,19,{"$f":"COUNTA(中越1!W9:Y20)","v":11}]
[null,"栃尾市",{"$f":"SUM(D26:E26)","v":2960},{"$f":"中越1!N26","v":2960},null,{"$f":"中越1!Z26","v":900},{"$f":"中越1!AF26","v":900},{"$f":"中越1!AL26","v":0},null,{"$f":"中越1!BH26","v":2000},null,{"$f":"SUM(COUNTIF(中越1!E25,{\"新アマサ\"}))","v":1},null,{"$f":"SUM(COUNTIF(中越1!BF25,{\"ヨ日\"}))","v":1},null,2]
[null,"見附市",9150,{"$f":"中越1!N30","v":9150},null,{"$f":"中越1!Z30","v":6360},{"$f":"中越1!AF30","v":480},{"$f":"中越1!AL30","v":360},null,{"$f":"SUM(中越1!BH27,中越1!BH29)","v":2000},{"$f":"SUM(中越1!BH28)","v":640},{"$f":"SUM(COUNTIF(中越1!E27:G29,{\"新アマサ日\",\"新アマ日\"}))","v":3},null,{"$f":"SUM(COUNTIF(中越1!BF27:BG29,{\"ヨ\"}))","v":2},{"$f":"SUM(COUNTIF(中越1!BF27:BG29,{\"サ\"}))","v":1},6]
[null,"旧三島郡",10660,{"$f":"中越1!N38","v":10460},{"$f":"SUM(中越1!W31:Y37)","v":200},{"$f":"中越1!Z38","v":3500},{"$f":"中越1!AF38","v":3500},{"$f":"中越1!AL38","v":0},null,{"$f":"SUM(中越1!BH38)","v":590},null,{"$f":"SUM(COUNTIF(中越1!E31:G37,{\"新アマサ日\",\"合\"}))","v":7},null,{"$f":"SUM(COUNTIF(中越1!BF31,{\"ヨ\"}))","v":1},null,8,{"$f":"COUNTA(中越1!W31:Y33)","v":2}]
[null,"小千谷市",7250,{"$f":"中越２!N13","v":7250},null,null,null,null,null,{"$f":"中越２!BC13","v":1280},null,{"$f":"SUM(COUNTIF(中越２!E9:G12,{\"新アマサ日\",\"合\"}))","v":4},null,{"$f":"SUM(COUNTIF(中越２!BA9,{\"ヨ\"}))","v":1},null,5]
[null,"十日町市",6780,{"$f":"中越２!N20","v":6780},null,null,null,null,null,{"$f":"中越２!BC20","v":1450},null,{"$f":"SUM(COUNTIF(中越２!E14:G19,{\"新アマサ日\",\"合\"}))","v":6},null,{"$f":"SUM(COUNTIF(中越２!BA14,{\"ヨ日\"}))","v":1},null,7]
[null,"旧北魚沼郡",9070,{"$f":"中越２!N25","v":9070},null,null,null,null,null,{"$f":"中越２!BC25","v":1260},null,{"$f":"SUM(COUNTIF(中越２!E21:G24,{\"新アマサ日\",\"合\"}))","v":4},null,{"$f":"SUM(COUNTIF(中越２!BA21,{\"ヨ\"}))","v":1},null,5]
[null,"旧南魚沼郡",10490,{"$f":"中越２!N34","v":10490},null,null,null,null,null,{"$f":"中越２!BC34","v":3850},null,{"$f":"SUM(COUNTIF(中越２!E26:G33,{\"新アマサ日\",\"合\"}))","v":8},null,{"$f":"SUM(COUNTIF(中越２!BA26:BB28,{\"ヨ\"}))","v":3},null,11]
[null,"旧中魚沼郡",4700,{"$f":"中越２!N41","v":4700},null,null,null,null,null,null,null,{"$f":"SUM(COUNTIF(中越２!E35:G40,{\"合\"}))","v":6},null,null,null,6]
[null,"柏崎市",{"$f":"SUM(D34:E34)","v":12030},{"$f":"SUM(上越1!N12,上越1!N18)","v":11610},{"$f":"SUM(上越1!W9:W11)","v":420},null,null,null,null,{"$f":"SUM(上越1!BC12)","v":4350},null,{"$f":"SUM(COUNTIF(上越1!E9:G17,{\"新アマサ日\",\"合\"}))","v":8},null,{"$f":"SUM(COUNTIF(上越1!BA9:BB10,{\"ヨ\"}))","v":2},null,10,{"$f":"COUNTA(上越1!W10)","v":1}]
[null,"旧刈羽郡",{"$f":"SUM(D35:E35)","v":4050},{"$f":"上越1!N23","v":4050},null,null,null,null,null,null,null,{"$f":"SUM(COUNTIF(上越1!E19:G22,{\"合\"}))","v":4},null,null,null,4]
["上越地区","上越市",{"$f":"SUM(D36:E36)","v":22880},{"$f":"上越1!N35","v":21550},{"$f":"SUM(上越1!W24:W34)","v":1330},{"$f":"上越1!Z35","v":0},null,null,{"$f":"SUM(上越1!BC24,上越1!BC29)","v":4100},{"$f":"SUM(上越1!BC25:BE28)","v":9750},null,{"$f":"SUM(COUNTIF(上越1!E24:G34,{\"新マサ日\",\"新アマサ日\",\"合\"}))","v":11},{"$f":"SUM(COUNTIF(上越1!BA24:BB29,{\"ア\"}))","v":2},{"$f":"SUM(COUNTIF(上越1!BA24:BB29,{\"ヨ\"}))","v":4},null,17,{"$f":"COUNTA(上越1!W24:Y32)","v":8}]
[null,"旧新井市",{"$f":"SUM(D37:E37)","v":9460},{"$f":"上越1!N42","v":9460},null,null,null,null,null,null,null,{"$f":"SUM(COUNTIF(上越1!E36:G41,{\"合\"}))","v":6},null,null,null,6]
[null,"旧中頸城郡",6540,{"$f":"上越２!N15","v":6540},null,{"$f":"上越２!Z15","v":0},null,null,null,null,null,{"$f":"SUM(COUNTIF(上越２!E9:G14,{\"合\"}))","v":6},null,null,null,6]
[null,"旧東頸城郡",2830,{"$f":"上越２!N21","v":2830},null,null,null,null,null,null,null,{"$f":"SUM(COUNTIF(上越２!E16:G20,{\"合\"}))","v":5},null,null,null,5]
[null,"糸魚川市",4900,{"$f":"上越２!N25","v":4900},null,null,null,null,null,{"$f":"上越２!BC25","v":3650},null,{"$f":"SUM(COUNTIF(上越２!E22:G24,{\"新マ\",\"合\"}))","v":3},null,{"$f":"SUM(COUNTIF(上越２!BA22:BB24,{\"ヨアサ日\",\"ヨア\"}))","v":3},null,6]
[null,"旧西頸城郡",3560,{"$f":"上越２!N29","v":3560},null,null,null,null,null,null,null,{"$f":"SUM(COUNTIF(上越２!E26:G28,{\"合\"}))","v":3},null,null,null,3]
["合計",null,{"$f":"SUM(D42:E42)","v":463320},{"$f":"SUM(D7:D41)","v":442260},{"$f":"SUM(E7:E41)","v":21060},{"$f":"SUM(F7:F41)","v":164860},{"$f":"SUM(G7:G41)","v":43500},20340,{"$f":"SUM(I7:I41)","v":6210},{"$f":"SUM(J7:J41)","v":73170},640,{"$f":"SUM(L7:L41)","v":197},{"$f":"SUM(M7:M41)","v":9},51,1,258,73]
[null,"※山形県の販売店の折込部数は新潟県の折込部数の合計値に含まれておりません。"]
[null,"※新潟日報の販売店が扱う主要日刊紙は、新潟日報の折込部数に包含します。",null,null,null,null,null,null,"※朝刊部数 計",null,{"$f":"SUM(D42,I42:K42)","v":522280}]
[null,"※新潟県内には、日本経済新聞の専売店がありませんので系統区分には記載がありません。",null,null,null,null,null,null,"※朝刊部数 計（くるみる含）",null,{"$f":"SUM(C42,I42:K42)","v":543340}]

{"sheet":"ガタチラ(チラシ情報)掲載","index":12,"n_rows":80,"n_cols":15,"rows_kept":80,"cut":false,"hidden":true,"merged":[[19,4,19,18],[22,0,23,1],[22,2,22,5],[22,6,22,7],[22,8,23,8],[22,9,23,18],[23,2,23,5],[23,6,23,7],[20,0,20,1],[18,4,18,18],[13,0,13,1],[13,2,13,3],[13,4,13,5],[13,6,13,7],[13,8,13,9],[13,10,13,11],[13,14,13,18],[14,0,14,11],[14,13,15,18],[15,0,15,11],[17,4,17,18],[12,10,12,11],[8,0,9,1],[8,2,8,11],[9,2,9,11],[10,0,10,5],[10,6,10,11],[12,0,12,1],[12,2,12,3],[12,4,12,5],[12,6,12,7],[12,8,12,9],[11,14,11,18],[4,0,5,1],[4,2,4,11],[4,14,4,18],[5,2,5,11],[5,14,5,18],[6,0,7,1],[6,2,6,11],[6,14,6,18],[7,2,7,11],[7,13,9,13],[7,15,7,18],[8,14,9,18],[10,14,10,18],[0,0,0,18],[2,0,2,11],[2,13,2,18],[3,0,3,1],[3,2,3,11],[3,14,3,18]]}
["Gatachira（ガタチラ）チラシ情報への広告掲載【申込書】"]
[]
["基本要項（必須）",null,null,null,null,null,null,null,null,null,null,null,null,"以下は初回時、又は2回目以降に変更がある場合にご記入ください。"]
["ふりがな",null,null,null,null,null,null,null,null,null,null,null,null,"ふりがな"]
["クライアント名",null,null,null,null,null,null,null,null,null,null,null,null,"広告主\n又は代理店"]
[null,null,"※　チラシ情報ページのクライアント名に表示されます。タイトルの【】では株式会社等は省略されます。",null,null,null,null,null,null,null,null,null,null,"ふりがな"]
["広告タイトル",null,null,null,null,null,null,null,null,null,null,null,null,"ご担当者"]
[null,null,"※　チラシ情報ページのタイトル、【】以降に表示されます。",null,null,null,null,null,null,null,null,null,null,"ご住所","〒"]
["店舗名"]
[null,null,"※　チラシ情報ページのタイトル前【】内に表示されます。指定が無い場合はクライアント名が表示されます。"]
["掲載開始日",null,null,null,null,null,"掲載終了日　※最大6ヵ月",null,null,null,null,null,null,"TEL"]
[null,"月",null,"日",null,"曜日",null,"月",null,"日",null,"曜日",null,"MAIL"]
["エリア\n(最大5個)"]
["チラシのカテゴリ\n(最大5個)",null,null,null,null,null,null,null,null,null,null,null,null,"データ入稿先","gatachira2@niigata-mn.co.jp"]
["対象店舗やURL、注意書き、クーポンの利用方法など　その他掲載情報（任意）",null,null,null,null,null,null,null,null,null,null,null,null,"データ形式：JPG　PNG　データサイズ：5000ピクセル以内（テキストが潰れない程度）\nデータ送信容量：合計4MB（データ容量が4MBを超える場合はデータ便などのオンラインストレージサービスをご利用ください。）\n※弊社「新聞折込広告基準」に準じている広告をご入稿ください。\n※トンボなどの不要なデータは削除してご入稿ください。\n※指定サイズを超える場合はご相談ください。"]
[]
[]
[null,null,"【掲載期間】",null,"掲載期間は最大6ヵ月となります。掲載の延長を希望される場合は改めてお申し込みください。"]
[null,null,"【データ入稿】",null,"データ入稿の締切は掲載日の2営業日前のAMまでとなります（お盆・年末年始などは除く）\nまた、データ容量が大きすぎる場合はインターネット上での読み込み速度が遅くなる為、弊社にて加工させていただく場合がございます。"]
[null,null,"【その他】",null,"クーポン付チラシの場合、電子クーポンの利用について「可・否」をご記載ください。利用可の場合、「利用方法」も併せてご記載をお願いします。\nサイトの仕様上、タイトルのテキスト数やカテゴリ等、弊社の判断で添削する場合がございます。予めご了承ください。"]
[null,null,"株式会社 新潟日報メディアネット　ガタチラ事務局"]
[]
["運営記入欄",null,"No",null,null,null,"受付日",null,"備考"]
[]
["カテゴリ"]
["スーパー"]
["百貨店"]
["ホームセンター"]
["電化製品"]
["　家電製品"]
["　パソコン用品"]
["　携帯電話"]
["ファッション"]
["　衣服"]
["　靴"]
["　アクセサリー"]
["雑貨"]
["　おもちゃ"]
["　インテリア雑貨・家具"]
["通信販売"]
["車"]
["　新車"]
["　中古車"]
["　カー用品"]
["習い事"]
["　塾"]
["　そろばん"]
["　スポーツ"]
["　スイミング"]
["　プログラミング"]
["　その他"]
["住宅"]
["　不動産"]
["　マンション・アパート"]
["　リフォーム"]
["お掃除"]
["　クリーニング"]
["　ハウスクリーニング"]
["　便利屋"]
["官公庁（自治体）"]
["ドラッグストア"]
["飲食店"]
["　レストラン・食事処"]
["　カフェ"]
["　スイーツ"]
["　居酒屋"]
["　宅配・テイクアウト"]
["美容"]
["　美容室"]
["　エステ"]
["スポーツジム"]
["入浴・スパ"]
["パチンコ"]
["冠婚葬祭"]
["　式場"]
["　葬儀場"]
["買取／販売"]
["旅行／レジャー"]
["求人情報"]
["その他"]

{"sheet":"更新履歴","index":13,"n_rows":20,"n_cols":4,"rows_kept":20,"cut":false,"hidden":true,"merged":[]}
["日","対象シート","更新内容","対応者"]
["2022-11-04","下越１・２、中越１","Otona+部数欄に※追加　朝刊配達エリア店","櫻井"]
["2022-11-04","新潟市","assh説明文　J-assh削除","櫻井"]
["2022-11-04","新潟市","くるみる部数欄　条件設定変更　色付け解除","櫻井"]
["2022-11-05","下越２","佐渡の中央紙並び替え（従来版に戻した）","櫻井"]
["2022-11-05","地区集計","旧佐渡郡、中央紙部数・件数計算式更新","櫻井"]
["2022-11-05","下越１・２、中越１","条件設定変更　旧豊栄市　色付け設定","櫻井"]
["2022-11-05","下越１・２、中越１","地域小計　計算式追加（ａｓｓｈ、おとプラ）","櫻井"]
["2022-11-14","中越１","長岡大手くるみる欄追加、条件設定変更（Ｑ）","櫻井"]
["2022-11-14","地区集計","くるみる欄長岡市数式更新","櫻井"]
["2022-11-14","新潟市～上越２","全媒体部数改定12月","櫻井"]
["2022-11-18","下越２","羽茂　合、旧佐渡郡合計部数","櫻井"]
["2023-01-26","下越１","吉田産経削除　→　吉田　合　4730部","込山"]
["2023-01-27","下越１～上越2","サイズ・ガタチラ他　入力制限・ロック設定","櫻井"]
["2023-10-12","下越１","矢代田・新津　朝刊部数","櫻井"]
["2023-10-12","下越１","三条西削除　三条北　朝刊・Otona+部数　","櫻井"]
["2023-10-12","下越１","豊栄南削除　豊栄北　朝・く・ａ・お部数、販売店名称","櫻井"]
["2023-10-12","中越１","長岡大手削除　長岡中央・東　各部数","櫻井"]
["2023-10-12","上越１","柏崎東削除　柏崎　朝刊部数","櫻井"]
["2023-10-12","表紙","日付","櫻井"]

{"sheet":"ＥＤＩ朝刊","index":14,"n_rows":323,"n_cols":22,"rows_kept":323,"cut":false,"hidden":true,"merged":[[1,5,1,21]]}
[1,{"$f":"A1+1","v":2},{"$f":"B1+1","v":3},4,5,6,7,8,9,10,11,12,13,14,15,16,17,18,19,20,21,22]
[null,null,null,null,null,"CSV出力範囲"]
[null,null,null,null,null,1,2,3,4,5,6,7,8,9,10,11,12,13,14,15,16,17]
["①ヘッダーレコード",null,null,null,null,1,0,"025669",0,0,"株式会社　新潟日報サービスネット","データ作成日付（YYYYMMDD）","受注No．",1,0,0,{"$f":"新潟市!M3","v":0},{"$f":"TEXT(新潟市!A3,\"yyyymmdd\")","v":"2023/--/--"},{"$f":"IF(新潟市!AI3=0,\"\",新潟市!AI3)","v":""},{"$f":"新潟市!BU5","v":{"$error":"#N/A"}},{"$f":"SUM(I5:I321)","v":{"$error":"#REF!"}}]
["②明細コード","新潟市","日報",1,{"$f":"新潟市!BU9","v":"万代"},2,"受注No．",{"$f":"新潟市!BV9","v":10101},{"$f":"IF(新潟市!BY9=0,\"\",新潟市!BY9)","v":""},1,{"$f":"IF(新潟市!AL9=0,\"\",新潟市!AL9)","v":""}]
["②明細コード","新潟市","日報",{"$f":"D5+1","v":2},{"$f":"新潟市!BU10","v":"駅南"},2,"受注No．",{"$f":"新潟市!BV10","v":10102},{"$f":"IF(新潟市!BY10=0,\"\",新潟市!BY10)","v":""},1,{"$f":"IF(新潟市!AL10=0,\"\",新潟市!AL10)","v":""}]
["②明細コード","新潟市","日報",{"$f":"D6+1","v":3},{"$f":"新潟市!BU11","v":"木戸"},2,"受注No．",{"$f":"新潟市!BV11","v":10103},{"$f":"IF(新潟市!BY11=0,\"\",新潟市!BY11)","v":""},1,{"$f":"IF(新潟市!AL11=0,\"\",新潟市!AL11)","v":""}]
["②明細コード","新潟市","日報",4,{"$f":"新潟市!BU12","v":"石山東"},2,"受注No．",{"$f":"新潟市!BV12","v":10105},{"$f":"IF(新潟市!BY12=0,\"\",新潟市!BY12)","v":""},1,{"$f":"IF(新潟市!AL12=0,\"\",新潟市!AL12)","v":""}]
["②明細コード","新潟市","日報",5,{"$f":"新潟市!BU13","v":"山ノ下"},2,"受注No．",{"$f":"新潟市!BV13","v":10107},{"$f":"IF(新潟市!BY13=0,\"\",新潟市!BY13)","v":""},1,{"$f":"IF(新潟市!AL13=0,\"\",新潟市!AL13)","v":""}]
["②明細コード","新潟市","日報",6,{"$f":"新潟市!BU14","v":"物見山"},2,"受注No．",{"$f":"新潟市!BV14","v":10108},{"$f":"IF(新潟市!BY14=0,\"\",新潟市!BY14)","v":""},1,{"$f":"IF(新潟市!AL14=0,\"\",新潟市!AL14)","v":""}]
["②明細コード","新潟市","日報",7,{"$f":"新潟市!BU15","v":"とやの"},2,"受注No．",{"$f":"新潟市!BV15","v":10109},{"$f":"IF(新潟市!BY15=0,\"\",新潟市!BY15)","v":""},1,{"$f":"IF(新潟市!AL15=0,\"\",新潟市!AL15)","v":""}]
["②明細コード","新潟市","日報",8,{"$f":"新潟市!BU16","v":"県庁前"},2,"受注No．",{"$f":"新潟市!BV16","v":10111},{"$f":"IF(新潟市!BY16=0,\"\",新潟市!BY16)","v":""},1,{"$f":"IF(新潟市!AL16=0,\"\",新潟市!AL16)","v":""}]
["②明細コード","新潟市","日報",9,{"$f":"新潟市!#REF!","v":{"$error":"#REF!"}},2,"受注No．",{"$f":"新潟市!#REF!","v":{"$error":"#REF!"}},{"$f":"IF(新潟市!#REF!=0,\"\",新潟市!#REF!)","v":{"$error":"#REF!"}},1,{"$f":"IF(新潟市!#REF!=0,\"\",新潟市!#REF!)","v":{"$error":"#REF!"}}]
["②明細コード","新潟市","日報",10,{"$f":"新潟市!BU17","v":"愛宕"},2,"受注No．",{"$f":"新潟市!BV17","v":10113},{"$f":"IF(新潟市!BY17=0,\"\",新潟市!BY17)","v":""},1,{"$f":"IF(新潟市!AL17=0,\"\",新潟市!AL17)","v":""}]
["②明細コード","新潟市","日報",11,{"$f":"新潟市!BU18","v":"河渡"},2,"受注No．",{"$f":"新潟市!BV18","v":10114},{"$f":"IF(新潟市!BY18=0,\"\",新潟市!BY18)","v":""},1,{"$f":"IF(新潟市!AL18=0,\"\",新潟市!AL18)","v":""}]
["②明細コード","新潟市","日報",12,{"$f":"新潟市!BU19","v":"牡丹山"},2,"受注No．",{"$f":"新潟市!BV19","v":10115},{"$f":"IF(新潟市!BY19=0,\"\",新潟市!BY19)","v":""},1,{"$f":"IF(新潟市!AL19=0,\"\",新潟市!AL19)","v":""}]
["②明細コード","新潟市","日報",13,{"$f":"新潟市!BU20","v":"大形"},2,"受注No．",{"$f":"新潟市!BV20","v":10116},{"$f":"IF(新潟市!BY20=0,\"\",新潟市!BY20)","v":""},1,{"$f":"IF(新潟市!AL20=0,\"\",新潟市!AL20)","v":""}]
["②明細コード","新潟市","日報",14,{"$f":"新潟市!BU21","v":"松浜"},2,"受注No．",{"$f":"新潟市!BV21","v":10117},{"$f":"IF(新潟市!BY21=0,\"\",新潟市!BY21)","v":""},1,{"$f":"IF(新潟市!AL21=0,\"\",新潟市!AL21)","v":""}]
["②明細コード","新潟市","日報",15,{"$f":"新潟市!BU22","v":"新潟南"},2,"受注No．",{"$f":"新潟市!BV22","v":10118},{"$f":"IF(新潟市!BY22=0,\"\",新潟市!BY22)","v":""},1,{"$f":"IF(新潟市!AL22=0,\"\",新潟市!AL22)","v":""}]
["②明細コード","新潟市","日報",16,{"$f":"新潟市!BU23","v":"姥ケ山"},2,"受注No．",{"$f":"新潟市!BV23","v":10119},{"$f":"IF(新潟市!BY23=0,\"\",新潟市!BY23)","v":""},1,{"$f":"IF(新潟市!AL23=0,\"\",新潟市!AL23)","v":""}]
["②明細コード","新潟市","日報",17,{"$f":"新潟市!BU24","v":"山二ツ"},2,"受注No．",{"$f":"新潟市!BV24","v":10120},{"$f":"IF(新潟市!BY24=0,\"\",新潟市!BY24)","v":""},1,{"$f":"IF(新潟市!AL24=0,\"\",新潟市!AL24)","v":""}]
["②明細コード","新潟市","日報",18,{"$f":"新潟市!BU25","v":"亀田西"},2,"受注No．",{"$f":"新潟市!BV25","v":10122},{"$f":"IF(新潟市!BY25=0,\"\",新潟市!BY25)","v":""},1,{"$f":"IF(新潟市!AL25=0,\"\",新潟市!AL25)","v":""}]
["②明細コード","新潟市","日報",19,{"$f":"新潟市!BU26","v":"亀田"},2,"受注No．",{"$f":"新潟市!BV26","v":10123},{"$f":"IF(新潟市!BY26=0,\"\",新潟市!BY26)","v":""},1,{"$f":"IF(新潟市!AL26=0,\"\",新潟市!AL26)","v":""}]
["②明細コード","新潟市","日報",20,{"$f":"新潟市!BU27","v":"横越"},2,"受注No．",{"$f":"新潟市!BV27","v":10176},{"$f":"IF(新潟市!BY27=0,\"\",新潟市!BY27)","v":""},1,{"$f":"IF(新潟市!AL27=0,\"\",新潟市!AL27)","v":""}]
["②明細コード","新潟市","日報",21,{"$f":"新潟市!BU28","v":"有明"},2,"受注No．",{"$f":"新潟市!BV28","v":10177},{"$f":"IF(新潟市!BY28=0,\"\",新潟市!BY28)","v":""},1,{"$f":"IF(新潟市!AL28=0,\"\",新潟市!AL28)","v":""}]
["②明細コード","新潟市","日報",22,{"$f":"新潟市!BU29","v":"小針"},2,"受注No．",{"$f":"新潟市!BV29","v":10127},{"$f":"IF(新潟市!BY29=0,\"\",新潟市!BY29)","v":""},1,{"$f":"IF(新潟市!AL29=0,\"\",新潟市!AL29)","v":""}]
["②明細コード","新潟市","日報",23,{"$f":"新潟市!BU30","v":"中通"},2,"受注No．",{"$f":"新潟市!BV30","v":10128},{"$f":"IF(新潟市!BY30=0,\"\",新潟市!BY30)","v":""},1,{"$f":"IF(新潟市!AL30=0,\"\",新潟市!AL30)","v":""}]
["②明細コード","新潟市","日報",24,{"$f":"新潟市!BU31","v":"本町"},2,"受注No．",{"$f":"新潟市!BV31","v":10130},{"$f":"IF(新潟市!BY31=0,\"\",新潟市!BY31)","v":""},1,{"$f":"IF(新潟市!AL31=0,\"\",新潟市!AL31)","v":""}]
["②明細コード","新潟市","日報",25,{"$f":"新潟市!BU32","v":"中央"},2,"受注No．",{"$f":"新潟市!BV32","v":10131},{"$f":"IF(新潟市!BY32=0,\"\",新潟市!BY32)","v":""},1,{"$f":"IF(新潟市!AL32=0,\"\",新潟市!AL32)","v":""}]
["②明細コード","新潟市","日報",26,{"$f":"新潟市!BU33","v":"真砂"},2,"受注No．",{"$f":"新潟市!BV33","v":10133},{"$f":"IF(新潟市!BY33=0,\"\",新潟市!BY33)","v":""},1,{"$f":"IF(新潟市!AL33=0,\"\",新潟市!AL33)","v":""}]
["②明細コード","新潟市","日報",27,{"$f":"新潟市!BU34","v":"寺尾"},2,"受注No．",{"$f":"新潟市!BV34","v":10134},{"$f":"IF(新潟市!BY34=0,\"\",新潟市!BY34)","v":""},1,{"$f":"IF(新潟市!AL34=0,\"\",新潟市!AL34)","v":""}]
["②明細コード","新潟市","日報",28,{"$f":"新潟市!BU35","v":"新大前"},2,"受注No．",{"$f":"新潟市!BV35","v":10135},{"$f":"IF(新潟市!BY35=0,\"\",新潟市!BY35)","v":""},1,{"$f":"IF(新潟市!AL35=0,\"\",新潟市!AL35)","v":""}]
["②明細コード","新潟市","日報",29,{"$f":"新潟市!BU36","v":"内野"},2,"受注No．",{"$f":"新潟市!BV36","v":10136},{"$f":"IF(新潟市!BY36=0,\"\",新潟市!BY36)","v":""},1,{"$f":"IF(新潟市!AL36=0,\"\",新潟市!AL36)","v":""}]
["②明細コード","新潟市","日報",30,{"$f":"新潟市!BU37","v":"西内野"},2,"受注No．",{"$f":"新潟市!BV37","v":10137},{"$f":"IF(新潟市!BY37=0,\"\",新潟市!BY37)","v":""},1,{"$f":"IF(新潟市!AL37=0,\"\",新潟市!AL37)","v":""}]
["②明細コード","新潟市","日報",31,{"$f":"新潟市!#REF!","v":{"$error":"#REF!"}},2,"受注No．",{"$f":"新潟市!#REF!","v":{"$error":"#REF!"}},{"$f":"IF(新潟市!#REF!=0,\"\",新潟市!#REF!)","v":{"$error":"#REF!"}},1,{"$f":"IF(新潟市!#REF!=0,\"\",新潟市!#REF!)","v":{"$error":"#REF!"}}]
["②明細コード","新潟市","日報",32,{"$f":"新潟市!BU38","v":"小新"},2,"受注No．",{"$f":"新潟市!BV38","v":10140},{"$f":"IF(新潟市!BY38=0,\"\",新潟市!BY38)","v":""},1,{"$f":"IF(新潟市!AL38=0,\"\",新潟市!AL38)","v":""}]
["②明細コード","新潟市","日報",33,{"$f":"新潟市!BU39","v":"寺地"},2,"受注No．",{"$f":"新潟市!BV39","v":10141},{"$f":"IF(新潟市!BY39=0,\"\",新潟市!BY39)","v":""},1,{"$f":"IF(新潟市!AL39=0,\"\",新潟市!AL39)","v":""}]
["②明細コード","新潟市","日報",34,{"$f":"新潟市!BU40","v":"黒埼"},2,"受注No．",{"$f":"新潟市!BV40","v":10178},{"$f":"IF(新潟市!BY40=0,\"\",新潟市!BY40)","v":""},1,{"$f":"IF(新潟市!AL40=0,\"\",新潟市!AL40)","v":""}]
["②明細コード","新潟市","日報",35,{"$f":"新潟市!BU41","v":"黒埼南"},2,"受注No．",{"$f":"新潟市!BV41","v":10143},{"$f":"IF(新潟市!BY41=0,\"\",新潟市!BY41)","v":""},1,{"$f":"IF(新潟市!AL41=0,\"\",新潟市!AL41)","v":""}]
["②明細コード","新潟市","中央紙",1,{"$f":"新潟市!#REF!","v":{"$error":"#REF!"}},2,"受注No．",{"$f":"新潟市!#REF!","v":{"$error":"#REF!"}},{"$f":"IF(新潟市!#REF!=0,\"\",新潟市!#REF!)","v":{"$error":"#REF!"}},1,{"$f":"IF(新潟市!#REF!=0,\"\",新潟市!#REF!)","v":{"$error":"#REF!"}}]
["②明細コード","新潟市","中央紙",2,{"$f":"新潟市!#REF!","v":{"$error":"#REF!"}},2,"受注No．",{"$f":"新潟市!#REF!","v":{"$error":"#REF!"}},{"$f":"IF(新潟市!#REF!=0,\"\",新潟市!#REF!)","v":{"$error":"#REF!"}},1,{"$f":"IF(新潟市!#REF!=0,\"\",新潟市!#REF!)","v":{"$error":"#REF!"}}]
["②明細コード","新潟市","中央紙",3,{"$f":"新潟市!CE9","v":"本町"},2,"受注No．",{"$f":"新潟市!CF9","v":210167},{"$f":"IF(新潟市!CG9=0,\"\",新潟市!CG9)","v":""},1,{"$f":"IF(新潟市!CH9=0,\"\",新潟市!CH9)","v":""}]
["②明細コード","新潟市","中央紙",4,{"$f":"新潟市!CE10","v":"中央"},2,"受注No．",{"$f":"新潟市!CF10","v":210168},{"$f":"IF(新潟市!CG10=0,\"\",新潟市!CG10)","v":""},1,{"$f":"IF(新潟市!CH10=0,\"\",新潟市!CH10)","v":""}]
["②明細コード","新潟市","中央紙",5,{"$f":"新潟市!CE11","v":"小針"},2,"受注No．",{"$f":"新潟市!CF11","v":210169},{"$f":"IF(新潟市!CG11=0,\"\",新潟市!CG11)","v":""},1,{"$f":"IF(新潟市!CH11=0,\"\",新潟市!CH11)","v":""}]
["②明細コード","新潟市","中央紙",6,{"$f":"新潟市!CE12","v":"寺尾"},2,"受注No．",{"$f":"新潟市!CF12","v":210170},{"$f":"IF(新潟市!CG12=0,\"\",新潟市!CG12)","v":""},1,{"$f":"IF(新潟市!CH12=0,\"\",新潟市!CH12)","v":""}]
["②明細コード","新潟市","中央紙",7,{"$f":"新潟市!CE13","v":"内野"},2,"受注No．",{"$f":"新潟市!CF13","v":210171},{"$f":"IF(新潟市!CG13=0,\"\",新潟市!CG13)","v":""},1,{"$f":"IF(新潟市!CH13=0,\"\",新潟市!CH13)","v":""}]
["②明細コード","新潟市","中央紙",8,{"$f":"新潟市!CE14","v":"小新黒埼"},2,"受注No．",{"$f":"新潟市!CF14","v":210172},{"$f":"IF(新潟市!CG14=0,\"\",新潟市!CG14)","v":""},1,{"$f":"IF(新潟市!CH14=0,\"\",新潟市!CH14)","v":""}]
["②明細コード","新潟市","中央紙",9,{"$f":"新潟市!CE15","v":"黒埼南"},2,"受注No．",{"$f":"新潟市!CF15","v":210179},{"$f":"IF(新潟市!CG15=0,\"\",新潟市!CG15)","v":""},1,{"$f":"IF(新潟市!CH15=0,\"\",新潟市!CH15)","v":""}]
["②明細コード","新潟市","中央紙",10,{"$f":"新潟市!CE16","v":"万代"},2,"受注No．",{"$f":"新潟市!CF16","v":210158},{"$f":"IF(新潟市!CG16=0,\"\",新潟市!CG16)","v":""},1,{"$f":"IF(新潟市!CH16=0,\"\",新潟市!CH16)","v":""}]
["②明細コード","新潟市","中央紙",11,{"$f":"新潟市!CE17","v":"県庁前"},2,"受注No．",{"$f":"新潟市!CF17","v":210159},{"$f":"IF(新潟市!CG17=0,\"\",新潟市!CG17)","v":""},1,{"$f":"IF(新潟市!CH17=0,\"\",新潟市!CH17)","v":""}]
["②明細コード","新潟市","中央紙",12,{"$f":"新潟市!CE18","v":"駅南東"},2,"受注No．",{"$f":"新潟市!CF18","v":210160},{"$f":"IF(新潟市!CG18=0,\"\",新潟市!CG18)","v":""},1,{"$f":"IF(新潟市!CH18=0,\"\",新潟市!CH18)","v":""}]
["②明細コード","新潟市","中央紙",13,{"$f":"新潟市!CE19","v":"山木戸"},2,"受注No．",{"$f":"新潟市!CF19","v":210162},{"$f":"IF(新潟市!CG19=0,\"\",新潟市!CG19)","v":""},1,{"$f":"IF(新潟市!CH19=0,\"\",新潟市!CH19)","v":""}]
["②明細コード","新潟市","中央紙",14,{"$f":"新潟市!CE20","v":"山ノ下"},2,"受注No．",{"$f":"新潟市!CF20","v":210163},{"$f":"IF(新潟市!CG20=0,\"\",新潟市!CG20)","v":""},1,{"$f":"IF(新潟市!CH20=0,\"\",新潟市!CH20)","v":""}]
["②明細コード","新潟市","中央紙",15,{"$f":"新潟市!CE21","v":"松浜"},2,"受注No．",{"$f":"新潟市!CF21","v":210164},{"$f":"IF(新潟市!CG21=0,\"\",新潟市!CG21)","v":""},1,{"$f":"IF(新潟市!CH21=0,\"\",新潟市!CH21)","v":""}]
["②明細コード","新潟市","中央紙",16,{"$f":"新潟市!CE22","v":"亀田"},2,"受注No．",{"$f":"新潟市!CF22","v":210166},{"$f":"IF(新潟市!CG22=0,\"\",新潟市!CG22)","v":""},1,{"$f":"IF(新潟市!CH22=0,\"\",新潟市!CH22)","v":""}]
["②明細コード","下越地区1","日報",1,{"$f":"下越1!BU9","v":"分水"},2,"受注No．",{"$f":"IF(下越1!BV9=0,\"\",下越1!BV9)","v":20101},{"$f":"IF(下越1!BY9=0,\"\",下越1!BY9)","v":""},1,{"$f":"IF(下越1!BZ9=0,\"\",下越1!BZ9)","v":""}]
["②明細コード","下越地区1","日報",{"$f":"D56+1","v":2},{"$f":"下越1!BU10","v":"吉田"},2,"受注No．",{"$f":"IF(下越1!BV10=0,\"\",下越1!BV10)","v":20102},{"$f":"IF(下越1!BY10=0,\"\",下越1!BY10)","v":""},1,{"$f":"IF(下越1!BZ10=0,\"\",下越1!BZ10)","v":""}]
["②明細コード","下越地区1","日報",{"$f":"D57+1","v":3},{"$f":"下越1!BU11","v":"粟生津"},2,"受注No．",{"$f":"IF(下越1!BV11=0,\"\",下越1!BV11)","v":20104},{"$f":"IF(下越1!BY11=0,\"\",下越1!BY11)","v":""},1,{"$f":"IF(下越1!BZ11=0,\"\",下越1!BZ11)","v":""}]
["②明細コード","下越地区1","日報",4,{"$f":"下越1!BU12","v":"巻"},2,"受注No．",{"$f":"IF(下越1!BV12=0,\"\",下越1!BV12)","v":20105},{"$f":"IF(下越1!BY12=0,\"\",下越1!BY12)","v":""},1,{"$f":"IF(下越1!BZ12=0,\"\",下越1!BZ12)","v":""}]
["②明細コード","下越地区1","日報",5,{"$f":"下越1!BU13","v":"岩室"},2,"受注No．",{"$f":"IF(下越1!BV13=0,\"\",下越1!BV13)","v":20108},{"$f":"IF(下越1!BY13=0,\"\",下越1!BY13)","v":""},1,{"$f":"IF(下越1!BZ13=0,\"\",下越1!BZ13)","v":""}]
["②明細コード","下越地区1","日報",6,{"$f":"下越1!BU14","v":"西川"},2,"受注No．",{"$f":"IF(下越1!BV14=0,\"\",下越1!BV14)","v":20109},{"$f":"IF(下越1!BY14=0,\"\",下越1!BY14)","v":""},1,{"$f":"IF(下越1!BZ14=0,\"\",下越1!BZ14)","v":""}]
["②明細コード","下越地区1","日報",7,{"$f":"下越1!BU15","v":"中之口"},2,"受注No．",{"$f":"IF(下越1!BV15=0,\"\",下越1!BV15)","v":20110},{"$f":"IF(下越1!BY15=0,\"\",下越1!BY15)","v":""},1,{"$f":"IF(下越1!BZ15=0,\"\",下越1!BZ15)","v":""}]
["②明細コード","下越地区1","日報",8,{"$f":"下越1!BU16","v":"弥彦"},2,"受注No．",{"$f":"IF(下越1!BV16=0,\"\",下越1!BV16)","v":20111},{"$f":"IF(下越1!BY16=0,\"\",下越1!BY16)","v":""},1,{"$f":"IF(下越1!BZ16=0,\"\",下越1!BZ16)","v":""}]
["②明細コード","下越地区1","日報",9,{"$f":"下越1!BU17","v":0},2,"受注No．",{"$f":"IF(下越1!BV17=0,\"\",下越1!BV17)","v":""},{"$f":"IF(下越1!BY17=0,\"\",下越1!BY17)","v":""},1,{"$f":"IF(下越1!BZ17=0,\"\",下越1!BZ17)","v":""}]
["②明細コード","下越地区1","日報",10,{"$f":"下越1!BU18","v":"小須戸"},2,"受注No．",{"$f":"IF(下越1!BV18=0,\"\",下越1!BV18)","v":20112},{"$f":"IF(下越1!BY18=0,\"\",下越1!BY18)","v":""},1,{"$f":"IF(下越1!BZ18=0,\"\",下越1!BZ18)","v":""}]
["②明細コード","下越地区1","日報",11,{"$f":"下越1!BU19","v":"矢代田"},2,"受注No．",{"$f":"IF(下越1!BV19=0,\"\",下越1!BV19)","v":20113},{"$f":"IF(下越1!BY19=0,\"\",下越1!BY19)","v":""},1,{"$f":"IF(下越1!BZ19=0,\"\",下越1!BZ19)","v":""}]
["②明細コード","下越地区1","日報",12,{"$f":"下越1!BU20","v":"村松"},2,"受注No．",{"$f":"IF(下越1!BV20=0,\"\",下越1!BV20)","v":20114},{"$f":"IF(下越1!BY20=0,\"\",下越1!BY20)","v":""},1,{"$f":"IF(下越1!BZ20=0,\"\",下越1!BZ20)","v":""}]
["②明細コード","下越地区1","日報",13,{"$f":"下越1!BU21","v":0},2,"受注No．",{"$f":"IF(下越1!BV21=0,\"\",下越1!BV21)","v":""},{"$f":"IF(下越1!BY21=0,\"\",下越1!BY21)","v":""},1,{"$f":"IF(下越1!BZ21=0,\"\",下越1!BZ21)","v":""}]
["②明細コード","下越地区1","日報",14,{"$f":"下越1!BU22","v":"新津"},2,"受注No．",{"$f":"IF(下越1!BV22=0,\"\",下越1!BV22)","v":20116},{"$f":"IF(下越1!BY22=0,\"\",下越1!BY22)","v":""},1,{"$f":"IF(下越1!BZ22=0,\"\",下越1!BZ22)","v":""}]
["②明細コード","下越地区1","日報",15,{"$f":"下越1!BU23","v":"新津・荻川"},2,"受注No．",{"$f":"IF(下越1!BV23=0,\"\",下越1!BV23)","v":20181},{"$f":"IF(下越1!BY23=0,\"\",下越1!BY23)","v":""},1,{"$f":"IF(下越1!BZ23=0,\"\",下越1!BZ23)","v":""}]
["②明細コード","下越地区1","日報",16,{"$f":"下越1!BU24","v":0},2,"受注No．",{"$f":"IF(下越1!BV24=0,\"\",下越1!BV24)","v":""},{"$f":"IF(下越1!BY24=0,\"\",下越1!BY24)","v":""},1,{"$f":"IF(下越1!BZ24=0,\"\",下越1!BZ24)","v":""}]
["②明細コード","下越地区1","日報",17,{"$f":"下越1!BU25","v":"五泉"},2,"受注No．",{"$f":"IF(下越1!BV25=0,\"\",下越1!BV25)","v":20117},{"$f":"IF(下越1!BY25=0,\"\",下越1!BY25)","v":""},1,{"$f":"IF(下越1!BZ25=0,\"\",下越1!BZ25)","v":""}]
["②明細コード","下越地区1","日報",18,{"$f":"下越1!BU27","v":"保田・馬下"},2,"受注No．",{"$f":"IF(下越1!BV27=0,\"\",下越1!BV27)","v":20183},{"$f":"IF(下越1!BY27=0,\"\",下越1!BY27)","v":""},1,{"$f":"IF(下越1!BZ27=0,\"\",下越1!BZ27)","v":""}]
["②明細コード","下越地区1","日報",19,{"$f":"下越1!BU28","v":0},2,"受注No．",{"$f":"IF(下越1!BV28=0,\"\",下越1!BV28)","v":""},{"$f":"IF(下越1!BY28=0,\"\",下越1!BY28)","v":""},1,{"$f":"IF(下越1!BZ28=0,\"\",下越1!BZ28)","v":""}]
["②明細コード","下越地区1","日報",20,{"$f":"下越1!BU29","v":"白根"},2,"受注No．",{"$f":"IF(下越1!BV29=0,\"\",下越1!BV29)","v":20120},{"$f":"IF(下越1!BY29=0,\"\",下越1!BY29)","v":""},1,{"$f":"IF(下越1!BZ29=0,\"\",下越1!BZ29)","v":""}]
["②明細コード","下越地区1","日報",21,{"$f":"下越1!BU30","v":"月潟"},2,"受注No．",{"$f":"IF(下越1!BV30=0,\"\",下越1!BV30)","v":20122},{"$f":"IF(下越1!BY30=0,\"\",下越1!BY30)","v":""},1,{"$f":"IF(下越1!BZ30=0,\"\",下越1!BZ30)","v":""}]
["②明細コード","下越地区1","日報",22,{"$f":"下越1!BU31","v":"新飯田"},2,"受注No．",{"$f":"IF(下越1!BV31=0,\"\",下越1!BV31)","v":20123},{"$f":"IF(下越1!BY31=0,\"\",下越1!BY31)","v":""},1,{"$f":"IF(下越1!BZ31=0,\"\",下越1!BZ31)","v":""}]
["②明細コード","下越地区1","日報",23,{"$f":"下越1!BU32","v":0},2,"受注No．",{"$f":"IF(下越1!BV32=0,\"\",下越1!BV32)","v":""},{"$f":"IF(下越1!BY32=0,\"\",下越1!BY32)","v":""},1,{"$f":"IF(下越1!BZ32=0,\"\",下越1!BZ32)","v":""}]
["②明細コード","下越地区1","日報",24,{"$f":"下越1!BU33","v":"三条北"},2,"受注No．",{"$f":"IF(下越1!BV33=0,\"\",下越1!BV33)","v":20124},{"$f":"IF(下越1!BY33=0,\"\",下越1!BY33)","v":""},1,{"$f":"IF(下越1!BZ33=0,\"\",下越1!BZ33)","v":""}]
["②明細コード","下越地区1","日報",25,{"$f":"下越1!BU34","v":"三条南"},2,"受注No．",{"$f":"IF(下越1!BV34=0,\"\",下越1!BV34)","v":20125},{"$f":"IF(下越1!BY34=0,\"\",下越1!BY34)","v":""},1,{"$f":"IF(下越1!BZ34=0,\"\",下越1!BZ34)","v":""}]
["②明細コード","下越地区1","日報",26,{"$f":"下越1!#REF!","v":{"$error":"#REF!"}},2,"受注No．",{"$f":"IF(下越1!#REF!=0,\"\",下越1!#REF!)","v":{"$error":"#REF!"}},{"$f":"IF(下越1!#REF!=0,\"\",下越1!#REF!)","v":{"$error":"#REF!"}},1,{"$f":"IF(下越1!#REF!=0,\"\",下越1!#REF!)","v":{"$error":"#REF!"}}]
["②明細コード","下越地区1","日報",27,{"$f":"下越1!BU35","v":0},2,"受注No．",{"$f":"IF(下越1!BV35=0,\"\",下越1!BV35)","v":""},{"$f":"IF(下越1!BY35=0,\"\",下越1!BY35)","v":""},1,{"$f":"IF(下越1!BZ35=0,\"\",下越1!BZ35)","v":""}]
["②明細コード","下越地区1","日報",28,{"$f":"下越1!BU36","v":"燕"},2,"受注No．",{"$f":"IF(下越1!BV36=0,\"\",下越1!BV36)","v":20130},{"$f":"IF(下越1!BY36=0,\"\",下越1!BY36)","v":""},1,{"$f":"IF(下越1!BZ36=0,\"\",下越1!BZ36)","v":""}]
["②明細コード","下越地区1","日報",29,{"$f":"下越1!BU37","v":"燕南"},2,"受注No．",{"$f":"IF(下越1!BV37=0,\"\",下越1!BV37)","v":20131},{"$f":"IF(下越1!BY37=0,\"\",下越1!BY37)","v":""},1,{"$f":"IF(下越1!BZ37=0,\"\",下越1!BZ37)","v":""}]
["②明細コード","下越地区1","日報",30,{"$f":"下越1!BU38","v":0},2,"受注No．",{"$f":"IF(下越1!BV38=0,\"\",下越1!BV38)","v":""},{"$f":"IF(下越1!BY38=0,\"\",下越1!BY38)","v":""},1,{"$f":"IF(下越1!BZ38=0,\"\",下越1!BZ38)","v":""}]
["②明細コード","下越地区1","日報",31,{"$f":"下越1!BU39","v":"加茂"},2,"受注No．",{"$f":"IF(下越1!BV39=0,\"\",下越1!BV39)","v":20135},{"$f":"IF(下越1!BY39=0,\"\",下越1!BY39)","v":""},1,{"$f":"IF(下越1!BZ39=0,\"\",下越1!BZ39)","v":""}]
["②明細コード","下越地区1","日報",32,{"$f":"下越1!BU40","v":0},2,"受注No．",{"$f":"IF(下越1!BV40=0,\"\",下越1!BV40)","v":""},{"$f":"IF(下越1!BY40=0,\"\",下越1!BY40)","v":""},1,{"$f":"IF(下越1!BZ40=0,\"\",下越1!BZ40)","v":""}]
["②明細コード","下越地区1","日報",33,{"$f":"下越1!BU41","v":"下田"},2,"受注No．",{"$f":"IF(下越1!BV41=0,\"\",下越1!BV41)","v":20139},{"$f":"IF(下越1!BY41=0,\"\",下越1!BY41)","v":""},1,{"$f":"IF(下越1!BZ41=0,\"\",下越1!BZ41)","v":""}]
["②明細コード","下越地区1","日報",34,{"$f":"下越1!BU42","v":"栄山嵜"},2,"受注No．",{"$f":"IF(下越1!BV42=0,\"\",下越1!BV42)","v":20140},{"$f":"IF(下越1!BY42=0,\"\",下越1!BY42)","v":""},1,{"$f":"IF(下越1!BZ42=0,\"\",下越1!BZ42)","v":""}]
["②明細コード","下越地区1","日報",35,{"$f":"下越1!BU43","v":"栄吉田"},2,"受注No．",{"$f":"IF(下越1!BV43=0,\"\",下越1!BV43)","v":20141},{"$f":"IF(下越1!BY43=0,\"\",下越1!BY43)","v":""},1,{"$f":"IF(下越1!BZ43=0,\"\",下越1!BZ43)","v":""}]
["②明細コード","下越地区1","日報",36,{"$f":"下越1!BU44","v":"帯織"},2,"受注No．",{"$f":"IF(下越1!BV44=0,\"\",下越1!BV44)","v":20143},{"$f":"IF(下越1!BY44=0,\"\",下越1!BY44)","v":""},1,{"$f":"IF(下越1!BZ44=0,\"\",下越1!BZ44)","v":""}]
["②明細コード","下越地区1","日報",37,{"$f":"下越1!BU45","v":0},2,"受注No．",{"$f":"IF(下越1!BV45=0,\"\",下越1!BV45)","v":""},{"$f":"IF(下越1!BY45=0,\"\",下越1!BY45)","v":""},1,{"$f":"IF(下越1!BZ45=0,\"\",下越1!BZ45)","v":""}]
["②明細コード","下越地区1","日報",38,{"$f":"下越1!BU46","v":"豊栄"},2,"受注No．",{"$f":"IF(下越1!BV46=0,\"\",下越1!BV46)","v":20179},{"$f":"IF(下越1!BY46=0,\"\",下越1!BY46)","v":""},1,{"$f":"IF(下越1!BZ46=0,\"\",下越1!BZ46)","v":""}]
["②明細コード","下越地区1","日報",39,{"$f":"下越1!#REF!","v":{"$error":"#REF!"}},2,"受注No．",{"$f":"IF(下越1!#REF!=0,\"\",下越1!#REF!)","v":{"$error":"#REF!"}},{"$f":"IF(下越1!#REF!=0,\"\",下越1!#REF!)","v":{"$error":"#REF!"}},1,{"$f":"IF(下越1!#REF!=0,\"\",下越1!#REF!)","v":{"$error":"#REF!"}}]
["②明細コード","下越地区1","日報",40,{"$f":"下越1!BU47","v":"木崎"},2,"受注No．",{"$f":"IF(下越1!BV47=0,\"\",下越1!BV47)","v":20146},{"$f":"IF(下越1!BY47=0,\"\",下越1!BY47)","v":""},1,{"$f":"IF(下越1!BZ47=0,\"\",下越1!BZ47)","v":""}]
["②明細コード","下越地区1","中央紙",1,{"$f":"下越1!CE9","v":"巻"},2,"受注No．",{"$f":"IF(下越1!CF9=0,\"\",下越1!CF9)","v":20106},{"$f":"IF(下越1!CG9=0,\"\",下越1!CG9)","v":""},1,{"$f":"IF(下越1!CH9=0,\"\",下越1!CH9)","v":""}]
["②明細コード","下越地区1","中央紙",2,{"$f":"下越1!CE10","v":"巻"},2,"受注No．",{"$f":"IF(下越1!CF10=0,\"\",下越1!CF10)","v":220107},{"$f":"IF(下越1!CG10=0,\"\",下越1!CG10)","v":""},1,{"$f":"IF(下越1!CH10=0,\"\",下越1!CH10)","v":""}]
["②明細コード","下越地区1","中央紙",3,{"$f":"下越1!CE11","v":0},2,"受注No．",{"$f":"IF(下越1!CF11=0,\"\",下越1!CF11)","v":""},{"$f":"IF(下越1!CG11=0,\"\",下越1!CG11)","v":""},1,{"$f":"IF(下越1!CH11=0,\"\",下越1!CH11)","v":""}]
["②明細コード","下越地区1","中央紙",4,{"$f":"下越1!CE12","v":0},2,"受注No．",{"$f":"IF(下越1!CF12=0,\"\",下越1!CF12)","v":""},{"$f":"IF(下越1!CG12=0,\"\",下越1!CG12)","v":""},1,{"$f":"IF(下越1!CH12=0,\"\",下越1!CH12)","v":""}]
["②明細コード","下越地区1","中央紙",5,{"$f":"下越1!CE13","v":0},2,"受注No．",{"$f":"IF(下越1!CF13=0,\"\",下越1!CF13)","v":""},{"$f":"IF(下越1!CG13=0,\"\",下越1!CG13)","v":""},1,{"$f":"IF(下越1!CH13=0,\"\",下越1!CH13)","v":""}]
["②明細コード","下越地区1","中央紙",6,{"$f":"下越1!CE14","v":0},2,"受注No．",{"$f":"IF(下越1!CF14=0,\"\",下越1!CF14)","v":""},{"$f":"IF(下越1!CG14=0,\"\",下越1!CG14)","v":""},1,{"$f":"IF(下越1!CH14=0,\"\",下越1!CH14)","v":""}]
["②明細コード","下越地区1","中央紙",7,{"$f":"下越1!CE15","v":0},2,"受注No．",{"$f":"IF(下越1!CF15=0,\"\",下越1!CF15)","v":""},{"$f":"IF(下越1!CG15=0,\"\",下越1!CG15)","v":""},1,{"$f":"IF(下越1!CH15=0,\"\",下越1!CH15)","v":""}]
["②明細コード","下越地区1","中央紙",8,{"$f":"下越1!CE16","v":0},2,"受注No．",{"$f":"IF(下越1!CF16=0,\"\",下越1!CF16)","v":""},{"$f":"IF(下越1!CG16=0,\"\",下越1!CG16)","v":""},1,{"$f":"IF(下越1!CH16=0,\"\",下越1!CH16)","v":""}]
["②明細コード","下越地区1","中央紙",9,{"$f":"下越1!CE17","v":0},2,"受注No．",{"$f":"IF(下越1!CF17=0,\"\",下越1!CF17)","v":""},{"$f":"IF(下越1!CG17=0,\"\",下越1!CG17)","v":""},1,{"$f":"IF(下越1!CH17=0,\"\",下越1!CH17)","v":""}]
["②明細コード","下越地区1","中央紙",10,{"$f":"下越1!CE18","v":0},2,"受注No．",{"$f":"IF(下越1!CF18=0,\"\",下越1!CF18)","v":""},{"$f":"IF(下越1!CG18=0,\"\",下越1!CG18)","v":""},1,{"$f":"IF(下越1!CH18=0,\"\",下越1!CH18)","v":""}]
["②明細コード","下越地区２","日報",1,{"$f":"下越２!BU9","v":"新発田西"},2,"受注No．",{"$f":"IF(下越２!BV9=0,\"\",下越２!BV9)","v":20148},{"$f":"IF(下越２!BY9=0,\"\",下越２!BY9)","v":""},1,{"$f":"IF(下越２!BZ9=0,\"\",下越２!BZ9)","v":""}]
["②明細コード","下越地区２","日報",2,{"$f":"下越２!BU10","v":"新発田東"},2,"受注No．",{"$f":"IF(下越２!BV10=0,\"\",下越２!BV10)","v":20149},{"$f":"IF(下越２!BY10=0,\"\",下越２!BY10)","v":""},1,{"$f":"IF(下越２!BZ10=0,\"\",下越２!BZ10)","v":""}]
["②明細コード","下越地区２","日報",3,{"$f":"下越２!BU11","v":"月岡"},2,"受注No．",{"$f":"IF(下越２!BV11=0,\"\",下越２!BV11)","v":20153},{"$f":"IF(下越２!BY11=0,\"\",下越２!BY11)","v":""},1,{"$f":"IF(下越２!BZ11=0,\"\",下越２!BZ11)","v":""}]
["②明細コード","下越地区２","日報",4,{"$f":"下越２!#REF!","v":{"$error":"#REF!"}},2,"受注No．",{"$f":"IF(下越２!#REF!=0,\"\",下越２!#REF!)","v":{"$error":"#REF!"}},{"$f":"IF(下越２!#REF!=0,\"\",下越２!#REF!)","v":{"$error":"#REF!"}},1,{"$f":"IF(下越２!#REF!=0,\"\",下越２!#REF!)","v":{"$error":"#REF!"}}]
["②明細コード","下越地区２","日報",5,{"$f":"下越２!BU12","v":0},2,"受注No．",{"$f":"IF(下越２!BV12=0,\"\",下越２!BV12)","v":""},{"$f":"IF(下越２!BY12=0,\"\",下越２!BY12)","v":""},1,{"$f":"IF(下越２!BZ12=0,\"\",下越２!BZ12)","v":""}]
["②明細コード","下越地区２","日報",6,{"$f":"下越２!BU13","v":"中条東"},2,"受注No．",{"$f":"IF(下越２!BV13=0,\"\",下越２!BV13)","v":20154},{"$f":"IF(下越２!BY13=0,\"\",下越２!BY13)","v":""},1,{"$f":"IF(下越２!BZ13=0,\"\",下越２!BZ13)","v":""}]
["②明細コード","下越地区２","日報",7,{"$f":"下越２!BU14","v":"西中条"},2,"受注No．",{"$f":"IF(下越２!BV14=0,\"\",下越２!BV14)","v":20155},{"$f":"IF(下越２!BY14=0,\"\",下越２!BY14)","v":""},1,{"$f":"IF(下越２!BZ14=0,\"\",下越２!BZ14)","v":""}]
["②明細コード","下越地区２","日報",8,{"$f":"下越２!BU15","v":"黒川"},2,"受注No．",{"$f":"IF(下越２!BV15=0,\"\",下越２!BV15)","v":20157},{"$f":"IF(下越２!BY15=0,\"\",下越２!BY15)","v":""},1,{"$f":"IF(下越２!BZ15=0,\"\",下越２!BZ15)","v":""}]
["②明細コード","下越地区２","日報",9,{"$f":"下越２!BU16","v":"水原"},2,"受注No．",{"$f":"IF(下越２!BV16=0,\"\",下越２!BV16)","v":20158},{"$f":"IF(下越２!BY16=0,\"\",下越２!BY16)","v":""},1,{"$f":"IF(下越２!BZ16=0,\"\",下越２!BZ16)","v":""}]
["②明細コード","下越地区２","日報",10,{"$f":"下越２!BU17","v":"保田"},2,"受注No．",{"$f":"IF(下越２!BV17=0,\"\",下越２!BV17)","v":20161},{"$f":"IF(下越２!BY17=0,\"\",下越２!BY17)","v":""},1,{"$f":"IF(下越２!BZ17=0,\"\",下越２!BZ17)","v":""}]
["②明細コード","下越地区２","日報",11,{"$f":"下越２!BU18","v":0},2,"受注No．",{"$f":"IF(下越２!BV18=0,\"\",下越２!BV18)","v":""},{"$f":"IF(下越２!BY18=0,\"\",下越２!BY18)","v":""},1,{"$f":"IF(下越２!BZ18=0,\"\",下越２!BZ18)","v":""}]
["②明細コード","下越地区２","日報",12,{"$f":"下越２!BU19","v":"村上"},2,"受注No．",{"$f":"IF(下越２!BV19=0,\"\",下越２!BV19)","v":20162},{"$f":"IF(下越２!BY19=0,\"\",下越２!BY19)","v":""},1,{"$f":"IF(下越２!BZ19=0,\"\",下越２!BZ19)","v":""}]
["②明細コード","下越地区２","日報",13,{"$f":"下越２!BU20","v":"岩船"},2,"受注No．",{"$f":"IF(下越２!BV20=0,\"\",下越２!BV20)","v":20163},{"$f":"IF(下越２!BY20=0,\"\",下越２!BY20)","v":""},1,{"$f":"IF(下越２!BZ20=0,\"\",下越２!BZ20)","v":""}]
["②明細コード","下越地区２","日報",14,{"$f":"下越２!BU21","v":"越後早川"},2,"受注No．",{"$f":"IF(下越２!BV21=0,\"\",下越２!BV21)","v":20164},{"$f":"IF(下越２!BY21=0,\"\",下越２!BY21)","v":""},1,{"$f":"IF(下越２!BZ21=0,\"\",下越２!BZ21)","v":""}]
["②明細コード","下越地区２","日報",15,{"$f":"下越２!BU22","v":0},2,"受注No．",{"$f":"IF(下越２!BV22=0,\"\",下越２!BV22)","v":""},{"$f":"IF(下越２!BY22=0,\"\",下越２!BY22)","v":""},1,{"$f":"IF(下越２!BZ22=0,\"\",下越２!BZ22)","v":""}]
["②明細コード","下越地区２","日報",16,{"$f":"下越２!BU23","v":"坂町"},2,"受注No．",{"$f":"IF(下越２!BV23=0,\"\",下越２!BV23)","v":20165},{"$f":"IF(下越２!BY23=0,\"\",下越２!BY23)","v":""},1,{"$f":"IF(下越２!BZ23=0,\"\",下越２!BZ23)","v":""}]
["②明細コード","下越地区２","日報",17,{"$f":"下越２!#REF!","v":{"$error":"#REF!"}},2,"受注No．",{"$f":"IF(下越２!#REF!=0,\"\",下越２!#REF!)","v":{"$error":"#REF!"}},{"$f":"IF(下越２!#REF!=0,\"\",下越２!#REF!)","v":{"$error":"#REF!"}},1,{"$f":"IF(下越２!#REF!=0,\"\",下越２!#REF!)","v":{"$error":"#REF!"}}]
["②明細コード","下越地区２","日報",{"$f":"D122+1","v":18},{"$f":"下越２!BU24","v":"関川"},2,"受注No．",{"$f":"IF(下越２!BV24=0,\"\",下越２!BV24)","v":20167},{"$f":"IF(下越２!BY24=0,\"\",下越２!BY24)","v":""},1,{"$f":"IF(下越２!BZ24=0,\"\",下越２!BZ24)","v":""}]
["②明細コード","下越地区２","日報",19,{"$f":"下越２!#REF!","v":{"$error":"#REF!"}},2,"受注No．",{"$f":"IF(下越２!#REF!=0,\"\",下越２!#REF!)","v":{"$error":"#REF!"}},{"$f":"IF(下越２!#REF!=0,\"\",下越２!#REF!)","v":{"$error":"#REF!"}},1,{"$f":"IF(下越２!#REF!=0,\"\",下越２!#REF!)","v":{"$error":"#REF!"}}]
["②明細コード","下越地区２","日報",20,{"$f":"下越２!BU25","v":"府屋"},2,"受注No．",{"$f":"IF(下越２!BV25=0,\"\",下越２!BV25)","v":20170},{"$f":"IF(下越２!BY25=0,\"\",下越２!BY25)","v":""},1,{"$f":"IF(下越２!BZ25=0,\"\",下越２!BZ25)","v":""}]
["②明細コード","下越地区２","日報",21,{"$f":"下越２!BU26","v":"黒川俣"},2,"受注No．",{"$f":"IF(下越２!BV26=0,\"\",下越２!BV26)","v":20172},{"$f":"IF(下越２!BY26=0,\"\",下越２!BY26)","v":""},1,{"$f":"IF(下越２!BZ26=0,\"\",下越２!BZ26)","v":""}]
["②明細コード","下越地区２","日報",22,{"$f":"下越２!BU27","v":0},2,"受注No．",{"$f":"IF(下越２!BV27=0,\"\",下越２!BV27)","v":""},{"$f":"IF(下越２!BY27=0,\"\",下越２!BY27)","v":""},1,{"$f":"IF(下越２!BZ27=0,\"\",下越２!BZ27)","v":""}]
["②明細コード","下越地区２","日報",23,{"$f":"下越２!BU28","v":"津川"},2,"受注No．",{"$f":"IF(下越２!BV28=0,\"\",下越２!BV28)","v":20173},{"$f":"IF(下越２!BY28=0,\"\",下越２!BY28)","v":""},1,{"$f":"IF(下越２!BZ28=0,\"\",下越２!BZ28)","v":""}]
["②明細コード","下越地区２","日報",24,{"$f":"下越２!BU29","v":"豊実"},2,"受注No．",{"$f":"IF(下越２!BV29=0,\"\",下越２!BV29)","v":20174},{"$f":"IF(下越２!BY29=0,\"\",下越２!BY29)","v":""},1,{"$f":"IF(下越２!BZ29=0,\"\",下越２!BZ29)","v":""}]
["②明細コード","下越地区２","日報",25,{"$f":"下越２!BU30","v":"日出谷"},2,"受注No．",{"$f":"IF(下越２!BV30=0,\"\",下越２!BV30)","v":20175},{"$f":"IF(下越２!BY30=0,\"\",下越２!BY30)","v":""},1,{"$f":"IF(下越２!BZ30=0,\"\",下越２!BZ30)","v":""}]
["②明細コード","下越地区２","日報",26,{"$f":"下越２!BU31","v":"鹿瀬"},2,"受注No．",{"$f":"IF(下越２!BV31=0,\"\",下越２!BV31)","v":20176},{"$f":"IF(下越２!BY31=0,\"\",下越２!BY31)","v":""},1,{"$f":"IF(下越２!BZ31=0,\"\",下越２!BZ31)","v":""}]
["②明細コード","下越地区２","日報",27,{"$f":"下越２!BU32","v":"白崎"},2,"受注No．",{"$f":"IF(下越２!BV32=0,\"\",下越２!BV32)","v":20177},{"$f":"IF(下越２!BY32=0,\"\",下越２!BY32)","v":""},1,{"$f":"IF(下越２!BZ32=0,\"\",下越２!BZ32)","v":""}]
["②明細コード","下越地区２","日報",28,{"$f":"下越２!BU34","v":"保田・五十島"},2,"受注No．",{"$f":"IF(下越２!BV34=0,\"\",下越２!BV34)","v":20182},{"$f":"IF(下越２!BY34=0,\"\",下越２!BY34)","v":""},1,{"$f":"IF(下越２!BZ34=0,\"\",下越２!BZ34)","v":""}]
["②明細コード","下越地区２","日報",29,{"$f":"下越２!BU35","v":0},2,"受注No．",{"$f":"IF(下越２!BV35=0,\"\",下越２!BV35)","v":""},{"$f":"IF(下越２!BY35=0,\"\",下越２!BY35)","v":""},1,{"$f":"IF(下越２!BZ35=0,\"\",下越２!BZ35)","v":""}]
["②明細コード","下越地区２","日報",30,{"$f":"下越２!BU36","v":"小国"},2,"受注No．",{"$f":"IF(下越２!BV36=0,\"\",下越２!BV36)","v":20201},{"$f":"IF(下越２!BY36=0,\"\",下越２!BY36)","v":""},1,{"$f":"IF(下越２!BZ36=0,\"\",下越２!BZ36)","v":""}]
["②明細コード","下越地区２","日報",31,{"$f":"下越２!BU37","v":0},2,"受注No．",{"$f":"IF(下越２!BV37=0,\"\",下越２!BV37)","v":""},{"$f":"IF(下越２!BY37=0,\"\",下越２!BY37)","v":""},1,{"$f":"IF(下越２!BZ37=0,\"\",下越２!BZ37)","v":""}]
["②明細コード","下越地区２","日報",32,{"$f":"下越２!BU38","v":"両津"},2,"受注No．",{"$f":"IF(下越２!BV38=0,\"\",下越２!BV38)","v":30101},{"$f":"IF(下越２!BY38=0,\"\",下越２!BY38)","v":""},1,{"$f":"IF(下越２!BZ38=0,\"\",下越２!BZ38)","v":""}]
["②明細コード","下越地区２","日報",33,{"$f":"下越２!BU39","v":"吉井"},2,"受注No．",{"$f":"IF(下越２!BV39=0,\"\",下越２!BV39)","v":30105},{"$f":"IF(下越２!BY39=0,\"\",下越２!BY39)","v":""},1,{"$f":"IF(下越２!BZ39=0,\"\",下越２!BZ39)","v":""}]
["②明細コード","下越地区２","日報",34,{"$f":"下越２!#REF!","v":{"$error":"#REF!"}},2,"受注No．",{"$f":"IF(下越２!#REF!=0,\"\",下越２!#REF!)","v":{"$error":"#REF!"}},{"$f":"IF(下越２!#REF!=0,\"\",下越２!#REF!)","v":{"$error":"#REF!"}},1,{"$f":"IF(下越２!#REF!=0,\"\",下越２!#REF!)","v":{"$error":"#REF!"}}]
["②明細コード","下越地区２","日報",35,{"$f":"下越２!BU40","v":0},2,"受注No．",{"$f":"IF(下越２!BV40=0,\"\",下越２!BV40)","v":""},{"$f":"IF(下越２!BY40=0,\"\",下越２!BY40)","v":""},1,{"$f":"IF(下越２!BZ40=0,\"\",下越２!BZ40)","v":""}]
["②明細コード","下越地区２","日報",36,{"$f":"下越２!BU41","v":"真野"},2,"受注No．",{"$f":"IF(下越２!BV41=0,\"\",下越２!BV41)","v":30106},{"$f":"IF(下越２!BY41=0,\"\",下越２!BY41)","v":""},1,{"$f":"IF(下越２!BZ41=0,\"\",下越２!BZ41)","v":""}]
["②明細コード","下越地区２","日報",37,{"$f":"下越２!BU42","v":"新穂"},2,"受注No．",{"$f":"IF(下越２!BV42=0,\"\",下越２!BV42)","v":30108},{"$f":"IF(下越２!BY42=0,\"\",下越２!BY42)","v":""},1,{"$f":"IF(下越２!BZ42=0,\"\",下越２!BZ42)","v":""}]
["②明細コード","下越地区２","日報",38,{"$f":"下越２!BU43","v":"畑野"},2,"受注No．",{"$f":"IF(下越２!BV43=0,\"\",下越２!BV43)","v":30111},{"$f":"IF(下越２!BY43=0,\"\",下越２!BY43)","v":""},1,{"$f":"IF(下越２!BZ43=0,\"\",下越２!BZ43)","v":""}]
["②明細コード","下越地区２","日報",39,{"$f":"下越２!BU44","v":"佐和田"},2,"受注No．",{"$f":"IF(下越２!BV44=0,\"\",下越２!BV44)","v":30114},{"$f":"IF(下越２!BY44=0,\"\",下越２!BY44)","v":""},1,{"$f":"IF(下越２!BZ44=0,\"\",下越２!BZ44)","v":""}]
["②明細コード","下越地区２","日報",40,{"$f":"下越２!BU45","v":"相川"},2,"受注No．",{"$f":"IF(下越２!BV45=0,\"\",下越２!BV45)","v":30110},{"$f":"IF(下越２!BY45=0,\"\",下越２!BY45)","v":""},1,{"$f":"IF(下越２!BZ45=0,\"\",下越２!BZ45)","v":""}]
["②明細コード","下越地区２","日報",41,{"$f":"下越２!BU46","v":"金井"},2,"受注No．",{"$f":"IF(下越２!BV46=0,\"\",下越２!BV46)","v":30121},{"$f":"IF(下越２!BY46=0,\"\",下越２!BY46)","v":""},1,{"$f":"IF(下越２!BZ46=0,\"\",下越２!BZ46)","v":""}]
["②明細コード","下越地区２","日報",42,{"$f":"下越２!BU47","v":"羽茂"},2,"受注No．",{"$f":"IF(下越２!BV47=0,\"\",下越２!BV47)","v":30122},{"$f":"IF(下越２!BY47=0,\"\",下越２!BY47)","v":""},1,{"$f":"IF(下越２!BZ47=0,\"\",下越２!BZ47)","v":""}]
["②明細コード","下越地区２","日報",43,{"$f":"下越２!BU48","v":"小木"},2,"受注No．",{"$f":"IF(下越２!BV48=0,\"\",下越２!BV48)","v":30124},{"$f":"IF(下越２!BY48=0,\"\",下越２!BY48)","v":""},1,{"$f":"IF(下越２!BZ48=0,\"\",下越２!BZ48)","v":""}]
["②明細コード","下越地区２","日報",44,{"$f":"下越２!BU49","v":"赤泊"},2,"受注No．",{"$f":"IF(下越２!BV49=0,\"\",下越２!BV49)","v":30127},{"$f":"IF(下越２!BY49=0,\"\",下越２!BY49)","v":""},1,{"$f":"IF(下越２!BZ49=0,\"\",下越２!BZ49)","v":""}]
["②明細コード","下越地区２","日報",45,{"$f":"下越２!BU50","v":"多田"},2,"受注No．",{"$f":"IF(下越２!BV50=0,\"\",下越２!BV50)","v":30130},{"$f":"IF(下越２!BY50=0,\"\",下越２!BY50)","v":""},1,{"$f":"IF(下越２!BZ50=0,\"\",下越２!BZ50)","v":""}]
["②明細コード","下越地区２","中央紙",1,{"$f":"下越２!#REF!","v":{"$error":"#REF!"}},2,"受注No．",{"$f":"IF(下越２!#REF!=0,\"\",下越２!#REF!)","v":{"$error":"#REF!"}},{"$f":"IF(下越２!#REF!=0,\"\",下越２!#REF!)","v":{"$error":"#REF!"}},1,{"$f":"IF(下越２!#REF!=0,\"\",下越２!#REF!)","v":{"$error":"#REF!"}}]
["②明細コード","下越地区２","中央紙",{"$f":"D151+1","v":2},{"$f":"下越２!CE9","v":"新発田"},2,"受注No．",{"$f":"IF(下越２!CF9=0,\"\",下越２!CF9)","v":220152},{"$f":"IF(下越２!CG9=0,\"\",下越２!CG9)","v":""},1,{"$f":"IF(下越２!CH9=0,\"\",下越２!CH9)","v":""}]
["②明細コード","下越地区２","中央紙",3,{"$f":"下越２!CE10","v":0},2,"受注No．",{"$f":"IF(下越２!CF10=0,\"\",下越２!CF10)","v":""},{"$f":"IF(下越２!CG10=0,\"\",下越２!CG10)","v":""},1,{"$f":"IF(下越２!CH10=0,\"\",下越２!CH10)","v":""}]
["②明細コード","下越地区２","中央紙",4,{"$f":"下越２!CE11","v":0},2,"受注No．",{"$f":"IF(下越２!CF11=0,\"\",下越２!CF11)","v":""},{"$f":"IF(下越２!CG11=0,\"\",下越２!CG11)","v":""},1,{"$f":"IF(下越２!CH11=0,\"\",下越２!CH11)","v":""}]
["②明細コード","下越地区２","中央紙",5,{"$f":"下越２!#REF!","v":{"$error":"#REF!"}},2,"受注No．",{"$f":"IF(下越２!#REF!=0,\"\",下越２!#REF!)","v":{"$error":"#REF!"}},{"$f":"IF(下越２!#REF!=0,\"\",下越２!#REF!)","v":{"$error":"#REF!"}},1,{"$f":"IF(下越２!#REF!=0,\"\",下越２!#REF!)","v":{"$error":"#REF!"}}]
["②明細コード","下越地区２","中央紙",6,{"$f":"下越２!CE12","v":0},2,"受注No．",{"$f":"IF(下越２!CF12=0,\"\",下越２!CF12)","v":""},{"$f":"IF(下越２!CG12=0,\"\",下越２!CG12)","v":""},1,{"$f":"IF(下越２!CH12=0,\"\",下越２!CH12)","v":""}]
["②明細コード","下越地区２","中央紙",7,{"$f":"下越２!CE13","v":"中条"},2,"受注No．",{"$f":"IF(下越２!CF13=0,\"\",下越２!CF13)","v":220156},{"$f":"IF(下越２!CG13=0,\"\",下越２!CG13)","v":""},1,{"$f":"IF(下越２!CH13=0,\"\",下越２!CH13)","v":""}]
["②明細コード","下越地区２","中央紙",8,{"$f":"下越２!CE17","v":0},2,"受注No．",{"$f":"IF(下越２!CF17=0,\"\",下越２!CF17)","v":""},{"$f":"IF(下越２!CG17=0,\"\",下越２!CG17)","v":""},1,{"$f":"IF(下越２!CH17=0,\"\",下越２!CH17)","v":""}]
["②明細コード","下越地区２","中央紙",9,{"$f":"下越２!CE18","v":0},2,"受注No．",{"$f":"IF(下越２!CF18=0,\"\",下越２!CF18)","v":""},{"$f":"IF(下越２!CG18=0,\"\",下越２!CG18)","v":""},1,{"$f":"IF(下越２!CH18=0,\"\",下越２!CH18)","v":""}]
["②明細コード","下越地区２","中央紙",10,{"$f":"下越２!CE20","v":0},2,"受注No．",{"$f":"IF(下越２!CF20=0,\"\",下越２!CF20)","v":""},{"$f":"IF(下越２!CG20=0,\"\",下越２!CG20)","v":""},1,{"$f":"IF(下越２!CH20=0,\"\",下越２!CH20)","v":""}]
["②明細コード","下越地区２","中央紙",11,{"$f":"下越２!CE22","v":0},2,"受注No．",{"$f":"IF(下越２!CF22=0,\"\",下越２!CF22)","v":""},{"$f":"IF(下越２!CG22=0,\"\",下越２!CG22)","v":""},1,{"$f":"IF(下越２!CH22=0,\"\",下越２!CH22)","v":""}]
["②明細コード","下越地区２","中央紙",12,{"$f":"下越２!CE14","v":"水原"},2,"受注No．",{"$f":"IF(下越２!CF14=0,\"\",下越２!CF14)","v":220160},{"$f":"IF(下越２!CG14=0,\"\",下越２!CG14)","v":""},1,{"$f":"IF(下越２!CH14=0,\"\",下越２!CH14)","v":""}]
["②明細コード","下越地区２","中央紙",13,{"$f":"下越２!CE15","v":0},2,"受注No．",{"$f":"IF(下越２!CF15=0,\"\",下越２!CF15)","v":""},{"$f":"IF(下越２!CG15=0,\"\",下越２!CG15)","v":""},1,{"$f":"IF(下越２!CH15=0,\"\",下越２!CH15)","v":""}]
["②明細コード","下越地区２","中央紙",14,{"$f":"下越２!CE16","v":0},2,"受注No．",{"$f":"IF(下越２!CF16=0,\"\",下越２!CF16)","v":""},{"$f":"IF(下越２!CG16=0,\"\",下越２!CG16)","v":""},1,{"$f":"IF(下越２!CH16=0,\"\",下越２!CH16)","v":""}]
["②明細コード","下越地区２","中央紙",15,{"$f":"下越２!CE19","v":0},2,"受注No．",{"$f":"IF(下越２!CF19=0,\"\",下越２!CF19)","v":""},{"$f":"IF(下越２!CG19=0,\"\",下越２!CG19)","v":""},1,{"$f":"IF(下越２!CH19=0,\"\",下越２!CH19)","v":""}]
["②明細コード","下越地区２","中央紙",16,{"$f":"下越２!#REF!","v":{"$error":"#REF!"}},2,"受注No．",{"$f":"IF(下越２!#REF!=0,\"\",下越２!#REF!)","v":{"$error":"#REF!"}},{"$f":"IF(下越２!#REF!=0,\"\",下越２!#REF!)","v":{"$error":"#REF!"}},1,{"$f":"IF(下越２!#REF!=0,\"\",下越２!#REF!)","v":{"$error":"#REF!"}}]
["②明細コード","下越地区２","中央紙",{"$f":"D166+1","v":17},{"$f":"下越２!CE21","v":0},2,"受注No．",{"$f":"IF(下越２!CF21=0,\"\",下越２!CF21)","v":""},{"$f":"IF(下越２!CG21=0,\"\",下越２!CG21)","v":""},1,{"$f":"IF(下越２!CH21=0,\"\",下越２!CH21)","v":""}]
["②明細コード","下越地区２","中央紙",18,{"$f":"下越２!#REF!","v":{"$error":"#REF!"}},2,"受注No．",{"$f":"IF(下越２!#REF!=0,\"\",下越２!#REF!)","v":{"$error":"#REF!"}},{"$f":"IF(下越２!#REF!=0,\"\",下越２!#REF!)","v":{"$error":"#REF!"}},1,{"$f":"IF(下越２!#REF!=0,\"\",下越２!#REF!)","v":{"$error":"#REF!"}}]
["②明細コード","中越地区","日報",1,{"$f":"中越1!#REF!","v":{"$error":"#REF!"}},2,"受注No．",{"$f":"IF(中越1!#REF!=0,\"\",中越1!#REF!)","v":{"$error":"#REF!"}},{"$f":"IF(中越1!#REF!=0,\"\",中越1!#REF!)","v":{"$error":"#REF!"}},1,{"$f":"IF(中越1!#REF!=0,\"\",中越1!#REF!)","v":{"$error":"#REF!"}}]
["②明細コード","中越地区","日報",{"$f":"D169+1","v":2},{"$f":"中越1!BZ9","v":"長岡中央"},2,"受注No．",{"$f":"IF(中越1!CA9=0,\"\",中越1!CA9)","v":40102},{"$f":"IF(中越1!CD9=0,\"\",中越1!CD9)","v":""},1,{"$f":"IF(中越1!CE9=0,\"\",中越1!CE9)","v":""}]
["②明細コード","中越地区","日報",3,{"$f":"中越1!BZ10","v":"長岡南"},2,"受注No．",{"$f":"IF(中越1!CA10=0,\"\",中越1!CA10)","v":40300},{"$f":"IF(中越1!CD10=0,\"\",中越1!CD10)","v":""},1,{"$f":"IF(中越1!CE10=0,\"\",中越1!CE10)","v":""}]
["②明細コード","中越地区","日報",4,{"$f":"中越1!BZ11","v":"長岡東"},2,"受注No．",{"$f":"IF(中越1!CA11=0,\"\",中越1!CA11)","v":40104},{"$f":"IF(中越1!CD11=0,\"\",中越1!CD11)","v":""},1,{"$f":"IF(中越1!CE11=0,\"\",中越1!CE11)","v":""}]
["②明細コード","中越地区","日報",5,{"$f":"中越1!BZ12","v":"長岡新保"},2,"受注No．",{"$f":"IF(中越1!CA12=0,\"\",中越1!CA12)","v":40105},{"$f":"IF(中越1!CD12=0,\"\",中越1!CD12)","v":""},1,{"$f":"IF(中越1!CE12=0,\"\",中越1!CE12)","v":""}]
["②明細コード","中越地区","日報",6,{"$f":"中越1!BZ13","v":"長岡悠久"},2,"受注No．",{"$f":"IF(中越1!CA13=0,\"\",中越1!CA13)","v":40106},{"$f":"IF(中越1!CD13=0,\"\",中越1!CD13)","v":""},1,{"$f":"IF(中越1!CE13=0,\"\",中越1!CE13)","v":""}]
["②明細コード","中越地区","日報",7,{"$f":"中越1!BZ14","v":"西長岡"},2,"受注No．",{"$f":"IF(中越1!CA14=0,\"\",中越1!CA14)","v":40111},{"$f":"IF(中越1!CD14=0,\"\",中越1!CD14)","v":""},1,{"$f":"IF(中越1!CE14=0,\"\",中越1!CE14)","v":""}]
["②明細コード","中越地区","日報",8,{"$f":"中越1!BZ15","v":"関原"},2,"受注No．",{"$f":"IF(中越1!CA15=0,\"\",中越1!CA15)","v":40113},{"$f":"IF(中越1!CD15=0,\"\",中越1!CD15)","v":""},1,{"$f":"IF(中越1!CE15=0,\"\",中越1!CE15)","v":""}]
["②明細コード","中越地区","日報",9,{"$f":"中越1!BZ16","v":"王寺川"},2,"受注No．",{"$f":"IF(中越1!CA16=0,\"\",中越1!CA16)","v":40114},{"$f":"IF(中越1!CD16=0,\"\",中越1!CD16)","v":""},1,{"$f":"IF(中越1!CE16=0,\"\",中越1!CE16)","v":""}]
["②明細コード","中越地区","日報",10,{"$f":"中越1!BZ17","v":"長岡江陽"},2,"受注No．",{"$f":"IF(中越1!CA17=0,\"\",中越1!CA17)","v":40115},{"$f":"IF(中越1!CD17=0,\"\",中越1!CD17)","v":""},1,{"$f":"IF(中越1!CE17=0,\"\",中越1!CE17)","v":""}]
["②明細コード","中越地区","日報",11,{"$f":"中越1!BZ18","v":"黒条"},2,"受注No．",{"$f":"IF(中越1!CA18=0,\"\",中越1!CA18)","v":40116},{"$f":"IF(中越1!CD18=0,\"\",中越1!CD18)","v":""},1,{"$f":"IF(中越1!CE18=0,\"\",中越1!CE18)","v":""}]
["②明細コード","中越地区","日報",12,{"$f":"中越1!BZ19","v":"新組"},2,"受注No．",{"$f":"IF(中越1!CA19=0,\"\",中越1!CA19)","v":40117},{"$f":"IF(中越1!CD19=0,\"\",中越1!CD19)","v":""},1,{"$f":"IF(中越1!CE19=0,\"\",中越1!CE19)","v":""}]
["②明細コード","中越地区","日報",13,{"$f":"中越1!BZ20","v":"長岡宮内"},2,"受注No．",{"$f":"IF(中越1!CA20=0,\"\",中越1!CA20)","v":40121},{"$f":"IF(中越1!CD20=0,\"\",中越1!CD20)","v":""},1,{"$f":"IF(中越1!CE20=0,\"\",中越1!CE20)","v":""}]
["②明細コード","中越地区","日報",14,{"$f":"中越1!BZ21","v":"濁沢"},2,"受注No．",{"$f":"IF(中越1!CA21=0,\"\",中越1!CA21)","v":40124},{"$f":"IF(中越1!CD21=0,\"\",中越1!CD21)","v":""},1,{"$f":"IF(中越1!CE21=0,\"\",中越1!CE21)","v":""}]
["②明細コード","中越地区","日報",15,{"$f":"中越1!BZ22","v":"岡南"},2,"受注No．",{"$f":"IF(中越1!CA22=0,\"\",中越1!CA22)","v":40125},{"$f":"IF(中越1!CD22=0,\"\",中越1!CD22)","v":""},1,{"$f":"IF(中越1!CE22=0,\"\",中越1!CE22)","v":""}]
["②明細コード","中越地区","日報",16,{"$f":"中越1!BZ23","v":"六日市"},2,"受注No．",{"$f":"IF(中越1!CA23=0,\"\",中越1!CA23)","v":40126},{"$f":"IF(中越1!CD23=0,\"\",中越1!CD23)","v":""},1,{"$f":"IF(中越1!CE23=0,\"\",中越1!CE23)","v":""}]
["②明細コード","中越地区","日報",17,{"$f":"中越1!BZ24","v":0},2,"受注No．",{"$f":"IF(中越1!CA24=0,\"\",中越1!CA24)","v":""},{"$f":"IF(中越1!CD24=0,\"\",中越1!CD24)","v":""},1,{"$f":"IF(中越1!CE24=0,\"\",中越1!CE24)","v":""}]
["②明細コード","中越地区","日報",18,{"$f":"中越1!BZ25","v":"栃尾"},2,"受注No．",{"$f":"IF(中越1!CA25=0,\"\",中越1!CA25)","v":40127},{"$f":"IF(中越1!CD25=0,\"\",中越1!CD25)","v":""},1,{"$f":"IF(中越1!CE25=0,\"\",中越1!CE25)","v":""}]
["②明細コード","中越地区","日報",19,{"$f":"中越1!BZ26","v":0},2,"受注No．",{"$f":"IF(中越1!CA26=0,\"\",中越1!CA26)","v":""},{"$f":"IF(中越1!CD26=0,\"\",中越1!CD26)","v":""},1,{"$f":"IF(中越1!CE26=0,\"\",中越1!CE26)","v":""}]
["②明細コード","中越地区","日報",20,{"$f":"中越1!BZ27","v":"見附南"},2,"受注No．",{"$f":"IF(中越1!CA27=0,\"\",中越1!CA27)","v":40130},{"$f":"IF(中越1!CD27=0,\"\",中越1!CD27)","v":""},1,{"$f":"IF(中越1!CE27=0,\"\",中越1!CE27)","v":""}]
["②明細コード","中越地区","日報",21,{"$f":"中越1!BZ28","v":"見附北"},2,"受注No．",{"$f":"IF(中越1!CA28=0,\"\",中越1!CA28)","v":40131},{"$f":"IF(中越1!CD28=0,\"\",中越1!CD28)","v":""},1,{"$f":"IF(中越1!CE28=0,\"\",中越1!CE28)","v":""}]
["②明細コード","中越地区","日報",22,{"$f":"中越1!BZ29","v":"今町"},2,"受注No．",{"$f":"IF(中越1!CA29=0,\"\",中越1!CA29)","v":40135},{"$f":"IF(中越1!CD29=0,\"\",中越1!CD29)","v":""},1,{"$f":"IF(中越1!CE29=0,\"\",中越1!CE29)","v":""}]
["②明細コード","中越地区","日報",23,{"$f":"中越1!BZ30","v":0},2,"受注No．",{"$f":"IF(中越1!CA30=0,\"\",中越1!CA30)","v":""},{"$f":"IF(中越1!CD30=0,\"\",中越1!CD30)","v":""},1,{"$f":"IF(中越1!CE30=0,\"\",中越1!CE30)","v":""}]
["②明細コード","中越地区","日報",24,{"$f":"中越1!BZ31","v":"越路"},2,"受注No．",{"$f":"IF(中越1!CA31=0,\"\",中越1!CA31)","v":40139},{"$f":"IF(中越1!CD31=0,\"\",中越1!CD31)","v":""},1,{"$f":"IF(中越1!CE31=0,\"\",中越1!CE31)","v":""}]
["②明細コード","中越地区","日報",25,{"$f":"中越1!BZ32","v":"塚山"},2,"受注No．",{"$f":"IF(中越1!CA32=0,\"\",中越1!CA32)","v":40141},{"$f":"IF(中越1!CD32=0,\"\",中越1!CD32)","v":""},1,{"$f":"IF(中越1!CE32=0,\"\",中越1!CE32)","v":""}]
["②明細コード","中越地区","日報",26,{"$f":"中越1!#REF!","v":{"$error":"#REF!"}},2,"受注No．",{"$f":"IF(中越1!#REF!=0,\"\",中越1!#REF!)","v":{"$error":"#REF!"}},{"$f":"IF(中越1!#REF!=0,\"\",中越1!#REF!)","v":{"$error":"#REF!"}},1,{"$f":"IF(中越1!#REF!=0,\"\",中越1!#REF!)","v":{"$error":"#REF!"}}]
["②明細コード","中越地区","日報",27,{"$f":"中越1!#REF!","v":{"$error":"#REF!"}},2,"受注No．",{"$f":"IF(中越1!#REF!=0,\"\",中越1!#REF!)","v":{"$error":"#REF!"}},{"$f":"IF(中越1!#REF!=0,\"\",中越1!#REF!)","v":{"$error":"#REF!"}},1,{"$f":"IF(中越1!#REF!=0,\"\",中越1!#REF!)","v":{"$error":"#REF!"}}]
["②明細コード","中越地区","日報",28,{"$f":"中越1!BZ33","v":"与板"},2,"受注No．",{"$f":"IF(中越1!CA33=0,\"\",中越1!CA33)","v":40144},{"$f":"IF(中越1!CD33=0,\"\",中越1!CD33)","v":""},1,{"$f":"IF(中越1!CE33=0,\"\",中越1!CE33)","v":""}]
["②明細コード","中越地区","日報",29,{"$f":"中越1!BZ34","v":"大河津"},2,"受注No．",{"$f":"IF(中越1!CA34=0,\"\",中越1!CA34)","v":40145},{"$f":"IF(中越1!CD34=0,\"\",中越1!CD34)","v":""},1,{"$f":"IF(中越1!CE34=0,\"\",中越1!CE34)","v":""}]
["②明細コード","中越地区","日報",30,{"$f":"中越1!BZ35","v":"寺泊"},2,"受注No．",{"$f":"IF(中越1!CA35=0,\"\",中越1!CA35)","v":40146},{"$f":"IF(中越1!CD35=0,\"\",中越1!CD35)","v":""},1,{"$f":"IF(中越1!CE35=0,\"\",中越1!CE35)","v":""}]
["②明細コード","中越地区","日報",31,{"$f":"中越1!BZ36","v":"和島"},2,"受注No．",{"$f":"IF(中越1!CA36=0,\"\",中越1!CA36)","v":40147},{"$f":"IF(中越1!CD36=0,\"\",中越1!CD36)","v":""},1,{"$f":"IF(中越1!CE36=0,\"\",中越1!CE36)","v":""}]
["②明細コード","中越地区","日報",32,{"$f":"中越1!BZ37","v":"西越"},2,"受注No．",{"$f":"IF(中越1!CA37=0,\"\",中越1!CA37)","v":40148},{"$f":"IF(中越1!CD37=0,\"\",中越1!CD37)","v":""},1,{"$f":"IF(中越1!CE37=0,\"\",中越1!CE37)","v":""}]
["②明細コード","中越地区","日報",33,{"$f":"中越1!#REF!","v":{"$error":"#REF!"}},2,"受注No．",{"$f":"IF(中越1!#REF!=0,\"\",中越1!#REF!)","v":{"$error":"#REF!"}},{"$f":"IF(中越1!#REF!=0,\"\",中越1!#REF!)","v":{"$error":"#REF!"}},1,{"$f":"IF(中越1!#REF!=0,\"\",中越1!#REF!)","v":{"$error":"#REF!"}}]
["②明細コード","中越地区","中央紙",1,{"$f":"中越1!CK9","v":"長岡"},2,"受注No．",{"$f":"IF(中越1!CL9=0,\"\",中越1!CL9)","v":240109},{"$f":"IF(中越1!CM9=0,\"\",中越1!CM9)","v":""},1,{"$f":"IF(中越1!CN9=0,\"\",中越1!CN9)","v":""}]
["②明細コード","中越地区","中央紙",{"$f":"D202+1","v":2},{"$f":"中越1!CK10","v":"長岡南部"},2,"受注No．",{"$f":"IF(中越1!CL10=0,\"\",中越1!CL10)","v":240110},{"$f":"IF(中越1!CM10=0,\"\",中越1!CM10)","v":""},1,{"$f":"IF(中越1!CN10=0,\"\",中越1!CN10)","v":""}]
["②明細コード","中越地区","中央紙",3,{"$f":"中越1!CK11","v":"長岡西部"},2,"受注No．",{"$f":"IF(中越1!CL11=0,\"\",中越1!CL11)","v":240112},{"$f":"IF(中越1!CM11=0,\"\",中越1!CM11)","v":""},1,{"$f":"IF(中越1!CN11=0,\"\",中越1!CN11)","v":""}]
["②明細コード","中越地区","中央紙",4,{"$f":"中越1!#REF!","v":{"$error":"#REF!"}},2,"受注No．",{"$f":"IF(中越1!#REF!=0,\"\",中越1!#REF!)","v":{"$error":"#REF!"}},{"$f":"IF(中越1!#REF!=0,\"\",中越1!#REF!)","v":{"$error":"#REF!"}},1,{"$f":"IF(中越1!#REF!=0,\"\",中越1!#REF!)","v":{"$error":"#REF!"}}]
["②明細コード","中越地区","中央紙",5,{"$f":"中越1!CK12","v":"長岡宮内"},2,"受注No．",{"$f":"IF(中越1!CL12=0,\"\",中越1!CL12)","v":240123},{"$f":"IF(中越1!CM12=0,\"\",中越1!CM12)","v":""},1,{"$f":"IF(中越1!CN12=0,\"\",中越1!CN12)","v":""}]
["②明細コード","中越地区","中央紙",6,{"$f":"中越1!#REF!","v":{"$error":"#REF!"}},2,"受注No．",{"$f":"IF(中越1!#REF!=0,\"\",中越1!#REF!)","v":{"$error":"#REF!"}},{"$f":"IF(中越1!#REF!=0,\"\",中越1!#REF!)","v":{"$error":"#REF!"}},1,{"$f":"IF(中越1!#REF!=0,\"\",中越1!#REF!)","v":{"$error":"#REF!"}}]
["②明細コード","中越地区","中央紙",7,{"$f":"中越1!CK13","v":0},2,"受注No．",{"$f":"IF(中越1!CL13=0,\"\",中越1!CL13)","v":""},{"$f":"IF(中越1!CM13=0,\"\",中越1!CM13)","v":""},1,{"$f":"IF(中越1!CN13=0,\"\",中越1!CN13)","v":""}]
["②明細コード","中越地区","中央紙",8,{"$f":"中越1!CK14","v":0},2,"受注No．",{"$f":"IF(中越1!CL14=0,\"\",中越1!CL14)","v":""},{"$f":"IF(中越1!CM14=0,\"\",中越1!CM14)","v":""},1,{"$f":"IF(中越1!CN14=0,\"\",中越1!CN14)","v":""}]
["②明細コード","中越地区","中央紙",9,{"$f":"中越1!CK15","v":0},2,"受注No．",{"$f":"IF(中越1!CL15=0,\"\",中越1!CL15)","v":""},{"$f":"IF(中越1!CM15=0,\"\",中越1!CM15)","v":""},1,{"$f":"IF(中越1!CN15=0,\"\",中越1!CN15)","v":""}]
["②明細コード","中越地区","中央紙",10,{"$f":"中越1!CK16","v":0},2,"受注No．",{"$f":"IF(中越1!CL16=0,\"\",中越1!CL16)","v":""},{"$f":"IF(中越1!CM16=0,\"\",中越1!CM16)","v":""},1,{"$f":"IF(中越1!CN16=0,\"\",中越1!CN16)","v":""}]
["②明細コード","中越地区２","日報",1,{"$f":"中越２!BU9","v":"小千谷中央"},2,"受注No．",{"$f":"IF(中越２!BV9=0,\"\",中越２!BV9)","v":40151},{"$f":"IF(中越２!BY9=0,\"\",中越２!BY9)","v":""},1,{"$f":"IF(中越２!BZ9=0,\"\",中越２!BZ9)","v":""}]
["②明細コード","中越地区２","日報",2,{"$f":"中越２!BU10","v":"小千谷東"},2,"受注No．",{"$f":"IF(中越２!BV10=0,\"\",中越２!BV10)","v":40152},{"$f":"IF(中越２!BY10=0,\"\",中越２!BY10)","v":""},1,{"$f":"IF(中越２!BZ10=0,\"\",中越２!BZ10)","v":""}]
["②明細コード","中越地区２","日報",3,{"$f":"中越２!BU11","v":"片貝"},2,"受注No．",{"$f":"IF(中越２!BV11=0,\"\",中越２!BV11)","v":40154},{"$f":"IF(中越２!BY11=0,\"\",中越２!BY11)","v":""},1,{"$f":"IF(中越２!BZ11=0,\"\",中越２!BZ11)","v":""}]
["②明細コード","中越地区２","日報",4,{"$f":"中越２!BU12","v":"岩沢"},2,"受注No．",{"$f":"IF(中越２!BV12=0,\"\",中越２!BV12)","v":40155},{"$f":"IF(中越２!BY12=0,\"\",中越２!BY12)","v":""},1,{"$f":"IF(中越２!BZ12=0,\"\",中越２!BZ12)","v":""}]
["②明細コード","中越地区２","日報",5,{"$f":"中越２!BU13","v":0},2,"受注No．",{"$f":"IF(中越２!BV13=0,\"\",中越２!BV13)","v":""},{"$f":"IF(中越２!BY13=0,\"\",中越２!BY13)","v":""},1,{"$f":"IF(中越２!BZ13=0,\"\",中越２!BZ13)","v":""}]
["②明細コード","中越地区２","日報",6,{"$f":"中越２!BU14","v":"十日町西部"},2,"受注No．",{"$f":"IF(中越２!BV14=0,\"\",中越２!BV14)","v":40156},{"$f":"IF(中越２!BY14=0,\"\",中越２!BY14)","v":""},1,{"$f":"IF(中越２!BZ14=0,\"\",中越２!BZ14)","v":""}]
["②明細コード","中越地区２","日報",7,{"$f":"中越２!BU15","v":"十日町東部"},2,"受注No．",{"$f":"IF(中越２!BV15=0,\"\",中越２!BV15)","v":40157},{"$f":"IF(中越２!BY15=0,\"\",中越２!BY15)","v":""},1,{"$f":"IF(中越２!BZ15=0,\"\",中越２!BZ15)","v":""}]
["②明細コード","中越地区２","日報",8,{"$f":"中越２!BU16","v":"下条"},2,"受注No．",{"$f":"IF(中越２!BV16=0,\"\",中越２!BV16)","v":40162},{"$f":"IF(中越２!BY16=0,\"\",中越２!BY16)","v":""},1,{"$f":"IF(中越２!BZ16=0,\"\",中越２!BZ16)","v":""}]
["②明細コード","中越地区２","日報",9,{"$f":"中越２!BU17","v":"魚沼中条"},2,"受注No．",{"$f":"IF(中越２!BV17=0,\"\",中越２!BV17)","v":40163},{"$f":"IF(中越２!BY17=0,\"\",中越２!BY17)","v":""},1,{"$f":"IF(中越２!BZ17=0,\"\",中越２!BZ17)","v":""}]
["②明細コード","中越地区２","日報",10,{"$f":"中越２!BU18","v":"水沢"},2,"受注No．",{"$f":"IF(中越２!BV18=0,\"\",中越２!BV18)","v":40164},{"$f":"IF(中越２!BY18=0,\"\",中越２!BY18)","v":""},1,{"$f":"IF(中越２!BZ18=0,\"\",中越２!BZ18)","v":""}]
["②明細コード","中越地区２","日報",11,{"$f":"中越２!BU19","v":"伊達"},2,"受注No．",{"$f":"IF(中越２!BV19=0,\"\",中越２!BV19)","v":40165},{"$f":"IF(中越２!BY19=0,\"\",中越２!BY19)","v":""},1,{"$f":"IF(中越２!BZ19=0,\"\",中越２!BZ19)","v":""}]
["②明細コード","中越地区２","日報",12,{"$f":"中越２!BU20","v":0},2,"受注No．",{"$f":"IF(中越２!BV20=0,\"\",中越２!BV20)","v":""},{"$f":"IF(中越２!BY20=0,\"\",中越２!BY20)","v":""},1,{"$f":"IF(中越２!BZ20=0,\"\",中越２!BZ20)","v":""}]
["②明細コード","中越地区２","日報",13,{"$f":"中越２!BU21","v":"川口"},2,"受注No．",{"$f":"IF(中越２!BV21=0,\"\",中越２!BV21)","v":40166},{"$f":"IF(中越２!BY21=0,\"\",中越２!BY21)","v":""},1,{"$f":"IF(中越２!BZ21=0,\"\",中越２!BZ21)","v":""}]
["②明細コード","中越地区２","日報",14,{"$f":"中越２!BU22","v":"堀之内"},2,"受注No．",{"$f":"IF(中越２!BV22=0,\"\",中越２!BV22)","v":40167},{"$f":"IF(中越２!BY22=0,\"\",中越２!BY22)","v":""},1,{"$f":"IF(中越２!BZ22=0,\"\",中越２!BZ22)","v":""}]
["②明細コード","中越地区２","日報",15,{"$f":"中越２!BU23","v":"小出"},2,"受注No．",{"$f":"IF(中越２!BV23=0,\"\",中越２!BV23)","v":40168},{"$f":"IF(中越２!BY23=0,\"\",中越２!BY23)","v":""},1,{"$f":"IF(中越２!BZ23=0,\"\",中越２!BZ23)","v":""}]
["②明細コード","中越地区２","日報",16,{"$f":"中越２!BU24","v":"魚沼北"},2,"受注No．",{"$f":"IF(中越２!BV24=0,\"\",中越２!BV24)","v":40172},{"$f":"IF(中越２!BY24=0,\"\",中越２!BY24)","v":""},1,{"$f":"IF(中越２!BZ24=0,\"\",中越２!BZ24)","v":""}]
["②明細コード","中越地区２","日報",17,{"$f":"中越２!BU25","v":0},2,"受注No．",{"$f":"IF(中越２!BV25=0,\"\",中越２!BV25)","v":""},{"$f":"IF(中越２!BY25=0,\"\",中越２!BY25)","v":""},1,{"$f":"IF(中越２!BZ25=0,\"\",中越２!BZ25)","v":""}]
["②明細コード","中越地区２","日報",18,{"$f":"中越２!BU26","v":"浦佐"},2,"受注No．",{"$f":"IF(中越２!BV26=0,\"\",中越２!BV26)","v":40176},{"$f":"IF(中越２!BY26=0,\"\",中越２!BY26)","v":""},1,{"$f":"IF(中越２!BZ26=0,\"\",中越２!BZ26)","v":""}]
["②明細コード","中越地区２","日報",19,{"$f":"中越２!BU27","v":"大崎"},2,"受注No．",{"$f":"IF(中越２!BV27=0,\"\",中越２!BV27)","v":40178},{"$f":"IF(中越２!BY27=0,\"\",中越２!BY27)","v":""},1,{"$f":"IF(中越２!BZ27=0,\"\",中越２!BZ27)","v":""}]
["②明細コード","中越地区２","日報",20,{"$f":"中越２!BU28","v":"五日町"},2,"受注No．",{"$f":"IF(中越２!BV28=0,\"\",中越２!BV28)","v":40179},{"$f":"IF(中越２!BY28=0,\"\",中越２!BY28)","v":""},1,{"$f":"IF(中越２!BZ28=0,\"\",中越２!BZ28)","v":""}]
["②明細コード","中越地区２","日報",21,{"$f":"中越２!BU29","v":"城内"},2,"受注No．",{"$f":"IF(中越２!BV29=0,\"\",中越２!BV29)","v":40180},{"$f":"IF(中越２!BY29=0,\"\",中越２!BY29)","v":""},1,{"$f":"IF(中越２!BZ29=0,\"\",中越２!BZ29)","v":""}]
["②明細コード","中越地区２","日報",22,{"$f":"中越２!BU30","v":"六日町"},2,"受注No．",{"$f":"IF(中越２!BV30=0,\"\",中越２!BV30)","v":40181},{"$f":"IF(中越２!BY30=0,\"\",中越２!BY30)","v":""},1,{"$f":"IF(中越２!BZ30=0,\"\",中越２!BZ30)","v":""}]
["②明細コード","中越地区２","日報",{"$f":"D233+1","v":23},{"$f":"中越２!BU31","v":"塩沢"},2,"受注No．",{"$f":"IF(中越２!BV31=0,\"\",中越２!BV31)","v":40184},{"$f":"IF(中越２!BY31=0,\"\",中越２!BY31)","v":""},1,{"$f":"IF(中越２!BZ31=0,\"\",中越２!BZ31)","v":""}]
["②明細コード","中越地区２","日報",24,{"$f":"中越２!BU32","v":"上田"},2,"受注No．",{"$f":"IF(中越２!BV32=0,\"\",中越２!BV32)","v":40186},{"$f":"IF(中越２!BY32=0,\"\",中越２!BY32)","v":""},1,{"$f":"IF(中越２!BZ32=0,\"\",中越２!BZ32)","v":""}]
["②明細コード","中越地区２","日報",25,{"$f":"中越２!#REF!","v":{"$error":"#REF!"}},2,"受注No．",{"$f":"IF(中越２!#REF!=0,\"\",中越２!#REF!)","v":{"$error":"#REF!"}},{"$f":"IF(中越２!#REF!=0,\"\",中越２!#REF!)","v":{"$error":"#REF!"}},1,{"$f":"IF(中越２!#REF!=0,\"\",中越２!#REF!)","v":{"$error":"#REF!"}}]
["②明細コード","中越地区２","日報",26,{"$f":"中越２!BU33","v":"湯沢"},2,"受注No．",{"$f":"IF(中越２!BV33=0,\"\",中越２!BV33)","v":40189},{"$f":"IF(中越２!BY33=0,\"\",中越２!BY33)","v":""},1,{"$f":"IF(中越２!BZ33=0,\"\",中越２!BZ33)","v":""}]
["②明細コード","中越地区２","日報",27,{"$f":"中越２!BU34","v":0},2,"受注No．",{"$f":"IF(中越２!BV34=0,\"\",中越２!BV34)","v":""},{"$f":"IF(中越２!BY34=0,\"\",中越２!BY34)","v":""},1,{"$f":"IF(中越２!BZ34=0,\"\",中越２!BZ34)","v":""}]
["②明細コード","中越地区２","日報",28,{"$f":"中越２!BU35","v":"十日町川西"},2,"受注No．",{"$f":"IF(中越２!BV35=0,\"\",中越２!BV35)","v":40192},{"$f":"IF(中越２!BY35=0,\"\",中越２!BY35)","v":""},1,{"$f":"IF(中越２!BZ35=0,\"\",中越２!BZ35)","v":""}]
["②明細コード","中越地区２","日報",29,{"$f":"中越２!BU36","v":"仙田"},2,"受注No．",{"$f":"IF(中越２!BV36=0,\"\",中越２!BV36)","v":40193},{"$f":"IF(中越２!BY36=0,\"\",中越２!BY36)","v":""},1,{"$f":"IF(中越２!BZ36=0,\"\",中越２!BZ36)","v":""}]
["②明細コード","中越地区２","日報",30,{"$f":"中越２!BU37","v":"田沢"},2,"受注No．",{"$f":"IF(中越２!BV37=0,\"\",中越２!BV37)","v":40194},{"$f":"IF(中越２!BY37=0,\"\",中越２!BY37)","v":""},1,{"$f":"IF(中越２!BZ37=0,\"\",中越２!BZ37)","v":""}]
["②明細コード","中越地区２","日報",31,{"$f":"中越２!#REF!","v":{"$error":"#REF!"}},2,"受注No．",{"$f":"IF(中越２!#REF!=0,\"\",中越２!#REF!)","v":{"$error":"#REF!"}},{"$f":"IF(中越２!#REF!=0,\"\",中越２!#REF!)","v":{"$error":"#REF!"}},1,{"$f":"IF(中越２!#REF!=0,\"\",中越２!#REF!)","v":{"$error":"#REF!"}}]
["②明細コード","中越地区２","日報",32,{"$f":"中越２!BU38","v":"津南"},2,"受注No．",{"$f":"IF(中越２!BV38=0,\"\",中越２!BV38)","v":340197},{"$f":"IF(中越２!BY38=0,\"\",中越２!BY38)","v":""},1,{"$f":"IF(中越２!BZ38=0,\"\",中越２!BZ38)","v":""}]
["②明細コード","中越地区２","日報",33,{"$f":"中越２!BU39","v":"上郷"},2,"受注No．",{"$f":"IF(中越２!BV39=0,\"\",中越２!BV39)","v":40199},{"$f":"IF(中越２!BY39=0,\"\",中越２!BY39)","v":""},1,{"$f":"IF(中越２!BZ39=0,\"\",中越２!BZ39)","v":""}]
["②明細コード","中越地区２","日報",34,{"$f":"中越２!BU40","v":"森宮野原"},2,"受注No．",{"$f":"IF(中越２!BV40=0,\"\",中越２!BV40)","v":40200},{"$f":"IF(中越２!BY40=0,\"\",中越２!BY40)","v":""},1,{"$f":"IF(中越２!BZ40=0,\"\",中越２!BZ40)","v":""}]
["②明細コード","中越地区２","中央紙",1,{"$f":"中越２!CE9","v":"小千谷"},2,"受注No．",{"$f":"IF(中越２!CF9=0,\"\",中越２!CF9)","v":240153},{"$f":"IF(中越２!CG9=0,\"\",中越２!CG9)","v":""},1,{"$f":"IF(中越２!CH9=0,\"\",中越２!CH9)","v":""}]
["②明細コード","中越地区２","中央紙",{"$f":"D246+1","v":2},{"$f":"中越２!CE10","v":0},2,"受注No．",{"$f":"IF(中越２!CF10=0,\"\",中越２!CF10)","v":""},{"$f":"IF(中越２!CG10=0,\"\",中越２!CG10)","v":""},1,{"$f":"IF(中越２!CH10=0,\"\",中越２!CH10)","v":""}]
["②明細コード","中越地区２","中央紙",3,{"$f":"中越２!CE11","v":0},2,"受注No．",{"$f":"IF(中越２!CF11=0,\"\",中越２!CF11)","v":""},{"$f":"IF(中越２!CG11=0,\"\",中越２!CG11)","v":""},1,{"$f":"IF(中越２!CH11=0,\"\",中越２!CH11)","v":""}]
["②明細コード","中越地区２","中央紙",4,{"$f":"中越２!#REF!","v":{"$error":"#REF!"}},2,"受注No．",{"$f":"IF(中越２!#REF!=0,\"\",中越２!#REF!)","v":{"$error":"#REF!"}},{"$f":"IF(中越２!#REF!=0,\"\",中越２!#REF!)","v":{"$error":"#REF!"}},1,{"$f":"IF(中越２!#REF!=0,\"\",中越２!#REF!)","v":{"$error":"#REF!"}}]
["②明細コード","中越地区２","中央紙",5,{"$f":"中越２!CE12","v":0},2,"受注No．",{"$f":"IF(中越２!CF12=0,\"\",中越２!CF12)","v":""},{"$f":"IF(中越２!CG12=0,\"\",中越２!CG12)","v":""},1,{"$f":"IF(中越２!CH12=0,\"\",中越２!CH12)","v":""}]
["②明細コード","中越地区２","中央紙",6,{"$f":"中越２!CE13","v":0},2,"受注No．",{"$f":"IF(中越２!CF13=0,\"\",中越２!CF13)","v":""},{"$f":"IF(中越２!CG13=0,\"\",中越２!CG13)","v":""},1,{"$f":"IF(中越２!CH13=0,\"\",中越２!CH13)","v":""}]
["②明細コード","中越地区２","中央紙",7,{"$f":"中越２!CE14","v":"十日町"},2,"受注No．",{"$f":"IF(中越２!CF14=0,\"\",中越２!CF14)","v":240159},{"$f":"IF(中越２!CG14=0,\"\",中越２!CG14)","v":""},1,{"$f":"IF(中越２!CH14=0,\"\",中越２!CH14)","v":""}]
["②明細コード","上越","日報",1,{"$f":"上越1!BU9","v":"柏崎中央"},2,"受注No．",{"$f":"IF(上越1!BV9=0,\"\",上越1!BV9)","v":40229},{"$f":"IF(上越1!BY9=0,\"\",上越1!BY9)","v":""},1,{"$f":"IF(上越1!BZ9=0,\"\",上越1!BZ9)","v":""}]
["②明細コード","上越","日報",{"$f":"D253+1","v":2},{"$f":"上越1!BU10","v":"柏崎"},2,"受注No．",{"$f":"IF(上越1!BV10=0,\"\",上越1!BV10)","v":40202},{"$f":"IF(上越1!BY10=0,\"\",上越1!BY10)","v":""},1,{"$f":"IF(上越1!BZ10=0,\"\",上越1!BZ10)","v":""}]
["②明細コード","上越","日報",3,{"$f":"上越1!BU11","v":"柏崎南"},2,"受注No．",{"$f":"IF(上越1!BV11=0,\"\",上越1!BV11)","v":40203},{"$f":"IF(上越1!BY11=0,\"\",上越1!BY11)","v":""},1,{"$f":"IF(上越1!BZ11=0,\"\",上越1!BZ11)","v":""}]
["②明細コード","上越","日報",4,{"$f":"上越1!BU12","v":0},2,"受注No．",{"$f":"IF(上越1!BV12=0,\"\",上越1!BV12)","v":""},{"$f":"IF(上越1!BY12=0,\"\",上越1!BY12)","v":""},1,{"$f":"IF(上越1!BZ12=0,\"\",上越1!BZ12)","v":""}]
["②明細コード","上越","日報",5,{"$f":"上越1!#REF!","v":{"$error":"#REF!"}},2,"受注No．",{"$f":"IF(上越1!#REF!=0,\"\",上越1!#REF!)","v":{"$error":"#REF!"}},{"$f":"IF(上越1!#REF!=0,\"\",上越1!#REF!)","v":{"$error":"#REF!"}},1,{"$f":"IF(上越1!#REF!=0,\"\",上越1!#REF!)","v":{"$error":"#REF!"}}]
["②明細コード","上越","日報",6,{"$f":"上越1!BU13","v":"安田"},2,"受注No．",{"$f":"IF(上越1!BV13=0,\"\",上越1!BV13)","v":40211},{"$f":"IF(上越1!BY13=0,\"\",上越1!BY13)","v":""},1,{"$f":"IF(上越1!BZ13=0,\"\",上越1!BZ13)","v":""}]
["②明細コード","上越","日報",7,{"$f":"上越1!BU14","v":"北条"},2,"受注No．",{"$f":"IF(上越1!BV14=0,\"\",上越1!BV14)","v":40212},{"$f":"IF(上越1!BY14=0,\"\",上越1!BY14)","v":""},1,{"$f":"IF(上越1!BZ14=0,\"\",上越1!BZ14)","v":""}]
["②明細コード","上越","日報",8,{"$f":"上越1!BU15","v":"広田"},2,"受注No．",{"$f":"IF(上越1!BV15=0,\"\",上越1!BV15)","v":40213},{"$f":"IF(上越1!BY15=0,\"\",上越1!BY15)","v":""},1,{"$f":"IF(上越1!BZ15=0,\"\",上越1!BZ15)","v":""}]
["②明細コード","上越","日報",9,{"$f":"上越1!BU16","v":"米山"},2,"受注No．",{"$f":"IF(上越1!BV16=0,\"\",上越1!BV16)","v":40228},{"$f":"IF(上越1!BY16=0,\"\",上越1!BY16)","v":""},1,{"$f":"IF(上越1!BZ16=0,\"\",上越1!BZ16)","v":""}]
["②明細コード","上越","日報",10,{"$f":"上越1!BU17","v":"笠島"},2,"受注No．",{"$f":"IF(上越1!BV17=0,\"\",上越1!BV17)","v":40216},{"$f":"IF(上越1!BY17=0,\"\",上越1!BY17)","v":""},1,{"$f":"IF(上越1!BZ17=0,\"\",上越1!BZ17)","v":""}]
["②明細コード","上越","日報",11,{"$f":"上越1!BU18","v":0},2,"受注No．",{"$f":"IF(上越1!BV18=0,\"\",上越1!BV18)","v":""},{"$f":"IF(上越1!BY18=0,\"\",上越1!BY18)","v":""},1,{"$f":"IF(上越1!BZ18=0,\"\",上越1!BZ18)","v":""}]
["②明細コード","上越","日報",12,{"$f":"上越1!BU19","v":"高柳"},2,"受注No．",{"$f":"IF(上越1!BV19=0,\"\",上越1!BV19)","v":40217},{"$f":"IF(上越1!BY19=0,\"\",上越1!BY19)","v":""},1,{"$f":"IF(上越1!BZ19=0,\"\",上越1!BZ19)","v":""}]
["②明細コード","上越","日報",13,{"$f":"上越1!#REF!","v":{"$error":"#REF!"}},2,"受注No．",{"$f":"IF(上越1!#REF!=0,\"\",上越1!#REF!)","v":{"$error":"#REF!"}},{"$f":"IF(上越1!#REF!=0,\"\",上越1!#REF!)","v":{"$error":"#REF!"}},1,{"$f":"IF(上越1!#REF!=0,\"\",上越1!#REF!)","v":{"$error":"#REF!"}}]
["②明細コード","上越","日報",14,{"$f":"上越1!BU20","v":"上小国"},2,"受注No．",{"$f":"IF(上越1!BV20=0,\"\",上越1!BV20)","v":40219},{"$f":"IF(上越1!BY20=0,\"\",上越1!BY20)","v":""},1,{"$f":"IF(上越1!BZ20=0,\"\",上越1!BZ20)","v":""}]
["②明細コード","上越","日報",15,{"$f":"上越1!BU21","v":"荒浜"},2,"受注No．",{"$f":"IF(上越1!BV21=0,\"\",上越1!BV21)","v":40220},{"$f":"IF(上越1!BY21=0,\"\",上越1!BY21)","v":""},1,{"$f":"IF(上越1!BZ21=0,\"\",上越1!BZ21)","v":""}]
["②明細コード","上越","日報",16,{"$f":"上越1!BU22","v":"西山"},2,"受注No．",{"$f":"IF(上越1!BV22=0,\"\",上越1!BV22)","v":40221},{"$f":"IF(上越1!BY22=0,\"\",上越1!BY22)","v":""},1,{"$f":"IF(上越1!BZ22=0,\"\",上越1!BZ22)","v":""}]
["②明細コード","上越","日報",17,{"$f":"上越1!#REF!","v":{"$error":"#REF!"}},2,"受注No．",{"$f":"IF(上越1!#REF!=0,\"\",上越1!#REF!)","v":{"$error":"#REF!"}},{"$f":"IF(上越1!#REF!=0,\"\",上越1!#REF!)","v":{"$error":"#REF!"}},1,{"$f":"IF(上越1!#REF!=0,\"\",上越1!#REF!)","v":{"$error":"#REF!"}}]
["②明細コード","上越","日報",18,{"$f":"上越1!BU23","v":0},2,"受注No．",{"$f":"IF(上越1!BV23=0,\"\",上越1!BV23)","v":""},{"$f":"IF(上越1!BY23=0,\"\",上越1!BY23)","v":""},1,{"$f":"IF(上越1!BZ23=0,\"\",上越1!BZ23)","v":""}]
["②明細コード","上越","日報",19,{"$f":"上越1!BU24","v":"高田"},2,"受注No．",{"$f":"IF(上越1!BV24=0,\"\",上越1!BV24)","v":50101},{"$f":"IF(上越1!BY24=0,\"\",上越1!BY24)","v":""},1,{"$f":"IF(上越1!BZ24=0,\"\",上越1!BZ24)","v":""}]
["②明細コード","上越","日報",20,{"$f":"上越1!BU25","v":"高田南"},2,"受注No．",{"$f":"IF(上越1!BV25=0,\"\",上越1!BV25)","v":50102},{"$f":"IF(上越1!BY25=0,\"\",上越1!BY25)","v":""},1,{"$f":"IF(上越1!BZ25=0,\"\",上越1!BZ25)","v":""}]
["②明細コード","上越","日報",21,{"$f":"上越1!BU26","v":"木田"},2,"受注No．",{"$f":"IF(上越1!BV26=0,\"\",上越1!BV26)","v":50103},{"$f":"IF(上越1!BY26=0,\"\",上越1!BY26)","v":""},1,{"$f":"IF(上越1!BZ26=0,\"\",上越1!BZ26)","v":""}]
["②明細コード","上越","日報",22,{"$f":"上越1!BU27","v":"春日山"},2,"受注No．",{"$f":"IF(上越1!BV27=0,\"\",上越1!BV27)","v":50106},{"$f":"IF(上越1!BY27=0,\"\",上越1!BY27)","v":""},1,{"$f":"IF(上越1!BZ27=0,\"\",上越1!BZ27)","v":""}]
["②明細コード","上越","日報",23,{"$f":"上越1!BU28","v":"脇野田"},2,"受注No．",{"$f":"IF(上越1!BV28=0,\"\",上越1!BV28)","v":50108},{"$f":"IF(上越1!BY28=0,\"\",上越1!BY28)","v":""},1,{"$f":"IF(上越1!BZ28=0,\"\",上越1!BZ28)","v":""}]
["②明細コード","上越","日報",24,{"$f":"上越1!BU29","v":"上越東"},2,"受注No．",{"$f":"IF(上越1!BV29=0,\"\",上越1!BV29)","v":50109},{"$f":"IF(上越1!BY29=0,\"\",上越1!BY29)","v":""},1,{"$f":"IF(上越1!BZ29=0,\"\",上越1!BZ29)","v":""}]
["②明細コード","上越","日報",25,{"$f":"上越1!BU30","v":"上越三和"},2,"受注No．",{"$f":"IF(上越1!BV30=0,\"\",上越1!BV30)","v":50112},{"$f":"IF(上越1!BY30=0,\"\",上越1!BY30)","v":""},1,{"$f":"IF(上越1!BZ30=0,\"\",上越1!BZ30)","v":""}]
["②明細コード","上越","日報",26,{"$f":"上越1!BU31","v":"直江津"},2,"受注No．",{"$f":"IF(上越1!BV31=0,\"\",上越1!BV31)","v":50113},{"$f":"IF(上越1!BY31=0,\"\",上越1!BY31)","v":""},1,{"$f":"IF(上越1!BZ31=0,\"\",上越1!BZ31)","v":""}]
["②明細コード","上越","日報",27,{"$f":"上越1!BU32","v":"直江津東"},2,"受注No．",{"$f":"IF(上越1!BV32=0,\"\",上越1!BV32)","v":50114},{"$f":"IF(上越1!BY32=0,\"\",上越1!BY32)","v":""},1,{"$f":"IF(上越1!BZ32=0,\"\",上越1!BZ32)","v":""}]
["②明細コード","上越","日報",28,{"$f":"上越1!BU33","v":"黒井"},2,"受注No．",{"$f":"IF(上越1!BV33=0,\"\",上越1!BV33)","v":50117},{"$f":"IF(上越1!BY33=0,\"\",上越1!BY33)","v":""},1,{"$f":"IF(上越1!BZ33=0,\"\",上越1!BZ33)","v":""}]
["②明細コード","上越","日報",29,{"$f":"上越1!BU34","v":"名立谷浜"},2,"受注No．",{"$f":"IF(上越1!BV34=0,\"\",上越1!BV34)","v":50152},{"$f":"IF(上越1!BY34=0,\"\",上越1!BY34)","v":""},1,{"$f":"IF(上越1!BZ34=0,\"\",上越1!BZ34)","v":""}]
["②明細コード","上越","日報",30,{"$f":"上越1!BU35","v":0},2,"受注No．",{"$f":"IF(上越1!BV35=0,\"\",上越1!BV35)","v":""},{"$f":"IF(上越1!BY35=0,\"\",上越1!BY35)","v":""},1,{"$f":"IF(上越1!BZ35=0,\"\",上越1!BZ35)","v":""}]
["②明細コード","上越","日報",31,{"$f":"上越1!BU36","v":"新井"},2,"受注No．",{"$f":"IF(上越1!BV36=0,\"\",上越1!BV36)","v":50119},{"$f":"IF(上越1!BY36=0,\"\",上越1!BY36)","v":""},1,{"$f":"IF(上越1!BZ36=0,\"\",上越1!BZ36)","v":""}]
["②明細コード","上越","日報",32,{"$f":"上越1!BU37","v":"新井学校町"},2,"受注No．",{"$f":"IF(上越1!BV37=0,\"\",上越1!BV37)","v":50120},{"$f":"IF(上越1!BY37=0,\"\",上越1!BY37)","v":""},1,{"$f":"IF(上越1!BZ37=0,\"\",上越1!BZ37)","v":""}]
["②明細コード","上越","日報",33,{"$f":"上越1!BU38","v":"新井南"},2,"受注No．",{"$f":"IF(上越1!BV38=0,\"\",上越1!BV38)","v":50121},{"$f":"IF(上越1!BY38=0,\"\",上越1!BY38)","v":""},1,{"$f":"IF(上越1!BZ38=0,\"\",上越1!BZ38)","v":""}]
["②明細コード","上越","日報",34,{"$f":"上越1!BU39","v":"関山"},2,"受注No．",{"$f":"IF(上越1!BV39=0,\"\",上越1!BV39)","v":50122},{"$f":"IF(上越1!BY39=0,\"\",上越1!BY39)","v":""},1,{"$f":"IF(上越1!BZ39=0,\"\",上越1!BZ39)","v":""}]
["②明細コード","上越","日報",35,{"$f":"上越1!BU40","v":"妙高"},2,"受注No．",{"$f":"IF(上越1!BV40=0,\"\",上越1!BV40)","v":50123},{"$f":"IF(上越1!BY40=0,\"\",上越1!BY40)","v":""},1,{"$f":"IF(上越1!BZ40=0,\"\",上越1!BZ40)","v":""}]
["②明細コード","上越","日報",36,{"$f":"上越1!BU41","v":"赤倉"},2,"受注No．",{"$f":"IF(上越1!BV41=0,\"\",上越1!BV41)","v":50124},{"$f":"IF(上越1!BY41=0,\"\",上越1!BY41)","v":""},1,{"$f":"IF(上越1!BZ41=0,\"\",上越1!BZ41)","v":""}]
["②明細コード","上越","中央紙",1,{"$f":"上越1!CE9","v":"柏崎西部"},2,"受注No．",{"$f":"IF(上越1!CF9=0,\"\",上越1!CF9)","v":240205},{"$f":"IF(上越1!CG9=0,\"\",上越1!CG9)","v":""},1,{"$f":"IF(上越1!CH9=0,\"\",上越1!CH9)","v":""}]
["②明細コード","上越","中央紙",{"$f":"D289+1","v":2},{"$f":"上越1!CE10","v":"柏崎東部"},2,"受注No．",{"$f":"IF(上越1!CF10=0,\"\",上越1!CF10)","v":240206},{"$f":"IF(上越1!CG10=0,\"\",上越1!CG10)","v":""},1,{"$f":"IF(上越1!CH10=0,\"\",上越1!CH10)","v":""}]
["②明細コード","上越","中央紙",3,{"$f":"上越1!CE11","v":0},2,"受注No．",{"$f":"IF(上越1!CF11=0,\"\",上越1!CF11)","v":""},{"$f":"IF(上越1!CG11=0,\"\",上越1!CG11)","v":""},1,{"$f":"IF(上越1!CH11=0,\"\",上越1!CH11)","v":""}]
["②明細コード","上越","中央紙",4,{"$f":"上越1!CE12","v":0},2,"受注No．",{"$f":"IF(上越1!CF12=0,\"\",上越1!CF12)","v":""},{"$f":"IF(上越1!CG12=0,\"\",上越1!CG12)","v":""},1,{"$f":"IF(上越1!CH12=0,\"\",上越1!CH12)","v":""}]
["②明細コード","上越","中央紙",5,{"$f":"上越1!#REF!","v":{"$error":"#REF!"}},2,"受注No．",{"$f":"IF(上越1!#REF!=0,\"\",上越1!#REF!)","v":{"$error":"#REF!"}},{"$f":"IF(上越1!#REF!=0,\"\",上越1!#REF!)","v":{"$error":"#REF!"}},1,{"$f":"IF(上越1!#REF!=0,\"\",上越1!#REF!)","v":{"$error":"#REF!"}}]
["②明細コード","上越","中央紙",6,{"$f":"上越1!CE13","v":0},2,"受注No．",{"$f":"IF(上越1!CF13=0,\"\",上越1!CF13)","v":""},{"$f":"IF(上越1!CG13=0,\"\",上越1!CG13)","v":""},1,{"$f":"IF(上越1!CH13=0,\"\",上越1!CH13)","v":""}]
["②明細コード","上越","中央紙",7,{"$f":"上越1!CE14","v":0},2,"受注No．",{"$f":"IF(上越1!CF14=0,\"\",上越1!CF14)","v":""},{"$f":"IF(上越1!CG14=0,\"\",上越1!CG14)","v":""},1,{"$f":"IF(上越1!CH14=0,\"\",上越1!CH14)","v":""}]
["②明細コード","上越","中央紙",8,{"$f":"上越1!CE15","v":0},2,"受注No．",{"$f":"IF(上越1!CF15=0,\"\",上越1!CF15)","v":""},{"$f":"IF(上越1!CG15=0,\"\",上越1!CG15)","v":""},1,{"$f":"IF(上越1!CH15=0,\"\",上越1!CH15)","v":""}]
["②明細コード","上越２","日報",1,{"$f":"上越２!BU9","v":"柿崎"},2,"受注No．",{"$f":"IF(上越２!BV9=0,\"\",上越２!BV9)","v":50125},{"$f":"IF(上越２!BY9=0,\"\",上越２!BY9)","v":""},1,{"$f":"IF(上越２!BZ9=0,\"\",上越２!BZ9)","v":""}]
["②明細コード","上越２","日報",{"$f":"D297+1","v":2},{"$f":"上越２!BU10","v":"吉川"},2,"受注No．",{"$f":"IF(上越２!BV10=0,\"\",上越２!BV10)","v":50126},{"$f":"IF(上越２!BY10=0,\"\",上越２!BY10)","v":""},1,{"$f":"IF(上越２!BZ10=0,\"\",上越２!BZ10)","v":""}]
["②明細コード","上越２","日報",3,{"$f":"上越２!BU11","v":"大潟"},2,"受注No．",{"$f":"IF(上越２!BV11=0,\"\",上越２!BV11)","v":50127},{"$f":"IF(上越２!BY11=0,\"\",上越２!BY11)","v":""},1,{"$f":"IF(上越２!BZ11=0,\"\",上越２!BZ11)","v":""}]
["②明細コード","上越２","日報",4,{"$f":"上越２!BU12","v":"犀潟"},2,"受注No．",{"$f":"IF(上越２!BV12=0,\"\",上越２!BV12)","v":50128},{"$f":"IF(上越２!BY12=0,\"\",上越２!BY12)","v":""},1,{"$f":"IF(上越２!BZ12=0,\"\",上越２!BZ12)","v":""}]
["②明細コード","上越２","日報",5,{"$f":"上越２!BU13","v":"百閒町"},2,"受注No．",{"$f":"IF(上越２!BV13=0,\"\",上越２!BV13)","v":50129},{"$f":"IF(上越２!BY13=0,\"\",上越２!BY13)","v":""},1,{"$f":"IF(上越２!BZ13=0,\"\",上越２!BZ13)","v":""}]
["②明細コード","上越２","日報",6,{"$f":"上越２!BU14","v":"明治"},2,"受注No．",{"$f":"IF(上越２!BV14=0,\"\",上越２!BV14)","v":50130},{"$f":"IF(上越２!BY14=0,\"\",上越２!BY14)","v":""},1,{"$f":"IF(上越２!BZ14=0,\"\",上越２!BZ14)","v":""}]
["②明細コード","上越２","日報",7,{"$f":"上越２!BU15","v":0},2,"受注No．",{"$f":"IF(上越２!BV15=0,\"\",上越２!BV15)","v":""},{"$f":"IF(上越２!BY15=0,\"\",上越２!BY15)","v":""},1,{"$f":"IF(上越２!BZ15=0,\"\",上越２!BZ15)","v":""}]
["②明細コード","上越２","日報",8,{"$f":"上越２!BU16","v":"浦川原"},2,"受注No．",{"$f":"IF(上越２!BV16=0,\"\",上越２!BV16)","v":50131},{"$f":"IF(上越２!BY16=0,\"\",上越２!BY16)","v":""},1,{"$f":"IF(上越２!BZ16=0,\"\",上越２!BZ16)","v":""}]
["②明細コード","上越２","日報",9,{"$f":"上越２!#REF!","v":{"$error":"#REF!"}},2,"受注No．",{"$f":"IF(上越２!#REF!=0,\"\",上越２!#REF!)","v":{"$error":"#REF!"}},{"$f":"IF(上越２!#REF!=0,\"\",上越２!#REF!)","v":{"$error":"#REF!"}},1,{"$f":"IF(上越２!#REF!=0,\"\",上越２!#REF!)","v":{"$error":"#REF!"}}]
["②明細コード","上越２","日報",10,{"$f":"上越２!BU17","v":"上越安塚"},2,"受注No．",{"$f":"IF(上越２!BV17=0,\"\",上越２!BV17)","v":50133},{"$f":"IF(上越２!BY17=0,\"\",上越２!BY17)","v":""},1,{"$f":"IF(上越２!BZ17=0,\"\",上越２!BZ17)","v":""}]
["②明細コード","上越２","日報",11,{"$f":"上越２!BU18","v":"大島"},2,"受注No．",{"$f":"IF(上越２!BV18=0,\"\",上越２!BV18)","v":50134},{"$f":"IF(上越２!BY18=0,\"\",上越２!BY18)","v":""},1,{"$f":"IF(上越２!BZ18=0,\"\",上越２!BZ18)","v":""}]
["②明細コード","上越２","日報",12,{"$f":"上越２!BU19","v":"松代"},2,"受注No．",{"$f":"IF(上越２!BV19=0,\"\",上越２!BV19)","v":50135},{"$f":"IF(上越２!BY19=0,\"\",上越２!BY19)","v":""},1,{"$f":"IF(上越２!BZ19=0,\"\",上越２!BZ19)","v":""}]
["②明細コード","上越２","日報",13,{"$f":"上越２!BU20","v":"松之山"},2,"受注No．",{"$f":"IF(上越２!BV20=0,\"\",上越２!BV20)","v":50136},{"$f":"IF(上越２!BY20=0,\"\",上越２!BY20)","v":""},1,{"$f":"IF(上越２!BZ20=0,\"\",上越２!BZ20)","v":""}]
["②明細コード","上越２","日報",14,{"$f":"上越２!BU21","v":0},2,"受注No．",{"$f":"IF(上越２!BV21=0,\"\",上越２!BV21)","v":""},{"$f":"IF(上越２!BY21=0,\"\",上越２!BY21)","v":""},1,{"$f":"IF(上越２!BZ21=0,\"\",上越２!BZ21)","v":""}]
["②明細コード","上越２","日報",15,{"$f":"上越２!BU22","v":"糸魚川"},2,"受注No．",{"$f":"IF(上越２!BV22=0,\"\",上越２!BV22)","v":50137},{"$f":"IF(上越２!BY22=0,\"\",上越２!BY22)","v":""},1,{"$f":"IF(上越２!BZ22=0,\"\",上越２!BZ22)","v":""}]
["②明細コード","上越２","日報",16,{"$f":"上越２!#REF!","v":{"$error":"#REF!"}},2,"受注No．",{"$f":"IF(上越２!#REF!=0,\"\",上越２!#REF!)","v":{"$error":"#REF!"}},{"$f":"IF(上越２!#REF!=0,\"\",上越２!#REF!)","v":{"$error":"#REF!"}},1,{"$f":"IF(上越２!#REF!=0,\"\",上越２!#REF!)","v":{"$error":"#REF!"}}]
["②明細コード","上越２","日報",17,{"$f":"上越２!BU23","v":"糸魚川東"},2,"受注No．",{"$f":"IF(上越２!BV23=0,\"\",上越２!BV23)","v":50142},{"$f":"IF(上越２!BY23=0,\"\",上越２!BY23)","v":""},1,{"$f":"IF(上越２!BZ23=0,\"\",上越２!BZ23)","v":""}]
["②明細コード","上越２","日報",18,{"$f":"上越２!BU24","v":"根知"},2,"受注No．",{"$f":"IF(上越２!BV24=0,\"\",上越２!BV24)","v":50144},{"$f":"IF(上越２!BY24=0,\"\",上越２!BY24)","v":""},1,{"$f":"IF(上越２!BZ24=0,\"\",上越２!BZ24)","v":""}]
["②明細コード","上越２","日報",19,{"$f":"上越２!BU25","v":0},2,"受注No．",{"$f":"IF(上越２!BV25=0,\"\",上越２!BV25)","v":""},{"$f":"IF(上越２!BY25=0,\"\",上越２!BY25)","v":""},1,{"$f":"IF(上越２!BZ25=0,\"\",上越２!BZ25)","v":""}]
["②明細コード","上越２","日報",20,{"$f":"上越２!BU26","v":"筒石"},2,"受注No．",{"$f":"IF(上越２!BV26=0,\"\",上越２!BV26)","v":50148},{"$f":"IF(上越２!BY26=0,\"\",上越２!BY26)","v":""},1,{"$f":"IF(上越２!BZ26=0,\"\",上越２!BZ26)","v":""}]
["②明細コード","上越２","日報",21,{"$f":"上越２!BU27","v":"能生"},2,"受注No．",{"$f":"IF(上越２!BV27=0,\"\",上越２!BV27)","v":50149},{"$f":"IF(上越２!BY27=0,\"\",上越２!BY27)","v":""},1,{"$f":"IF(上越２!BZ27=0,\"\",上越２!BZ27)","v":""}]
["②明細コード","上越２","日報",22,{"$f":"上越２!BU28","v":"青梅"},2,"受注No．",{"$f":"IF(上越２!BV28=0,\"\",上越２!BV28)","v":50150},{"$f":"IF(上越２!BY28=0,\"\",上越２!BY28)","v":""},1,{"$f":"IF(上越２!BZ28=0,\"\",上越２!BZ28)","v":""}]
["②明細コード","上越２","中央紙",1,{"$f":"上越２!CE9","v":0},2,"受注No．",{"$f":"IF(上越２!CF9=0,\"\",上越２!CF9)","v":""},{"$f":"IF(上越２!CG9=0,\"\",上越２!CG9)","v":""},1,{"$f":"IF(上越２!CH9=0,\"\",上越２!CH9)","v":""}]
["②明細コード","上越２","中央紙",{"$f":"D319+1","v":2},{"$f":"上越２!CE10","v":0},2,"受注No．",{"$f":"IF(上越２!CF10=0,\"\",上越２!CF10)","v":""},{"$f":"IF(上越２!CG10=0,\"\",上越２!CG10)","v":""},1,{"$f":"IF(上越２!CH10=0,\"\",上越２!CH10)","v":""}]
["②明細コード","上越２","中央紙",3,{"$f":"上越２!CE11","v":0},2,"受注No．",{"$f":"IF(上越２!CF11=0,\"\",上越２!CF11)","v":""},{"$f":"IF(上越２!CG11=0,\"\",上越２!CG11)","v":""},1,{"$f":"IF(上越２!CH11=0,\"\",上越２!CH11)","v":""}]
["③納品先レコード",null,null,null,null,3,"受注No．",1,{"$f":"SUM(I5:I321)","v":{"$error":"#REF!"}}]
["④トレーラレコード",null,null,null,null,4,1]

{"sheet":"ＥＤＩくるみる","index":15,"n_rows":251,"n_cols":22,"rows_kept":251,"cut":false,"hidden":true,"merged":[[1,5,1,21]]}
[1,{"$f":"A1+1","v":2},{"$f":"B1+1","v":3},4,5,6,7,8,9,10,11,12,13,14,15,16,17,18,19,20,21,22]
[null,null,null,null,null,"CSV出力範囲"]
[null,null,null,null,null,1,2,3,4,5,6,7,8,9,10,11,12,13,14,15,16,17]
["①ヘッダーレコード",null,null,null,null,1,0,"025669",0,0,"株式会社　新潟日報サービスネット","データ作成日付（YYYYMMDD）","受注No．",7,0,0,{"$f":"新潟市!M3","v":0},{"$f":"TEXT(新潟市!A3,\"yyyymmdd\")","v":"2023/--/--"},{"$f":"\"くるみる折込　\"&新潟市!AI3","v":"くるみる折込　"},{"$f":"新潟市!BU5","v":{"$error":"#N/A"}},{"$f":"SUM(I5:I241)","v":{"$error":"#REF!"}}]
["②明細コード","新潟市","日報",1,{"$f":"新潟市!BU9","v":"万代"},2,"受注No．",{"$f":"新潟市!BV9","v":10101},{"$f":"IF(新潟市!CA9=0,\"\",新潟市!CA9)","v":""},1]
["②明細コード","新潟市","日報",{"$f":"D5+1","v":2},{"$f":"新潟市!BU10","v":"駅南"},2,"受注No．",{"$f":"新潟市!BV10","v":10102},{"$f":"IF(新潟市!CA10=0,\"\",新潟市!CA10)","v":""},1]
["②明細コード","新潟市","日報",{"$f":"D6+1","v":3},{"$f":"新潟市!BU11","v":"木戸"},2,"受注No．",{"$f":"新潟市!BV11","v":10103},{"$f":"IF(新潟市!CA11=0,\"\",新潟市!CA11)","v":""},1]
["②明細コード","新潟市","日報",4,{"$f":"新潟市!BU12","v":"石山東"},2,"受注No．",{"$f":"新潟市!BV12","v":10105},{"$f":"IF(新潟市!CA12=0,\"\",新潟市!CA12)","v":""},1]
["②明細コード","新潟市","日報",5,{"$f":"新潟市!BU13","v":"山ノ下"},2,"受注No．",{"$f":"新潟市!BV13","v":10107},{"$f":"IF(新潟市!CA13=0,\"\",新潟市!CA13)","v":""},1]
["②明細コード","新潟市","日報",6,{"$f":"新潟市!BU14","v":"物見山"},2,"受注No．",{"$f":"新潟市!BV14","v":10108},{"$f":"IF(新潟市!CA14=0,\"\",新潟市!CA14)","v":""},1]
["②明細コード","新潟市","日報",7,{"$f":"新潟市!BU15","v":"とやの"},2,"受注No．",{"$f":"新潟市!BV15","v":10109},{"$f":"IF(新潟市!CA15=0,\"\",新潟市!CA15)","v":""},1]
["②明細コード","新潟市","日報",8,{"$f":"新潟市!BU16","v":"県庁前"},2,"受注No．",{"$f":"新潟市!BV16","v":10111},{"$f":"IF(新潟市!CA16=0,\"\",新潟市!CA16)","v":""},1]
["②明細コード","新潟市","日報",9,{"$f":"新潟市!#REF!","v":{"$error":"#REF!"}},2,"受注No．",{"$f":"新潟市!#REF!","v":{"$error":"#REF!"}},{"$f":"IF(新潟市!#REF!=0,\"\",新潟市!#REF!)","v":{"$error":"#REF!"}},1]
["②明細コード","新潟市","日報",10,{"$f":"新潟市!BU17","v":"愛宕"},2,"受注No．",{"$f":"新潟市!BV17","v":10113},{"$f":"IF(新潟市!CA17=0,\"\",新潟市!CA17)","v":""},1]
["②明細コード","新潟市","日報",11,{"$f":"新潟市!BU18","v":"河渡"},2,"受注No．",{"$f":"新潟市!BV18","v":10114},{"$f":"IF(新潟市!CA18=0,\"\",新潟市!CA18)","v":""},1]
["②明細コード","新潟市","日報",12,{"$f":"新潟市!BU19","v":"牡丹山"},2,"受注No．",{"$f":"新潟市!BV19","v":10115},{"$f":"IF(新潟市!CA19=0,\"\",新潟市!CA19)","v":""},1]
["②明細コード","新潟市","日報",13,{"$f":"新潟市!BU20","v":"大形"},2,"受注No．",{"$f":"新潟市!BV20","v":10116},{"$f":"IF(新潟市!CA20=0,\"\",新潟市!CA20)","v":""},1]
["②明細コード","新潟市","日報",14,{"$f":"新潟市!BU21","v":"松浜"},2,"受注No．",{"$f":"新潟市!BV21","v":10117},{"$f":"IF(新潟市!CA21=0,\"\",新潟市!CA21)","v":""},1]
["②明細コード","新潟市","日報",15,{"$f":"新潟市!BU22","v":"新潟南"},2,"受注No．",{"$f":"新潟市!BV22","v":10118},{"$f":"IF(新潟市!CA22=0,\"\",新潟市!CA22)","v":""},1]
["②明細コード","新潟市","日報",16,{"$f":"新潟市!BU23","v":"姥ケ山"},2,"受注No．",{"$f":"新潟市!BV23","v":10119},{"$f":"IF(新潟市!CA23=0,\"\",新潟市!CA23)","v":""},1]
["②明細コード","新潟市","日報",17,{"$f":"新潟市!BU24","v":"山二ツ"},2,"受注No．",{"$f":"新潟市!BV24","v":10120},{"$f":"IF(新潟市!CA24=0,\"\",新潟市!CA24)","v":""},1]
["②明細コード","新潟市","日報",18,{"$f":"新潟市!BU25","v":"亀田西"},2,"受注No．",{"$f":"新潟市!BV25","v":10122},{"$f":"IF(新潟市!CA25=0,\"\",新潟市!CA25)","v":""},1]
["②明細コード","新潟市","日報",19,{"$f":"新潟市!BU26","v":"亀田"},2,"受注No．",{"$f":"新潟市!BV26","v":10123},{"$f":"IF(新潟市!CA26=0,\"\",新潟市!CA26)","v":""},1]
["②明細コード","新潟市","日報",20,{"$f":"新潟市!BU27","v":"横越"},2,"受注No．",{"$f":"新潟市!BV27","v":10176},{"$f":"IF(新潟市!CA27=0,\"\",新潟市!CA27)","v":""},1]
["②明細コード","新潟市","日報",21,{"$f":"新潟市!BU28","v":"有明"},2,"受注No．",{"$f":"新潟市!BV28","v":10177},{"$f":"IF(新潟市!CA28=0,\"\",新潟市!CA28)","v":""},1]
["②明細コード","新潟市","日報",22,{"$f":"新潟市!BU29","v":"小針"},2,"受注No．",{"$f":"新潟市!BV29","v":10127},{"$f":"IF(新潟市!CA29=0,\"\",新潟市!CA29)","v":""},1]
["②明細コード","新潟市","日報",23,{"$f":"新潟市!BU30","v":"中通"},2,"受注No．",{"$f":"新潟市!BV30","v":10128},{"$f":"IF(新潟市!CA30=0,\"\",新潟市!CA30)","v":""},1]
["②明細コード","新潟市","日報",24,{"$f":"新潟市!BU31","v":"本町"},2,"受注No．",{"$f":"新潟市!BV31","v":10130},{"$f":"IF(新潟市!CA31=0,\"\",新潟市!CA31)","v":""},1]
["②明細コード","新潟市","日報",25,{"$f":"新潟市!BU32","v":"中央"},2,"受注No．",{"$f":"新潟市!BV32","v":10131},{"$f":"IF(新潟市!CA32=0,\"\",新潟市!CA32)","v":""},1]
["②明細コード","新潟市","日報",26,{"$f":"新潟市!BU33","v":"真砂"},2,"受注No．",{"$f":"新潟市!BV33","v":10133},{"$f":"IF(新潟市!CA33=0,\"\",新潟市!CA33)","v":""},1]
["②明細コード","新潟市","日報",27,{"$f":"新潟市!BU34","v":"寺尾"},2,"受注No．",{"$f":"新潟市!BV34","v":10134},{"$f":"IF(新潟市!CA34=0,\"\",新潟市!CA34)","v":""},1]
["②明細コード","新潟市","日報",28,{"$f":"新潟市!BU35","v":"新大前"},2,"受注No．",{"$f":"新潟市!BV35","v":10135},{"$f":"IF(新潟市!CA35=0,\"\",新潟市!CA35)","v":""},1]
["②明細コード","新潟市","日報",29,{"$f":"新潟市!BU36","v":"内野"},2,"受注No．",{"$f":"新潟市!BV36","v":10136},{"$f":"IF(新潟市!CA36=0,\"\",新潟市!CA36)","v":""},1]
["②明細コード","新潟市","日報",30,{"$f":"新潟市!BU37","v":"西内野"},2,"受注No．",{"$f":"新潟市!BV37","v":10137},{"$f":"IF(新潟市!CA37=0,\"\",新潟市!CA37)","v":""},1]
["②明細コード","新潟市","日報",31,{"$f":"新潟市!#REF!","v":{"$error":"#REF!"}},2,"受注No．",{"$f":"新潟市!#REF!","v":{"$error":"#REF!"}},{"$f":"IF(新潟市!#REF!=0,\"\",新潟市!#REF!)","v":{"$error":"#REF!"}},1]
["②明細コード","新潟市","日報",32,{"$f":"新潟市!BU38","v":"小新"},2,"受注No．",{"$f":"新潟市!BV38","v":10140},{"$f":"IF(新潟市!CA38=0,\"\",新潟市!CA38)","v":""},1]
["②明細コード","新潟市","日報",33,{"$f":"新潟市!BU39","v":"寺地"},2,"受注No．",{"$f":"新潟市!BV39","v":10141},{"$f":"IF(新潟市!CA39=0,\"\",新潟市!CA39)","v":""},1]
["②明細コード","新潟市","日報",34,{"$f":"新潟市!BU40","v":"黒埼"},2,"受注No．",{"$f":"新潟市!BV40","v":10178},{"$f":"IF(新潟市!CA40=0,\"\",新潟市!CA40)","v":""},1]
["②明細コード","新潟市","日報",35,{"$f":"新潟市!BU41","v":"黒埼南"},2,"受注No．",{"$f":"新潟市!BV41","v":10143},{"$f":"IF(新潟市!CA41=0,\"\",新潟市!CA41)","v":""},1]
["②明細コード","下越地区1","日報",1,{"$f":"下越1!BU9","v":"分水"},2,"受注No．",{"$f":"IF(下越1!BV9=0,\"\",下越1!BV9)","v":20101},{"$f":"IF(下越1!CA9=0,\"\",下越1!CA9)","v":""},1]
["②明細コード","下越地区1","日報",{"$f":"D40+1","v":2},{"$f":"下越1!BU10","v":"吉田"},2,"受注No．",{"$f":"IF(下越1!BV10=0,\"\",下越1!BV10)","v":20102},{"$f":"IF(下越1!CA10=0,\"\",下越1!CA10)","v":""},1]
["②明細コード","下越地区1","日報",{"$f":"D41+1","v":3},{"$f":"下越1!BU11","v":"粟生津"},2,"受注No．",{"$f":"IF(下越1!BV11=0,\"\",下越1!BV11)","v":20104},{"$f":"IF(下越1!CA11=0,\"\",下越1!CA11)","v":""},1]
["②明細コード","下越地区1","日報",4,{"$f":"下越1!BU12","v":"巻"},2,"受注No．",{"$f":"IF(下越1!BV12=0,\"\",下越1!BV12)","v":20105},{"$f":"IF(下越1!CA12=0,\"\",下越1!CA12)","v":""},1]
["②明細コード","下越地区1","日報",5,{"$f":"下越1!BU13","v":"岩室"},2,"受注No．",{"$f":"IF(下越1!BV13=0,\"\",下越1!BV13)","v":20108},{"$f":"IF(下越1!CA13=0,\"\",下越1!CA13)","v":""},1]
["②明細コード","下越地区1","日報",6,{"$f":"下越1!BU14","v":"西川"},2,"受注No．",{"$f":"IF(下越1!BV14=0,\"\",下越1!BV14)","v":20109},{"$f":"IF(下越1!CA14=0,\"\",下越1!CA14)","v":""},1]
["②明細コード","下越地区1","日報",7,{"$f":"下越1!BU15","v":"中之口"},2,"受注No．",{"$f":"IF(下越1!BV15=0,\"\",下越1!BV15)","v":20110},{"$f":"IF(下越1!CA15=0,\"\",下越1!CA15)","v":""},1]
["②明細コード","下越地区1","日報",8,{"$f":"下越1!BU16","v":"弥彦"},2,"受注No．",{"$f":"IF(下越1!BV16=0,\"\",下越1!BV16)","v":20111},{"$f":"IF(下越1!CA16=0,\"\",下越1!CA16)","v":""},1]
["②明細コード","下越地区1","日報",9,{"$f":"下越1!BU17","v":0},2,"受注No．",{"$f":"IF(下越1!BV17=0,\"\",下越1!BV17)","v":""},{"$f":"IF(下越1!CA17=0,\"\",下越1!CA17)","v":""},1]
["②明細コード","下越地区1","日報",10,{"$f":"下越1!BU18","v":"小須戸"},2,"受注No．",{"$f":"IF(下越1!BV18=0,\"\",下越1!BV18)","v":20112},{"$f":"IF(下越1!CA18=0,\"\",下越1!CA18)","v":""},1]
["②明細コード","下越地区1","日報",11,{"$f":"下越1!BU19","v":"矢代田"},2,"受注No．",{"$f":"IF(下越1!BV19=0,\"\",下越1!BV19)","v":20113},{"$f":"IF(下越1!CA19=0,\"\",下越1!CA19)","v":""},1]
["②明細コード","下越地区1","日報",12,{"$f":"下越1!BU20","v":"村松"},2,"受注No．",{"$f":"IF(下越1!BV20=0,\"\",下越1!BV20)","v":20114},{"$f":"IF(下越1!CA20=0,\"\",下越1!CA20)","v":""},1]
["②明細コード","下越地区1","日報",13,{"$f":"下越1!BU21","v":0},2,"受注No．",{"$f":"IF(下越1!BV21=0,\"\",下越1!BV21)","v":""},{"$f":"IF(下越1!CA21=0,\"\",下越1!CA21)","v":""},1]
["②明細コード","下越地区1","日報",14,{"$f":"下越1!BU22","v":"新津"},2,"受注No．",{"$f":"IF(下越1!BV22=0,\"\",下越1!BV22)","v":20116},{"$f":"IF(下越1!CA22=0,\"\",下越1!CA22)","v":""},1]
["②明細コード","下越地区1","日報",15,{"$f":"下越1!BU23","v":"新津・荻川"},2,"受注No．",{"$f":"IF(下越1!BV23=0,\"\",下越1!BV23)","v":20181},{"$f":"IF(下越1!CA23=0,\"\",下越1!CA23)","v":""},1]
["②明細コード","下越地区1","日報",16,{"$f":"下越1!BU24","v":0},2,"受注No．",{"$f":"IF(下越1!BV24=0,\"\",下越1!BV24)","v":""},{"$f":"IF(下越1!CA24=0,\"\",下越1!CA24)","v":""},1]
["②明細コード","下越地区1","日報",17,{"$f":"下越1!BU25","v":"五泉"},2,"受注No．",{"$f":"IF(下越1!BV25=0,\"\",下越1!BV25)","v":20117},{"$f":"IF(下越1!CA25=0,\"\",下越1!CA25)","v":""},1]
["②明細コード","下越地区1","日報",18,{"$f":"下越1!BU27","v":"保田・馬下"},2,"受注No．",{"$f":"IF(下越1!BV27=0,\"\",下越1!BV27)","v":20183},{"$f":"IF(下越1!CA27=0,\"\",下越1!CA27)","v":""},1]
["②明細コード","下越地区1","日報",19,{"$f":"下越1!BU28","v":0},2,"受注No．",{"$f":"IF(下越1!BV28=0,\"\",下越1!BV28)","v":""},{"$f":"IF(下越1!CA28=0,\"\",下越1!CA28)","v":""},1]
["②明細コード","下越地区1","日報",20,{"$f":"下越1!BU29","v":"白根"},2,"受注No．",{"$f":"IF(下越1!BV29=0,\"\",下越1!BV29)","v":20120},{"$f":"IF(下越1!CA29=0,\"\",下越1!CA29)","v":""},1]
["②明細コード","下越地区1","日報",21,{"$f":"下越1!BU30","v":"月潟"},2,"受注No．",{"$f":"IF(下越1!BV30=0,\"\",下越1!BV30)","v":20122},{"$f":"IF(下越1!CA30=0,\"\",下越1!CA30)","v":""},1]
["②明細コード","下越地区1","日報",22,{"$f":"下越1!BU31","v":"新飯田"},2,"受注No．",{"$f":"IF(下越1!BV31=0,\"\",下越1!BV31)","v":20123},{"$f":"IF(下越1!CA31=0,\"\",下越1!CA31)","v":""},1]
["②明細コード","下越地区1","日報",23,{"$f":"下越1!BU32","v":0},2,"受注No．",{"$f":"IF(下越1!BV32=0,\"\",下越1!BV32)","v":""},{"$f":"IF(下越1!CA32=0,\"\",下越1!CA32)","v":""},1]
["②明細コード","下越地区1","日報",24,{"$f":"下越1!BU33","v":"三条北"},2,"受注No．",{"$f":"IF(下越1!BV33=0,\"\",下越1!BV33)","v":20124},{"$f":"IF(下越1!CA33=0,\"\",下越1!CA33)","v":""},1]
["②明細コード","下越地区1","日報",25,{"$f":"下越1!BU34","v":"三条南"},2,"受注No．",{"$f":"IF(下越1!BV34=0,\"\",下越1!BV34)","v":20125},{"$f":"IF(下越1!CA34=0,\"\",下越1!CA34)","v":""},1]
["②明細コード","下越地区1","日報",26,{"$f":"下越1!#REF!","v":{"$error":"#REF!"}},2,"受注No．",{"$f":"IF(下越1!#REF!=0,\"\",下越1!#REF!)","v":{"$error":"#REF!"}},{"$f":"IF(下越1!#REF!=0,\"\",下越1!#REF!)","v":{"$error":"#REF!"}},1]
["②明細コード","下越地区1","日報",27,{"$f":"下越1!BU35","v":0},2,"受注No．",{"$f":"IF(下越1!BV35=0,\"\",下越1!BV35)","v":""},{"$f":"IF(下越1!CA35=0,\"\",下越1!CA35)","v":""},1]
["②明細コード","下越地区1","日報",28,{"$f":"下越1!BU36","v":"燕"},2,"受注No．",{"$f":"IF(下越1!BV36=0,\"\",下越1!BV36)","v":20130},{"$f":"IF(下越1!CA36=0,\"\",下越1!CA36)","v":""},1]
["②明細コード","下越地区1","日報",29,{"$f":"下越1!BU37","v":"燕南"},2,"受注No．",{"$f":"IF(下越1!BV37=0,\"\",下越1!BV37)","v":20131},{"$f":"IF(下越1!CA37=0,\"\",下越1!CA37)","v":""},1]
["②明細コード","下越地区1","日報",30,{"$f":"下越1!BU38","v":0},2,"受注No．",{"$f":"IF(下越1!BV38=0,\"\",下越1!BV38)","v":""},{"$f":"IF(下越1!CA38=0,\"\",下越1!CA38)","v":""},1]
["②明細コード","下越地区1","日報",31,{"$f":"下越1!BU39","v":"加茂"},2,"受注No．",{"$f":"IF(下越1!BV39=0,\"\",下越1!BV39)","v":20135},{"$f":"IF(下越1!CA39=0,\"\",下越1!CA39)","v":""},1]
["②明細コード","下越地区1","日報",32,{"$f":"下越1!BU40","v":0},2,"受注No．",{"$f":"IF(下越1!BV40=0,\"\",下越1!BV40)","v":""},{"$f":"IF(下越1!CA40=0,\"\",下越1!CA40)","v":""},1]
["②明細コード","下越地区1","日報",33,{"$f":"下越1!BU41","v":"下田"},2,"受注No．",{"$f":"IF(下越1!BV41=0,\"\",下越1!BV41)","v":20139},{"$f":"IF(下越1!CA41=0,\"\",下越1!CA41)","v":""},1]
["②明細コード","下越地区1","日報",34,{"$f":"下越1!BU42","v":"栄山嵜"},2,"受注No．",{"$f":"IF(下越1!BV42=0,\"\",下越1!BV42)","v":20140},{"$f":"IF(下越1!CA42=0,\"\",下越1!CA42)","v":""},1]
["②明細コード","下越地区1","日報",35,{"$f":"下越1!BU43","v":"栄吉田"},2,"受注No．",{"$f":"IF(下越1!BV43=0,\"\",下越1!BV43)","v":20141},{"$f":"IF(下越1!CA43=0,\"\",下越1!CA43)","v":""},1]
["②明細コード","下越地区1","日報",36,{"$f":"下越1!BU44","v":"帯織"},2,"受注No．",{"$f":"IF(下越1!BV44=0,\"\",下越1!BV44)","v":20143},{"$f":"IF(下越1!CA44=0,\"\",下越1!CA44)","v":""},1]
["②明細コード","下越地区1","日報",37,{"$f":"下越1!BU45","v":0},2,"受注No．",{"$f":"IF(下越1!BV45=0,\"\",下越1!BV45)","v":""},{"$f":"IF(下越1!CA45=0,\"\",下越1!CA45)","v":""},1]
["②明細コード","下越地区1","日報",38,{"$f":"下越1!BU46","v":"豊栄"},2,"受注No．",{"$f":"IF(下越1!BV46=0,\"\",下越1!BV46)","v":20179},{"$f":"IF(下越1!CA46=0,\"\",下越1!CA46)","v":""},1]
["②明細コード","下越地区1","日報",39,{"$f":"下越1!#REF!","v":{"$error":"#REF!"}},2,"受注No．",{"$f":"IF(下越1!#REF!=0,\"\",下越1!#REF!)","v":{"$error":"#REF!"}},{"$f":"IF(下越1!#REF!=0,\"\",下越1!#REF!)","v":{"$error":"#REF!"}},1]
["②明細コード","下越地区1","日報",40,{"$f":"下越1!BU47","v":"木崎"},2,"受注No．",{"$f":"IF(下越1!BV47=0,\"\",下越1!BV47)","v":20146},{"$f":"IF(下越1!CA47=0,\"\",下越1!CA47)","v":""},1]
["②明細コード","下越地区２","日報",1,{"$f":"下越２!BU9","v":"新発田西"},2,"受注No．",{"$f":"IF(下越２!BV9=0,\"\",下越２!BV9)","v":20148},{"$f":"IF(下越２!CA9=0,\"\",下越２!CA9)","v":""},1]
["②明細コード","下越地区２","日報",2,{"$f":"下越２!BU10","v":"新発田東"},2,"受注No．",{"$f":"IF(下越２!BV10=0,\"\",下越２!BV10)","v":20149},{"$f":"IF(下越２!CA10=0,\"\",下越２!CA10)","v":""},1]
["②明細コード","下越地区２","日報",3,{"$f":"下越２!BU11","v":"月岡"},2,"受注No．",{"$f":"IF(下越２!BV11=0,\"\",下越２!BV11)","v":20153},{"$f":"IF(下越２!CA11=0,\"\",下越２!CA11)","v":""},1]
["②明細コード","下越地区２","日報",4,{"$f":"下越２!#REF!","v":{"$error":"#REF!"}},2,"受注No．",{"$f":"IF(下越２!#REF!=0,\"\",下越２!#REF!)","v":{"$error":"#REF!"}},{"$f":"IF(下越２!#REF!=0,\"\",下越２!#REF!)","v":{"$error":"#REF!"}},1]
["②明細コード","下越地区２","日報",5,{"$f":"下越２!BU12","v":0},2,"受注No．",{"$f":"IF(下越２!BV12=0,\"\",下越２!BV12)","v":""},{"$f":"IF(下越２!CA12=0,\"\",下越２!CA12)","v":""},1]
["②明細コード","下越地区２","日報",6,{"$f":"下越２!BU13","v":"中条東"},2,"受注No．",{"$f":"IF(下越２!BV13=0,\"\",下越２!BV13)","v":20154},{"$f":"IF(下越２!CA13=0,\"\",下越２!CA13)","v":""},1]
["②明細コード","下越地区２","日報",7,{"$f":"下越２!BU14","v":"西中条"},2,"受注No．",{"$f":"IF(下越２!BV14=0,\"\",下越２!BV14)","v":20155},{"$f":"IF(下越２!CA14=0,\"\",下越２!CA14)","v":""},1]
["②明細コード","下越地区２","日報",8,{"$f":"下越２!BU15","v":"黒川"},2,"受注No．",{"$f":"IF(下越２!BV15=0,\"\",下越２!BV15)","v":20157},{"$f":"IF(下越２!CA15=0,\"\",下越２!CA15)","v":""},1]
["②明細コード","下越地区２","日報",9,{"$f":"下越２!BU16","v":"水原"},2,"受注No．",{"$f":"IF(下越２!BV16=0,\"\",下越２!BV16)","v":20158},{"$f":"IF(下越２!CA16=0,\"\",下越２!CA16)","v":""},1]
["②明細コード","下越地区２","日報",10,{"$f":"下越２!BU17","v":"保田"},2,"受注No．",{"$f":"IF(下越２!BV17=0,\"\",下越２!BV17)","v":20161},{"$f":"IF(下越２!CA17=0,\"\",下越２!CA17)","v":""},1]
["②明細コード","下越地区２","日報",11,{"$f":"下越２!BU18","v":0},2,"受注No．",{"$f":"IF(下越２!BV18=0,\"\",下越２!BV18)","v":""},{"$f":"IF(下越２!CA18=0,\"\",下越２!CA18)","v":""},1]
["②明細コード","下越地区２","日報",12,{"$f":"下越２!BU19","v":"村上"},2,"受注No．",{"$f":"IF(下越２!BV19=0,\"\",下越２!BV19)","v":20162},{"$f":"IF(下越２!CA19=0,\"\",下越２!CA19)","v":""},1]
["②明細コード","下越地区２","日報",13,{"$f":"下越２!BU20","v":"岩船"},2,"受注No．",{"$f":"IF(下越２!BV20=0,\"\",下越２!BV20)","v":20163},{"$f":"IF(下越２!CA20=0,\"\",下越２!CA20)","v":""},1]
["②明細コード","下越地区２","日報",14,{"$f":"下越２!BU21","v":"越後早川"},2,"受注No．",{"$f":"IF(下越２!BV21=0,\"\",下越２!BV21)","v":20164},{"$f":"IF(下越２!CA21=0,\"\",下越２!CA21)","v":""},1]
["②明細コード","下越地区２","日報",15,{"$f":"下越２!BU22","v":0},2,"受注No．",{"$f":"IF(下越２!BV22=0,\"\",下越２!BV22)","v":""},{"$f":"IF(下越２!CA22=0,\"\",下越２!CA22)","v":""},1]
["②明細コード","下越地区２","日報",16,{"$f":"下越２!BU23","v":"坂町"},2,"受注No．",{"$f":"IF(下越２!BV23=0,\"\",下越２!BV23)","v":20165},{"$f":"IF(下越２!CA23=0,\"\",下越２!CA23)","v":""},1]
["②明細コード","下越地区２","日報",17,{"$f":"下越２!#REF!","v":{"$error":"#REF!"}},2,"受注No．",{"$f":"IF(下越２!#REF!=0,\"\",下越２!#REF!)","v":{"$error":"#REF!"}},{"$f":"IF(下越２!#REF!=0,\"\",下越２!#REF!)","v":{"$error":"#REF!"}},1]
["②明細コード","下越地区２","日報",{"$f":"D96+1","v":18},{"$f":"下越２!BU24","v":"関川"},2,"受注No．",{"$f":"IF(下越２!BV24=0,\"\",下越２!BV24)","v":20167},{"$f":"IF(下越２!CA24=0,\"\",下越２!CA24)","v":""},1]
["②明細コード","下越地区２","日報",19,{"$f":"下越２!#REF!","v":{"$error":"#REF!"}},2,"受注No．",{"$f":"IF(下越２!#REF!=0,\"\",下越２!#REF!)","v":{"$error":"#REF!"}},{"$f":"IF(下越２!#REF!=0,\"\",下越２!#REF!)","v":{"$error":"#REF!"}},1]
["②明細コード","下越地区２","日報",20,{"$f":"下越２!BU25","v":"府屋"},2,"受注No．",{"$f":"IF(下越２!BV25=0,\"\",下越２!BV25)","v":20170},{"$f":"IF(下越２!CA25=0,\"\",下越２!CA25)","v":""},1]
["②明細コード","下越地区２","日報",21,{"$f":"下越２!BU26","v":"黒川俣"},2,"受注No．",{"$f":"IF(下越２!BV26=0,\"\",下越２!BV26)","v":20172},{"$f":"IF(下越２!CA26=0,\"\",下越２!CA26)","v":""},1]
["②明細コード","下越地区２","日報",22,{"$f":"下越２!BU27","v":0},2,"受注No．",{"$f":"IF(下越２!BV27=0,\"\",下越２!BV27)","v":""},{"$f":"IF(下越２!CA27=0,\"\",下越２!CA27)","v":""},1]
["②明細コード","下越地区２","日報",23,{"$f":"下越２!BU28","v":"津川"},2,"受注No．",{"$f":"IF(下越２!BV28=0,\"\",下越２!BV28)","v":20173},{"$f":"IF(下越２!CA28=0,\"\",下越２!CA28)","v":""},1]
["②明細コード","下越地区２","日報",24,{"$f":"下越２!BU29","v":"豊実"},2,"受注No．",{"$f":"IF(下越２!BV29=0,\"\",下越２!BV29)","v":20174},{"$f":"IF(下越２!CA29=0,\"\",下越２!CA29)","v":""},1]
["②明細コード","下越地区２","日報",25,{"$f":"下越２!BU30","v":"日出谷"},2,"受注No．",{"$f":"IF(下越２!BV30=0,\"\",下越２!BV30)","v":20175},{"$f":"IF(下越２!CA30=0,\"\",下越２!CA30)","v":""},1]
["②明細コード","下越地区２","日報",26,{"$f":"下越２!BU31","v":"鹿瀬"},2,"受注No．",{"$f":"IF(下越２!BV31=0,\"\",下越２!BV31)","v":20176},{"$f":"IF(下越２!CA31=0,\"\",下越２!CA31)","v":""},1]
["②明細コード","下越地区２","日報",27,{"$f":"下越２!BU32","v":"白崎"},2,"受注No．",{"$f":"IF(下越２!BV32=0,\"\",下越２!BV32)","v":20177},{"$f":"IF(下越２!CA32=0,\"\",下越２!CA32)","v":""},1]
["②明細コード","下越地区２","日報",28,{"$f":"下越２!BU34","v":"保田・五十島"},2,"受注No．",{"$f":"IF(下越２!BV34=0,\"\",下越２!BV34)","v":20182},{"$f":"IF(下越２!CA34=0,\"\",下越２!CA34)","v":""},1]
["②明細コード","下越地区２","日報",29,{"$f":"下越２!BU35","v":0},2,"受注No．",{"$f":"IF(下越２!BV35=0,\"\",下越２!BV35)","v":""},{"$f":"IF(下越２!CA35=0,\"\",下越２!CA35)","v":""},1]
["②明細コード","下越地区２","日報",30,{"$f":"下越２!BU36","v":"小国"},2,"受注No．",{"$f":"IF(下越２!BV36=0,\"\",下越２!BV36)","v":20201},{"$f":"IF(下越２!CA36=0,\"\",下越２!CA36)","v":""},1]
["②明細コード","下越地区２","日報",31,{"$f":"下越２!BU37","v":0},2,"受注No．",{"$f":"IF(下越２!BV37=0,\"\",下越２!BV37)","v":""},{"$f":"IF(下越２!CA37=0,\"\",下越２!CA37)","v":""},1]
["②明細コード","下越地区２","日報",32,{"$f":"下越２!BU38","v":"両津"},2,"受注No．",{"$f":"IF(下越２!BV38=0,\"\",下越２!BV38)","v":30101},{"$f":"IF(下越２!CA38=0,\"\",下越２!CA38)","v":""},1]
["②明細コード","下越地区２","日報",33,{"$f":"下越２!BU39","v":"吉井"},2,"受注No．",{"$f":"IF(下越２!BV39=0,\"\",下越２!BV39)","v":30105},{"$f":"IF(下越２!CA39=0,\"\",下越２!CA39)","v":""},1]
["②明細コード","下越地区２","日報",34,{"$f":"下越２!#REF!","v":{"$error":"#REF!"}},2,"受注No．",{"$f":"IF(下越２!#REF!=0,\"\",下越２!#REF!)","v":{"$error":"#REF!"}},{"$f":"IF(下越２!#REF!=0,\"\",下越２!#REF!)","v":{"$error":"#REF!"}},1]
["②明細コード","下越地区２","日報",35,{"$f":"下越２!BU40","v":0},2,"受注No．",{"$f":"IF(下越２!BV40=0,\"\",下越２!BV40)","v":""},{"$f":"IF(下越２!CA40=0,\"\",下越２!CA40)","v":""},1]
["②明細コード","下越地区２","日報",36,{"$f":"下越２!BU41","v":"真野"},2,"受注No．",{"$f":"IF(下越２!BV41=0,\"\",下越２!BV41)","v":30106},{"$f":"IF(下越２!CA41=0,\"\",下越２!CA41)","v":""},1]
["②明細コード","下越地区２","日報",37,{"$f":"下越２!BU42","v":"新穂"},2,"受注No．",{"$f":"IF(下越２!BV42=0,\"\",下越２!BV42)","v":30108},{"$f":"IF(下越２!CA42=0,\"\",下越２!CA42)","v":""},1]
["②明細コード","下越地区２","日報",38,{"$f":"下越２!BU43","v":"畑野"},2,"受注No．",{"$f":"IF(下越２!BV43=0,\"\",下越２!BV43)","v":30111},{"$f":"IF(下越２!CA43=0,\"\",下越２!CA43)","v":""},1]
["②明細コード","下越地区２","日報",39,{"$f":"下越２!BU44","v":"佐和田"},2,"受注No．",{"$f":"IF(下越２!BV44=0,\"\",下越２!BV44)","v":30114},{"$f":"IF(下越２!CA44=0,\"\",下越２!CA44)","v":""},1]
["②明細コード","下越地区２","日報",40,{"$f":"下越２!BU45","v":"相川"},2,"受注No．",{"$f":"IF(下越２!BV45=0,\"\",下越２!BV45)","v":30110},{"$f":"IF(下越２!CA45=0,\"\",下越２!CA45)","v":""},1]
["②明細コード","下越地区２","日報",41,{"$f":"下越２!BU46","v":"金井"},2,"受注No．",{"$f":"IF(下越２!BV46=0,\"\",下越２!BV46)","v":30121},{"$f":"IF(下越２!CA46=0,\"\",下越２!CA46)","v":""},1]
["②明細コード","下越地区２","日報",42,{"$f":"下越２!BU47","v":"羽茂"},2,"受注No．",{"$f":"IF(下越２!BV47=0,\"\",下越２!BV47)","v":30122},{"$f":"IF(下越２!CA47=0,\"\",下越２!CA47)","v":""},1]
["②明細コード","下越地区２","日報",43,{"$f":"下越２!BU48","v":"小木"},2,"受注No．",{"$f":"IF(下越２!BV48=0,\"\",下越２!BV48)","v":30124},{"$f":"IF(下越２!CA48=0,\"\",下越２!CA48)","v":""},1]
["②明細コード","下越地区２","日報",44,{"$f":"下越２!BU49","v":"赤泊"},2,"受注No．",{"$f":"IF(下越２!BV49=0,\"\",下越２!BV49)","v":30127},{"$f":"IF(下越２!CA49=0,\"\",下越２!CA49)","v":""},1]
["②明細コード","下越地区２","日報",45,{"$f":"下越２!BU50","v":"多田"},2,"受注No．",{"$f":"IF(下越２!BV50=0,\"\",下越２!BV50)","v":30130},{"$f":"IF(下越２!CA50=0,\"\",下越２!CA50)","v":""},1]
["②明細コード","中越地区","日報",1,{"$f":"中越1!#REF!","v":{"$error":"#REF!"}},2,"受注No．",{"$f":"IF(中越1!#REF!=0,\"\",中越1!#REF!)","v":{"$error":"#REF!"}},{"$f":"IF(中越1!#REF!=0,\"\",中越1!#REF!)","v":{"$error":"#REF!"}},1]
["②明細コード","中越地区","日報",{"$f":"D125+1","v":2},{"$f":"中越1!BZ9","v":"長岡中央"},2,"受注No．",{"$f":"IF(中越1!CA9=0,\"\",中越1!CA9)","v":40102},{"$f":"IF(中越1!CF9=0,\"\",中越1!CF9)","v":""},1]
["②明細コード","中越地区","日報",3,{"$f":"中越1!BZ10","v":"長岡南"},2,"受注No．",{"$f":"IF(中越1!CA10=0,\"\",中越1!CA10)","v":40300},{"$f":"IF(中越1!CF10=0,\"\",中越1!CF10)","v":""},1]
["②明細コード","中越地区","日報",4,{"$f":"中越1!BZ11","v":"長岡東"},2,"受注No．",{"$f":"IF(中越1!CA11=0,\"\",中越1!CA11)","v":40104},{"$f":"IF(中越1!CF11=0,\"\",中越1!CF11)","v":""},1]
["②明細コード","中越地区","日報",5,{"$f":"中越1!BZ12","v":"長岡新保"},2,"受注No．",{"$f":"IF(中越1!CA12=0,\"\",中越1!CA12)","v":40105},{"$f":"IF(中越1!CF12=0,\"\",中越1!CF12)","v":""},1]
["②明細コード","中越地区","日報",6,{"$f":"中越1!BZ13","v":"長岡悠久"},2,"受注No．",{"$f":"IF(中越1!CA13=0,\"\",中越1!CA13)","v":40106},{"$f":"IF(中越1!CF13=0,\"\",中越1!CF13)","v":""},1]
["②明細コード","中越地区","日報",7,{"$f":"中越1!BZ14","v":"西長岡"},2,"受注No．",{"$f":"IF(中越1!CA14=0,\"\",中越1!CA14)","v":40111},{"$f":"IF(中越1!CF14=0,\"\",中越1!CF14)","v":""},1]
["②明細コード","中越地区","日報",8,{"$f":"中越1!BZ15","v":"関原"},2,"受注No．",{"$f":"IF(中越1!CA15=0,\"\",中越1!CA15)","v":40113},{"$f":"IF(中越1!CF15=0,\"\",中越1!CF15)","v":""},1]
["②明細コード","中越地区","日報",9,{"$f":"中越1!BZ16","v":"王寺川"},2,"受注No．",{"$f":"IF(中越1!CA16=0,\"\",中越1!CA16)","v":40114},{"$f":"IF(中越1!CF16=0,\"\",中越1!CF16)","v":""},1]
["②明細コード","中越地区","日報",10,{"$f":"中越1!BZ17","v":"長岡江陽"},2,"受注No．",{"$f":"IF(中越1!CA17=0,\"\",中越1!CA17)","v":40115},{"$f":"IF(中越1!CF17=0,\"\",中越1!CF17)","v":""},1]
["②明細コード","中越地区","日報",11,{"$f":"中越1!BZ18","v":"黒条"},2,"受注No．",{"$f":"IF(中越1!CA18=0,\"\",中越1!CA18)","v":40116},{"$f":"IF(中越1!CF18=0,\"\",中越1!CF18)","v":""},1]
["②明細コード","中越地区","日報",12,{"$f":"中越1!BZ19","v":"新組"},2,"受注No．",{"$f":"IF(中越1!CA19=0,\"\",中越1!CA19)","v":40117},{"$f":"IF(中越1!CF19=0,\"\",中越1!CF19)","v":""},1]
["②明細コード","中越地区","日報",13,{"$f":"中越1!BZ20","v":"長岡宮内"},2,"受注No．",{"$f":"IF(中越1!CA20=0,\"\",中越1!CA20)","v":40121},{"$f":"IF(中越1!CF20=0,\"\",中越1!CF20)","v":""},1]
["②明細コード","中越地区","日報",14,{"$f":"中越1!BZ21","v":"濁沢"},2,"受注No．",{"$f":"IF(中越1!CA21=0,\"\",中越1!CA21)","v":40124},{"$f":"IF(中越1!CF21=0,\"\",中越1!CF21)","v":""},1]
["②明細コード","中越地区","日報",15,{"$f":"中越1!BZ22","v":"岡南"},2,"受注No．",{"$f":"IF(中越1!CA22=0,\"\",中越1!CA22)","v":40125},{"$f":"IF(中越1!CF22=0,\"\",中越1!CF22)","v":""},1]
["②明細コード","中越地区","日報",16,{"$f":"中越1!BZ23","v":"六日市"},2,"受注No．",{"$f":"IF(中越1!CA23=0,\"\",中越1!CA23)","v":40126},{"$f":"IF(中越1!CF23=0,\"\",中越1!CF23)","v":""},1]
["②明細コード","中越地区","日報",17,{"$f":"中越1!BZ24","v":0},2,"受注No．",{"$f":"IF(中越1!CA24=0,\"\",中越1!CA24)","v":""},{"$f":"IF(中越1!CF24=0,\"\",中越1!CF24)","v":""},1]
["②明細コード","中越地区","日報",18,{"$f":"中越1!BZ25","v":"栃尾"},2,"受注No．",{"$f":"IF(中越1!CA25=0,\"\",中越1!CA25)","v":40127},{"$f":"IF(中越1!CF25=0,\"\",中越1!CF25)","v":""},1]
["②明細コード","中越地区","日報",19,{"$f":"中越1!BZ26","v":0},2,"受注No．",{"$f":"IF(中越1!CA26=0,\"\",中越1!CA26)","v":""},{"$f":"IF(中越1!CF26=0,\"\",中越1!CF26)","v":""},1]
["②明細コード","中越地区","日報",20,{"$f":"中越1!BZ27","v":"見附南"},2,"受注No．",{"$f":"IF(中越1!CA27=0,\"\",中越1!CA27)","v":40130},{"$f":"IF(中越1!CF27=0,\"\",中越1!CF27)","v":""},1]
["②明細コード","中越地区","日報",21,{"$f":"中越1!BZ28","v":"見附北"},2,"受注No．",{"$f":"IF(中越1!CA28=0,\"\",中越1!CA28)","v":40131},{"$f":"IF(中越1!CF28=0,\"\",中越1!CF28)","v":""},1]
["②明細コード","中越地区","日報",22,{"$f":"中越1!BZ29","v":"今町"},2,"受注No．",{"$f":"IF(中越1!CA29=0,\"\",中越1!CA29)","v":40135},{"$f":"IF(中越1!CF29=0,\"\",中越1!CF29)","v":""},1]
["②明細コード","中越地区","日報",23,{"$f":"中越1!BZ30","v":0},2,"受注No．",{"$f":"IF(中越1!CA30=0,\"\",中越1!CA30)","v":""},{"$f":"IF(中越1!CF30=0,\"\",中越1!CF30)","v":""},1]
["②明細コード","中越地区","日報",24,{"$f":"中越1!BZ31","v":"越路"},2,"受注No．",{"$f":"IF(中越1!CA31=0,\"\",中越1!CA31)","v":40139},{"$f":"IF(中越1!CF31=0,\"\",中越1!CF31)","v":""},1]
["②明細コード","中越地区","日報",25,{"$f":"中越1!BZ32","v":"塚山"},2,"受注No．",{"$f":"IF(中越1!CA32=0,\"\",中越1!CA32)","v":40141},{"$f":"IF(中越1!CF32=0,\"\",中越1!CF32)","v":""},1]
["②明細コード","中越地区","日報",26,{"$f":"中越1!#REF!","v":{"$error":"#REF!"}},2,"受注No．",{"$f":"IF(中越1!#REF!=0,\"\",中越1!#REF!)","v":{"$error":"#REF!"}},{"$f":"IF(中越1!#REF!=0,\"\",中越1!#REF!)","v":{"$error":"#REF!"}},1]
["②明細コード","中越地区","日報",27,{"$f":"中越1!#REF!","v":{"$error":"#REF!"}},2,"受注No．",{"$f":"IF(中越1!#REF!=0,\"\",中越1!#REF!)","v":{"$error":"#REF!"}},{"$f":"IF(中越1!#REF!=0,\"\",中越1!#REF!)","v":{"$error":"#REF!"}},1]
["②明細コード","中越地区","日報",28,{"$f":"中越1!BZ33","v":"与板"},2,"受注No．",{"$f":"IF(中越1!CA33=0,\"\",中越1!CA33)","v":40144},{"$f":"IF(中越1!CF33=0,\"\",中越1!CF33)","v":""},1]
["②明細コード","中越地区","日報",29,{"$f":"中越1!BZ34","v":"大河津"},2,"受注No．",{"$f":"IF(中越1!CA34=0,\"\",中越1!CA34)","v":40145},{"$f":"IF(中越1!CF34=0,\"\",中越1!CF34)","v":""},1]
["②明細コード","中越地区","日報",30,{"$f":"中越1!BZ35","v":"寺泊"},2,"受注No．",{"$f":"IF(中越1!CA35=0,\"\",中越1!CA35)","v":40146},{"$f":"IF(中越1!CF35=0,\"\",中越1!CF35)","v":""},1]
["②明細コード","中越地区","日報",31,{"$f":"中越1!BZ36","v":"和島"},2,"受注No．",{"$f":"IF(中越1!CA36=0,\"\",中越1!CA36)","v":40147},{"$f":"IF(中越1!CF36=0,\"\",中越1!CF36)","v":""},1]
["②明細コード","中越地区","日報",32,{"$f":"中越1!BZ37","v":"西越"},2,"受注No．",{"$f":"IF(中越1!CA37=0,\"\",中越1!CA37)","v":40148},{"$f":"IF(中越1!CF37=0,\"\",中越1!CF37)","v":""},1]
["②明細コード","中越地区","日報",33,{"$f":"中越1!#REF!","v":{"$error":"#REF!"}},2,"受注No．",{"$f":"IF(中越1!#REF!=0,\"\",中越1!#REF!)","v":{"$error":"#REF!"}},{"$f":"IF(中越1!#REF!=0,\"\",中越1!#REF!)","v":{"$error":"#REF!"}},1]
["②明細コード","中越地区２","日報",1,{"$f":"中越２!BU9","v":"小千谷中央"},2,"受注No．",{"$f":"IF(中越２!BV9=0,\"\",中越２!BV9)","v":40151},{"$f":"IF(中越２!CA9=0,\"\",中越２!CA9)","v":""},1]
["②明細コード","中越地区２","日報",2,{"$f":"中越２!BU10","v":"小千谷東"},2,"受注No．",{"$f":"IF(中越２!BV10=0,\"\",中越２!BV10)","v":40152},{"$f":"IF(中越２!CA10=0,\"\",中越２!CA10)","v":""},1]
["②明細コード","中越地区２","日報",3,{"$f":"中越２!BU11","v":"片貝"},2,"受注No．",{"$f":"IF(中越２!BV11=0,\"\",中越２!BV11)","v":40154},{"$f":"IF(中越２!CA11=0,\"\",中越２!CA11)","v":""},1]
["②明細コード","中越地区２","日報",4,{"$f":"中越２!BU12","v":"岩沢"},2,"受注No．",{"$f":"IF(中越２!BV12=0,\"\",中越２!BV12)","v":40155},{"$f":"IF(中越２!CA12=0,\"\",中越２!CA12)","v":""},1]
["②明細コード","中越地区２","日報",5,{"$f":"中越２!BU13","v":0},2,"受注No．",{"$f":"IF(中越２!BV13=0,\"\",中越２!BV13)","v":""},{"$f":"IF(中越２!CA13=0,\"\",中越２!CA13)","v":""},1]
["②明細コード","中越地区２","日報",6,{"$f":"中越２!BU14","v":"十日町西部"},2,"受注No．",{"$f":"IF(中越２!BV14=0,\"\",中越２!BV14)","v":40156},{"$f":"IF(中越２!CA14=0,\"\",中越２!CA14)","v":""},1]
["②明細コード","中越地区２","日報",7,{"$f":"中越２!BU15","v":"十日町東部"},2,"受注No．",{"$f":"IF(中越２!BV15=0,\"\",中越２!BV15)","v":40157},{"$f":"IF(中越２!CA15=0,\"\",中越２!CA15)","v":""},1]
["②明細コード","中越地区２","日報",8,{"$f":"中越２!BU16","v":"下条"},2,"受注No．",{"$f":"IF(中越２!BV16=0,\"\",中越２!BV16)","v":40162},{"$f":"IF(中越２!CA16=0,\"\",中越２!CA16)","v":""},1]
["②明細コード","中越地区２","日報",9,{"$f":"中越２!BU17","v":"魚沼中条"},2,"受注No．",{"$f":"IF(中越２!BV17=0,\"\",中越２!BV17)","v":40163},{"$f":"IF(中越２!CA17=0,\"\",中越２!CA17)","v":""},1]
["②明細コード","中越地区２","日報",10,{"$f":"中越２!BU18","v":"水沢"},2,"受注No．",{"$f":"IF(中越２!BV18=0,\"\",中越２!BV18)","v":40164},{"$f":"IF(中越２!CA18=0,\"\",中越２!CA18)","v":""},1]
["②明細コード","中越地区２","日報",11,{"$f":"中越２!BU19","v":"伊達"},2,"受注No．",{"$f":"IF(中越２!BV19=0,\"\",中越２!BV19)","v":40165},{"$f":"IF(中越２!CA19=0,\"\",中越２!CA19)","v":""},1]
["②明細コード","中越地区２","日報",12,{"$f":"中越２!BU20","v":0},2,"受注No．",{"$f":"IF(中越２!BV20=0,\"\",中越２!BV20)","v":""},{"$f":"IF(中越２!CA20=0,\"\",中越２!CA20)","v":""},1]
["②明細コード","中越地区２","日報",13,{"$f":"中越２!BU21","v":"川口"},2,"受注No．",{"$f":"IF(中越２!BV21=0,\"\",中越２!BV21)","v":40166},{"$f":"IF(中越２!CA21=0,\"\",中越２!CA21)","v":""},1]
["②明細コード","中越地区２","日報",14,{"$f":"中越２!BU22","v":"堀之内"},2,"受注No．",{"$f":"IF(中越２!BV22=0,\"\",中越２!BV22)","v":40167},{"$f":"IF(中越２!CA22=0,\"\",中越２!CA22)","v":""},1]
["②明細コード","中越地区２","日報",15,{"$f":"中越２!BU23","v":"小出"},2,"受注No．",{"$f":"IF(中越２!BV23=0,\"\",中越２!BV23)","v":40168},{"$f":"IF(中越２!CA23=0,\"\",中越２!CA23)","v":""},1]
["②明細コード","中越地区２","日報",16,{"$f":"中越２!BU24","v":"魚沼北"},2,"受注No．",{"$f":"IF(中越２!BV24=0,\"\",中越２!BV24)","v":40172},{"$f":"IF(中越２!CA24=0,\"\",中越２!CA24)","v":""},1]
["②明細コード","中越地区２","日報",17,{"$f":"中越２!BU25","v":0},2,"受注No．",{"$f":"IF(中越２!BV25=0,\"\",中越２!BV25)","v":""},{"$f":"IF(中越２!CA25=0,\"\",中越２!CA25)","v":""},1]
["②明細コード","中越地区２","日報",18,{"$f":"中越２!BU26","v":"浦佐"},2,"受注No．",{"$f":"IF(中越２!BV26=0,\"\",中越２!BV26)","v":40176},{"$f":"IF(中越２!CA26=0,\"\",中越２!CA26)","v":""},1]
["②明細コード","中越地区２","日報",19,{"$f":"中越２!BU27","v":"大崎"},2,"受注No．",{"$f":"IF(中越２!BV27=0,\"\",中越２!BV27)","v":40178},{"$f":"IF(中越２!CA27=0,\"\",中越２!CA27)","v":""},1]
["②明細コード","中越地区２","日報",20,{"$f":"中越２!BU28","v":"五日町"},2,"受注No．",{"$f":"IF(中越２!BV28=0,\"\",中越２!BV28)","v":40179},{"$f":"IF(中越２!CA28=0,\"\",中越２!CA28)","v":""},1]
["②明細コード","中越地区２","日報",21,{"$f":"中越２!BU29","v":"城内"},2,"受注No．",{"$f":"IF(中越２!BV29=0,\"\",中越２!BV29)","v":40180},{"$f":"IF(中越２!CA29=0,\"\",中越２!CA29)","v":""},1]
["②明細コード","中越地区２","日報",22,{"$f":"中越２!BU30","v":"六日町"},2,"受注No．",{"$f":"IF(中越２!BV30=0,\"\",中越２!BV30)","v":40181},{"$f":"IF(中越２!CA30=0,\"\",中越２!CA30)","v":""},1]
["②明細コード","中越地区２","日報",{"$f":"D179+1","v":23},{"$f":"中越２!BU31","v":"塩沢"},2,"受注No．",{"$f":"IF(中越２!BV31=0,\"\",中越２!BV31)","v":40184},{"$f":"IF(中越２!CA31=0,\"\",中越２!CA31)","v":""},1]
["②明細コード","中越地区２","日報",24,{"$f":"中越２!BU32","v":"上田"},2,"受注No．",{"$f":"IF(中越２!BV32=0,\"\",中越２!BV32)","v":40186},{"$f":"IF(中越２!CA32=0,\"\",中越２!CA32)","v":""},1]
["②明細コード","中越地区２","日報",25,{"$f":"中越２!#REF!","v":{"$error":"#REF!"}},2,"受注No．",{"$f":"IF(中越２!#REF!=0,\"\",中越２!#REF!)","v":{"$error":"#REF!"}},{"$f":"IF(中越２!#REF!=0,\"\",中越２!#REF!)","v":{"$error":"#REF!"}},1]
["②明細コード","中越地区２","日報",26,{"$f":"中越２!BU33","v":"湯沢"},2,"受注No．",{"$f":"IF(中越２!BV33=0,\"\",中越２!BV33)","v":40189},{"$f":"IF(中越２!CA33=0,\"\",中越２!CA33)","v":""},1]
["②明細コード","中越地区２","日報",27,{"$f":"中越２!BU34","v":0},2,"受注No．",{"$f":"IF(中越２!BV34=0,\"\",中越２!BV34)","v":""},{"$f":"IF(中越２!CA34=0,\"\",中越２!CA34)","v":""},1]
["②明細コード","中越地区２","日報",28,{"$f":"中越２!BU35","v":"十日町川西"},2,"受注No．",{"$f":"IF(中越２!BV35=0,\"\",中越２!BV35)","v":40192},{"$f":"IF(中越２!CA35=0,\"\",中越２!CA35)","v":""},1]
["②明細コード","中越地区２","日報",29,{"$f":"中越２!BU36","v":"仙田"},2,"受注No．",{"$f":"IF(中越２!BV36=0,\"\",中越２!BV36)","v":40193},{"$f":"IF(中越２!CA36=0,\"\",中越２!CA36)","v":""},1]
["②明細コード","中越地区２","日報",30,{"$f":"中越２!BU37","v":"田沢"},2,"受注No．",{"$f":"IF(中越２!BV37=0,\"\",中越２!BV37)","v":40194},{"$f":"IF(中越２!CA37=0,\"\",中越２!CA37)","v":""},1]
["②明細コード","中越地区２","日報",31,{"$f":"中越２!#REF!","v":{"$error":"#REF!"}},2,"受注No．",{"$f":"IF(中越２!#REF!=0,\"\",中越２!#REF!)","v":{"$error":"#REF!"}},{"$f":"IF(中越２!#REF!=0,\"\",中越２!#REF!)","v":{"$error":"#REF!"}},1]
["②明細コード","中越地区２","日報",32,{"$f":"中越２!BU38","v":"津南"},2,"受注No．",{"$f":"IF(中越２!BV38=0,\"\",中越２!BV38)","v":340197},{"$f":"IF(中越２!CA38=0,\"\",中越２!CA38)","v":""},1]
["②明細コード","中越地区２","日報",33,{"$f":"中越２!BU39","v":"上郷"},2,"受注No．",{"$f":"IF(中越２!BV39=0,\"\",中越２!BV39)","v":40199},{"$f":"IF(中越２!CA39=0,\"\",中越２!CA39)","v":""},1]
["②明細コード","中越地区２","日報",34,{"$f":"中越２!BU40","v":"森宮野原"},2,"受注No．",{"$f":"IF(中越２!BV40=0,\"\",中越２!BV40)","v":40200},{"$f":"IF(中越２!CA40=0,\"\",中越２!CA40)","v":""},1]
["②明細コード","上越","日報",1,{"$f":"上越1!BU9","v":"柏崎中央"},2,"受注No．",{"$f":"IF(上越1!BV9=0,\"\",上越1!BV9)","v":40229},{"$f":"IF(上越1!CA9=0,\"\",上越1!CA9)","v":""},1]
["②明細コード","上越","日報",{"$f":"D192+1","v":2},{"$f":"上越1!BU10","v":"柏崎"},2,"受注No．",{"$f":"IF(上越1!BV10=0,\"\",上越1!BV10)","v":40202},{"$f":"IF(上越1!CA10=0,\"\",上越1!CA10)","v":""},1]
["②明細コード","上越","日報",3,{"$f":"上越1!BU11","v":"柏崎南"},2,"受注No．",{"$f":"IF(上越1!BV11=0,\"\",上越1!BV11)","v":40203},{"$f":"IF(上越1!CA11=0,\"\",上越1!CA11)","v":""},1]
["②明細コード","上越","日報",4,{"$f":"上越1!BU12","v":0},2,"受注No．",{"$f":"IF(上越1!BV12=0,\"\",上越1!BV12)","v":""},{"$f":"IF(上越1!CA12=0,\"\",上越1!CA12)","v":""},1]
["②明細コード","上越","日報",5,{"$f":"上越1!#REF!","v":{"$error":"#REF!"}},2,"受注No．",{"$f":"IF(上越1!#REF!=0,\"\",上越1!#REF!)","v":{"$error":"#REF!"}},{"$f":"IF(上越1!#REF!=0,\"\",上越1!#REF!)","v":{"$error":"#REF!"}},1]
["②明細コード","上越","日報",6,{"$f":"上越1!BU13","v":"安田"},2,"受注No．",{"$f":"IF(上越1!BV13=0,\"\",上越1!BV13)","v":40211},{"$f":"IF(上越1!CA13=0,\"\",上越1!CA13)","v":""},1]
["②明細コード","上越","日報",7,{"$f":"上越1!BU14","v":"北条"},2,"受注No．",{"$f":"IF(上越1!BV14=0,\"\",上越1!BV14)","v":40212},{"$f":"IF(上越1!CA14=0,\"\",上越1!CA14)","v":""},1]
["②明細コード","上越","日報",8,{"$f":"上越1!BU15","v":"広田"},2,"受注No．",{"$f":"IF(上越1!BV15=0,\"\",上越1!BV15)","v":40213},{"$f":"IF(上越1!CA15=0,\"\",上越1!CA15)","v":""},1]
["②明細コード","上越","日報",9,{"$f":"上越1!BU16","v":"米山"},2,"受注No．",{"$f":"IF(上越1!BV16=0,\"\",上越1!BV16)","v":40228},{"$f":"IF(上越1!CA16=0,\"\",上越1!CA16)","v":""},1]
["②明細コード","上越","日報",10,{"$f":"上越1!BU17","v":"笠島"},2,"受注No．",{"$f":"IF(上越1!BV17=0,\"\",上越1!BV17)","v":40216},{"$f":"IF(上越1!CA17=0,\"\",上越1!CA17)","v":""},1]
["②明細コード","上越","日報",11,{"$f":"上越1!BU18","v":0},2,"受注No．",{"$f":"IF(上越1!BV18=0,\"\",上越1!BV18)","v":""},{"$f":"IF(上越1!CA18=0,\"\",上越1!CA18)","v":""},1]
["②明細コード","上越","日報",12,{"$f":"上越1!BU19","v":"高柳"},2,"受注No．",{"$f":"IF(上越1!BV19=0,\"\",上越1!BV19)","v":40217},{"$f":"IF(上越1!CA19=0,\"\",上越1!CA19)","v":""},1]
["②明細コード","上越","日報",13,{"$f":"上越1!#REF!","v":{"$error":"#REF!"}},2,"受注No．",{"$f":"IF(上越1!#REF!=0,\"\",上越1!#REF!)","v":{"$error":"#REF!"}},{"$f":"IF(上越1!#REF!=0,\"\",上越1!#REF!)","v":{"$error":"#REF!"}},1]
["②明細コード","上越","日報",14,{"$f":"上越1!BU20","v":"上小国"},2,"受注No．",{"$f":"IF(上越1!BV20=0,\"\",上越1!BV20)","v":40219},{"$f":"IF(上越1!CA20=0,\"\",上越1!CA20)","v":""},1]
["②明細コード","上越","日報",15,{"$f":"上越1!BU21","v":"荒浜"},2,"受注No．",{"$f":"IF(上越1!BV21=0,\"\",上越1!BV21)","v":40220},{"$f":"IF(上越1!CA21=0,\"\",上越1!CA21)","v":""},1]
["②明細コード","上越","日報",16,{"$f":"上越1!BU22","v":"西山"},2,"受注No．",{"$f":"IF(上越1!BV22=0,\"\",上越1!BV22)","v":40221},{"$f":"IF(上越1!CA22=0,\"\",上越1!CA22)","v":""},1]
["②明細コード","上越","日報",17,{"$f":"上越1!#REF!","v":{"$error":"#REF!"}},2,"受注No．",{"$f":"IF(上越1!#REF!=0,\"\",上越1!#REF!)","v":{"$error":"#REF!"}},{"$f":"IF(上越1!#REF!=0,\"\",上越1!#REF!)","v":{"$error":"#REF!"}},1]
["②明細コード","上越","日報",18,{"$f":"上越1!BU23","v":0},2,"受注No．",{"$f":"IF(上越1!BV23=0,\"\",上越1!BV23)","v":""},{"$f":"IF(上越1!CA23=0,\"\",上越1!CA23)","v":""},1]
["②明細コード","上越","日報",19,{"$f":"上越1!BU24","v":"高田"},2,"受注No．",{"$f":"IF(上越1!BV24=0,\"\",上越1!BV24)","v":50101},{"$f":"IF(上越1!CA24=0,\"\",上越1!CA24)","v":""},1]
["②明細コード","上越","日報",20,{"$f":"上越1!BU25","v":"高田南"},2,"受注No．",{"$f":"IF(上越1!BV25=0,\"\",上越1!BV25)","v":50102},{"$f":"IF(上越1!CA25=0,\"\",上越1!CA25)","v":""},1]
["②明細コード","上越","日報",21,{"$f":"上越1!BU26","v":"木田"},2,"受注No．",{"$f":"IF(上越1!BV26=0,\"\",上越1!BV26)","v":50103},{"$f":"IF(上越1!CA26=0,\"\",上越1!CA26)","v":""},1]
["②明細コード","上越","日報",22,{"$f":"上越1!BU27","v":"春日山"},2,"受注No．",{"$f":"IF(上越1!BV27=0,\"\",上越1!BV27)","v":50106},{"$f":"IF(上越1!CA27=0,\"\",上越1!CA27)","v":""},1]
["②明細コード","上越","日報",23,{"$f":"上越1!BU28","v":"脇野田"},2,"受注No．",{"$f":"IF(上越1!BV28=0,\"\",上越1!BV28)","v":50108},{"$f":"IF(上越1!CA28=0,\"\",上越1!CA28)","v":""},1]
["②明細コード","上越","日報",24,{"$f":"上越1!BU29","v":"上越東"},2,"受注No．",{"$f":"IF(上越1!BV29=0,\"\",上越1!BV29)","v":50109},{"$f":"IF(上越1!CA29=0,\"\",上越1!CA29)","v":""},1]
["②明細コード","上越","日報",25,{"$f":"上越1!BU30","v":"上越三和"},2,"受注No．",{"$f":"IF(上越1!BV30=0,\"\",上越1!BV30)","v":50112},{"$f":"IF(上越1!CA30=0,\"\",上越1!CA30)","v":""},1]
["②明細コード","上越","日報",26,{"$f":"上越1!BU31","v":"直江津"},2,"受注No．",{"$f":"IF(上越1!BV31=0,\"\",上越1!BV31)","v":50113},{"$f":"IF(上越1!CA31=0,\"\",上越1!CA31)","v":""},1]
["②明細コード","上越","日報",27,{"$f":"上越1!BU32","v":"直江津東"},2,"受注No．",{"$f":"IF(上越1!BV32=0,\"\",上越1!BV32)","v":50114},{"$f":"IF(上越1!CA32=0,\"\",上越1!CA32)","v":""},1]
["②明細コード","上越","日報",28,{"$f":"上越1!BU33","v":"黒井"},2,"受注No．",{"$f":"IF(上越1!BV33=0,\"\",上越1!BV33)","v":50117},{"$f":"IF(上越1!CA33=0,\"\",上越1!CA33)","v":""},1]
["②明細コード","上越","日報",29,{"$f":"上越1!BU34","v":"名立谷浜"},2,"受注No．",{"$f":"IF(上越1!BV34=0,\"\",上越1!BV34)","v":50152},{"$f":"IF(上越1!CA34=0,\"\",上越1!CA34)","v":""},1]
["②明細コード","上越","日報",30,{"$f":"上越1!BU35","v":0},2,"受注No．",{"$f":"IF(上越1!BV35=0,\"\",上越1!BV35)","v":""},{"$f":"IF(上越1!CA35=0,\"\",上越1!CA35)","v":""},1]
["②明細コード","上越","日報",31,{"$f":"上越1!BU36","v":"新井"},2,"受注No．",{"$f":"IF(上越1!BV36=0,\"\",上越1!BV36)","v":50119},{"$f":"IF(上越1!CA36=0,\"\",上越1!CA36)","v":""},1]
["②明細コード","上越","日報",32,{"$f":"上越1!BU37","v":"新井学校町"},2,"受注No．",{"$f":"IF(上越1!BV37=0,\"\",上越1!BV37)","v":50120},{"$f":"IF(上越1!CA37=0,\"\",上越1!CA37)","v":""},1]
["②明細コード","上越","日報",33,{"$f":"上越1!BU38","v":"新井南"},2,"受注No．",{"$f":"IF(上越1!BV38=0,\"\",上越1!BV38)","v":50121},{"$f":"IF(上越1!CA38=0,\"\",上越1!CA38)","v":""},1]
["②明細コード","上越","日報",34,{"$f":"上越1!BU39","v":"関山"},2,"受注No．",{"$f":"IF(上越1!BV39=0,\"\",上越1!BV39)","v":50122},{"$f":"IF(上越1!CA39=0,\"\",上越1!CA39)","v":""},1]
["②明細コード","上越","日報",35,{"$f":"上越1!BU40","v":"妙高"},2,"受注No．",{"$f":"IF(上越1!BV40=0,\"\",上越1!BV40)","v":50123},{"$f":"IF(上越1!CA40=0,\"\",上越1!CA40)","v":""},1]
["②明細コード","上越","日報",36,{"$f":"上越1!BU41","v":"赤倉"},2,"受注No．",{"$f":"IF(上越1!BV41=0,\"\",上越1!BV41)","v":50124},{"$f":"IF(上越1!CA41=0,\"\",上越1!CA41)","v":""},1]
["②明細コード","上越２","日報",1,{"$f":"上越２!BU9","v":"柿崎"},2,"受注No．",{"$f":"IF(上越２!BV9=0,\"\",上越２!BV9)","v":50125},{"$f":"IF(上越２!CA9=0,\"\",上越２!CA9)","v":""},1]
["②明細コード","上越２","日報",{"$f":"D228+1","v":2},{"$f":"上越２!BU10","v":"吉川"},2,"受注No．",{"$f":"IF(上越２!BV10=0,\"\",上越２!BV10)","v":50126},{"$f":"IF(上越２!CA10=0,\"\",上越２!CA10)","v":""},1]
["②明細コード","上越２","日報",3,{"$f":"上越２!BU11","v":"大潟"},2,"受注No．",{"$f":"IF(上越２!BV11=0,\"\",上越２!BV11)","v":50127},{"$f":"IF(上越２!CA11=0,\"\",上越２!CA11)","v":""},1]
["②明細コード","上越２","日報",4,{"$f":"上越２!BU12","v":"犀潟"},2,"受注No．",{"$f":"IF(上越２!BV12=0,\"\",上越２!BV12)","v":50128},{"$f":"IF(上越２!CA12=0,\"\",上越２!CA12)","v":""},1]
["②明細コード","上越２","日報",5,{"$f":"上越２!BU13","v":"百閒町"},2,"受注No．",{"$f":"IF(上越２!BV13=0,\"\",上越２!BV13)","v":50129},{"$f":"IF(上越２!CA13=0,\"\",上越２!CA13)","v":""},1]
["②明細コード","上越２","日報",6,{"$f":"上越２!BU14","v":"明治"},2,"受注No．",{"$f":"IF(上越２!BV14=0,\"\",上越２!BV14)","v":50130},{"$f":"IF(上越２!CA14=0,\"\",上越２!CA14)","v":""},1]
["②明細コード","上越２","日報",7,{"$f":"上越２!BU15","v":0},2,"受注No．",{"$f":"IF(上越２!BV15=0,\"\",上越２!BV15)","v":""},{"$f":"IF(上越２!CA15=0,\"\",上越２!CA15)","v":""},1]
["②明細コード","上越２","日報",8,{"$f":"上越２!BU16","v":"浦川原"},2,"受注No．",{"$f":"IF(上越２!BV16=0,\"\",上越２!BV16)","v":50131},{"$f":"IF(上越２!CA16=0,\"\",上越２!CA16)","v":""},1]
["②明細コード","上越２","日報",9,{"$f":"上越２!#REF!","v":{"$error":"#REF!"}},2,"受注No．",{"$f":"IF(上越２!#REF!=0,\"\",上越２!#REF!)","v":{"$error":"#REF!"}},{"$f":"IF(上越２!#REF!=0,\"\",上越２!#REF!)","v":{"$error":"#REF!"}},1]
["②明細コード","上越２","日報",10,{"$f":"上越２!BU17","v":"上越安塚"},2,"受注No．",{"$f":"IF(上越２!BV17=0,\"\",上越２!BV17)","v":50133},{"$f":"IF(上越２!CA17=0,\"\",上越２!CA17)","v":""},1]
["②明細コード","上越２","日報",11,{"$f":"上越２!BU18","v":"大島"},2,"受注No．",{"$f":"IF(上越２!BV18=0,\"\",上越２!BV18)","v":50134},{"$f":"IF(上越２!CA18=0,\"\",上越２!CA18)","v":""},1]
["②明細コード","上越２","日報",12,{"$f":"上越２!BU19","v":"松代"},2,"受注No．",{"$f":"IF(上越２!BV19=0,\"\",上越２!BV19)","v":50135},{"$f":"IF(上越２!CA19=0,\"\",上越２!CA19)","v":""},1]
["②明細コード","上越２","日報",13,{"$f":"上越２!BU20","v":"松之山"},2,"受注No．",{"$f":"IF(上越２!BV20=0,\"\",上越２!BV20)","v":50136},{"$f":"IF(上越２!CA20=0,\"\",上越２!CA20)","v":""},1]
["②明細コード","上越２","日報",14,{"$f":"上越２!BU21","v":0},2,"受注No．",{"$f":"IF(上越２!BV21=0,\"\",上越２!BV21)","v":""},{"$f":"IF(上越２!CA21=0,\"\",上越２!CA21)","v":""},1]
["②明細コード","上越２","日報",15,{"$f":"上越２!BU22","v":"糸魚川"},2,"受注No．",{"$f":"IF(上越２!BV22=0,\"\",上越２!BV22)","v":50137},{"$f":"IF(上越２!CA22=0,\"\",上越２!CA22)","v":""},1]
["②明細コード","上越２","日報",16,{"$f":"上越２!#REF!","v":{"$error":"#REF!"}},2,"受注No．",{"$f":"IF(上越２!#REF!=0,\"\",上越２!#REF!)","v":{"$error":"#REF!"}},{"$f":"IF(上越２!#REF!=0,\"\",上越２!#REF!)","v":{"$error":"#REF!"}},1]
["②明細コード","上越２","日報",17,{"$f":"上越２!BU23","v":"糸魚川東"},2,"受注No．",{"$f":"IF(上越２!BV23=0,\"\",上越２!BV23)","v":50142},{"$f":"IF(上越２!CA23=0,\"\",上越２!CA23)","v":""},1]
["②明細コード","上越２","日報",18,{"$f":"上越２!BU24","v":"根知"},2,"受注No．",{"$f":"IF(上越２!BV24=0,\"\",上越２!BV24)","v":50144},{"$f":"IF(上越２!CA24=0,\"\",上越２!CA24)","v":""},1]
["②明細コード","上越２","日報",19,{"$f":"上越２!BU25","v":0},2,"受注No．",{"$f":"IF(上越２!BV25=0,\"\",上越２!BV25)","v":""},{"$f":"IF(上越２!CA25=0,\"\",上越２!CA25)","v":""},1]
["②明細コード","上越２","日報",20,{"$f":"上越２!BU26","v":"筒石"},2,"受注No．",{"$f":"IF(上越２!BV26=0,\"\",上越２!BV26)","v":50148},{"$f":"IF(上越２!CA26=0,\"\",上越２!CA26)","v":""},1]
["②明細コード","上越２","日報",21,{"$f":"上越２!BU27","v":"能生"},2,"受注No．",{"$f":"IF(上越２!BV27=0,\"\",上越２!BV27)","v":50149},{"$f":"IF(上越２!CA27=0,\"\",上越２!CA27)","v":""},1]
["②明細コード","上越２","日報",22,{"$f":"上越２!BU28","v":"青梅"},2,"受注No．",{"$f":"IF(上越２!BV28=0,\"\",上越２!BV28)","v":50150},{"$f":"IF(上越２!CA28=0,\"\",上越２!CA28)","v":""},1]
["③納品先レコード",null,null,null,null,3,"受注No．",1,{"$f":"SUM(I5:I241)","v":{"$error":"#REF!"}}]
["④トレーラレコード",null,null,null,null,4,1]

{"sheet":"折込指示","index":16,"n_rows":23,"n_cols":13,"rows_kept":23,"cut":false,"hidden":true,"merged":[]}
[]
[null,"折込指示",null,"サイズ","コード",null,"ガタチラ掲載",null,"曜日",null,"assh実施日",null,"assh曜日"]
[null,"スポンサー中心に入れ",null,"Ｂ1","01",null,"有",null,"月",null,"--年　--月　--日　（--曜）",null,"第2木曜"]
[null,"スポンサー寄りに入れ",null,"Ｂ2","02",null,"無",null,"火",null,202103112,null,"第4木曜"]
[null,"住宅地中心に入れ",null,"Ｂ3","03",null,null,null,"水",null,202103254]
[null,"会場中心に入れ",null,"Ｂ4","04",null,null,null,"木",null,202104082]
[null,"会場寄りに入れ",null,"Ｂ5","05",null,null,null,"金",null,202104224]
[null,null,null,"Ｂ3厚",13,null,null,null,"土",null,202105132]
[null,null,null,"Ｂ4厚",14,null,null,null,"日",null,202105274]
[null,null,null,"Ｂ5厚",15,null,null,null,null,null,202106102]
[null,null,null,"長Ｂ3","22",null,null,null,null,null,202106244]
[null,null,null,"Ｂ3＋Ｂ4","23"]
[null,null,null,"Ｂ3*2","24"]
[null,null,null,"Ｂ3*3","25"]
[null,null,null,"Ｂ1連合",41]
[null,null,null,"Ｂ2連合",42]
[null,null,null,"Ｂ3連合",43]
[null,null,null,"Ｂ4連合",44]
[null,null,null,"Ａ4証紙",54]
[null,null,null,"特","90"]
[null,null,null,"-"]
[null,null,null,"A4（Ｂ4）","04"]
[null,null,null,"A3（Ｂ3）","03"]

{"sheet":"ＭＡＰ反映","index":17,"n_rows":285,"n_cols":13,"rows_kept":285,"cut":false,"hidden":true,"merged":[]}
["Seq-No","銘柄","コード","販売店コード","販売店名","基本部数","依頼部数","割合","区域指定","フラグ","地区コード","地区名","面積占有率"]
[null,"日報","401NN000000101001","0101001","万代",4600]
[null,"日報","401NN000000101002","0101002","駅南",5330,""]
[null,"日報","401NN000000101003","0101003","木戸",5730,""]
[null,"日報","401NN000000101005","0101005","石山東",6530,""]
[null,"日報","401NN000000101006","0101006","山ノ下",4830,""]
[null,"日報","401NN000000101007","0101007","物見山",4230,""]
[null,"日報","401NN000000101008","0101008","とやの",3500,""]
[null,"日報","401NN000000101009","0101009","上所",1660,""]
[null,"日報","401NN000000101010","0101010","県庁前",3600,""]
[null,"日報","401NN000000101011","0101011","女池",2630,""]
[null,"日報","401NN000000101012","0101012","愛宕",4800,""]
[null,"日報","401NN000000101013","0101013","河渡",5250,""]
[null,"日報","401NN000000101014","0101014","牡丹山",2150,""]
[null,"日報","401NN000000101015","0101015","大形",4190,""]
[null,"日報","401NN000000101016","0101016","アガノ",7150,""]
[null,"日報","401NN000000101017","0101017","新潟南",3470,""]
[null,"日報","401NN000000101018","0101018","姥ケ山",3000,""]
[null,"日報","401NN000000101019","0101019","山二ツ",3000,""]
[null,"日報","401NN000000101021","0101021","亀田西",2950,""]
[null,"日報","401NN000000101022","0101022","亀田",4430,""]
[null,"日報","401NN000000101023","0101023","横越",2520,""]
[null,"日報","401NN000000101024","0101024","有明",6800,""]
[null,"日報","401NN000000101026","0101026","小針",7500,""]
[null,"日報","401NN000000101027","0101027","中通",3300,""]
[null,"日報","401NN000000101029","0101029","本町",3000,""]
[null,"日報","401NN000000101030","0101030","中央",3400,""]
[null,"日報","401NN000000101031","0101031","真砂",2250,""]
[null,"日報","401NN000000101032","0101032","寺尾",6450,""]
[null,"日報","401NN000000101033","0101033","新大前",3040,""]
[null,"日報","401NN000000101034","0101034","内野",3220,""]
[null,"日報","401NN000000101035","0101035","西内野",2570,""]
[null,"日報","401NN000000101036","0101036","上坂井",2620,""]
[null,"日報","401NN000000101037","0101037","小新",2900,""]
[null,"日報","401NN000000101038","0101038","寺地",1870,""]
[null,"日報","401NN000000101039","0101039","黒埼",3540,""]
[null,"日報","401NN000000101040","0101040","黒埼南",3550,""]
[null,"ア","101NN000000103006","0103006","新潟西",3130,""]
[null,"ア","101NN000000103007","0103007","内野",1240,""]
[null,"ヨサ日","103NN000000103014","0103014","本町",1150,""]
[null,"ヨサ日","103NN000000103015","0103015","中央",2400,""]
[null,"ヨサ日","103NN000000103016","0103016","小針",1720,""]
[null,"ヨサ日","103NN000000103017","0103017","寺尾",1450,""]
[null,"ヨサ日","103NN000000103018","0103018","内野",1850,""]
[null,"ヨサ日","103NN000000103019","0103019","小新黒埼",1100,""]
[null,"ヨサ日","103NN000000103020","0103020","黒埼南",450,""]
[null,"ヨサ日","103NN000000103021","0103021","万代",2200,""]
[null,"ヨサ日","103NN000000103022","0103022","県庁前",3800,""]
[null,"ヨサ日","103NN000000103023","0103023","駅南東",2100,""]
[null,"ヨサ日","103NN000000103024","0103024","山木戸",1780,""]
[null,"ヨサ日","103NN000000103025","0103025","山ノ下",1930,""]
[null,"ヨサ日","103NN000000103026","0103026","松浜",500,""]
[null,"ヨサ日","103NN000000103028","0103028","亀田",2500,""]
[null,"合","401NN000000201001","0201001","分水",4050,""]
[null,"新アマヨ日","401NN000000201002","0201002","吉田",5150,""]
[null,"サ","105NN000000201003","0201003","吉田",300,""]
[null,"合","401NN000000201004","0201004","粟生津",1000,""]
[null,"朝刊+ク","401NN000000201005","0201005","巻",6730,""]
[null,"アサ","101NN000000201006","0201006","巻",750,""]
[null,"ヨ","103NN000000201007","0201007","巻",810,""]
[null,"朝刊+ク","401NN000000201008","0201008","岩室",730,""]
[null,"朝刊+ク","401NN000000201009","0201009","西川",4500,""]
[null,"合","401NN000000201010","0201010","中之口",1180,""]
[null,"合","401NN000000201011","0201011","弥彦",2300,""]
[null,"合","401NN000000202001","0202001","小須戸",3620,""]
[null,"朝刊+ク","401NN000000202002","0202002","矢代田",900,""]
[null,"新マヨ日","401NN000000202003","0202003","村松",4500,""]
[null,"アサ","101NN000000202004","0202004","村松",590,""]
[null,"朝刊+ク","401NN000000203001","0203001","新津",16500,""]
[null,"新マヨ日","401NN000000204001","0204001","五泉",8600,""]
[null,"アサ","101NN000000204002","0204002","五泉",750,""]
[null,"合","401NN000000204003","0204003","馬下",450,""]
[null,"朝刊+ク","401NN000000205001","0205001","白根",3550,""]
[null,"ヨサ","103NN000000205002","0205002","白根",1140,""]
[null,"朝刊+ク","401NN000000205003","0205003","月潟",1840,""]
[null,"朝刊+ク","401NN000000205004","0205004","新飯田",1030,""]
[null,"新アマサ日","401NN000000206001","0206001","三条北",7400,""]
[null,"新アマサ日","401NN000000206002","0206002","三条南",2560,""]
[null,"新アマサ日","401NN000000206003","0206003","三条西",3300,""]
[null,"ヨ","103NN000000206006","0206006","三条",6000,""]
[null,"朝刊+ク","401NN000000207001","0207001","燕",7060,""]
[null,"新アマサ日","401NN000000207002","0207002","燕南",1400,""]
[null,"ヨ","103NN000000207005","0207005","燕",3160,""]
[null,"朝刊+ク","401NN000000208001","0208001","加茂",9200,""]
[null,"ヨ","103NN000000208003","0208003","加茂",1900,""]
[null,"合","401NN000000209001","0209001","下田",2310,""]
[null,"合","401NN000000209002","0209002","栄山嵜",1330,""]
[null,"合","401NN000000209003","0209003","栄吉田",330,""]
[null,"合","401NN000000209005","0209005","帯織",390,""]
[null,"朝刊+ク","401NN000000210001","0210001","豊栄北",3150,""]
[null,"朝刊+ク","401NN000000210002","0210002","豊栄南※",2800,""]
[null,"ヨサ日","103NN000000210002","0210002","豊栄",1050,""]
[null,"朝刊+ク","401NN000000210003","0210003","木崎",2550,""]
[null,"朝刊+ク","401NN000000211002","0211002","新発田西",10650,""]
[null,"朝刊+ク","401NN000000211003","0211003","新発田東",10250,""]
[null,"ア","101NN000000211004","0211004","新発田",1850,""]
[null,"ヨサ","103NN000000211005","0211005","新発田",4200,""]
[null,"合","401NN000000211006","0211006","月岡",2250,""]
[null,"新アマ日","401NN000000212001","0212001","中条東",2120,""]
[null,"新アマ日","401NN000000212002","0212002","西中条",1600,""]
[null,"ヨ","103NN000000212003","0212003","中条",1150,""]
[null,"合","401NN000000212004","0212004","黒川",2590,""]
[null,"朝刊+ク","401NN000000212005","0212005","水原※",6350,""]
[null,"ヨサ","103NN000000212006","0212006","水原",1290,""]
[null,"合","401NN000000212007","0212007","保田",2710,""]
[null,"合","401NN000000213001","0213001","村上",8450,""]
[null,"合","401NN000000213002","0213002","岩船",1800,""]
[null,"合","401NN000000213003","0213003","越後早川",350,""]
[null,"合","401NN000000214001","0214001","坂町",2500,""]
[null,"合","401NN000000214002","0214002","平林",1100,""]
[null,"合","401NN000000214003","0214003","関川",1400,""]
[null,"合","401NN000000214004","0214004","寒川桑川",270,""]
[null,"合","401NN000000214005","0214005","府屋",790,""]
[null,"合","401NN000000214006","0214006","黒川俣",280,""]
[null,"合","401NN000000215001","0215001","津川",1880,""]
[null,"合","401NN000000215002","0215002","豊実",80,""]
[null,"合","401NN000000215003","0215003","日出谷",230,""]
[null,"合","401NN000000215004","0215004","鹿瀬",400,""]
[null,"合","401NN000000215005","0215005","白崎",680,""]
[null,"合","401NN000000215006","0215006","五十島",200,""]
[null,"新マ日","401NN000000301001","0301001","両津",2600,""]
[null,"ア","101NN000000301002","0301002","両津",800,""]
[null,"ヨ","103NN000000301003","0301003","両津",800,""]
[null,"サ","105NN000000301004","0301004","両津",400,""]
[null,"新マ日","401NN000000301005","0301005","吉井",240,""]
[null,"新サ","401NN000000302001","0302001","真野",900,""]
[null,"アマヨサ日","101NN000000302002","0302002","真野",280,""]
[null,"新マサ日","401NN000000302003","0302003","新穂",800,""]
[null,"ア","101NN000000302004","0302004","新穂",100,""]
[null,"新","401NN000000302006","0302006","畑野",780,""]
[null,"アマヨサ日","101NN000000302007","0302007","畑野",280,""]
[null,"新アマ日","401NN000000302008","0302008","佐和田",1700,""]
[null,"ヨサ","103NN000000302010","0302010","佐和田",400,""]
[null,"ヨア","103NN000000302011","0302011","沢根",100,""]
[null,"合","401NN000000302012","0302012","相川",1150,""]
[null,"ア","101NN000000302013","0302013","相川",250,""]
[null,"ヨサ","103NN000000302014","0302014","相川",250,""]
[null,"合","401NN000000302015","0302015","金井",1020,""]
[null,"新","401NN000000302016","0302016","羽茂",650,""]
[null,"アマヨサ日","101NN000000302017","0302017","羽茂",300,""]
[null,"新","401NN000000302018","0302018","小木",530,""]
[null,"アマサ日","101NN000000302019","0302019","小木",250,""]
[null,"ヨ","103NN000000302020","0302020","小木",200,""]
[null,"新マ日","401NN000000302021","0302021","赤泊",500,""]
[null,"アヨサ","101NN000000302022","0302022","赤泊",100,""]
[null,"合","401NN000000302023","0302023","多田",130,""]
[null,"新アマサ日","401NN000000401001","0401001","長岡大手",2700,""]
[null,"朝刊+ク","401NN000000401002","0401002","長岡中央",4950,""]
[null,"新アマサ日","401NN000000401003","0401003","長岡南",1810,""]
[null,"朝刊＋ク","401NN000000401004","0401004","長岡東",4850,""]
[null,"新アマサ日","401NN000000401005","0401005","長岡新保",3690,""]
[null,"新アマサ日","103NN000000401008","0401008","長岡悠久",3650,""]
[null,"ヨ","103NN000000401009","0401009","長岡",3550,""]
[null,"ヨ","401NN000000401010","0401010","長岡南部",1580,""]
[null,"新アマサ日","103NN000000401011","0401011","西長岡",4320,""]
[null,"ヨ","401NN000000401012","0401012","長岡西部",2830,""]
[null,"新アマサ日","401NN000000401013","0401013","関原",4870,""]
[null,"合","401NN000000401014","0401014","王寺川",520,""]
[null,"新アマサ日","401NN000000401015","0401015","長岡江陽",2260,""]
[null,"合","401NN000000401016","0401016","黒条",2000,""]
[null,"合","103NN000000401018","0401018","新組",1600,""]
[null,"ヨサ日","401NN000000401020","0401020","浦瀬",220,""]
[null,"新アマサ日","103NN000000401022","0401022","長岡宮内",4680,""]
[null,"ヨ","401NN000000401023","0401023","長岡宮内",1500,""]
[null,"合","401NN000000401024","0401024","濁沢",400,""]
[null,"合","401NN000000401025","0401025","岡南",850,""]
[null,"合","401NN000000401888","0401888","六日市",380,""]
[null,"新アマサ","401NN000000402001","0402001","栃尾",3100,""]
[null,"ヨ日","103NN000000402003","0402003","栃尾",2570,""]
[null,"新アマサ日","401NN000000403001","0403001","見附南\n（椿沢含む）",2950,""]
[null,"新アマ日","401NN000000403002","0403002","見附北",3900,""]
[null,"ヨ","103NN000000403003","0403003","見附",1650,""]
[null,"サ","105NN000000403004","0403004","見附",880,""]
[null,"新アマサ日","401NN000000403005","0403005","今町",3400,""]
[null,"ヨ","103NN000000403006","0403006","今町",650,""]
[null,"新アマサ日","401NN000000404001","0404001","越路",3260,""]
[null,"ヨ","103NN000000404002","0404002","来迎寺",980,""]
[null,"合","401NN000000404003","0404003","塚山",1120,""]
[null,"合","401NN000000404004","0404004","脇野町",1180,""]
[null,"合","401NN000000404005","0404005","槙原",280,""]
[null,"合","401NN000000404006","0404006","与板",1780,""]
[null,"合","401NN000000404007","0404007","大河津",1260,""]
[null,"合","401NN000000404008","0404008","寺泊",1380,""]
[null,"合","401NN000000404009","0404009","和島",1120,""]
[null,"合","401NN000000404010","0404010","西越\n（石地含む）",1050,""]
[null,"合","401NN000000404011","0404011","出雲崎",800,""]
[null,"新アマサ日","401NN000000405001","0405001","小千谷中央",4200,""]
[null,"新アマサ日","401NN000000405002","0405002","小千谷東",1850,""]
[null,"ヨ","103NN000000405003","0405003","小千谷",1750,""]
[null,"合","401NN000000405004","0405004","片貝",1690,""]
[null,"合","401NN000000405005","0405005","岩沢",710,""]
[null,"新アマサ日","401NN000000406001","0406001","十日町西部",3290,""]
[null,"新アマサ日","401NN000000406002","0406002","十日町東部",1160,""]
[null,"ヨ日","103NN000000406004","0406004","十日町",1470,""]
[null,"合","401NN000000406006","0406006","下条",1240,""]
[null,"合","401NN000000406007","0406007","魚沼中条",1050,""]
[null,"合","401NN000000406008","0406008","水沢",860,""]
[null,"合","401NN000000406009","0406009","伊達",380,""]
[null,"合","401NN000000407001","0407001","川口",1210,""]
[null,"合","401NN000000407002","0407002","堀之内",2080,""]
[null,"新アマサ日","401NN000000407003","0407003","小出",4740,""]
[null,"ヨ","103NN000000407004","0407004","小出",1430,""]
[null,"合","401NN000000407006","0407006","魚沼北",2360,""]
[null,"新アマサ日","401NN000000408001","0408001","浦佐",1180,""]
[null,"ヨ","103NN000000408002","0408002","浦佐",540,""]
[null,"合","401NN000000408003","0408003","大崎",730,""]
[null,"合","401NN000000408004","0408004","五日町",1140,""]
[null,"合","401NN000000408005","0408005","城内",980,""]
[null,"新アマサ日","401NN000000408006","0408006","六日町",3200,""]
[null,"ヨ","103NN000000408007","0408007","六日町",2220,""]
[null,"新アマサ日","401NN000000408008","0408008","塩沢",1750,""]
[null,"ヨ","103NN000000408009","0408009","塩沢石打",1570,""]
[null,"合","401NN000000408010","0408010","上田",800,""]
[null,"新アマサ日","401NN000000408011","0408011","石打",420,""]
[null,"新アマサ日","401NN000000408013","0408013","湯沢",1550,""]
[null,"ヨ","103NN000000408014","0408014","湯沢",950,""]
[null,"合","401NN000000409001","0409001","十日町川西",1600,""]
[null,"合","401NN000000409002","0409002","仙田",190,""]
[null,"合","401NN000000409003","0409003","田沢",1150,""]
[null,"合","401NN000000409004","0409004","鹿渡",100,""]
[null,"合","401NN000000409005","0409005","津南",1990,""]
[null,"合","401NN000000409006","0409006","上郷",350,""]
[null,"合","401NN000000409007","0409007","森宮野原",50,""]
[null,"新アマサ日","401NN000000410001","0410001","柏崎中央",2470,""]
[null,"朝刊＋ク","401NN000000410002","0410002","柏崎",3250,""]
[null,"新アマサ日","401NN000000410003","0410003","柏崎南",3150,""]
[null,"ヨ","103NN000000410004","0410004","柏崎西部",3350,""]
[null,"ヨ","103NN000000410005","0410005","柏崎東部",3100,""]
[null,"新アマサ日","401NN000000410006","0410006","柏崎東",1030,""]
[null,"合","401NN000000410010","0410010","安田",3080,""]
[null,"合","401NN000000410011","0410011","北条",350,""]
[null,"合","401NN000000410012","0410012","広田",450,""]
[null,"合","401NN000000410013","0410013","米山",330,""]
[null,"合","401NN000000410014","0410014","笠島",70,""]
[null,"合","401NN000000411001","0411001","高柳",380,""]
[null,"合","401NN000000411002","0411002","小国",680,""]
[null,"合","401NN000000411003","0411003","上小国",390,""]
[null,"合","401NN000000411004","0411004","荒浜",1900,""]
[null,"合","401NN000000411005","0411005","西山",1330,""]
[null,"合","401NN000000411007","0411007","礼拝",400,""]
[null,"朝刊＋ク","401NN000000501001","0501001","高田",2950,""]
[null,"新マサ日","401NN000000501002","0501002","高田南",3200,""]
[null,"新マサ日","401NN000000501003","0501003","木田",2000,""]
[null,"ア","101NN000000501004","0501004","高田",2900,""]
[null,"ヨ","103NN000000501005","0501005","高田",3400,""]
[null,"新マサ日","401NN000000501006","0501006","春日山",3200,""]
[null,"ヨ","103NN000000501006","0501006","上越中央",2750,""]
[null,"新アマサ日","103NN000000501007","0501007","脇野田",1850,""]
[null,"ヨ","401NN000000501008","0501008","脇野田",400,""]
[null,"合","401NN000000501009","0501009","上越東",4580,""]
[null,"合","401NN000000501010","0501010","上越三和",1750,""]
[null,"新マサ日","401NN000000501011","0501011","直江津",3270,""]
[null,"新マサ日","401NN000000501012","0501012","直江津東",3750,""]
[null,"ヨ","103NN000000501013","0501013","直江津",3950,""]
[null,"ア","101NN000000501014","0501014","直江津",2200,""]
[null,"合","401NN000000501015","0501015","黒井",950,""]
[null,"合","401NN000000501016","0501016","名立谷浜",1200,""]
[null,"合","401NN000000502001","0502001","新井",6200,""]
[null,"合","401NN000000502002","0502002","新井学校町",1450,""]
[null,"合","401NN000000502003","0502003","新井南",1050,""]
[null,"合","401NN000000502004","0502004","関山",1010,""]
[null,"合","401NN000000502005","0502005","妙高",630,""]
[null,"合","401NN000000502006","0502006","赤倉",750,""]
[null,"合","401NN000000503001","0503001","柿崎",2750,""]
[null,"合","401NN000000503002","0503002","吉川",900,""]
[null,"合","401NN000000503003","0503003","大潟",2010,""]
[null,"合","401NN000000503004","0503004","犀潟",890,""]
[null,"合","401NN000000503005","0503005","百間町",1020,""]
[null,"合","401NN000000503006","0503006","明治",450,""]
[null,"合","401NN000000504001","0504001","浦川原",920,""]
[null,"合","401NN000000504002","0504002","安塚",300,""]
[null,"合","401NN000000504003","0504003","小黒",560,""]
[null,"合","401NN000000504004","0504004","大島",400,""]
[null,"合","401NN000000504005","0504005","松代",810,""]
[null,"合","401NN000000504006","0504006","松之山",570,""]
[null,"新マ","401NN000000505001","0505001","糸魚川",3750,""]
[null,"ヨアサ日","103NN000000505002","0505002","糸魚川綱島",4080,""]
[null,"合","401NN000000505003","0505003","早川",1050,""]
[null,"ヨア","103NN000000505004","0505004","大和川吉岡",500,""]
[null,"新マ","401NN000000505006","0505006","糸魚川東",1070,""]
[null,"ヨア","103NN000000505007","0505007","浦本田代",150,""]
[null,"合","401NN000000505008","0505008","根知",380,""]
[null,"合","401NN000000506002","0506002","筒石",560,""]
[null,"合","401NN000000506003","0506003","能生",2000,""]
[null,"合","401NN000000506004","0506004","青海",2300,""]